BEGIN:VCALENDAR
VERSION:2.0
PRODID:-//LiveMusicAsheville.com - ECPv6.15.20//NONSGML v1.0//EN
CALSCALE:GREGORIAN
METHOD:PUBLISH
X-WR-CALNAME:LiveMusicAsheville.com
X-ORIGINAL-URL:https://livemusicasheville.com
X-WR-CALDESC:Events for LiveMusicAsheville.com
REFRESH-INTERVAL;VALUE=DURATION:PT1H
X-Robots-Tag:noindex
X-PUBLISHED-TTL:PT1H
BEGIN:VTIMEZONE
TZID:America/New_York
BEGIN:DAYLIGHT
TZOFFSETFROM:-0500
TZOFFSETTO:-0400
TZNAME:EDT
DTSTART:20240310T070000
END:DAYLIGHT
BEGIN:STANDARD
TZOFFSETFROM:-0400
TZOFFSETTO:-0500
TZNAME:EST
DTSTART:20241103T060000
END:STANDARD
BEGIN:DAYLIGHT
TZOFFSETFROM:-0500
TZOFFSETTO:-0400
TZNAME:EDT
DTSTART:20250309T070000
END:DAYLIGHT
BEGIN:STANDARD
TZOFFSETFROM:-0400
TZOFFSETTO:-0500
TZNAME:EST
DTSTART:20251102T060000
END:STANDARD
BEGIN:DAYLIGHT
TZOFFSETFROM:-0500
TZOFFSETTO:-0400
TZNAME:EDT
DTSTART:20260308T070000
END:DAYLIGHT
BEGIN:STANDARD
TZOFFSETFROM:-0400
TZOFFSETTO:-0500
TZNAME:EST
DTSTART:20261101T060000
END:STANDARD
BEGIN:DAYLIGHT
TZOFFSETFROM:-0500
TZOFFSETTO:-0400
TZNAME:EDT
DTSTART:20270314T070000
END:DAYLIGHT
BEGIN:STANDARD
TZOFFSETFROM:-0400
TZOFFSETTO:-0500
TZNAME:EST
DTSTART:20271107T060000
END:STANDARD
END:VTIMEZONE
BEGIN:VEVENT
DTSTART;TZID=America/New_York:20260420T180000
DTEND;TZID=America/New_York:20260420T200000
DTSTAMP:20260422T205050
CREATED:20251209T024030Z
LAST-MODIFIED:20260321T173441Z
UID:10050833-1776708000-1776715200@livemusicasheville.com
SUMMARY:Jazz/Blues Jam hosted by Paul Helou
DESCRIPTION:Related
URL:https://livemusicasheville.com/calendar/jazz-night-2/2026-04-20/
LOCATION:Zillicoah Beer Company
CATEGORIES:Asheville Area,Live Music
END:VEVENT
BEGIN:VEVENT
DTSTART;TZID=America/New_York:20260419T163000
DTEND;TZID=America/New_York:20260419T193000
DTSTAMP:20260422T205050
CREATED:20260124T141302Z
LAST-MODIFIED:20260204T201517Z
UID:10020568-1776616200-1776627000@livemusicasheville.com
SUMMARY:Sunday Bluegrass & Jam On The River
DESCRIPTION:A rotating local host band will play from 4:30 to 5:30\, and then an open bluegrass jam from 5:30 to 7:30. \n\n\n	Related
URL:https://livemusicasheville.com/calendar/sunday-bluegrass-jam-on-the-river-2/2026-04-19/
LOCATION:Zillicoah Beer Company
CATEGORIES:Asheville Area,Live Music,Open MIc/Jam
END:VEVENT
BEGIN:VEVENT
DTSTART;TZID=America/New_York:20260413T180000
DTEND;TZID=America/New_York:20260413T200000
DTSTAMP:20260422T205050
CREATED:20251209T024030Z
LAST-MODIFIED:20260321T173441Z
UID:10050832-1776103200-1776110400@livemusicasheville.com
SUMMARY:Jazz/Blues Jam hosted by Paul Helou
DESCRIPTION:Related
URL:https://livemusicasheville.com/calendar/jazz-night-2/2026-04-13/
LOCATION:Zillicoah Beer Company
CATEGORIES:Asheville Area,Live Music
END:VEVENT
BEGIN:VEVENT
DTSTART;TZID=America/New_York:20260406T180000
DTEND;TZID=America/New_York:20260406T200000
DTSTAMP:20260422T205050
CREATED:20251209T024030Z
LAST-MODIFIED:20260321T173441Z
UID:10050831-1775498400-1775505600@livemusicasheville.com
SUMMARY:Jazz/Blues Jam hosted by Paul Helou
DESCRIPTION:Related
URL:https://livemusicasheville.com/calendar/jazz-night-2/2026-04-06/
LOCATION:Zillicoah Beer Company
CATEGORIES:Asheville Area,Live Music
END:VEVENT
BEGIN:VEVENT
DTSTART;TZID=America/New_York:20260405T163000
DTEND;TZID=America/New_York:20260405T193000
DTSTAMP:20260422T205050
CREATED:20260124T141302Z
LAST-MODIFIED:20260204T201517Z
UID:10020567-1775406600-1775417400@livemusicasheville.com
SUMMARY:Sunday Bluegrass & Jam On The River
DESCRIPTION:A rotating local host band will play from 4:30 to 5:30\, and then an open bluegrass jam from 5:30 to 7:30. \n\n\n	Related
URL:https://livemusicasheville.com/calendar/sunday-bluegrass-jam-on-the-river-2/2026-04-05/
LOCATION:Zillicoah Beer Company
CATEGORIES:Asheville Area,Live Music,Open MIc/Jam
END:VEVENT
BEGIN:VEVENT
DTSTART;TZID=America/New_York:20260330T180000
DTEND;TZID=America/New_York:20260330T200000
DTSTAMP:20260422T205050
CREATED:20251209T024030Z
LAST-MODIFIED:20260321T173441Z
UID:10050830-1774893600-1774900800@livemusicasheville.com
SUMMARY:Jazz/Blues Jam hosted by Paul Helou
DESCRIPTION:Related
URL:https://livemusicasheville.com/calendar/jazz-night-2/2026-03-30/
LOCATION:Zillicoah Beer Company
CATEGORIES:Asheville Area,Live Music
END:VEVENT
BEGIN:VEVENT
DTSTART;TZID=America/New_York:20260323T180000
DTEND;TZID=America/New_York:20260323T200000
DTSTAMP:20260422T205050
CREATED:20251209T024030Z
LAST-MODIFIED:20260321T173441Z
UID:10028791-1774288800-1774296000@livemusicasheville.com
SUMMARY:Jazz/Blues Jam hosted by Paul Helou
DESCRIPTION:Related
URL:https://livemusicasheville.com/calendar/jazz-night-2/2026-03-23/
LOCATION:Zillicoah Beer Company
CATEGORIES:Asheville Area,Live Music
END:VEVENT
BEGIN:VEVENT
DTSTART;TZID=America/New_York:20260322T163000
DTEND;TZID=America/New_York:20260322T193000
DTSTAMP:20260422T205050
CREATED:20260124T141302Z
LAST-MODIFIED:20260204T201517Z
UID:10020566-1774197000-1774207800@livemusicasheville.com
SUMMARY:Sunday Bluegrass & Jam On The River
DESCRIPTION:A rotating local host band will play from 4:30 to 5:30\, and then an open bluegrass jam from 5:30 to 7:30. \n\n\n	Related
URL:https://livemusicasheville.com/calendar/sunday-bluegrass-jam-on-the-river-2/2026-03-22/
LOCATION:Zillicoah Beer Company
CATEGORIES:Asheville Area,Live Music,Open MIc/Jam
END:VEVENT
BEGIN:VEVENT
DTSTART;TZID=America/New_York:20260308T163000
DTEND;TZID=America/New_York:20260308T193000
DTSTAMP:20260422T205050
CREATED:20260124T141302Z
LAST-MODIFIED:20260204T201517Z
UID:10020565-1772987400-1772998200@livemusicasheville.com
SUMMARY:Sunday Bluegrass & Jam On The River
DESCRIPTION:A rotating local host band will play from 4:30 to 5:30\, and then an open bluegrass jam from 5:30 to 7:30. \n\n\n	Related
URL:https://livemusicasheville.com/calendar/sunday-bluegrass-jam-on-the-river-2/2026-03-08/
LOCATION:Zillicoah Beer Company
CATEGORIES:Asheville Area,Live Music,Open MIc/Jam
END:VEVENT
BEGIN:VEVENT
DTSTART;TZID=America/New_York:20260222T163000
DTEND;TZID=America/New_York:20260222T193000
DTSTAMP:20260422T205050
CREATED:20260124T141302Z
LAST-MODIFIED:20260204T201517Z
UID:10020564-1771777800-1771788600@livemusicasheville.com
SUMMARY:Sunday Bluegrass & Jam On The River
DESCRIPTION:A rotating local host band will play from 4:30 to 5:30\, and then an open bluegrass jam from 5:30 to 7:30. \n\n\n	Related
URL:https://livemusicasheville.com/calendar/sunday-bluegrass-jam-on-the-river-2/2026-02-22/
LOCATION:Zillicoah Beer Company
CATEGORIES:Asheville Area,Live Music,Open MIc/Jam
END:VEVENT
BEGIN:VEVENT
DTSTART;TZID=America/New_York:20260212T140000
DTEND;TZID=America/New_York:20260212T180000
DTSTAMP:20260422T205050
CREATED:20250129T181019Z
LAST-MODIFIED:20260129T222648Z
UID:10007272-1770904800-1770919200@livemusicasheville.com
SUMMARY:The Bear Creek String Bandits w/sg Mark Elliott Schimick + open bluegrass jam
DESCRIPTION:Related
URL:https://livemusicasheville.com/calendar/open-bluegrass-jam-w-the-bear-creek-string-bandits/
LOCATION:Zillicoah Beer Company
CATEGORIES:Asheville Area,Live Music,Open MIc/Jam
END:VEVENT
BEGIN:VEVENT
DTSTART;TZID=America/New_York:20260208T140000
DTEND;TZID=America/New_York:20260208T170000
DTSTAMP:20260422T205050
CREATED:20260204T201710Z
LAST-MODIFIED:20260204T201712Z
UID:10020561-1770559200-1770570000@livemusicasheville.com
SUMMARY:Early Sunday Bluegrass & Jam On The River
DESCRIPTION:A rotating local host band will play from 2-3pm\, and then an open bluegrass jam from 3-5 \n\n\n	Related
URL:https://livemusicasheville.com/calendar/sunday-bluegrass-jam-on-the-river-3/
LOCATION:Zillicoah Beer Company
CATEGORIES:Asheville Area,Live Music,Open MIc/Jam
END:VEVENT
BEGIN:VEVENT
DTSTART;TZID=America/New_York:20251228T163000
DTEND;TZID=America/New_York:20251228T193000
DTSTAMP:20260422T205050
CREATED:20250903T135708Z
LAST-MODIFIED:20250903T135708Z
UID:10020560-1766939400-1766950200@livemusicasheville.com
SUMMARY:Sunday Bluegrass & Jam On The River
DESCRIPTION:A rotating local host band will play from 4:30 to 5:30\, and then an open bluegrass jam from 5:30 to 7:30. \n\n\n	Related
URL:https://livemusicasheville.com/calendar/sunday-bluegrass-jam-on-the-river/2025-12-28/
LOCATION:Zillicoah Beer Company
CATEGORIES:Asheville Area,Live Music,Open MIc/Jam
END:VEVENT
BEGIN:VEVENT
DTSTART;TZID=America/New_York:20251214T163000
DTEND;TZID=America/New_York:20251214T193000
DTSTAMP:20260422T205050
CREATED:20250903T135708Z
LAST-MODIFIED:20250903T135708Z
UID:10020559-1765729800-1765740600@livemusicasheville.com
SUMMARY:Sunday Bluegrass & Jam On The River
DESCRIPTION:A rotating local host band will play from 4:30 to 5:30\, and then an open bluegrass jam from 5:30 to 7:30. \n\n\n	Related
URL:https://livemusicasheville.com/calendar/sunday-bluegrass-jam-on-the-river/2025-12-14/
LOCATION:Zillicoah Beer Company
CATEGORIES:Asheville Area,Live Music,Open MIc/Jam
END:VEVENT
BEGIN:VEVENT
DTSTART;TZID=America/New_York:20251130T163000
DTEND;TZID=America/New_York:20251130T193000
DTSTAMP:20260422T205050
CREATED:20250903T135708Z
LAST-MODIFIED:20250903T135708Z
UID:10020558-1764520200-1764531000@livemusicasheville.com
SUMMARY:Sunday Bluegrass & Jam On The River
DESCRIPTION:A rotating local host band will play from 4:30 to 5:30\, and then an open bluegrass jam from 5:30 to 7:30. \n\n\n	Related
URL:https://livemusicasheville.com/calendar/sunday-bluegrass-jam-on-the-river/2025-11-30/
LOCATION:Zillicoah Beer Company
CATEGORIES:Asheville Area,Live Music,Open MIc/Jam
END:VEVENT
BEGIN:VEVENT
DTSTART;TZID=America/New_York:20251116T163000
DTEND;TZID=America/New_York:20251116T193000
DTSTAMP:20260422T205050
CREATED:20250903T135708Z
LAST-MODIFIED:20250903T135708Z
UID:10020557-1763310600-1763321400@livemusicasheville.com
SUMMARY:Sunday Bluegrass & Jam On The River
DESCRIPTION:A rotating local host band will play from 4:30 to 5:30\, and then an open bluegrass jam from 5:30 to 7:30. \n\n\n	Related
URL:https://livemusicasheville.com/calendar/sunday-bluegrass-jam-on-the-river/2025-11-16/
LOCATION:Zillicoah Beer Company
CATEGORIES:Asheville Area,Live Music,Open MIc/Jam
END:VEVENT
BEGIN:VEVENT
DTSTART;TZID=America/New_York:20251102T163000
DTEND;TZID=America/New_York:20251102T193000
DTSTAMP:20260422T205050
CREATED:20250903T135708Z
LAST-MODIFIED:20250903T135708Z
UID:10020556-1762101000-1762111800@livemusicasheville.com
SUMMARY:Sunday Bluegrass & Jam On The River
DESCRIPTION:A rotating local host band will play from 4:30 to 5:30\, and then an open bluegrass jam from 5:30 to 7:30. \n\n\n	Related
URL:https://livemusicasheville.com/calendar/sunday-bluegrass-jam-on-the-river/2025-11-02/
LOCATION:Zillicoah Beer Company
CATEGORIES:Asheville Area,Live Music,Open MIc/Jam
END:VEVENT
BEGIN:VEVENT
DTSTART;TZID=America/New_York:20251019T163000
DTEND;TZID=America/New_York:20251019T193000
DTSTAMP:20260422T205050
CREATED:20250903T135708Z
LAST-MODIFIED:20250903T135708Z
UID:10020555-1760891400-1760902200@livemusicasheville.com
SUMMARY:Sunday Bluegrass & Jam On The River
DESCRIPTION:A rotating local host band will play from 4:30 to 5:30\, and then an open bluegrass jam from 5:30 to 7:30. \n\n\n	Related
URL:https://livemusicasheville.com/calendar/sunday-bluegrass-jam-on-the-river/2025-10-19/
LOCATION:Zillicoah Beer Company
CATEGORIES:Asheville Area,Live Music,Open MIc/Jam
END:VEVENT
BEGIN:VEVENT
DTSTART;TZID=America/New_York:20251012T130000
DTEND;TZID=America/New_York:20251012T190000
DTSTAMP:20260422T205050
CREATED:20251009T131003Z
LAST-MODIFIED:20251009T131133Z
UID:10022642-1760274000-1760295600@livemusicasheville.com
SUMMARY:After The Flood\, Songs Inspired by Helene
DESCRIPTION:After The Flood is a benefit compilation album featuring Helene-inspired songs from several local artists. On October 12th\, we’ll have many of those artists performing here\, alternating between electric and acoustic sets. Food\, music\, and raising money for a great cause. \nCome drink some great local beer and celebrate the release of After the Flood. \nAustin Barrett 1:00 to 1:45; \nHuman Nip 1:45 to 2:45; \nBill Melanson & the Tallboys 2:45 to 3:15; \nJordan Scheffer 3:15 to 4:00; \nLost Torpedo 4:00 to 4:45; \nCarpal Tullar 5:00 to 6:00; \nBounce Hog 6:00 to 7:00 \n\n\n	Related
URL:https://livemusicasheville.com/calendar/after-the-flood-album-release-show/
LOCATION:Zillicoah Beer Company
CATEGORIES:Asheville Area,Live Music
END:VEVENT
BEGIN:VEVENT
DTSTART;TZID=America/New_York:20251005T163000
DTEND;TZID=America/New_York:20251005T193000
DTSTAMP:20260422T205050
CREATED:20250903T135708Z
LAST-MODIFIED:20250903T135708Z
UID:10020554-1759681800-1759692600@livemusicasheville.com
SUMMARY:Sunday Bluegrass & Jam On The River
DESCRIPTION:A rotating local host band will play from 4:30 to 5:30\, and then an open bluegrass jam from 5:30 to 7:30. \n\n\n	Related
URL:https://livemusicasheville.com/calendar/sunday-bluegrass-jam-on-the-river/2025-10-05/
LOCATION:Zillicoah Beer Company
CATEGORIES:Asheville Area,Live Music,Open MIc/Jam
END:VEVENT
BEGIN:VEVENT
DTSTART;TZID=America/New_York:20250921T163000
DTEND;TZID=America/New_York:20250921T193000
DTSTAMP:20260422T205050
CREATED:20250903T135708Z
LAST-MODIFIED:20250903T135708Z
UID:10020553-1758472200-1758483000@livemusicasheville.com
SUMMARY:Sunday Bluegrass & Jam On The River
DESCRIPTION:A rotating local host band will play from 4:30 to 5:30\, and then an open bluegrass jam from 5:30 to 7:30. \n\n\n	Related
URL:https://livemusicasheville.com/calendar/sunday-bluegrass-jam-on-the-river/2025-09-21/
LOCATION:Zillicoah Beer Company
CATEGORIES:Asheville Area,Live Music,Open MIc/Jam
END:VEVENT
BEGIN:VEVENT
DTSTART;TZID=America/New_York:20250907T163000
DTEND;TZID=America/New_York:20250907T193000
DTSTAMP:20260422T205050
CREATED:20250903T135708Z
LAST-MODIFIED:20250903T135708Z
UID:10020552-1757262600-1757273400@livemusicasheville.com
SUMMARY:Sunday Bluegrass & Jam On The River
DESCRIPTION:A rotating local host band will play from 4:30 to 5:30\, and then an open bluegrass jam from 5:30 to 7:30. \n\n\n	Related
URL:https://livemusicasheville.com/calendar/sunday-bluegrass-jam-on-the-river/2025-09-07/
LOCATION:Zillicoah Beer Company
CATEGORIES:Asheville Area,Live Music,Open MIc/Jam
END:VEVENT
BEGIN:VEVENT
DTSTART;TZID=America/New_York:20250823T180000
DTEND;TZID=America/New_York:20250823T220000
DTSTAMP:20260422T205050
CREATED:20250820T120912Z
LAST-MODIFIED:20250820T120912Z
UID:10019716-1755972000-1755986400@livemusicasheville.com
SUMMARY:The Re-Opening with Doc Aquatic & Fashion Bath
DESCRIPTION:Related
URL:https://livemusicasheville.com/calendar/the-re-opening-with-doc-aquatic-fashion-bath/
LOCATION:Zillicoah Beer Company
CATEGORIES:Asheville Area,Live Music
END:VEVENT
BEGIN:VEVENT
DTSTART;TZID=America/New_York:20250822T160000
DTEND;TZID=America/New_York:20250822T210000
DTSTAMP:20260422T205050
CREATED:20250820T120755Z
LAST-MODIFIED:20250820T120755Z
UID:10019715-1755878400-1755896400@livemusicasheville.com
SUMMARY:The Re-Opening with The 40 20 10s & The Hillclimbers
DESCRIPTION:Related
URL:https://livemusicasheville.com/calendar/the-re-opening-with-the-40-20-10s-the-hillclimbers/
LOCATION:Zillicoah Beer Company
CATEGORIES:Asheville Area,Live Music
END:VEVENT
END:VCALENDAR