BEGIN:VCALENDAR
VERSION:2.0
PRODID:-//LiveMusicAsheville.com - ECPv6.15.20//NONSGML v1.0//EN
CALSCALE:GREGORIAN
METHOD:PUBLISH
X-WR-CALNAME:LiveMusicAsheville.com
X-ORIGINAL-URL:https://livemusicasheville.com
X-WR-CALDESC:Events for LiveMusicAsheville.com
REFRESH-INTERVAL;VALUE=DURATION:PT1H
X-Robots-Tag:noindex
X-PUBLISHED-TTL:PT1H
BEGIN:VTIMEZONE
TZID:America/New_York
BEGIN:DAYLIGHT
TZOFFSETFROM:-0500
TZOFFSETTO:-0400
TZNAME:EDT
DTSTART:20290311T070000
END:DAYLIGHT
BEGIN:STANDARD
TZOFFSETFROM:-0400
TZOFFSETTO:-0500
TZNAME:EST
DTSTART:20291104T060000
END:STANDARD
BEGIN:DAYLIGHT
TZOFFSETFROM:-0500
TZOFFSETTO:-0400
TZNAME:EDT
DTSTART:20300310T070000
END:DAYLIGHT
BEGIN:STANDARD
TZOFFSETFROM:-0400
TZOFFSETTO:-0500
TZNAME:EST
DTSTART:20301103T060000
END:STANDARD
BEGIN:DAYLIGHT
TZOFFSETFROM:-0500
TZOFFSETTO:-0400
TZNAME:EDT
DTSTART:20310309T070000
END:DAYLIGHT
BEGIN:STANDARD
TZOFFSETFROM:-0400
TZOFFSETTO:-0500
TZNAME:EST
DTSTART:20311102T060000
END:STANDARD
BEGIN:DAYLIGHT
TZOFFSETFROM:-0500
TZOFFSETTO:-0400
TZNAME:EDT
DTSTART:20320314T070000
END:DAYLIGHT
BEGIN:STANDARD
TZOFFSETFROM:-0400
TZOFFSETTO:-0500
TZNAME:EST
DTSTART:20321107T060000
END:STANDARD
END:VTIMEZONE
BEGIN:VEVENT
DTSTART;TZID=America/New_York:20300815T170000
DTEND;TZID=America/New_York:20300815T190000
DTSTAMP:20260424T231037
CREATED:20260314T125134Z
LAST-MODIFIED:20260314T125135Z
UID:10045859-1913043600-1913050800@livemusicasheville.com
SUMMARY:The Candleers
DESCRIPTION:Related
URL:https://livemusicasheville.com/calendar/the-candleers-2-2-3-2/2030-08-15/
LOCATION:Twin Willows Mars Hill
CATEGORIES:Asheville Area,Live Music,Madison County
END:VEVENT
BEGIN:VEVENT
DTSTART;TZID=America/New_York:20300822T170000
DTEND;TZID=America/New_York:20300822T190000
DTSTAMP:20260424T231037
CREATED:20260314T125134Z
LAST-MODIFIED:20260314T125135Z
UID:10045860-1913648400-1913655600@livemusicasheville.com
SUMMARY:The Candleers
DESCRIPTION:Related
URL:https://livemusicasheville.com/calendar/the-candleers-2-2-3-2/2030-08-22/
LOCATION:Twin Willows Mars Hill
CATEGORIES:Asheville Area,Live Music,Madison County
END:VEVENT
BEGIN:VEVENT
DTSTART;TZID=America/New_York:20300829T170000
DTEND;TZID=America/New_York:20300829T190000
DTSTAMP:20260424T231037
CREATED:20260314T125134Z
LAST-MODIFIED:20260314T125135Z
UID:10045861-1914253200-1914260400@livemusicasheville.com
SUMMARY:The Candleers
DESCRIPTION:Related
URL:https://livemusicasheville.com/calendar/the-candleers-2-2-3-2/2030-08-29/
LOCATION:Twin Willows Mars Hill
CATEGORIES:Asheville Area,Live Music,Madison County
END:VEVENT
BEGIN:VEVENT
DTSTART;TZID=America/New_York:20300905T170000
DTEND;TZID=America/New_York:20300905T190000
DTSTAMP:20260424T231037
CREATED:20260314T125134Z
LAST-MODIFIED:20260314T125135Z
UID:10045862-1914858000-1914865200@livemusicasheville.com
SUMMARY:The Candleers
DESCRIPTION:Related
URL:https://livemusicasheville.com/calendar/the-candleers-2-2-3-2/2030-09-05/
LOCATION:Twin Willows Mars Hill
CATEGORIES:Asheville Area,Live Music,Madison County
END:VEVENT
BEGIN:VEVENT
DTSTART;TZID=America/New_York:20300912T170000
DTEND;TZID=America/New_York:20300912T190000
DTSTAMP:20260424T231037
CREATED:20260314T125134Z
LAST-MODIFIED:20260314T125135Z
UID:10045863-1915462800-1915470000@livemusicasheville.com
SUMMARY:The Candleers
DESCRIPTION:Related
URL:https://livemusicasheville.com/calendar/the-candleers-2-2-3-2/2030-09-12/
LOCATION:Twin Willows Mars Hill
CATEGORIES:Asheville Area,Live Music,Madison County
END:VEVENT
BEGIN:VEVENT
DTSTART;TZID=America/New_York:20300919T170000
DTEND;TZID=America/New_York:20300919T190000
DTSTAMP:20260424T231037
CREATED:20260314T125134Z
LAST-MODIFIED:20260314T125135Z
UID:10045864-1916067600-1916074800@livemusicasheville.com
SUMMARY:The Candleers
DESCRIPTION:Related
URL:https://livemusicasheville.com/calendar/the-candleers-2-2-3-2/2030-09-19/
LOCATION:Twin Willows Mars Hill
CATEGORIES:Asheville Area,Live Music,Madison County
END:VEVENT
BEGIN:VEVENT
DTSTART;TZID=America/New_York:20300926T170000
DTEND;TZID=America/New_York:20300926T190000
DTSTAMP:20260424T231037
CREATED:20260314T125134Z
LAST-MODIFIED:20260314T125135Z
UID:10045865-1916672400-1916679600@livemusicasheville.com
SUMMARY:The Candleers
DESCRIPTION:Related
URL:https://livemusicasheville.com/calendar/the-candleers-2-2-3-2/2030-09-26/
LOCATION:Twin Willows Mars Hill
CATEGORIES:Asheville Area,Live Music,Madison County
END:VEVENT
BEGIN:VEVENT
DTSTART;TZID=America/New_York:20301003T170000
DTEND;TZID=America/New_York:20301003T190000
DTSTAMP:20260424T231037
CREATED:20260314T125134Z
LAST-MODIFIED:20260314T125135Z
UID:10045866-1917277200-1917284400@livemusicasheville.com
SUMMARY:The Candleers
DESCRIPTION:Related
URL:https://livemusicasheville.com/calendar/the-candleers-2-2-3-2/2030-10-03/
LOCATION:Twin Willows Mars Hill
CATEGORIES:Asheville Area,Live Music,Madison County
END:VEVENT
BEGIN:VEVENT
DTSTART;TZID=America/New_York:20301010T170000
DTEND;TZID=America/New_York:20301010T190000
DTSTAMP:20260424T231037
CREATED:20260314T125134Z
LAST-MODIFIED:20260314T125135Z
UID:10045867-1917882000-1917889200@livemusicasheville.com
SUMMARY:The Candleers
DESCRIPTION:Related
URL:https://livemusicasheville.com/calendar/the-candleers-2-2-3-2/2030-10-10/
LOCATION:Twin Willows Mars Hill
CATEGORIES:Asheville Area,Live Music,Madison County
END:VEVENT
BEGIN:VEVENT
DTSTART;TZID=America/New_York:20301017T170000
DTEND;TZID=America/New_York:20301017T190000
DTSTAMP:20260424T231037
CREATED:20260314T125134Z
LAST-MODIFIED:20260314T125135Z
UID:10045868-1918486800-1918494000@livemusicasheville.com
SUMMARY:The Candleers
DESCRIPTION:Related
URL:https://livemusicasheville.com/calendar/the-candleers-2-2-3-2/2030-10-17/
LOCATION:Twin Willows Mars Hill
CATEGORIES:Asheville Area,Live Music,Madison County
END:VEVENT
BEGIN:VEVENT
DTSTART;TZID=America/New_York:20301024T170000
DTEND;TZID=America/New_York:20301024T190000
DTSTAMP:20260424T231037
CREATED:20260314T125134Z
LAST-MODIFIED:20260314T125135Z
UID:10045869-1919091600-1919098800@livemusicasheville.com
SUMMARY:The Candleers
DESCRIPTION:Related
URL:https://livemusicasheville.com/calendar/the-candleers-2-2-3-2/2030-10-24/
LOCATION:Twin Willows Mars Hill
CATEGORIES:Asheville Area,Live Music,Madison County
END:VEVENT
BEGIN:VEVENT
DTSTART;TZID=America/New_York:20301031T170000
DTEND;TZID=America/New_York:20301031T190000
DTSTAMP:20260424T231037
CREATED:20260314T125134Z
LAST-MODIFIED:20260314T125135Z
UID:10045870-1919696400-1919703600@livemusicasheville.com
SUMMARY:The Candleers
DESCRIPTION:Related
URL:https://livemusicasheville.com/calendar/the-candleers-2-2-3-2/2030-10-31/
LOCATION:Twin Willows Mars Hill
CATEGORIES:Asheville Area,Live Music,Madison County
END:VEVENT
BEGIN:VEVENT
DTSTART;TZID=America/New_York:20301107T170000
DTEND;TZID=America/New_York:20301107T190000
DTSTAMP:20260424T231037
CREATED:20260314T125134Z
LAST-MODIFIED:20260314T125135Z
UID:10045871-1920301200-1920308400@livemusicasheville.com
SUMMARY:The Candleers
DESCRIPTION:Related
URL:https://livemusicasheville.com/calendar/the-candleers-2-2-3-2/2030-11-07/
LOCATION:Twin Willows Mars Hill
CATEGORIES:Asheville Area,Live Music,Madison County
END:VEVENT
BEGIN:VEVENT
DTSTART;TZID=America/New_York:20301114T170000
DTEND;TZID=America/New_York:20301114T190000
DTSTAMP:20260424T231037
CREATED:20260314T125134Z
LAST-MODIFIED:20260314T125135Z
UID:10045872-1920906000-1920913200@livemusicasheville.com
SUMMARY:The Candleers
DESCRIPTION:Related
URL:https://livemusicasheville.com/calendar/the-candleers-2-2-3-2/2030-11-14/
LOCATION:Twin Willows Mars Hill
CATEGORIES:Asheville Area,Live Music,Madison County
END:VEVENT
BEGIN:VEVENT
DTSTART;TZID=America/New_York:20301121T170000
DTEND;TZID=America/New_York:20301121T190000
DTSTAMP:20260424T231037
CREATED:20260314T125134Z
LAST-MODIFIED:20260314T125135Z
UID:10045873-1921510800-1921518000@livemusicasheville.com
SUMMARY:The Candleers
DESCRIPTION:Related
URL:https://livemusicasheville.com/calendar/the-candleers-2-2-3-2/2030-11-21/
LOCATION:Twin Willows Mars Hill
CATEGORIES:Asheville Area,Live Music,Madison County
END:VEVENT
BEGIN:VEVENT
DTSTART;TZID=America/New_York:20301128T170000
DTEND;TZID=America/New_York:20301128T190000
DTSTAMP:20260424T231037
CREATED:20260314T125134Z
LAST-MODIFIED:20260314T125135Z
UID:10045874-1922115600-1922122800@livemusicasheville.com
SUMMARY:The Candleers
DESCRIPTION:Related
URL:https://livemusicasheville.com/calendar/the-candleers-2-2-3-2/2030-11-28/
LOCATION:Twin Willows Mars Hill
CATEGORIES:Asheville Area,Live Music,Madison County
END:VEVENT
BEGIN:VEVENT
DTSTART;TZID=America/New_York:20301205T170000
DTEND;TZID=America/New_York:20301205T190000
DTSTAMP:20260424T231037
CREATED:20260314T125134Z
LAST-MODIFIED:20260314T125135Z
UID:10045875-1922720400-1922727600@livemusicasheville.com
SUMMARY:The Candleers
DESCRIPTION:Related
URL:https://livemusicasheville.com/calendar/the-candleers-2-2-3-2/2030-12-05/
LOCATION:Twin Willows Mars Hill
CATEGORIES:Asheville Area,Live Music,Madison County
END:VEVENT
BEGIN:VEVENT
DTSTART;TZID=America/New_York:20301212T170000
DTEND;TZID=America/New_York:20301212T190000
DTSTAMP:20260424T231037
CREATED:20260314T125134Z
LAST-MODIFIED:20260314T125135Z
UID:10045876-1923325200-1923332400@livemusicasheville.com
SUMMARY:The Candleers
DESCRIPTION:Related
URL:https://livemusicasheville.com/calendar/the-candleers-2-2-3-2/2030-12-12/
LOCATION:Twin Willows Mars Hill
CATEGORIES:Asheville Area,Live Music,Madison County
END:VEVENT
BEGIN:VEVENT
DTSTART;TZID=America/New_York:20301219T170000
DTEND;TZID=America/New_York:20301219T190000
DTSTAMP:20260424T231037
CREATED:20260314T125134Z
LAST-MODIFIED:20260314T125135Z
UID:10045877-1923930000-1923937200@livemusicasheville.com
SUMMARY:The Candleers
DESCRIPTION:Related
URL:https://livemusicasheville.com/calendar/the-candleers-2-2-3-2/2030-12-19/
LOCATION:Twin Willows Mars Hill
CATEGORIES:Asheville Area,Live Music,Madison County
END:VEVENT
BEGIN:VEVENT
DTSTART;TZID=America/New_York:20301226T170000
DTEND;TZID=America/New_York:20301226T190000
DTSTAMP:20260424T231037
CREATED:20260314T125134Z
LAST-MODIFIED:20260314T125135Z
UID:10045878-1924534800-1924542000@livemusicasheville.com
SUMMARY:The Candleers
DESCRIPTION:Related
URL:https://livemusicasheville.com/calendar/the-candleers-2-2-3-2/2030-12-26/
LOCATION:Twin Willows Mars Hill
CATEGORIES:Asheville Area,Live Music,Madison County
END:VEVENT
BEGIN:VEVENT
DTSTART;TZID=America/New_York:20310102T170000
DTEND;TZID=America/New_York:20310102T190000
DTSTAMP:20260424T231037
CREATED:20260314T125134Z
LAST-MODIFIED:20260314T125135Z
UID:10045879-1925139600-1925146800@livemusicasheville.com
SUMMARY:The Candleers
DESCRIPTION:Related
URL:https://livemusicasheville.com/calendar/the-candleers-2-2-3-2/2031-01-02/
LOCATION:Twin Willows Mars Hill
CATEGORIES:Asheville Area,Live Music,Madison County
END:VEVENT
BEGIN:VEVENT
DTSTART;TZID=America/New_York:20310109T170000
DTEND;TZID=America/New_York:20310109T190000
DTSTAMP:20260424T231037
CREATED:20260314T125134Z
LAST-MODIFIED:20260314T125135Z
UID:10045880-1925744400-1925751600@livemusicasheville.com
SUMMARY:The Candleers
DESCRIPTION:Related
URL:https://livemusicasheville.com/calendar/the-candleers-2-2-3-2/2031-01-09/
LOCATION:Twin Willows Mars Hill
CATEGORIES:Asheville Area,Live Music,Madison County
END:VEVENT
BEGIN:VEVENT
DTSTART;TZID=America/New_York:20310116T170000
DTEND;TZID=America/New_York:20310116T190000
DTSTAMP:20260424T231037
CREATED:20260314T125134Z
LAST-MODIFIED:20260314T125135Z
UID:10045881-1926349200-1926356400@livemusicasheville.com
SUMMARY:The Candleers
DESCRIPTION:Related
URL:https://livemusicasheville.com/calendar/the-candleers-2-2-3-2/2031-01-16/
LOCATION:Twin Willows Mars Hill
CATEGORIES:Asheville Area,Live Music,Madison County
END:VEVENT
BEGIN:VEVENT
DTSTART;TZID=America/New_York:20310123T170000
DTEND;TZID=America/New_York:20310123T190000
DTSTAMP:20260424T231037
CREATED:20260314T125134Z
LAST-MODIFIED:20260314T125135Z
UID:10045882-1926954000-1926961200@livemusicasheville.com
SUMMARY:The Candleers
DESCRIPTION:Related
URL:https://livemusicasheville.com/calendar/the-candleers-2-2-3-2/2031-01-23/
LOCATION:Twin Willows Mars Hill
CATEGORIES:Asheville Area,Live Music,Madison County
END:VEVENT
BEGIN:VEVENT
DTSTART;TZID=America/New_York:20310130T170000
DTEND;TZID=America/New_York:20310130T190000
DTSTAMP:20260424T231037
CREATED:20260314T125134Z
LAST-MODIFIED:20260314T125135Z
UID:10045883-1927558800-1927566000@livemusicasheville.com
SUMMARY:The Candleers
DESCRIPTION:Related
URL:https://livemusicasheville.com/calendar/the-candleers-2-2-3-2/2031-01-30/
LOCATION:Twin Willows Mars Hill
CATEGORIES:Asheville Area,Live Music,Madison County
END:VEVENT
BEGIN:VEVENT
DTSTART;TZID=America/New_York:20310206T170000
DTEND;TZID=America/New_York:20310206T190000
DTSTAMP:20260424T231037
CREATED:20260314T125134Z
LAST-MODIFIED:20260314T125135Z
UID:10045884-1928163600-1928170800@livemusicasheville.com
SUMMARY:The Candleers
DESCRIPTION:Related
URL:https://livemusicasheville.com/calendar/the-candleers-2-2-3-2/2031-02-06/
LOCATION:Twin Willows Mars Hill
CATEGORIES:Asheville Area,Live Music,Madison County
END:VEVENT
BEGIN:VEVENT
DTSTART;TZID=America/New_York:20310213T170000
DTEND;TZID=America/New_York:20310213T190000
DTSTAMP:20260424T231037
CREATED:20260314T125134Z
LAST-MODIFIED:20260314T125135Z
UID:10045885-1928768400-1928775600@livemusicasheville.com
SUMMARY:The Candleers
DESCRIPTION:Related
URL:https://livemusicasheville.com/calendar/the-candleers-2-2-3-2/2031-02-13/
LOCATION:Twin Willows Mars Hill
CATEGORIES:Asheville Area,Live Music,Madison County
END:VEVENT
BEGIN:VEVENT
DTSTART;TZID=America/New_York:20310220T170000
DTEND;TZID=America/New_York:20310220T190000
DTSTAMP:20260424T231037
CREATED:20260314T125134Z
LAST-MODIFIED:20260314T125135Z
UID:10049645-1929373200-1929380400@livemusicasheville.com
SUMMARY:The Candleers
DESCRIPTION:Related
URL:https://livemusicasheville.com/calendar/the-candleers-2-2-3-2/2031-02-20/
LOCATION:Twin Willows Mars Hill
CATEGORIES:Asheville Area,Live Music,Madison County
END:VEVENT
BEGIN:VEVENT
DTSTART;TZID=America/New_York:20310227T170000
DTEND;TZID=America/New_York:20310227T190000
DTSTAMP:20260424T231037
CREATED:20260314T125134Z
LAST-MODIFIED:20260314T125135Z
UID:10049646-1929978000-1929985200@livemusicasheville.com
SUMMARY:The Candleers
DESCRIPTION:Related
URL:https://livemusicasheville.com/calendar/the-candleers-2-2-3-2/2031-02-27/
LOCATION:Twin Willows Mars Hill
CATEGORIES:Asheville Area,Live Music,Madison County
END:VEVENT
BEGIN:VEVENT
DTSTART;TZID=America/New_York:20310306T170000
DTEND;TZID=America/New_York:20310306T190000
DTSTAMP:20260424T231037
CREATED:20260314T125134Z
LAST-MODIFIED:20260314T125135Z
UID:10049647-1930582800-1930590000@livemusicasheville.com
SUMMARY:The Candleers
DESCRIPTION:Related
URL:https://livemusicasheville.com/calendar/the-candleers-2-2-3-2/2031-03-06/
LOCATION:Twin Willows Mars Hill
CATEGORIES:Asheville Area,Live Music,Madison County
END:VEVENT
END:VCALENDAR