BEGIN:VCALENDAR
VERSION:2.0
PRODID:-//LiveMusicAsheville.com - ECPv6.15.20//NONSGML v1.0//EN
CALSCALE:GREGORIAN
METHOD:PUBLISH
X-ORIGINAL-URL:https://livemusicasheville.com
X-WR-CALDESC:Events for LiveMusicAsheville.com
REFRESH-INTERVAL;VALUE=DURATION:PT1H
X-Robots-Tag:noindex
X-PUBLISHED-TTL:PT1H
BEGIN:VTIMEZONE
TZID:America/New_York
BEGIN:DAYLIGHT
TZOFFSETFROM:-0500
TZOFFSETTO:-0400
TZNAME:EDT
DTSTART:20270314T070000
END:DAYLIGHT
BEGIN:STANDARD
TZOFFSETFROM:-0400
TZOFFSETTO:-0500
TZNAME:EST
DTSTART:20271107T060000
END:STANDARD
BEGIN:DAYLIGHT
TZOFFSETFROM:-0500
TZOFFSETTO:-0400
TZNAME:EDT
DTSTART:20280312T070000
END:DAYLIGHT
BEGIN:STANDARD
TZOFFSETFROM:-0400
TZOFFSETTO:-0500
TZNAME:EST
DTSTART:20281105T060000
END:STANDARD
BEGIN:DAYLIGHT
TZOFFSETFROM:-0500
TZOFFSETTO:-0400
TZNAME:EDT
DTSTART:20290311T070000
END:DAYLIGHT
BEGIN:STANDARD
TZOFFSETFROM:-0400
TZOFFSETTO:-0500
TZNAME:EST
DTSTART:20291104T060000
END:STANDARD
END:VTIMEZONE
BEGIN:VEVENT
DTSTART;TZID=America/New_York:20280202T200000
DTEND;TZID=America/New_York:20280202T220000
DTSTAMP:20260425T194059
CREATED:20250305T201112Z
LAST-MODIFIED:20260228T150603Z
UID:10047151-1833134400-1833141600@livemusicasheville.com
SUMMARY:Mojo Mountain
DESCRIPTION:Related
URL:https://livemusicasheville.com/calendar/mojo-mountain/2028-02-02/
LOCATION:Town Pump Tavern Black Mountain
CATEGORIES:Asheville Area,Black Mountain,Live Music
GEO:35.6162458;-82.320259
END:VEVENT
BEGIN:VEVENT
DTSTART;TZID=America/New_York:20280207T190000
DTEND;TZID=America/New_York:20280207T210000
DTSTAMP:20260425T194059
CREATED:20260126T214751Z
LAST-MODIFIED:20260418T133814Z
UID:10041625-1833562800-1833570000@livemusicasheville.com
SUMMARY:Music Mondays with host Ashley Heath
DESCRIPTION:  \n\n\n\n\n\n\n\n\n\n\n\n\n\n\n\n\n\n\n\n\n\n\n\n\nCheck with the venue on Ashley’s future guests. \n\n\n	Related
URL:https://livemusicasheville.com/calendar/ashley-heath-mondays-2-2-2-2-2-2-2/2028-02-07/
LOCATION:Town Pump Tavern Black Mountain
CATEGORIES:Asheville Area,Black Mountain,Live Music
GEO:35.6162458;-82.320259
END:VEVENT
BEGIN:VEVENT
DTSTART;TZID=America/New_York:20280214T190000
DTEND;TZID=America/New_York:20280214T210000
DTSTAMP:20260425T194059
CREATED:20260126T214751Z
LAST-MODIFIED:20260418T133814Z
UID:10041626-1834167600-1834174800@livemusicasheville.com
SUMMARY:Music Mondays with host Ashley Heath
DESCRIPTION:  \n\n\n\n\n\n\n\n\n\n\n\n\n\n\n\n\n\n\n\n\n\n\n\n\nCheck with the venue on Ashley’s future guests. \n\n\n	Related
URL:https://livemusicasheville.com/calendar/ashley-heath-mondays-2-2-2-2-2-2-2/2028-02-14/
LOCATION:Town Pump Tavern Black Mountain
CATEGORIES:Asheville Area,Black Mountain,Live Music
GEO:35.6162458;-82.320259
END:VEVENT
BEGIN:VEVENT
DTSTART;TZID=America/New_York:20280216T200000
DTEND;TZID=America/New_York:20280216T220000
DTSTAMP:20260425T194059
CREATED:20250206T191945Z
LAST-MODIFIED:20260415T012451Z
UID:10056704-1834344000-1834351200@livemusicasheville.com
SUMMARY:Dan Signor
DESCRIPTION:Related
URL:https://livemusicasheville.com/calendar/dan-signor/2028-02-16/
LOCATION:Town Pump Tavern Black Mountain
CATEGORIES:Asheville Area,Black Mountain,Live Music
GEO:35.6162458;-82.320259
END:VEVENT
BEGIN:VEVENT
DTSTART;TZID=America/New_York:20280221T190000
DTEND;TZID=America/New_York:20280221T210000
DTSTAMP:20260425T194059
CREATED:20260126T214751Z
LAST-MODIFIED:20260418T133814Z
UID:10041627-1834772400-1834779600@livemusicasheville.com
SUMMARY:Music Mondays with host Ashley Heath
DESCRIPTION:  \n\n\n\n\n\n\n\n\n\n\n\n\n\n\n\n\n\n\n\n\n\n\n\n\nCheck with the venue on Ashley’s future guests. \n\n\n	Related
URL:https://livemusicasheville.com/calendar/ashley-heath-mondays-2-2-2-2-2-2-2/2028-02-21/
LOCATION:Town Pump Tavern Black Mountain
CATEGORIES:Asheville Area,Black Mountain,Live Music
GEO:35.6162458;-82.320259
END:VEVENT
BEGIN:VEVENT
DTSTART;TZID=America/New_York:20280223T200000
DTEND;TZID=America/New_York:20280223T220000
DTSTAMP:20260425T194059
CREATED:20251216T130319Z
LAST-MODIFIED:20260223T133155Z
UID:10046201-1834948800-1834956000@livemusicasheville.com
SUMMARY:The Paper Crowns
DESCRIPTION:Related
URL:https://livemusicasheville.com/calendar/the-paper-crowns-4/2028-02-23/
LOCATION:Town Pump Tavern Black Mountain
CATEGORIES:Asheville Area,Black Mountain,Live Music
GEO:35.6162458;-82.320259
END:VEVENT
BEGIN:VEVENT
DTSTART;TZID=America/New_York:20280228T190000
DTEND;TZID=America/New_York:20280228T210000
DTSTAMP:20260425T194059
CREATED:20260126T214751Z
LAST-MODIFIED:20260418T133814Z
UID:10041628-1835377200-1835384400@livemusicasheville.com
SUMMARY:Music Mondays with host Ashley Heath
DESCRIPTION:  \n\n\n\n\n\n\n\n\n\n\n\n\n\n\n\n\n\n\n\n\n\n\n\n\nCheck with the venue on Ashley’s future guests. \n\n\n	Related
URL:https://livemusicasheville.com/calendar/ashley-heath-mondays-2-2-2-2-2-2-2/2028-02-28/
LOCATION:Town Pump Tavern Black Mountain
CATEGORIES:Asheville Area,Black Mountain,Live Music
GEO:35.6162458;-82.320259
END:VEVENT
BEGIN:VEVENT
DTSTART;TZID=America/New_York:20280301T200000
DTEND;TZID=America/New_York:20280301T220000
DTSTAMP:20260425T194059
CREATED:20250305T201112Z
LAST-MODIFIED:20260228T150603Z
UID:10047152-1835553600-1835560800@livemusicasheville.com
SUMMARY:Mojo Mountain
DESCRIPTION:Related
URL:https://livemusicasheville.com/calendar/mojo-mountain/2028-03-01/
LOCATION:Town Pump Tavern Black Mountain
CATEGORIES:Asheville Area,Black Mountain,Live Music
GEO:35.6162458;-82.320259
END:VEVENT
BEGIN:VEVENT
DTSTART;TZID=America/New_York:20280306T190000
DTEND;TZID=America/New_York:20280306T210000
DTSTAMP:20260425T194059
CREATED:20260126T214751Z
LAST-MODIFIED:20260418T133814Z
UID:10041629-1835982000-1835989200@livemusicasheville.com
SUMMARY:Music Mondays with host Ashley Heath
DESCRIPTION:  \n\n\n\n\n\n\n\n\n\n\n\n\n\n\n\n\n\n\n\n\n\n\n\n\nCheck with the venue on Ashley’s future guests. \n\n\n	Related
URL:https://livemusicasheville.com/calendar/ashley-heath-mondays-2-2-2-2-2-2-2/2028-03-06/
LOCATION:Town Pump Tavern Black Mountain
CATEGORIES:Asheville Area,Black Mountain,Live Music
GEO:35.6162458;-82.320259
END:VEVENT
BEGIN:VEVENT
DTSTART;TZID=America/New_York:20280307T200000
DTEND;TZID=America/New_York:20280307T220000
DTSTAMP:20260425T194059
CREATED:20260203T181018Z
LAST-MODIFIED:20260203T181019Z
UID:10042350-1836072000-1836079200@livemusicasheville.com
SUMMARY:“Little Quinnsdays” w/ Quinn Sternberg's Mind Beach
DESCRIPTION:Related
URL:https://livemusicasheville.com/calendar/little-quinnsdays-w-quinn-sternbergs-mind-beach-2-2/2028-03-07/
LOCATION:Town Pump Tavern Black Mountain
CATEGORIES:Asheville Area,Black Mountain,Live Music
GEO:35.6162458;-82.320259
END:VEVENT
BEGIN:VEVENT
DTSTART;TZID=America/New_York:20280313T190000
DTEND;TZID=America/New_York:20280313T210000
DTSTAMP:20260425T194059
CREATED:20260126T214751Z
LAST-MODIFIED:20260418T133814Z
UID:10041630-1836586800-1836594000@livemusicasheville.com
SUMMARY:Music Mondays with host Ashley Heath
DESCRIPTION:  \n\n\n\n\n\n\n\n\n\n\n\n\n\n\n\n\n\n\n\n\n\n\n\n\nCheck with the venue on Ashley’s future guests. \n\n\n	Related
URL:https://livemusicasheville.com/calendar/ashley-heath-mondays-2-2-2-2-2-2-2/2028-03-13/
LOCATION:Town Pump Tavern Black Mountain
CATEGORIES:Asheville Area,Black Mountain,Live Music
GEO:35.6162458;-82.320259
END:VEVENT
BEGIN:VEVENT
DTSTART;TZID=America/New_York:20280315T200000
DTEND;TZID=America/New_York:20280315T220000
DTSTAMP:20260425T194059
CREATED:20250206T191945Z
LAST-MODIFIED:20260415T012451Z
UID:10056705-1836763200-1836770400@livemusicasheville.com
SUMMARY:Dan Signor
DESCRIPTION:Related
URL:https://livemusicasheville.com/calendar/dan-signor/2028-03-15/
LOCATION:Town Pump Tavern Black Mountain
CATEGORIES:Asheville Area,Black Mountain,Live Music
GEO:35.6162458;-82.320259
END:VEVENT
BEGIN:VEVENT
DTSTART;TZID=America/New_York:20280320T190000
DTEND;TZID=America/New_York:20280320T210000
DTSTAMP:20260425T194059
CREATED:20260126T214751Z
LAST-MODIFIED:20260418T133814Z
UID:10041631-1837191600-1837198800@livemusicasheville.com
SUMMARY:Music Mondays with host Ashley Heath
DESCRIPTION:  \n\n\n\n\n\n\n\n\n\n\n\n\n\n\n\n\n\n\n\n\n\n\n\n\nCheck with the venue on Ashley’s future guests. \n\n\n	Related
URL:https://livemusicasheville.com/calendar/ashley-heath-mondays-2-2-2-2-2-2-2/2028-03-20/
LOCATION:Town Pump Tavern Black Mountain
CATEGORIES:Asheville Area,Black Mountain,Live Music
GEO:35.6162458;-82.320259
END:VEVENT
BEGIN:VEVENT
DTSTART;TZID=America/New_York:20280322T200000
DTEND;TZID=America/New_York:20280322T220000
DTSTAMP:20260425T194059
CREATED:20251216T130319Z
LAST-MODIFIED:20260223T133155Z
UID:10046202-1837368000-1837375200@livemusicasheville.com
SUMMARY:The Paper Crowns
DESCRIPTION:Related
URL:https://livemusicasheville.com/calendar/the-paper-crowns-4/2028-03-22/
LOCATION:Town Pump Tavern Black Mountain
CATEGORIES:Asheville Area,Black Mountain,Live Music
GEO:35.6162458;-82.320259
END:VEVENT
BEGIN:VEVENT
DTSTART;TZID=America/New_York:20280327T190000
DTEND;TZID=America/New_York:20280327T210000
DTSTAMP:20260425T194059
CREATED:20260126T214751Z
LAST-MODIFIED:20260418T133814Z
UID:10041632-1837796400-1837803600@livemusicasheville.com
SUMMARY:Music Mondays with host Ashley Heath
DESCRIPTION:  \n\n\n\n\n\n\n\n\n\n\n\n\n\n\n\n\n\n\n\n\n\n\n\n\nCheck with the venue on Ashley’s future guests. \n\n\n	Related
URL:https://livemusicasheville.com/calendar/ashley-heath-mondays-2-2-2-2-2-2-2/2028-03-27/
LOCATION:Town Pump Tavern Black Mountain
CATEGORIES:Asheville Area,Black Mountain,Live Music
GEO:35.6162458;-82.320259
END:VEVENT
BEGIN:VEVENT
DTSTART;TZID=America/New_York:20280403T190000
DTEND;TZID=America/New_York:20280403T210000
DTSTAMP:20260425T194059
CREATED:20260126T214751Z
LAST-MODIFIED:20260418T133814Z
UID:10041633-1838401200-1838408400@livemusicasheville.com
SUMMARY:Music Mondays with host Ashley Heath
DESCRIPTION:  \n\n\n\n\n\n\n\n\n\n\n\n\n\n\n\n\n\n\n\n\n\n\n\n\nCheck with the venue on Ashley’s future guests. \n\n\n	Related
URL:https://livemusicasheville.com/calendar/ashley-heath-mondays-2-2-2-2-2-2-2/2028-04-03/
LOCATION:Town Pump Tavern Black Mountain
CATEGORIES:Asheville Area,Black Mountain,Live Music
GEO:35.6162458;-82.320259
END:VEVENT
BEGIN:VEVENT
DTSTART;TZID=America/New_York:20280404T200000
DTEND;TZID=America/New_York:20280404T220000
DTSTAMP:20260425T194059
CREATED:20260203T181018Z
LAST-MODIFIED:20260203T181019Z
UID:10042351-1838491200-1838498400@livemusicasheville.com
SUMMARY:“Little Quinnsdays” w/ Quinn Sternberg's Mind Beach
DESCRIPTION:Related
URL:https://livemusicasheville.com/calendar/little-quinnsdays-w-quinn-sternbergs-mind-beach-2-2/2028-04-04/
LOCATION:Town Pump Tavern Black Mountain
CATEGORIES:Asheville Area,Black Mountain,Live Music
GEO:35.6162458;-82.320259
END:VEVENT
BEGIN:VEVENT
DTSTART;TZID=America/New_York:20280405T200000
DTEND;TZID=America/New_York:20280405T220000
DTSTAMP:20260425T194059
CREATED:20250305T201112Z
LAST-MODIFIED:20260228T150603Z
UID:10047153-1838577600-1838584800@livemusicasheville.com
SUMMARY:Mojo Mountain
DESCRIPTION:Related
URL:https://livemusicasheville.com/calendar/mojo-mountain/2028-04-05/
LOCATION:Town Pump Tavern Black Mountain
CATEGORIES:Asheville Area,Black Mountain,Live Music
GEO:35.6162458;-82.320259
END:VEVENT
BEGIN:VEVENT
DTSTART;TZID=America/New_York:20280410T190000
DTEND;TZID=America/New_York:20280410T210000
DTSTAMP:20260425T194059
CREATED:20260126T214751Z
LAST-MODIFIED:20260418T133814Z
UID:10041634-1839006000-1839013200@livemusicasheville.com
SUMMARY:Music Mondays with host Ashley Heath
DESCRIPTION:  \n\n\n\n\n\n\n\n\n\n\n\n\n\n\n\n\n\n\n\n\n\n\n\n\nCheck with the venue on Ashley’s future guests. \n\n\n	Related
URL:https://livemusicasheville.com/calendar/ashley-heath-mondays-2-2-2-2-2-2-2/2028-04-10/
LOCATION:Town Pump Tavern Black Mountain
CATEGORIES:Asheville Area,Black Mountain,Live Music
GEO:35.6162458;-82.320259
END:VEVENT
BEGIN:VEVENT
DTSTART;TZID=America/New_York:20280417T190000
DTEND;TZID=America/New_York:20280417T210000
DTSTAMP:20260425T194059
CREATED:20260126T214751Z
LAST-MODIFIED:20260418T133814Z
UID:10041635-1839610800-1839618000@livemusicasheville.com
SUMMARY:Music Mondays with host Ashley Heath
DESCRIPTION:  \n\n\n\n\n\n\n\n\n\n\n\n\n\n\n\n\n\n\n\n\n\n\n\n\nCheck with the venue on Ashley’s future guests. \n\n\n	Related
URL:https://livemusicasheville.com/calendar/ashley-heath-mondays-2-2-2-2-2-2-2/2028-04-17/
LOCATION:Town Pump Tavern Black Mountain
CATEGORIES:Asheville Area,Black Mountain,Live Music
GEO:35.6162458;-82.320259
END:VEVENT
BEGIN:VEVENT
DTSTART;TZID=America/New_York:20280419T200000
DTEND;TZID=America/New_York:20280419T220000
DTSTAMP:20260425T194059
CREATED:20250206T191945Z
LAST-MODIFIED:20260415T012451Z
UID:10056706-1839787200-1839794400@livemusicasheville.com
SUMMARY:Dan Signor
DESCRIPTION:Related
URL:https://livemusicasheville.com/calendar/dan-signor/2028-04-19/
LOCATION:Town Pump Tavern Black Mountain
CATEGORIES:Asheville Area,Black Mountain,Live Music
GEO:35.6162458;-82.320259
END:VEVENT
BEGIN:VEVENT
DTSTART;TZID=America/New_York:20280424T190000
DTEND;TZID=America/New_York:20280424T210000
DTSTAMP:20260425T194059
CREATED:20260126T214751Z
LAST-MODIFIED:20260418T133814Z
UID:10041636-1840215600-1840222800@livemusicasheville.com
SUMMARY:Music Mondays with host Ashley Heath
DESCRIPTION:  \n\n\n\n\n\n\n\n\n\n\n\n\n\n\n\n\n\n\n\n\n\n\n\n\nCheck with the venue on Ashley’s future guests. \n\n\n	Related
URL:https://livemusicasheville.com/calendar/ashley-heath-mondays-2-2-2-2-2-2-2/2028-04-24/
LOCATION:Town Pump Tavern Black Mountain
CATEGORIES:Asheville Area,Black Mountain,Live Music
GEO:35.6162458;-82.320259
END:VEVENT
BEGIN:VEVENT
DTSTART;TZID=America/New_York:20280426T200000
DTEND;TZID=America/New_York:20280426T220000
DTSTAMP:20260425T194059
CREATED:20251216T130319Z
LAST-MODIFIED:20260223T133155Z
UID:10046203-1840392000-1840399200@livemusicasheville.com
SUMMARY:The Paper Crowns
DESCRIPTION:Related
URL:https://livemusicasheville.com/calendar/the-paper-crowns-4/2028-04-26/
LOCATION:Town Pump Tavern Black Mountain
CATEGORIES:Asheville Area,Black Mountain,Live Music
GEO:35.6162458;-82.320259
END:VEVENT
BEGIN:VEVENT
DTSTART;TZID=America/New_York:20280501T190000
DTEND;TZID=America/New_York:20280501T210000
DTSTAMP:20260425T194059
CREATED:20260126T214751Z
LAST-MODIFIED:20260418T133814Z
UID:10041637-1840820400-1840827600@livemusicasheville.com
SUMMARY:Music Mondays with host Ashley Heath
DESCRIPTION:  \n\n\n\n\n\n\n\n\n\n\n\n\n\n\n\n\n\n\n\n\n\n\n\n\nCheck with the venue on Ashley’s future guests. \n\n\n	Related
URL:https://livemusicasheville.com/calendar/ashley-heath-mondays-2-2-2-2-2-2-2/2028-05-01/
LOCATION:Town Pump Tavern Black Mountain
CATEGORIES:Asheville Area,Black Mountain,Live Music
GEO:35.6162458;-82.320259
END:VEVENT
BEGIN:VEVENT
DTSTART;TZID=America/New_York:20280502T200000
DTEND;TZID=America/New_York:20280502T220000
DTSTAMP:20260425T194059
CREATED:20260203T181018Z
LAST-MODIFIED:20260203T181019Z
UID:10042352-1840910400-1840917600@livemusicasheville.com
SUMMARY:“Little Quinnsdays” w/ Quinn Sternberg's Mind Beach
DESCRIPTION:Related
URL:https://livemusicasheville.com/calendar/little-quinnsdays-w-quinn-sternbergs-mind-beach-2-2/2028-05-02/
LOCATION:Town Pump Tavern Black Mountain
CATEGORIES:Asheville Area,Black Mountain,Live Music
GEO:35.6162458;-82.320259
END:VEVENT
BEGIN:VEVENT
DTSTART;TZID=America/New_York:20280503T200000
DTEND;TZID=America/New_York:20280503T220000
DTSTAMP:20260425T194059
CREATED:20250305T201112Z
LAST-MODIFIED:20260228T150603Z
UID:10047154-1840996800-1841004000@livemusicasheville.com
SUMMARY:Mojo Mountain
DESCRIPTION:Related
URL:https://livemusicasheville.com/calendar/mojo-mountain/2028-05-03/
LOCATION:Town Pump Tavern Black Mountain
CATEGORIES:Asheville Area,Black Mountain,Live Music
GEO:35.6162458;-82.320259
END:VEVENT
BEGIN:VEVENT
DTSTART;TZID=America/New_York:20280508T190000
DTEND;TZID=America/New_York:20280508T210000
DTSTAMP:20260425T194059
CREATED:20260126T214751Z
LAST-MODIFIED:20260418T133814Z
UID:10041638-1841425200-1841432400@livemusicasheville.com
SUMMARY:Music Mondays with host Ashley Heath
DESCRIPTION:  \n\n\n\n\n\n\n\n\n\n\n\n\n\n\n\n\n\n\n\n\n\n\n\n\nCheck with the venue on Ashley’s future guests. \n\n\n	Related
URL:https://livemusicasheville.com/calendar/ashley-heath-mondays-2-2-2-2-2-2-2/2028-05-08/
LOCATION:Town Pump Tavern Black Mountain
CATEGORIES:Asheville Area,Black Mountain,Live Music
GEO:35.6162458;-82.320259
END:VEVENT
BEGIN:VEVENT
DTSTART;TZID=America/New_York:20280515T190000
DTEND;TZID=America/New_York:20280515T210000
DTSTAMP:20260425T194059
CREATED:20260126T214751Z
LAST-MODIFIED:20260418T133814Z
UID:10041639-1842030000-1842037200@livemusicasheville.com
SUMMARY:Music Mondays with host Ashley Heath
DESCRIPTION:  \n\n\n\n\n\n\n\n\n\n\n\n\n\n\n\n\n\n\n\n\n\n\n\n\nCheck with the venue on Ashley’s future guests. \n\n\n	Related
URL:https://livemusicasheville.com/calendar/ashley-heath-mondays-2-2-2-2-2-2-2/2028-05-15/
LOCATION:Town Pump Tavern Black Mountain
CATEGORIES:Asheville Area,Black Mountain,Live Music
GEO:35.6162458;-82.320259
END:VEVENT
BEGIN:VEVENT
DTSTART;TZID=America/New_York:20280517T200000
DTEND;TZID=America/New_York:20280517T220000
DTSTAMP:20260425T194059
CREATED:20250206T191945Z
LAST-MODIFIED:20260415T012451Z
UID:10056707-1842206400-1842213600@livemusicasheville.com
SUMMARY:Dan Signor
DESCRIPTION:Related
URL:https://livemusicasheville.com/calendar/dan-signor/2028-05-17/
LOCATION:Town Pump Tavern Black Mountain
CATEGORIES:Asheville Area,Black Mountain,Live Music
GEO:35.6162458;-82.320259
END:VEVENT
BEGIN:VEVENT
DTSTART;TZID=America/New_York:20280522T190000
DTEND;TZID=America/New_York:20280522T210000
DTSTAMP:20260425T194059
CREATED:20260126T214751Z
LAST-MODIFIED:20260418T133814Z
UID:10041640-1842634800-1842642000@livemusicasheville.com
SUMMARY:Music Mondays with host Ashley Heath
DESCRIPTION:  \n\n\n\n\n\n\n\n\n\n\n\n\n\n\n\n\n\n\n\n\n\n\n\n\nCheck with the venue on Ashley’s future guests. \n\n\n	Related
URL:https://livemusicasheville.com/calendar/ashley-heath-mondays-2-2-2-2-2-2-2/2028-05-22/
LOCATION:Town Pump Tavern Black Mountain
CATEGORIES:Asheville Area,Black Mountain,Live Music
GEO:35.6162458;-82.320259
END:VEVENT
END:VCALENDAR