BEGIN:VCALENDAR
VERSION:2.0
PRODID:-//LiveMusicAsheville.com - ECPv6.15.20//NONSGML v1.0//EN
CALSCALE:GREGORIAN
METHOD:PUBLISH
X-ORIGINAL-URL:https://livemusicasheville.com
X-WR-CALDESC:Events for LiveMusicAsheville.com
REFRESH-INTERVAL;VALUE=DURATION:PT1H
X-Robots-Tag:noindex
X-PUBLISHED-TTL:PT1H
BEGIN:VTIMEZONE
TZID:America/New_York
BEGIN:DAYLIGHT
TZOFFSETFROM:-0500
TZOFFSETTO:-0400
TZNAME:EDT
DTSTART:20250309T070000
END:DAYLIGHT
BEGIN:STANDARD
TZOFFSETFROM:-0400
TZOFFSETTO:-0500
TZNAME:EST
DTSTART:20251102T060000
END:STANDARD
BEGIN:DAYLIGHT
TZOFFSETFROM:-0500
TZOFFSETTO:-0400
TZNAME:EDT
DTSTART:20260308T070000
END:DAYLIGHT
BEGIN:STANDARD
TZOFFSETFROM:-0400
TZOFFSETTO:-0500
TZNAME:EST
DTSTART:20261101T060000
END:STANDARD
BEGIN:DAYLIGHT
TZOFFSETFROM:-0500
TZOFFSETTO:-0400
TZNAME:EDT
DTSTART:20270314T070000
END:DAYLIGHT
BEGIN:STANDARD
TZOFFSETFROM:-0400
TZOFFSETTO:-0500
TZNAME:EST
DTSTART:20271107T060000
END:STANDARD
END:VTIMEZONE
BEGIN:VEVENT
DTSTART;TZID=America/New_York:20260422T190000
DTEND;TZID=America/New_York:20260422T220000
DTSTAMP:20260422T092122
CREATED:20260218T142443Z
LAST-MODIFIED:20260420T163521Z
UID:10045444-1776884400-1776895200@livemusicasheville.com
SUMMARY:George Reeves & Peter Falbo
DESCRIPTION:Related
URL:https://livemusicasheville.com/calendar/george-reeves-jay-drummonds/
LOCATION:The Joint Next Door Fairview
CATEGORIES:Asheville Area,Fairview,Live Music
GEO:35.5251372;-82.424797
END:VEVENT
BEGIN:VEVENT
DTSTART;TZID=America/New_York:20260423T190000
DTEND;TZID=America/New_York:20260423T220000
DTSTAMP:20260422T092122
CREATED:20260407T221757Z
LAST-MODIFIED:20260407T221757Z
UID:10055405-1776970800-1776981600@livemusicasheville.com
SUMMARY:Alien Music Club Trio (formerly My Magnificent Trio)
DESCRIPTION:Alien Music Club Trio is a nerdy/sexy/eclectic/genre-bending group featuring James Kylen (drums/vocals)\, Chuck Lichtenberger (keys/vocals) and Jonathan Pearlman (guitar/vocals). All three contribute original material along with diverse covers by artists as The Beatles\, Ozzy Osborne\, Radiohead\, Taylor Swift\, Katy Perry and much more\, with a generous dose of jazz standards by the likes of Miles Davis\, Sonny Rollins\, Wes Montgomery and more. You never know what to expect! You’ll love Alien Music Club Trio! \n\n\n\n	Related
URL:https://livemusicasheville.com/calendar/alien-music-club-trio-formerly-my-magnificent-trio/
LOCATION:The Joint Next Door Fairview
CATEGORIES:Asheville Area,Fairview,Live Music
ATTACH;FMTTYPE=image/jpeg:https://livemusicasheville.com/wp-content/uploads/2025/09/MyMagTrioSepia-e1774311936301.jpg
GEO:35.5251372;-82.424797
END:VEVENT
BEGIN:VEVENT
DTSTART;TZID=America/New_York:20260424T190000
DTEND;TZID=America/New_York:20260424T220000
DTSTAMP:20260422T092122
CREATED:20250122T135921Z
LAST-MODIFIED:20260422T120743Z
UID:10006833-1777057200-1777068000@livemusicasheville.com
SUMMARY:Soul Blue Rocks
DESCRIPTION:Related
URL:https://livemusicasheville.com/calendar/soul-blue-rocks-2/
LOCATION:The Joint Next Door Fairview
CATEGORIES:Asheville Area,Fairview,Live Music
GEO:35.5251372;-82.424797
END:VEVENT
BEGIN:VEVENT
DTSTART;TZID=America/New_York:20260425T190000
DTEND;TZID=America/New_York:20260425T220000
DTSTAMP:20260422T092122
CREATED:20250305T123340Z
LAST-MODIFIED:20260422T120826Z
UID:10009380-1777143600-1777154400@livemusicasheville.com
SUMMARY:Asheville Guitar Bar Presents: The MGBs
DESCRIPTION:Related
URL:https://livemusicasheville.com/calendar/asheville-guitar-bar-presents-the-mgbs/
LOCATION:The Joint Next Door Fairview
CATEGORIES:Asheville Area,Fairview,Live Music
GEO:35.5251372;-82.424797
END:VEVENT
BEGIN:VEVENT
DTSTART;TZID=America/New_York:20260427T190000
DTEND;TZID=America/New_York:20260427T210000
DTSTAMP:20260422T092122
CREATED:20250702T121700Z
LAST-MODIFIED:20260304T145213Z
UID:10028524-1777316400-1777323600@livemusicasheville.com
SUMMARY:Blues with Mr Jimmy & Friends
DESCRIPTION:Related
URL:https://livemusicasheville.com/calendar/blues-with-mr-jimmy-friends-2/2026-04-27/
LOCATION:The Joint Next Door Fairview
CATEGORIES:Asheville Area,Fairview,Live Music
GEO:35.5251372;-82.424797
END:VEVENT
BEGIN:VEVENT
DTSTART;TZID=America/New_York:20260428T180000
DTEND;TZID=America/New_York:20260428T203000
DTSTAMP:20260422T092122
CREATED:20250108T162243Z
LAST-MODIFIED:20260422T120901Z
UID:10005475-1777399200-1777408200@livemusicasheville.com
SUMMARY:MoonBeatz
DESCRIPTION:Related
URL:https://livemusicasheville.com/calendar/moonbeatz/
LOCATION:The Joint Next Door Fairview
CATEGORIES:Asheville Area,Fairview,Live Music
GEO:35.5251372;-82.424797
END:VEVENT
BEGIN:VEVENT
DTSTART;TZID=America/New_York:20260429T190000
DTEND;TZID=America/New_York:20260429T220000
DTSTAMP:20260422T092122
CREATED:20260422T121026Z
LAST-MODIFIED:20260422T121026Z
UID:10058418-1777489200-1777500000@livemusicasheville.com
SUMMARY:Braelyn Grooms
DESCRIPTION:Related
URL:https://livemusicasheville.com/calendar/braelyn-grooms-2/
LOCATION:The Joint Next Door Fairview
CATEGORIES:Asheville Area,Fairview,Live Music
GEO:35.5251372;-82.424797
END:VEVENT
BEGIN:VEVENT
DTSTART;TZID=America/New_York:20260430T190000
DTEND;TZID=America/New_York:20260430T220000
DTSTAMP:20260422T092122
CREATED:20250827T175054Z
LAST-MODIFIED:20260422T121113Z
UID:10020328-1777575600-1777586400@livemusicasheville.com
SUMMARY:Roots & Dore
DESCRIPTION:Related
URL:https://livemusicasheville.com/calendar/roots-dore-3/
LOCATION:The Joint Next Door Fairview
CATEGORIES:Asheville Area,Fairview,Live Music
GEO:35.5251372;-82.424797
END:VEVENT
BEGIN:VEVENT
DTSTART;TZID=America/New_York:20260504T190000
DTEND;TZID=America/New_York:20260504T210000
DTSTAMP:20260422T092122
CREATED:20250702T121700Z
LAST-MODIFIED:20260304T145213Z
UID:10028525-1777921200-1777928400@livemusicasheville.com
SUMMARY:Blues with Mr Jimmy & Friends
DESCRIPTION:Related
URL:https://livemusicasheville.com/calendar/blues-with-mr-jimmy-friends-2/2026-05-04/
LOCATION:The Joint Next Door Fairview
CATEGORIES:Asheville Area,Fairview,Live Music
GEO:35.5251372;-82.424797
END:VEVENT
BEGIN:VEVENT
DTSTART;TZID=America/New_York:20260511T190000
DTEND;TZID=America/New_York:20260511T210000
DTSTAMP:20260422T092122
CREATED:20250702T121700Z
LAST-MODIFIED:20260304T145213Z
UID:10028526-1778526000-1778533200@livemusicasheville.com
SUMMARY:Blues with Mr Jimmy & Friends
DESCRIPTION:Related
URL:https://livemusicasheville.com/calendar/blues-with-mr-jimmy-friends-2/2026-05-11/
LOCATION:The Joint Next Door Fairview
CATEGORIES:Asheville Area,Fairview,Live Music
GEO:35.5251372;-82.424797
END:VEVENT
BEGIN:VEVENT
DTSTART;TZID=America/New_York:20260518T190000
DTEND;TZID=America/New_York:20260518T210000
DTSTAMP:20260422T092122
CREATED:20250702T121700Z
LAST-MODIFIED:20260304T145213Z
UID:10028527-1779130800-1779138000@livemusicasheville.com
SUMMARY:Blues with Mr Jimmy & Friends
DESCRIPTION:Related
URL:https://livemusicasheville.com/calendar/blues-with-mr-jimmy-friends-2/2026-05-18/
LOCATION:The Joint Next Door Fairview
CATEGORIES:Asheville Area,Fairview,Live Music
GEO:35.5251372;-82.424797
END:VEVENT
BEGIN:VEVENT
DTSTART;TZID=America/New_York:20260525T190000
DTEND;TZID=America/New_York:20260525T210000
DTSTAMP:20260422T092122
CREATED:20250702T121700Z
LAST-MODIFIED:20260304T145213Z
UID:10028528-1779735600-1779742800@livemusicasheville.com
SUMMARY:Blues with Mr Jimmy & Friends
DESCRIPTION:Related
URL:https://livemusicasheville.com/calendar/blues-with-mr-jimmy-friends-2/2026-05-25/
LOCATION:The Joint Next Door Fairview
CATEGORIES:Asheville Area,Fairview,Live Music
GEO:35.5251372;-82.424797
END:VEVENT
BEGIN:VEVENT
DTSTART;TZID=America/New_York:20260601T190000
DTEND;TZID=America/New_York:20260601T210000
DTSTAMP:20260422T092122
CREATED:20250702T121700Z
LAST-MODIFIED:20260304T145213Z
UID:10028529-1780340400-1780347600@livemusicasheville.com
SUMMARY:Blues with Mr Jimmy & Friends
DESCRIPTION:Related
URL:https://livemusicasheville.com/calendar/blues-with-mr-jimmy-friends-2/2026-06-01/
LOCATION:The Joint Next Door Fairview
CATEGORIES:Asheville Area,Fairview,Live Music
GEO:35.5251372;-82.424797
END:VEVENT
BEGIN:VEVENT
DTSTART;TZID=America/New_York:20260608T190000
DTEND;TZID=America/New_York:20260608T210000
DTSTAMP:20260422T092122
CREATED:20250702T121700Z
LAST-MODIFIED:20260304T145213Z
UID:10028530-1780945200-1780952400@livemusicasheville.com
SUMMARY:Blues with Mr Jimmy & Friends
DESCRIPTION:Related
URL:https://livemusicasheville.com/calendar/blues-with-mr-jimmy-friends-2/2026-06-08/
LOCATION:The Joint Next Door Fairview
CATEGORIES:Asheville Area,Fairview,Live Music
GEO:35.5251372;-82.424797
END:VEVENT
BEGIN:VEVENT
DTSTART;TZID=America/New_York:20260615T190000
DTEND;TZID=America/New_York:20260615T210000
DTSTAMP:20260422T092122
CREATED:20250702T121700Z
LAST-MODIFIED:20260304T145213Z
UID:10028531-1781550000-1781557200@livemusicasheville.com
SUMMARY:Blues with Mr Jimmy & Friends
DESCRIPTION:Related
URL:https://livemusicasheville.com/calendar/blues-with-mr-jimmy-friends-2/2026-06-15/
LOCATION:The Joint Next Door Fairview
CATEGORIES:Asheville Area,Fairview,Live Music
GEO:35.5251372;-82.424797
END:VEVENT
BEGIN:VEVENT
DTSTART;TZID=America/New_York:20260622T190000
DTEND;TZID=America/New_York:20260622T210000
DTSTAMP:20260422T092122
CREATED:20250702T121700Z
LAST-MODIFIED:20260304T145213Z
UID:10028532-1782154800-1782162000@livemusicasheville.com
SUMMARY:Blues with Mr Jimmy & Friends
DESCRIPTION:Related
URL:https://livemusicasheville.com/calendar/blues-with-mr-jimmy-friends-2/2026-06-22/
LOCATION:The Joint Next Door Fairview
CATEGORIES:Asheville Area,Fairview,Live Music
GEO:35.5251372;-82.424797
END:VEVENT
BEGIN:VEVENT
DTSTART;TZID=America/New_York:20260629T190000
DTEND;TZID=America/New_York:20260629T210000
DTSTAMP:20260422T092122
CREATED:20250702T121700Z
LAST-MODIFIED:20260304T145213Z
UID:10028533-1782759600-1782766800@livemusicasheville.com
SUMMARY:Blues with Mr Jimmy & Friends
DESCRIPTION:Related
URL:https://livemusicasheville.com/calendar/blues-with-mr-jimmy-friends-2/2026-06-29/
LOCATION:The Joint Next Door Fairview
CATEGORIES:Asheville Area,Fairview,Live Music
GEO:35.5251372;-82.424797
END:VEVENT
BEGIN:VEVENT
DTSTART;TZID=America/New_York:20260706T190000
DTEND;TZID=America/New_York:20260706T210000
DTSTAMP:20260422T092122
CREATED:20250702T121700Z
LAST-MODIFIED:20260304T145213Z
UID:10028534-1783364400-1783371600@livemusicasheville.com
SUMMARY:Blues with Mr Jimmy & Friends
DESCRIPTION:Related
URL:https://livemusicasheville.com/calendar/blues-with-mr-jimmy-friends-2/2026-07-06/
LOCATION:The Joint Next Door Fairview
CATEGORIES:Asheville Area,Fairview,Live Music
GEO:35.5251372;-82.424797
END:VEVENT
BEGIN:VEVENT
DTSTART;TZID=America/New_York:20260713T190000
DTEND;TZID=America/New_York:20260713T210000
DTSTAMP:20260422T092122
CREATED:20250702T121700Z
LAST-MODIFIED:20260304T145213Z
UID:10028535-1783969200-1783976400@livemusicasheville.com
SUMMARY:Blues with Mr Jimmy & Friends
DESCRIPTION:Related
URL:https://livemusicasheville.com/calendar/blues-with-mr-jimmy-friends-2/2026-07-13/
LOCATION:The Joint Next Door Fairview
CATEGORIES:Asheville Area,Fairview,Live Music
GEO:35.5251372;-82.424797
END:VEVENT
BEGIN:VEVENT
DTSTART;TZID=America/New_York:20260720T190000
DTEND;TZID=America/New_York:20260720T210000
DTSTAMP:20260422T092122
CREATED:20250702T121700Z
LAST-MODIFIED:20260304T145213Z
UID:10028536-1784574000-1784581200@livemusicasheville.com
SUMMARY:Blues with Mr Jimmy & Friends
DESCRIPTION:Related
URL:https://livemusicasheville.com/calendar/blues-with-mr-jimmy-friends-2/2026-07-20/
LOCATION:The Joint Next Door Fairview
CATEGORIES:Asheville Area,Fairview,Live Music
GEO:35.5251372;-82.424797
END:VEVENT
BEGIN:VEVENT
DTSTART;TZID=America/New_York:20260727T190000
DTEND;TZID=America/New_York:20260727T210000
DTSTAMP:20260422T092122
CREATED:20250702T121700Z
LAST-MODIFIED:20260304T145213Z
UID:10028537-1785178800-1785186000@livemusicasheville.com
SUMMARY:Blues with Mr Jimmy & Friends
DESCRIPTION:Related
URL:https://livemusicasheville.com/calendar/blues-with-mr-jimmy-friends-2/2026-07-27/
LOCATION:The Joint Next Door Fairview
CATEGORIES:Asheville Area,Fairview,Live Music
GEO:35.5251372;-82.424797
END:VEVENT
BEGIN:VEVENT
DTSTART;TZID=America/New_York:20260803T190000
DTEND;TZID=America/New_York:20260803T210000
DTSTAMP:20260422T092122
CREATED:20250702T121700Z
LAST-MODIFIED:20260304T145213Z
UID:10028538-1785783600-1785790800@livemusicasheville.com
SUMMARY:Blues with Mr Jimmy & Friends
DESCRIPTION:Related
URL:https://livemusicasheville.com/calendar/blues-with-mr-jimmy-friends-2/2026-08-03/
LOCATION:The Joint Next Door Fairview
CATEGORIES:Asheville Area,Fairview,Live Music
GEO:35.5251372;-82.424797
END:VEVENT
BEGIN:VEVENT
DTSTART;TZID=America/New_York:20260810T190000
DTEND;TZID=America/New_York:20260810T210000
DTSTAMP:20260422T092122
CREATED:20250702T121700Z
LAST-MODIFIED:20260304T145213Z
UID:10028539-1786388400-1786395600@livemusicasheville.com
SUMMARY:Blues with Mr Jimmy & Friends
DESCRIPTION:Related
URL:https://livemusicasheville.com/calendar/blues-with-mr-jimmy-friends-2/2026-08-10/
LOCATION:The Joint Next Door Fairview
CATEGORIES:Asheville Area,Fairview,Live Music
GEO:35.5251372;-82.424797
END:VEVENT
BEGIN:VEVENT
DTSTART;TZID=America/New_York:20260817T190000
DTEND;TZID=America/New_York:20260817T210000
DTSTAMP:20260422T092122
CREATED:20250702T121700Z
LAST-MODIFIED:20260304T145213Z
UID:10028540-1786993200-1787000400@livemusicasheville.com
SUMMARY:Blues with Mr Jimmy & Friends
DESCRIPTION:Related
URL:https://livemusicasheville.com/calendar/blues-with-mr-jimmy-friends-2/2026-08-17/
LOCATION:The Joint Next Door Fairview
CATEGORIES:Asheville Area,Fairview,Live Music
GEO:35.5251372;-82.424797
END:VEVENT
BEGIN:VEVENT
DTSTART;TZID=America/New_York:20260824T190000
DTEND;TZID=America/New_York:20260824T210000
DTSTAMP:20260422T092122
CREATED:20250702T121700Z
LAST-MODIFIED:20260304T145213Z
UID:10028541-1787598000-1787605200@livemusicasheville.com
SUMMARY:Blues with Mr Jimmy & Friends
DESCRIPTION:Related
URL:https://livemusicasheville.com/calendar/blues-with-mr-jimmy-friends-2/2026-08-24/
LOCATION:The Joint Next Door Fairview
CATEGORIES:Asheville Area,Fairview,Live Music
GEO:35.5251372;-82.424797
END:VEVENT
BEGIN:VEVENT
DTSTART;TZID=America/New_York:20260831T190000
DTEND;TZID=America/New_York:20260831T210000
DTSTAMP:20260422T092122
CREATED:20250702T121700Z
LAST-MODIFIED:20260304T145213Z
UID:10028542-1788202800-1788210000@livemusicasheville.com
SUMMARY:Blues with Mr Jimmy & Friends
DESCRIPTION:Related
URL:https://livemusicasheville.com/calendar/blues-with-mr-jimmy-friends-2/2026-08-31/
LOCATION:The Joint Next Door Fairview
CATEGORIES:Asheville Area,Fairview,Live Music
GEO:35.5251372;-82.424797
END:VEVENT
BEGIN:VEVENT
DTSTART;TZID=America/New_York:20260907T190000
DTEND;TZID=America/New_York:20260907T210000
DTSTAMP:20260422T092122
CREATED:20250702T121700Z
LAST-MODIFIED:20260304T145213Z
UID:10028543-1788807600-1788814800@livemusicasheville.com
SUMMARY:Blues with Mr Jimmy & Friends
DESCRIPTION:Related
URL:https://livemusicasheville.com/calendar/blues-with-mr-jimmy-friends-2/2026-09-07/
LOCATION:The Joint Next Door Fairview
CATEGORIES:Asheville Area,Fairview,Live Music
GEO:35.5251372;-82.424797
END:VEVENT
BEGIN:VEVENT
DTSTART;TZID=America/New_York:20260914T190000
DTEND;TZID=America/New_York:20260914T210000
DTSTAMP:20260422T092122
CREATED:20250702T121700Z
LAST-MODIFIED:20260304T145213Z
UID:10028544-1789412400-1789419600@livemusicasheville.com
SUMMARY:Blues with Mr Jimmy & Friends
DESCRIPTION:Related
URL:https://livemusicasheville.com/calendar/blues-with-mr-jimmy-friends-2/2026-09-14/
LOCATION:The Joint Next Door Fairview
CATEGORIES:Asheville Area,Fairview,Live Music
GEO:35.5251372;-82.424797
END:VEVENT
BEGIN:VEVENT
DTSTART;TZID=America/New_York:20260921T190000
DTEND;TZID=America/New_York:20260921T210000
DTSTAMP:20260422T092122
CREATED:20250702T121700Z
LAST-MODIFIED:20260304T145213Z
UID:10028545-1790017200-1790024400@livemusicasheville.com
SUMMARY:Blues with Mr Jimmy & Friends
DESCRIPTION:Related
URL:https://livemusicasheville.com/calendar/blues-with-mr-jimmy-friends-2/2026-09-21/
LOCATION:The Joint Next Door Fairview
CATEGORIES:Asheville Area,Fairview,Live Music
GEO:35.5251372;-82.424797
END:VEVENT
BEGIN:VEVENT
DTSTART;TZID=America/New_York:20260928T190000
DTEND;TZID=America/New_York:20260928T210000
DTSTAMP:20260422T092122
CREATED:20250702T121700Z
LAST-MODIFIED:20260304T145213Z
UID:10028546-1790622000-1790629200@livemusicasheville.com
SUMMARY:Blues with Mr Jimmy & Friends
DESCRIPTION:Related
URL:https://livemusicasheville.com/calendar/blues-with-mr-jimmy-friends-2/2026-09-28/
LOCATION:The Joint Next Door Fairview
CATEGORIES:Asheville Area,Fairview,Live Music
GEO:35.5251372;-82.424797
END:VEVENT
END:VCALENDAR