BEGIN:VCALENDAR
VERSION:2.0
PRODID:-//LiveMusicAsheville.com - ECPv6.15.20//NONSGML v1.0//EN
CALSCALE:GREGORIAN
METHOD:PUBLISH
X-ORIGINAL-URL:https://livemusicasheville.com
X-WR-CALDESC:Events for LiveMusicAsheville.com
REFRESH-INTERVAL;VALUE=DURATION:PT1H
X-Robots-Tag:noindex
X-PUBLISHED-TTL:PT1H
BEGIN:VTIMEZONE
TZID:America/New_York
BEGIN:DAYLIGHT
TZOFFSETFROM:-0500
TZOFFSETTO:-0400
TZNAME:EDT
DTSTART:20240310T070000
END:DAYLIGHT
BEGIN:STANDARD
TZOFFSETFROM:-0400
TZOFFSETTO:-0500
TZNAME:EST
DTSTART:20241103T060000
END:STANDARD
BEGIN:DAYLIGHT
TZOFFSETFROM:-0500
TZOFFSETTO:-0400
TZNAME:EDT
DTSTART:20250309T070000
END:DAYLIGHT
BEGIN:STANDARD
TZOFFSETFROM:-0400
TZOFFSETTO:-0500
TZNAME:EST
DTSTART:20251102T060000
END:STANDARD
BEGIN:DAYLIGHT
TZOFFSETFROM:-0500
TZOFFSETTO:-0400
TZNAME:EDT
DTSTART:20260308T070000
END:DAYLIGHT
BEGIN:STANDARD
TZOFFSETFROM:-0400
TZOFFSETTO:-0500
TZNAME:EST
DTSTART:20261101T060000
END:STANDARD
BEGIN:DAYLIGHT
TZOFFSETFROM:-0500
TZOFFSETTO:-0400
TZNAME:EDT
DTSTART:20270314T070000
END:DAYLIGHT
BEGIN:STANDARD
TZOFFSETFROM:-0400
TZOFFSETTO:-0500
TZNAME:EST
DTSTART:20271107T060000
END:STANDARD
END:VTIMEZONE
BEGIN:VEVENT
DTSTART;TZID=America/New_York:20260419T130000
DTEND;TZID=America/New_York:20260419T160000
DTSTAMP:20260425T081941
CREATED:20260415T131726Z
LAST-MODIFIED:20260415T131726Z
UID:10056832-1776603600-1776614400@livemusicasheville.com
SUMMARY:Abbey Winters
DESCRIPTION:Related
URL:https://livemusicasheville.com/calendar/abbey-winters/
LOCATION:Wicked Weed Funkatorium\, 147 Coxe Avenue\, Asheville\, NC\, 28801\, United States
CATEGORIES:Asheville Area,Live Music
GEO:35.5892462;-82.5552092
X-APPLE-STRUCTURED-LOCATION;VALUE=URI;X-ADDRESS=Wicked Weed Funkatorium 147 Coxe Avenue Asheville NC 28801 United States;X-APPLE-RADIUS=500;X-TITLE=147 Coxe Avenue:geo:-82.5552092,35.5892462
END:VEVENT
BEGIN:VEVENT
DTSTART;TZID=America/New_York:20260412T130000
DTEND;TZID=America/New_York:20260412T160000
DTSTAMP:20260425T081941
CREATED:20250409T172614Z
LAST-MODIFIED:20260408T113457Z
UID:10012414-1775998800-1776009600@livemusicasheville.com
SUMMARY:Live Music | Andy Ferrell
DESCRIPTION:Related
URL:https://livemusicasheville.com/calendar/live-music-andy-ferrell/
LOCATION:Wicked Weed Funkatorium\, 147 Coxe Avenue\, Asheville\, NC\, 28801\, United States
CATEGORIES:Asheville Area,Live Music
GEO:35.5892462;-82.5552092
X-APPLE-STRUCTURED-LOCATION;VALUE=URI;X-ADDRESS=Wicked Weed Funkatorium 147 Coxe Avenue Asheville NC 28801 United States;X-APPLE-RADIUS=500;X-TITLE=147 Coxe Avenue:geo:-82.5552092,35.5892462
END:VEVENT
BEGIN:VEVENT
DTSTART;TZID=America/New_York:20260405T130000
DTEND;TZID=America/New_York:20260405T160000
DTSTAMP:20260425T081941
CREATED:20251008T123641Z
LAST-MODIFIED:20260401T122345Z
UID:10022375-1775394000-1775404800@livemusicasheville.com
SUMMARY:Jade Throneberry
DESCRIPTION:Related
URL:https://livemusicasheville.com/calendar/jade-throneberry/
LOCATION:Wicked Weed Funkatorium\, 147 Coxe Avenue\, Asheville\, NC\, 28801\, United States
CATEGORIES:Asheville Area,Live Music
GEO:35.5892462;-82.5552092
X-APPLE-STRUCTURED-LOCATION;VALUE=URI;X-ADDRESS=Wicked Weed Funkatorium 147 Coxe Avenue Asheville NC 28801 United States;X-APPLE-RADIUS=500;X-TITLE=147 Coxe Avenue:geo:-82.5552092,35.5892462
END:VEVENT
BEGIN:VEVENT
DTSTART;TZID=America/New_York:20260402T193000
DTEND;TZID=America/New_York:20260402T213000
DTSTAMP:20260425T081941
CREATED:20260305T145042Z
LAST-MODIFIED:20260305T145209Z
UID:10048550-1775158200-1775165400@livemusicasheville.com
SUMMARY:Asheville Beer Choir presents: Choir Night: Simply the Best
DESCRIPTION:Join us for Choir Night: Simply the Best-belt out some harmonies and be in a choir-but just for one night! \nCome spend an evening learning and singing Tina Turner’s “The Best” in harmony. Open to everyone — whether you read music or just love to sing! Great way to have a choir experience with low commitment-just one night!\nWe’ll have sheet music or lyrics available\, learn our notes and film it at the end!\nEvent is 18+\nCheck in starts at 7pm and we’ll sing at 7:30.  Event Details and Tickets \n \n\n\n	Related
URL:https://livemusicasheville.com/calendar/choir-night-simply-the-best/
LOCATION:Wicked Weed Funkatorium\, 147 Coxe Avenue\, Asheville\, NC\, 28801\, United States
CATEGORIES:Asheville Area,Live Music,Open MIc/Jam
GEO:35.5892462;-82.5552092
X-APPLE-STRUCTURED-LOCATION;VALUE=URI;X-ADDRESS=Wicked Weed Funkatorium 147 Coxe Avenue Asheville NC 28801 United States;X-APPLE-RADIUS=500;X-TITLE=147 Coxe Avenue:geo:-82.5552092,35.5892462
END:VEVENT
BEGIN:VEVENT
DTSTART;TZID=America/New_York:20260314T140000
DTEND;TZID=America/New_York:20260314T160000
DTSTAMP:20260425T081941
CREATED:20250312T134631Z
LAST-MODIFIED:20260312T134649Z
UID:10009819-1773496800-1773504000@livemusicasheville.com
SUMMARY:The Asheville Beer Choir – Sea Shanties and Pub Songs 🍀
DESCRIPTION:Related
URL:https://livemusicasheville.com/calendar/the-asheville-beer-choir-sea-shanties-and-pub-songs/
LOCATION:Wicked Weed Funkatorium\, 147 Coxe Avenue\, Asheville\, NC\, 28801\, United States
CATEGORIES:Asheville Area,Live Music
GEO:35.5892462;-82.5552092
X-APPLE-STRUCTURED-LOCATION;VALUE=URI;X-ADDRESS=Wicked Weed Funkatorium 147 Coxe Avenue Asheville NC 28801 United States;X-APPLE-RADIUS=500;X-TITLE=147 Coxe Avenue:geo:-82.5552092,35.5892462
END:VEVENT
BEGIN:VEVENT
DTSTART;TZID=America/New_York:20260312T190000
DTEND;TZID=America/New_York:20260312T220000
DTSTAMP:20260425T081941
CREATED:20260106T214435Z
LAST-MODIFIED:20260303T171110Z
UID:10033946-1773342000-1773352800@livemusicasheville.com
SUMMARY:Asheville Beer Choir Sip-n-Sing: Sea Shanties and Irish Pub Tunes
DESCRIPTION:Related
URL:https://livemusicasheville.com/calendar/asheville-beer-choir-sip-n-sing-3-2-2/2026-03-12/
LOCATION:Wicked Weed Funkatorium\, 147 Coxe Avenue\, Asheville\, NC\, 28801\, United States
CATEGORIES:Asheville Area,Live Music,Open MIc/Jam
GEO:35.5892462;-82.5552092
X-APPLE-STRUCTURED-LOCATION;VALUE=URI;X-ADDRESS=Wicked Weed Funkatorium 147 Coxe Avenue Asheville NC 28801 United States;X-APPLE-RADIUS=500;X-TITLE=147 Coxe Avenue:geo:-82.5552092,35.5892462
END:VEVENT
BEGIN:VEVENT
DTSTART;TZID=America/New_York:20260226T190000
DTEND;TZID=America/New_York:20260226T220000
DTSTAMP:20260425T081941
CREATED:20260106T214435Z
LAST-MODIFIED:20260303T171110Z
UID:10033944-1772132400-1772143200@livemusicasheville.com
SUMMARY:Asheville Beer Choir Sip-n-Sing: Sea Shanties and Irish Pub Tunes
DESCRIPTION:Related
URL:https://livemusicasheville.com/calendar/asheville-beer-choir-sip-n-sing-3-2-2/2026-02-26/
LOCATION:Wicked Weed Funkatorium\, 147 Coxe Avenue\, Asheville\, NC\, 28801\, United States
CATEGORIES:Asheville Area,Live Music,Open MIc/Jam
GEO:35.5892462;-82.5552092
X-APPLE-STRUCTURED-LOCATION;VALUE=URI;X-ADDRESS=Wicked Weed Funkatorium 147 Coxe Avenue Asheville NC 28801 United States;X-APPLE-RADIUS=500;X-TITLE=147 Coxe Avenue:geo:-82.5552092,35.5892462
END:VEVENT
BEGIN:VEVENT
DTSTART;TZID=America/New_York:20260219T190000
DTEND;TZID=America/New_York:20260219T220000
DTSTAMP:20260425T081941
CREATED:20260106T214435Z
LAST-MODIFIED:20260303T171110Z
UID:10033943-1771527600-1771538400@livemusicasheville.com
SUMMARY:Asheville Beer Choir Sip-n-Sing: Sea Shanties and Irish Pub Tunes
DESCRIPTION:Related
URL:https://livemusicasheville.com/calendar/asheville-beer-choir-sip-n-sing-3-2-2/2026-02-19/
LOCATION:Wicked Weed Funkatorium\, 147 Coxe Avenue\, Asheville\, NC\, 28801\, United States
CATEGORIES:Asheville Area,Live Music,Open MIc/Jam
GEO:35.5892462;-82.5552092
X-APPLE-STRUCTURED-LOCATION;VALUE=URI;X-ADDRESS=Wicked Weed Funkatorium 147 Coxe Avenue Asheville NC 28801 United States;X-APPLE-RADIUS=500;X-TITLE=147 Coxe Avenue:geo:-82.5552092,35.5892462
END:VEVENT
BEGIN:VEVENT
DTSTART;TZID=America/New_York:20260215T170000
DTEND;TZID=America/New_York:20260215T210000
DTSTAMP:20260425T081941
CREATED:20260109T151330Z
LAST-MODIFIED:20260128T150224Z
UID:10034478-1771174800-1771189200@livemusicasheville.com
SUMMARY:Asheville Mardi Gras Queen's Ball ft. The JLloyd MashUp
DESCRIPTION:Related
URL:https://livemusicasheville.com/calendar/asheville-mardi-gras-queens-ball/
LOCATION:Wicked Weed Funkatorium\, 147 Coxe Avenue\, Asheville\, NC\, 28801\, United States
CATEGORIES:Asheville Area,DJ/Electronic,Live Music
GEO:35.5892462;-82.5552092
X-APPLE-STRUCTURED-LOCATION;VALUE=URI;X-ADDRESS=Wicked Weed Funkatorium 147 Coxe Avenue Asheville NC 28801 United States;X-APPLE-RADIUS=500;X-TITLE=147 Coxe Avenue:geo:-82.5552092,35.5892462
END:VEVENT
BEGIN:VEVENT
DTSTART;TZID=America/New_York:20260212T190000
DTEND;TZID=America/New_York:20260212T220000
DTSTAMP:20260425T081941
CREATED:20260106T214435Z
LAST-MODIFIED:20260303T171110Z
UID:10033942-1770922800-1770933600@livemusicasheville.com
SUMMARY:Asheville Beer Choir Sip-n-Sing: Sea Shanties and Irish Pub Tunes
DESCRIPTION:Related
URL:https://livemusicasheville.com/calendar/asheville-beer-choir-sip-n-sing-3-2-2/2026-02-12/
LOCATION:Wicked Weed Funkatorium\, 147 Coxe Avenue\, Asheville\, NC\, 28801\, United States
CATEGORIES:Asheville Area,Live Music,Open MIc/Jam
GEO:35.5892462;-82.5552092
X-APPLE-STRUCTURED-LOCATION;VALUE=URI;X-ADDRESS=Wicked Weed Funkatorium 147 Coxe Avenue Asheville NC 28801 United States;X-APPLE-RADIUS=500;X-TITLE=147 Coxe Avenue:geo:-82.5552092,35.5892462
END:VEVENT
BEGIN:VEVENT
DTSTART;TZID=America/New_York:20260129T190000
DTEND;TZID=America/New_York:20260129T220000
DTSTAMP:20260425T081941
CREATED:20260106T214435Z
LAST-MODIFIED:20260303T171110Z
UID:10024105-1769713200-1769724000@livemusicasheville.com
SUMMARY:Asheville Beer Choir Sip-n-Sing: Sea Shanties and Irish Pub Tunes
DESCRIPTION:Related
URL:https://livemusicasheville.com/calendar/asheville-beer-choir-sip-n-sing-3-2-2/2026-01-29/
LOCATION:Wicked Weed Funkatorium\, 147 Coxe Avenue\, Asheville\, NC\, 28801\, United States
CATEGORIES:Asheville Area,Live Music,Open MIc/Jam
GEO:35.5892462;-82.5552092
X-APPLE-STRUCTURED-LOCATION;VALUE=URI;X-ADDRESS=Wicked Weed Funkatorium 147 Coxe Avenue Asheville NC 28801 United States;X-APPLE-RADIUS=500;X-TITLE=147 Coxe Avenue:geo:-82.5552092,35.5892462
END:VEVENT
BEGIN:VEVENT
DTSTART;TZID=America/New_York:20260122T190000
DTEND;TZID=America/New_York:20260122T220000
DTSTAMP:20260425T081941
CREATED:20250612T152344Z
LAST-MODIFIED:20260108T150040Z
UID:10015855-1769108400-1769119200@livemusicasheville.com
SUMMARY:Asheville Beer Choir Night: "For Good"
DESCRIPTION:Choir Night: For Good (from Wicked)\n1/22 7-10pm Wicked Weed Funkatorium \nWe’re hosting our first one-off event where we’ll learn a song and film it at the end-no auditions and tickets on a sliding scale. \nJoin us for a one-night-only choir experience! We’ll learn 1 song\, “For Good\,” rehearse\, & film a final performance at the end of the night. No long-term commitment or prior rehearsal\, just show up\, sing\, & be part of the magic. $25 suggested price. click here! \n\n\n	Related
URL:https://livemusicasheville.com/calendar/asheville-beer-choir-concert/
LOCATION:Wicked Weed Funkatorium\, 147 Coxe Avenue\, Asheville\, NC\, 28801\, United States
CATEGORIES:Asheville Area,Live Music
GEO:35.5892462;-82.5552092
X-APPLE-STRUCTURED-LOCATION;VALUE=URI;X-ADDRESS=Wicked Weed Funkatorium 147 Coxe Avenue Asheville NC 28801 United States;X-APPLE-RADIUS=500;X-TITLE=147 Coxe Avenue:geo:-82.5552092,35.5892462
END:VEVENT
BEGIN:VEVENT
DTSTART;TZID=America/New_York:20251211T190000
DTEND;TZID=America/New_York:20251211T203000
DTSTAMP:20260425T081941
CREATED:20251121T203811Z
LAST-MODIFIED:20251121T203813Z
UID:10024103-1765479600-1765485000@livemusicasheville.com
SUMMARY:Asheville Beer Choir Sip-n-Sing
DESCRIPTION:Related
URL:https://livemusicasheville.com/calendar/asheville-beer-choir-sip-n-sing-3-2/2025-12-11/
LOCATION:Wicked Weed Funkatorium\, 147 Coxe Avenue\, Asheville\, NC\, 28801\, United States
CATEGORIES:Asheville Area,Live Music,Open MIc/Jam
GEO:35.5892462;-82.5552092
X-APPLE-STRUCTURED-LOCATION;VALUE=URI;X-ADDRESS=Wicked Weed Funkatorium 147 Coxe Avenue Asheville NC 28801 United States;X-APPLE-RADIUS=500;X-TITLE=147 Coxe Avenue:geo:-82.5552092,35.5892462
END:VEVENT
BEGIN:VEVENT
DTSTART;TZID=America/New_York:20251113T190000
DTEND;TZID=America/New_York:20251113T203000
DTSTAMP:20260425T081941
CREATED:20251106T152823Z
LAST-MODIFIED:20251106T152823Z
UID:10024101-1763060400-1763065800@livemusicasheville.com
SUMMARY:Asheville Beer Choir Sip-n-Sing
DESCRIPTION:Related
URL:https://livemusicasheville.com/calendar/asheville-beer-choir-sip-n-sing-3/2025-11-13/
LOCATION:Wicked Weed Funkatorium\, 147 Coxe Avenue\, Asheville\, NC\, 28801\, United States
CATEGORIES:Asheville Area,Live Music,Open MIc/Jam
GEO:35.5892462;-82.5552092
X-APPLE-STRUCTURED-LOCATION;VALUE=URI;X-ADDRESS=Wicked Weed Funkatorium 147 Coxe Avenue Asheville NC 28801 United States;X-APPLE-RADIUS=500;X-TITLE=147 Coxe Avenue:geo:-82.5552092,35.5892462
END:VEVENT
BEGIN:VEVENT
DTSTART;TZID=America/New_York:20251109T130000
DTEND;TZID=America/New_York:20251109T163000
DTSTAMP:20260425T081941
CREATED:20251102T143825Z
LAST-MODIFIED:20251102T143825Z
UID:10023357-1762693200-1762705800@livemusicasheville.com
SUMMARY:The Asheville Sessions | Community Concert ft. Songs From the Road Band\, Zoe & Cloyd\, and Newfound Gap
DESCRIPTION:Join us as we conclude the weekend of activities celebrating the Historic 1925 Asheville Recording Sessions with a free community concert featuring traditional and contemporary roots and Americana music with Western NC-based Songs From the Road Band\, Zoe & Cloyd\, and Newfound Gap.\nThis event is free. No ticket needed — just show up!\n\n\n	Related
URL:https://livemusicasheville.com/calendar/the-asheville-sessions-community-concert-ft-songs-from-the-road-band-zoe-cloyd-and-newfound-gap/
LOCATION:Wicked Weed Funkatorium\, 147 Coxe Avenue\, Asheville\, NC\, 28801\, United States
CATEGORIES:Asheville Area,Live Music
GEO:35.5892462;-82.5552092
X-APPLE-STRUCTURED-LOCATION;VALUE=URI;X-ADDRESS=Wicked Weed Funkatorium 147 Coxe Avenue Asheville NC 28801 United States;X-APPLE-RADIUS=500;X-TITLE=147 Coxe Avenue:geo:-82.5552092,35.5892462
END:VEVENT
BEGIN:VEVENT
DTSTART;TZID=America/New_York:20251106T170000
DTEND;TZID=America/New_York:20251106T193000
DTSTAMP:20260425T081941
CREATED:20251102T142946Z
LAST-MODIFIED:20251102T142946Z
UID:10023355-1762448400-1762457400@livemusicasheville.com
SUMMARY:The Asheville Sessions | Kickoff Celebration ft. The Russ Wilson Jazz Orchestra
DESCRIPTION:Related
URL:https://livemusicasheville.com/calendar/the-asheville-sessions-kickoff-celebration-ft-the-russ-wilson-jazz-orchestra/
LOCATION:Wicked Weed Funkatorium\, 147 Coxe Avenue\, Asheville\, NC\, 28801\, United States
CATEGORIES:Asheville Area,Live Music
GEO:35.5892462;-82.5552092
X-APPLE-STRUCTURED-LOCATION;VALUE=URI;X-ADDRESS=Wicked Weed Funkatorium 147 Coxe Avenue Asheville NC 28801 United States;X-APPLE-RADIUS=500;X-TITLE=147 Coxe Avenue:geo:-82.5552092,35.5892462
END:VEVENT
BEGIN:VEVENT
DTSTART;TZID=America/New_York:20251026T140000
DTEND;TZID=America/New_York:20251026T170000
DTSTAMP:20260425T081941
CREATED:20251021T104536Z
LAST-MODIFIED:20251021T104537Z
UID:10022858-1761487200-1761498000@livemusicasheville.com
SUMMARY:Asheville Mardi Gras Cajun Cookoff 2025
DESCRIPTION:Sunday\, October 26 | 2-5pm | Wicked Weed Funkatorium | Event Details and Tickets \nLaissez les bon temps rouler! Treat yourself to the flavors of Louisiana cuisine cooked by over 15 professional and home chefs. While filling your belly\, Two-step your way to happiness with Asheville’s own 2nd Line band and Canjun music by Jackomo Cajun Country Band. \nThis favorite fundraiser for the Asheville Mardi Gras parade is back! Enjoy the tasty treats of some of Asheville’s top Cajun chefs \nBonus: there will be a 50/50 cash raffle prize at the event as well! \n\n\n	Related
URL:https://livemusicasheville.com/calendar/asheville-mardi-gras-cajun-cookoff-2025/
LOCATION:Wicked Weed Funkatorium\, 147 Coxe Avenue\, Asheville\, NC\, 28801\, United States
CATEGORIES:Asheville Area,Live Music
GEO:35.5892462;-82.5552092
X-APPLE-STRUCTURED-LOCATION;VALUE=URI;X-ADDRESS=Wicked Weed Funkatorium 147 Coxe Avenue Asheville NC 28801 United States;X-APPLE-RADIUS=500;X-TITLE=147 Coxe Avenue:geo:-82.5552092,35.5892462
END:VEVENT
BEGIN:VEVENT
DTSTART;TZID=America/New_York:20251025T140000
DTEND;TZID=America/New_York:20251025T170000
DTSTAMP:20260425T081941
CREATED:20250827T181629Z
LAST-MODIFIED:20251022T134758Z
UID:10020331-1761400800-1761411600@livemusicasheville.com
SUMMARY:Das Oompapas
DESCRIPTION:Related
URL:https://livemusicasheville.com/calendar/das-oompapas/
LOCATION:Wicked Weed Funkatorium\, 147 Coxe Avenue\, Asheville\, NC\, 28801\, United States
CATEGORIES:Asheville Area,Live Music
GEO:35.5892462;-82.5552092
X-APPLE-STRUCTURED-LOCATION;VALUE=URI;X-ADDRESS=Wicked Weed Funkatorium 147 Coxe Avenue Asheville NC 28801 United States;X-APPLE-RADIUS=500;X-TITLE=147 Coxe Avenue:geo:-82.5552092,35.5892462
END:VEVENT
BEGIN:VEVENT
DTSTART;VALUE=DATE:20251025
DTEND;VALUE=DATE:20251027
DTSTAMP:20260425T081941
CREATED:20251021T104830Z
LAST-MODIFIED:20251021T104830Z
UID:10022862-1761361200-1761447599@livemusicasheville.com
SUMMARY:THIS SUNDAY | Asheville Mardi Gras Cajun Cookoff 2025
DESCRIPTION:Sunday\, October 26 | 2-5pm | Wicked Weed Funkatorium | Event Details and Tickets \nLaissez les bon temps rouler! Treat yourself to the flavors of Louisiana cuisine cooked by over 15 professional and home chefs. While filling your belly\, Two-step your way to happiness with Asheville’s own 2nd Line band and Canjun music by Jackomo Cajun Country Band. \nThis favorite fundraiser for the Asheville Mardi Gras parade is back! Enjoy the tasty treats of some of Asheville’s top Cajun chefs \nBonus: there will be a 50/50 cash raffle prize at the event as well! \n\n\n	Related
URL:https://livemusicasheville.com/calendar/this-sunday-asheville-mardi-gras-cajun-cookoff-2025/2025-10-25/
LOCATION:Wicked Weed Funkatorium\, 147 Coxe Avenue\, Asheville\, NC\, 28801\, United States
CATEGORIES:Asheville Area,Live Music
GEO:35.5892462;-82.5552092
X-APPLE-STRUCTURED-LOCATION;VALUE=URI;X-ADDRESS=Wicked Weed Funkatorium 147 Coxe Avenue Asheville NC 28801 United States;X-APPLE-RADIUS=500;X-TITLE=147 Coxe Avenue:geo:-82.5552092,35.5892462
END:VEVENT
BEGIN:VEVENT
DTSTART;VALUE=DATE:20251023
DTEND;VALUE=DATE:20251025
DTSTAMP:20260425T081941
CREATED:20251021T104830Z
LAST-MODIFIED:20251021T104830Z
UID:10022861-1761188400-1761274799@livemusicasheville.com
SUMMARY:THIS SUNDAY | Asheville Mardi Gras Cajun Cookoff 2025
DESCRIPTION:Sunday\, October 26 | 2-5pm | Wicked Weed Funkatorium | Event Details and Tickets \nLaissez les bon temps rouler! Treat yourself to the flavors of Louisiana cuisine cooked by over 15 professional and home chefs. While filling your belly\, Two-step your way to happiness with Asheville’s own 2nd Line band and Canjun music by Jackomo Cajun Country Band. \nThis favorite fundraiser for the Asheville Mardi Gras parade is back! Enjoy the tasty treats of some of Asheville’s top Cajun chefs \nBonus: there will be a 50/50 cash raffle prize at the event as well! \n\n\n	Related
URL:https://livemusicasheville.com/calendar/this-sunday-asheville-mardi-gras-cajun-cookoff-2025/2025-10-23/
LOCATION:Wicked Weed Funkatorium\, 147 Coxe Avenue\, Asheville\, NC\, 28801\, United States
CATEGORIES:Asheville Area,Live Music
GEO:35.5892462;-82.5552092
X-APPLE-STRUCTURED-LOCATION;VALUE=URI;X-ADDRESS=Wicked Weed Funkatorium 147 Coxe Avenue Asheville NC 28801 United States;X-APPLE-RADIUS=500;X-TITLE=147 Coxe Avenue:geo:-82.5552092,35.5892462
END:VEVENT
BEGIN:VEVENT
DTSTART;VALUE=DATE:20251021
DTEND;VALUE=DATE:20251023
DTSTAMP:20260425T081941
CREATED:20251021T104830Z
LAST-MODIFIED:20251021T104830Z
UID:10022860-1761015600-1761101999@livemusicasheville.com
SUMMARY:THIS SUNDAY | Asheville Mardi Gras Cajun Cookoff 2025
DESCRIPTION:Sunday\, October 26 | 2-5pm | Wicked Weed Funkatorium | Event Details and Tickets \nLaissez les bon temps rouler! Treat yourself to the flavors of Louisiana cuisine cooked by over 15 professional and home chefs. While filling your belly\, Two-step your way to happiness with Asheville’s own 2nd Line band and Canjun music by Jackomo Cajun Country Band. \nThis favorite fundraiser for the Asheville Mardi Gras parade is back! Enjoy the tasty treats of some of Asheville’s top Cajun chefs \nBonus: there will be a 50/50 cash raffle prize at the event as well! \n\n\n	Related
URL:https://livemusicasheville.com/calendar/this-sunday-asheville-mardi-gras-cajun-cookoff-2025/2025-10-21/
LOCATION:Wicked Weed Funkatorium\, 147 Coxe Avenue\, Asheville\, NC\, 28801\, United States
CATEGORIES:Asheville Area,Live Music
GEO:35.5892462;-82.5552092
X-APPLE-STRUCTURED-LOCATION;VALUE=URI;X-ADDRESS=Wicked Weed Funkatorium 147 Coxe Avenue Asheville NC 28801 United States;X-APPLE-RADIUS=500;X-TITLE=147 Coxe Avenue:geo:-82.5552092,35.5892462
END:VEVENT
BEGIN:VEVENT
DTSTART;TZID=America/New_York:20251011T140000
DTEND;TZID=America/New_York:20251011T170000
DTSTAMP:20260425T081941
CREATED:20251008T123444Z
LAST-MODIFIED:20251008T123444Z
UID:10022374-1760191200-1760202000@livemusicasheville.com
SUMMARY:Lagerhosen
DESCRIPTION:Related
URL:https://livemusicasheville.com/calendar/lagerhosen-2/
LOCATION:Wicked Weed Funkatorium\, 147 Coxe Avenue\, Asheville\, NC\, 28801\, United States
CATEGORIES:Asheville Area,Live Music
GEO:35.5892462;-82.5552092
X-APPLE-STRUCTURED-LOCATION;VALUE=URI;X-ADDRESS=Wicked Weed Funkatorium 147 Coxe Avenue Asheville NC 28801 United States;X-APPLE-RADIUS=500;X-TITLE=147 Coxe Avenue:geo:-82.5552092,35.5892462
END:VEVENT
BEGIN:VEVENT
DTSTART;TZID=America/New_York:20250704T130000
DTEND;TZID=America/New_York:20250704T170000
DTSTAMP:20260425T081941
CREATED:20250625T141257Z
LAST-MODIFIED:20250625T141257Z
UID:10016209-1751634000-1751648400@livemusicasheville.com
SUMMARY:Red Rock Hill & Reedy River String Band
DESCRIPTION:Related
URL:https://livemusicasheville.com/calendar/red-rock-hill-reedy-river-string-band/
LOCATION:Wicked Weed Funkatorium\, 147 Coxe Avenue\, Asheville\, NC\, 28801\, United States
CATEGORIES:Asheville Area,Live Music
GEO:35.5892462;-82.5552092
X-APPLE-STRUCTURED-LOCATION;VALUE=URI;X-ADDRESS=Wicked Weed Funkatorium 147 Coxe Avenue Asheville NC 28801 United States;X-APPLE-RADIUS=500;X-TITLE=147 Coxe Avenue:geo:-82.5552092,35.5892462
END:VEVENT
BEGIN:VEVENT
DTSTART;TZID=America/New_York:20250517T140000
DTEND;TZID=America/New_York:20250517T170000
DTSTAMP:20260425T081941
CREATED:20250514T141710Z
LAST-MODIFIED:20250514T141710Z
UID:10014268-1747490400-1747501200@livemusicasheville.com
SUMMARY:Biergarten Opening Party w/ The Dirty French Broads
DESCRIPTION:Related
URL:https://livemusicasheville.com/calendar/biergarten-opening-party-w-the-dirty-french-broads/
LOCATION:Wicked Weed Funkatorium\, 147 Coxe Avenue\, Asheville\, NC\, 28801\, United States
CATEGORIES:Asheville Area,Live Music
GEO:35.5892462;-82.5552092
X-APPLE-STRUCTURED-LOCATION;VALUE=URI;X-ADDRESS=Wicked Weed Funkatorium 147 Coxe Avenue Asheville NC 28801 United States;X-APPLE-RADIUS=500;X-TITLE=147 Coxe Avenue:geo:-82.5552092,35.5892462
END:VEVENT
BEGIN:VEVENT
DTSTART;TZID=America/New_York:20250508T170000
DTEND;TZID=America/New_York:20250508T190000
DTSTAMP:20260425T081941
CREATED:20250416T183439Z
LAST-MODIFIED:20250508T160842Z
UID:10012732-1746723600-1746730800@livemusicasheville.com
SUMMARY:Leeda "Lyric" Jones (full band) Cultural Heritage Trail Mural Ribbon Cutting
DESCRIPTION:Related
URL:https://livemusicasheville.com/calendar/leeda-lyric-jones/
LOCATION:Wicked Weed Funkatorium\, 147 Coxe Avenue\, Asheville\, NC\, 28801\, United States
CATEGORIES:Asheville Area,Live Music
GEO:35.5892462;-82.5552092
X-APPLE-STRUCTURED-LOCATION;VALUE=URI;X-ADDRESS=Wicked Weed Funkatorium 147 Coxe Avenue Asheville NC 28801 United States;X-APPLE-RADIUS=500;X-TITLE=147 Coxe Avenue:geo:-82.5552092,35.5892462
END:VEVENT
END:VCALENDAR