BEGIN:VCALENDAR
VERSION:2.0
PRODID:-//LiveMusicAsheville.com - ECPv6.15.20//NONSGML v1.0//EN
CALSCALE:GREGORIAN
METHOD:PUBLISH
X-WR-CALNAME:LiveMusicAsheville.com
X-ORIGINAL-URL:https://livemusicasheville.com
X-WR-CALDESC:Events for LiveMusicAsheville.com
REFRESH-INTERVAL;VALUE=DURATION:PT1H
X-Robots-Tag:noindex
X-PUBLISHED-TTL:PT1H
BEGIN:VTIMEZONE
TZID:America/New_York
BEGIN:DAYLIGHT
TZOFFSETFROM:-0500
TZOFFSETTO:-0400
TZNAME:EDT
DTSTART:20240310T070000
END:DAYLIGHT
BEGIN:STANDARD
TZOFFSETFROM:-0400
TZOFFSETTO:-0500
TZNAME:EST
DTSTART:20241103T060000
END:STANDARD
BEGIN:DAYLIGHT
TZOFFSETFROM:-0500
TZOFFSETTO:-0400
TZNAME:EDT
DTSTART:20250309T070000
END:DAYLIGHT
BEGIN:STANDARD
TZOFFSETFROM:-0400
TZOFFSETTO:-0500
TZNAME:EST
DTSTART:20251102T060000
END:STANDARD
BEGIN:DAYLIGHT
TZOFFSETFROM:-0500
TZOFFSETTO:-0400
TZNAME:EDT
DTSTART:20260308T070000
END:DAYLIGHT
BEGIN:STANDARD
TZOFFSETFROM:-0400
TZOFFSETTO:-0500
TZNAME:EST
DTSTART:20261101T060000
END:STANDARD
END:VTIMEZONE
BEGIN:VEVENT
DTSTART;TZID=America/New_York:20250823T180000
DTEND;TZID=America/New_York:20250823T210000
DTSTAMP:20260420T203424
CREATED:20250805T190037Z
LAST-MODIFIED:20251121T222145Z
UID:10018541-1755972000-1755982800@livemusicasheville.com
SUMMARY:The Corey Bowers Band w/sg Ashley Heath
DESCRIPTION:Live Music at The Brew Pump! 🎶\nJoin us for an unforgettable evening with The Corey Bowers Band! Cory is an aspiring country musician chasing his dreams\, playing originals\, country\, and blues! \n🎸 Cold Beer\, great vibes\, and even better music — what more could you ask for?\nBring your friends\, grab a beer\, and kick back to some live tunes. \n📍 The Brew Pump\n🍻 No cover – just good times \n\n\n	Related
URL:https://livemusicasheville.com/calendar/the-corey-bowers-band/
LOCATION:The Brew Pump West Asheville
CATEGORIES:Asheville Area,Live Music
END:VEVENT
END:VCALENDAR