BEGIN:VCALENDAR
VERSION:2.0
PRODID:-//LiveMusicAsheville.com - ECPv6.15.20//NONSGML v1.0//EN
CALSCALE:GREGORIAN
METHOD:PUBLISH
X-WR-CALNAME:LiveMusicAsheville.com
X-ORIGINAL-URL:https://livemusicasheville.com
X-WR-CALDESC:Events for LiveMusicAsheville.com
REFRESH-INTERVAL;VALUE=DURATION:PT1H
X-Robots-Tag:noindex
X-PUBLISHED-TTL:PT1H
BEGIN:VTIMEZONE
TZID:America/New_York
BEGIN:DAYLIGHT
TZOFFSETFROM:-0500
TZOFFSETTO:-0400
TZNAME:EDT
DTSTART:20240310T070000
END:DAYLIGHT
BEGIN:STANDARD
TZOFFSETFROM:-0400
TZOFFSETTO:-0500
TZNAME:EST
DTSTART:20241103T060000
END:STANDARD
BEGIN:DAYLIGHT
TZOFFSETFROM:-0500
TZOFFSETTO:-0400
TZNAME:EDT
DTSTART:20250309T070000
END:DAYLIGHT
BEGIN:STANDARD
TZOFFSETFROM:-0400
TZOFFSETTO:-0500
TZNAME:EST
DTSTART:20251102T060000
END:STANDARD
BEGIN:DAYLIGHT
TZOFFSETFROM:-0500
TZOFFSETTO:-0400
TZNAME:EDT
DTSTART:20260308T070000
END:DAYLIGHT
BEGIN:STANDARD
TZOFFSETFROM:-0400
TZOFFSETTO:-0500
TZNAME:EST
DTSTART:20261101T060000
END:STANDARD
END:VTIMEZONE
BEGIN:VEVENT
DTSTART;TZID=America/New_York:20250927T170000
DTEND;TZID=America/New_York:20250927T190000
DTSTAMP:20260421T034619
CREATED:20250116T173910Z
LAST-MODIFIED:20250927T110331Z
UID:10006583-1758992400-1758999600@livemusicasheville.com
SUMMARY:Joshua Singleton & Aaron Lane
DESCRIPTION:Related
URL:https://livemusicasheville.com/calendar/patrick-dodd-joshua-singleton/
LOCATION:Terra Nova Beer Co. Swannanoa Taproom\, 204 Whitson Ave\, Swannanoa\, NC\, 28778
CATEGORIES:Asheville Area,Black Mountain,Live Music
GEO:35.6008689;-82.3975155
X-APPLE-STRUCTURED-LOCATION;VALUE=URI;X-ADDRESS=Terra Nova Beer Co. Swannanoa Taproom 204 Whitson Ave Swannanoa NC 28778;X-APPLE-RADIUS=500;X-TITLE=204 Whitson Ave:geo:-82.3975155,35.6008689
END:VEVENT
BEGIN:VEVENT
DTSTART;TZID=America/New_York:20250613T183000
DTEND;TZID=America/New_York:20250613T210000
DTSTAMP:20260421T034619
CREATED:20250521T180633Z
LAST-MODIFIED:20250611T114517Z
UID:10014651-1749839400-1749848400@livemusicasheville.com
SUMMARY:Asheville Guitar Bar "On the Road" presents: Jack Miller
DESCRIPTION:Related
URL:https://livemusicasheville.com/calendar/asheville-guitar-bar-on-the-road-presents-jack-miller/
LOCATION:Terra Nova Beer Co. Swannanoa Taproom\, 204 Whitson Ave\, Swannanoa\, NC\, 28778
CATEGORIES:Asheville Area,Live Music
GEO:35.6008689;-82.3975155
X-APPLE-STRUCTURED-LOCATION;VALUE=URI;X-ADDRESS=Terra Nova Beer Co. Swannanoa Taproom 204 Whitson Ave Swannanoa NC 28778;X-APPLE-RADIUS=500;X-TITLE=204 Whitson Ave:geo:-82.3975155,35.6008689
END:VEVENT
BEGIN:VEVENT
DTSTART;TZID=America/New_York:20250607T183000
DTEND;TZID=America/New_York:20250607T210000
DTSTAMP:20260421T034619
CREATED:20250605T160633Z
LAST-MODIFIED:20250605T160633Z
UID:10015501-1749321000-1749330000@livemusicasheville.com
SUMMARY:Steve Campbell
DESCRIPTION:Asheville Guitar Bar “On the road” presents:Steve Campbell6/7/25630p-9pmNo cover \n\n\n	Related
URL:https://livemusicasheville.com/calendar/steve-campbell/
LOCATION:Terra Nova Beer Co. Swannanoa Taproom\, 204 Whitson Ave\, Swannanoa\, NC\, 28778
CATEGORIES:Asheville Area,Black Mountain,Live Music
GEO:35.6008689;-82.3975155
X-APPLE-STRUCTURED-LOCATION;VALUE=URI;X-ADDRESS=Terra Nova Beer Co. Swannanoa Taproom 204 Whitson Ave Swannanoa NC 28778;X-APPLE-RADIUS=500;X-TITLE=204 Whitson Ave:geo:-82.3975155,35.6008689
END:VEVENT
BEGIN:VEVENT
DTSTART;TZID=America/New_York:20250604T183000
DTEND;TZID=America/New_York:20250604T210000
DTSTAMP:20260421T034619
CREATED:20250602T135033Z
LAST-MODIFIED:20250602T135145Z
UID:10015097-1749061800-1749070800@livemusicasheville.com
SUMMARY:Asheville Guitar Bar "On the road" presents: Good Ol Mountain Dewds
DESCRIPTION:Related
URL:https://livemusicasheville.com/calendar/good-ol-mountain-dewds/
LOCATION:Terra Nova Beer Co. Swannanoa Taproom\, 204 Whitson Ave\, Swannanoa\, NC\, 28778
CATEGORIES:Asheville Area,Black Mountain,Live Music
GEO:35.6008689;-82.3975155
X-APPLE-STRUCTURED-LOCATION;VALUE=URI;X-ADDRESS=Terra Nova Beer Co. Swannanoa Taproom 204 Whitson Ave Swannanoa NC 28778;X-APPLE-RADIUS=500;X-TITLE=204 Whitson Ave:geo:-82.3975155,35.6008689
END:VEVENT
BEGIN:VEVENT
DTSTART;TZID=America/New_York:20250530T183000
DTEND;TZID=America/New_York:20250530T210000
DTSTAMP:20260421T034619
CREATED:20250529T124517Z
LAST-MODIFIED:20250529T124517Z
UID:10014972-1748629800-1748638800@livemusicasheville.com
SUMMARY:Asheville Guitar Bar "On the road" presents: WORLEYSINGS
DESCRIPTION:Related
URL:https://livemusicasheville.com/calendar/asheville-guitar-bar-on-the-road-presents-worleysings/
LOCATION:Terra Nova Beer Co. Swannanoa Taproom\, 204 Whitson Ave\, Swannanoa\, NC\, 28778
CATEGORIES:Asheville Area,Black Mountain,Live Music
GEO:35.6008689;-82.3975155
X-APPLE-STRUCTURED-LOCATION;VALUE=URI;X-ADDRESS=Terra Nova Beer Co. Swannanoa Taproom 204 Whitson Ave Swannanoa NC 28778;X-APPLE-RADIUS=500;X-TITLE=204 Whitson Ave:geo:-82.3975155,35.6008689
END:VEVENT
BEGIN:VEVENT
DTSTART;TZID=America/New_York:20250516T183000
DTEND;TZID=America/New_York:20250516T210000
DTSTAMP:20260421T034619
CREATED:20250515T003110Z
LAST-MODIFIED:20250515T003110Z
UID:10014308-1747420200-1747429200@livemusicasheville.com
SUMMARY:Asheville Guitar Bar "On the road" presents: Peter Falbo
DESCRIPTION:Related
URL:https://livemusicasheville.com/calendar/asheville-guitar-bar-on-the-road-presents-peter-falbo/
LOCATION:Terra Nova Beer Co. Swannanoa Taproom\, 204 Whitson Ave\, Swannanoa\, NC\, 28778
CATEGORIES:Asheville Area,Black Mountain,Live Music
GEO:35.6008689;-82.3975155
X-APPLE-STRUCTURED-LOCATION;VALUE=URI;X-ADDRESS=Terra Nova Beer Co. Swannanoa Taproom 204 Whitson Ave Swannanoa NC 28778;X-APPLE-RADIUS=500;X-TITLE=204 Whitson Ave:geo:-82.3975155,35.6008689
END:VEVENT
END:VCALENDAR