BEGIN:VCALENDAR
VERSION:2.0
PRODID:-//LiveMusicAsheville.com - ECPv6.15.20//NONSGML v1.0//EN
CALSCALE:GREGORIAN
METHOD:PUBLISH
X-ORIGINAL-URL:https://livemusicasheville.com
X-WR-CALDESC:Events for LiveMusicAsheville.com
REFRESH-INTERVAL;VALUE=DURATION:PT1H
X-Robots-Tag:noindex
X-PUBLISHED-TTL:PT1H
BEGIN:VTIMEZONE
TZID:America/New_York
BEGIN:DAYLIGHT
TZOFFSETFROM:-0500
TZOFFSETTO:-0400
TZNAME:EDT
DTSTART:20240310T070000
END:DAYLIGHT
BEGIN:STANDARD
TZOFFSETFROM:-0400
TZOFFSETTO:-0500
TZNAME:EST
DTSTART:20241103T060000
END:STANDARD
BEGIN:DAYLIGHT
TZOFFSETFROM:-0500
TZOFFSETTO:-0400
TZNAME:EDT
DTSTART:20250309T070000
END:DAYLIGHT
BEGIN:STANDARD
TZOFFSETFROM:-0400
TZOFFSETTO:-0500
TZNAME:EST
DTSTART:20251102T060000
END:STANDARD
BEGIN:DAYLIGHT
TZOFFSETFROM:-0500
TZOFFSETTO:-0400
TZNAME:EDT
DTSTART:20260308T070000
END:DAYLIGHT
BEGIN:STANDARD
TZOFFSETFROM:-0400
TZOFFSETTO:-0500
TZNAME:EST
DTSTART:20261101T060000
END:STANDARD
BEGIN:DAYLIGHT
TZOFFSETFROM:-0500
TZOFFSETTO:-0400
TZNAME:EDT
DTSTART:20270314T070000
END:DAYLIGHT
BEGIN:STANDARD
TZOFFSETFROM:-0400
TZOFFSETTO:-0500
TZNAME:EST
DTSTART:20271107T060000
END:STANDARD
END:VTIMEZONE
BEGIN:VEVENT
DTSTART;TZID=America/New_York:20260418T210000
DTEND;TZID=America/New_York:20260419T000000
DTSTAMP:20260422T164804
CREATED:20250813T190335Z
LAST-MODIFIED:20260416T113418Z
UID:10019158-1776546000-1776556800@livemusicasheville.com
SUMMARY:Zach Jones & Friends
DESCRIPTION:Related
URL:https://livemusicasheville.com/calendar/string-pong/
LOCATION:Sovereign Kava
CATEGORIES:Asheville Area,Live Music
GEO:35.5854657;-82.5513352
END:VEVENT
BEGIN:VEVENT
DTSTART;TZID=America/New_York:20260416T203000
DTEND;TZID=America/New_York:20260416T233000
DTSTAMP:20260422T164804
CREATED:20250618T172914Z
LAST-MODIFIED:20260415T142532Z
UID:10015995-1776371400-1776382200@livemusicasheville.com
SUMMARY:Maeng Dead
DESCRIPTION:Related
URL:https://livemusicasheville.com/calendar/beating-a-dead-horse-grateful-dead-tribute/
LOCATION:Sovereign Kava
CATEGORIES:Asheville Area,Live Music
GEO:35.5854657;-82.5513352
END:VEVENT
BEGIN:VEVENT
DTSTART;TZID=America/New_York:20260411T200000
DTEND;TZID=America/New_York:20260411T230000
DTSTAMP:20260422T164804
CREATED:20251022T155242Z
LAST-MODIFIED:20260406T183432Z
UID:10022966-1775937600-1775948400@livemusicasheville.com
SUMMARY:The Fellowship ft. Datrian Johnson
DESCRIPTION:w/ Mike Rhodes & Tony Black \n\n\n	Related
URL:https://livemusicasheville.com/calendar/mike-rhodes-fellowship/
LOCATION:Sovereign Kava
CATEGORIES:Asheville Area,Live Music
GEO:35.5854657;-82.5513352
END:VEVENT
BEGIN:VEVENT
DTSTART;TZID=America/New_York:20260410T200000
DTEND;TZID=America/New_York:20260410T230000
DTSTAMP:20260422T164804
CREATED:20250402T202426Z
LAST-MODIFIED:20260406T183149Z
UID:10011942-1775851200-1775862000@livemusicasheville.com
SUMMARY:Will Franke's "Space Fiddle"
DESCRIPTION:Related
URL:https://livemusicasheville.com/calendar/space-fiddle/
LOCATION:Sovereign Kava
CATEGORIES:Asheville Area,DJ/Electronic,Live Music
GEO:35.5854657;-82.5513352
END:VEVENT
BEGIN:VEVENT
DTSTART;TZID=America/New_York:20260409T190000
DTEND;TZID=America/New_York:20260409T220000
DTSTAMP:20260422T164804
CREATED:20250109T094721Z
LAST-MODIFIED:20251210T165025Z
UID:10027172-1775761200-1775772000@livemusicasheville.com
SUMMARY:Django Jazz Jam
DESCRIPTION:Related
URL:https://livemusicasheville.com/calendar/django-jazz-jam/2026-04-09/
LOCATION:Sovereign Kava
CATEGORIES:Asheville Area,Open MIc/Jam
GEO:35.5854657;-82.5513352
END:VEVENT
BEGIN:VEVENT
DTSTART;TZID=America/New_York:20260328T200000
DTEND;TZID=America/New_York:20260328T230000
DTSTAMP:20260422T164804
CREATED:20260325T170602Z
LAST-MODIFIED:20260325T170707Z
UID:10052326-1774728000-1774738800@livemusicasheville.com
SUMMARY:Hurrikane DaKatt EP release party
DESCRIPTION:Related
URL:https://livemusicasheville.com/calendar/hurrikane-dakatt/
LOCATION:Sovereign Kava
CATEGORIES:Asheville Area,DJ/Electronic,Live Music
GEO:35.5854657;-82.5513352
END:VEVENT
BEGIN:VEVENT
DTSTART;TZID=America/New_York:20260327T200000
DTEND;TZID=America/New_York:20260327T230000
DTSTAMP:20260422T164804
CREATED:20260325T170426Z
LAST-MODIFIED:20260325T170426Z
UID:10052325-1774641600-1774652400@livemusicasheville.com
SUMMARY:Tony Black & Kevin Smith
DESCRIPTION:Related
URL:https://livemusicasheville.com/calendar/tony-black-kevin-smith/
LOCATION:Sovereign Kava
CATEGORIES:Asheville Area,Live Music
GEO:35.5854657;-82.5513352
END:VEVENT
BEGIN:VEVENT
DTSTART;TZID=America/New_York:20260321T210000
DTEND;TZID=America/New_York:20260322T000000
DTSTAMP:20260422T164804
CREATED:20250521T195850Z
LAST-MODIFIED:20260318T154002Z
UID:10014669-1774126800-1774137600@livemusicasheville.com
SUMMARY:Alligator Pear Jazz Trio
DESCRIPTION:Related
URL:https://livemusicasheville.com/calendar/alligator-pear-jazz-trio-2/
LOCATION:Sovereign Kava
CATEGORIES:Asheville Area,Live Music
GEO:35.5854657;-82.5513352
END:VEVENT
BEGIN:VEVENT
DTSTART;TZID=America/New_York:20260314T210000
DTEND;TZID=America/New_York:20260315T000000
DTSTAMP:20260422T164804
CREATED:20250122T203946Z
LAST-MODIFIED:20260311T144730Z
UID:10006871-1773522000-1773532800@livemusicasheville.com
SUMMARY:Live Music w/ Julianna Jade
DESCRIPTION:Related
URL:https://livemusicasheville.com/calendar/julianna-jade/
LOCATION:Sovereign Kava
CATEGORIES:Asheville Area,Live Music
GEO:35.5854657;-82.5513352
END:VEVENT
BEGIN:VEVENT
DTSTART;TZID=America/New_York:20260313T210000
DTEND;TZID=America/New_York:20260314T000000
DTSTAMP:20260422T164804
CREATED:20260311T144534Z
LAST-MODIFIED:20260311T144534Z
UID:10048927-1773435600-1773446400@livemusicasheville.com
SUMMARY:Zach Jones Collective
DESCRIPTION:Related
URL:https://livemusicasheville.com/calendar/zach-jones-collective/
LOCATION:Sovereign Kava
CATEGORIES:Asheville Area,Live Music
GEO:35.5854657;-82.5513352
END:VEVENT
BEGIN:VEVENT
DTSTART;TZID=America/New_York:20260312T190000
DTEND;TZID=America/New_York:20260312T220000
DTSTAMP:20260422T164804
CREATED:20250109T094721Z
LAST-MODIFIED:20251210T165025Z
UID:10027171-1773342000-1773352800@livemusicasheville.com
SUMMARY:Django Jazz Jam
DESCRIPTION:Related
URL:https://livemusicasheville.com/calendar/django-jazz-jam/2026-03-12/
LOCATION:Sovereign Kava
CATEGORIES:Asheville Area,Open MIc/Jam
GEO:35.5854657;-82.5513352
END:VEVENT
BEGIN:VEVENT
DTSTART;TZID=America/New_York:20260306T210000
DTEND;TZID=America/New_York:20260307T000000
DTSTAMP:20260422T164804
CREATED:20260121T155001Z
LAST-MODIFIED:20260304T161823Z
UID:10007829-1772830800-1772841600@livemusicasheville.com
SUMMARY:The Lactones
DESCRIPTION:Related
URL:https://livemusicasheville.com/calendar/the-lactones/
LOCATION:Sovereign Kava
CATEGORIES:Asheville Area,Live Music
GEO:35.5854657;-82.5513352
END:VEVENT
BEGIN:VEVENT
DTSTART;TZID=America/New_York:20260214T200000
DTEND;TZID=America/New_York:20260214T230000
DTSTAMP:20260422T164804
CREATED:20250827T192357Z
LAST-MODIFIED:20260209T182551Z
UID:10020349-1771099200-1771110000@livemusicasheville.com
SUMMARY:King Garbage Jazz Trio
DESCRIPTION:Related
URL:https://livemusicasheville.com/calendar/king-garbage/
LOCATION:Sovereign Kava
CATEGORIES:Asheville Area,Live Music
GEO:35.5854657;-82.5513352
END:VEVENT
BEGIN:VEVENT
DTSTART;TZID=America/New_York:20260212T190000
DTEND;TZID=America/New_York:20260212T220000
DTSTAMP:20260422T164804
CREATED:20250109T094721Z
LAST-MODIFIED:20251210T165025Z
UID:10027170-1770922800-1770933600@livemusicasheville.com
SUMMARY:Django Jazz Jam
DESCRIPTION:Related
URL:https://livemusicasheville.com/calendar/django-jazz-jam/2026-02-12/
LOCATION:Sovereign Kava
CATEGORIES:Asheville Area,Open MIc/Jam
GEO:35.5854657;-82.5513352
END:VEVENT
BEGIN:VEVENT
DTSTART;TZID=America/New_York:20260131T200000
DTEND;TZID=America/New_York:20260131T230000
DTSTAMP:20260422T164804
CREATED:20260128T155708Z
LAST-MODIFIED:20260128T155708Z
UID:10042059-1769889600-1769900400@livemusicasheville.com
SUMMARY:Ethan Johnson & Friends
DESCRIPTION:Related
URL:https://livemusicasheville.com/calendar/ethan-johnson-friends/
LOCATION:Sovereign Kava
CATEGORIES:Asheville Area,Live Music
GEO:35.5854657;-82.5513352
END:VEVENT
BEGIN:VEVENT
DTSTART;TZID=America/New_York:20260117T200000
DTEND;TZID=America/New_York:20260117T230000
DTSTAMP:20260422T164804
CREATED:20251126T115144Z
LAST-MODIFIED:20260116T150148Z
UID:10025894-1768680000-1768690800@livemusicasheville.com
SUMMARY:Sipe\, Moore & Hill w/ Aiden Finn
DESCRIPTION:Related
URL:https://livemusicasheville.com/calendar/sipe-moore-hill/
LOCATION:Sovereign Kava
CATEGORIES:Asheville Area,Live Music
GEO:35.5854657;-82.5513352
END:VEVENT
BEGIN:VEVENT
DTSTART;TZID=America/New_York:20260108T190000
DTEND;TZID=America/New_York:20260108T220000
DTSTAMP:20260422T164804
CREATED:20250109T094721Z
LAST-MODIFIED:20251210T165025Z
UID:10005589-1767898800-1767909600@livemusicasheville.com
SUMMARY:Django Jazz Jam
DESCRIPTION:Related
URL:https://livemusicasheville.com/calendar/django-jazz-jam/2026-01-08/
LOCATION:Sovereign Kava
CATEGORIES:Asheville Area,Open MIc/Jam
GEO:35.5854657;-82.5513352
END:VEVENT
BEGIN:VEVENT
DTSTART;TZID=America/New_York:20251231T190000
DTEND;TZID=America/New_York:20260101T010000
DTSTAMP:20260422T164804
CREATED:20250430T141322Z
LAST-MODIFIED:20251223T142816Z
UID:10007830-1767207600-1767229200@livemusicasheville.com
SUMMARY:The Lactones / Goodgoat / Gruntwerk / Eaze Dogg
DESCRIPTION:Related
URL:https://livemusicasheville.com/calendar/new-years-eve-party-w-the-lactones-lo-wolf-eaze-dogg-2/
LOCATION:Sovereign Kava
CATEGORIES:Asheville Area,DJ/Electronic,Live Music
GEO:35.5854657;-82.5513352
END:VEVENT
BEGIN:VEVENT
DTSTART;TZID=America/New_York:20251214T180000
DTEND;TZID=America/New_York:20251214T220000
DTSTAMP:20260422T164804
CREATED:20251211T162352Z
LAST-MODIFIED:20251211T162352Z
UID:10027290-1765735200-1765749600@livemusicasheville.com
SUMMARY:Tim Fagan Memorial Gathering ft. The Lactones
DESCRIPTION:We will be hosting a memorial gathering at Sovereign Kava\, 268 Biltmore Ave\, on Sunday\, December 14\, starting at 6 PM\, for family\, friends\, and anyone who knew Timmy and would like to remember him with us. Please feel free to bring food\, flowers\, photos\, or just yourself \nMusic will be provided by Lactones. Some food and light refreshments will be provided as well. Potluck dishes also welcome.\n\n\n	Related
URL:https://livemusicasheville.com/calendar/tim-fagan-memorial-gathering-ft-the-lactones/
LOCATION:Sovereign Kava
CATEGORIES:Asheville Area,Live Music
GEO:35.5854657;-82.5513352
END:VEVENT
BEGIN:VEVENT
DTSTART;TZID=America/New_York:20251211T190000
DTEND;TZID=America/New_York:20251211T220000
DTSTAMP:20260422T164804
CREATED:20250109T094721Z
LAST-MODIFIED:20251210T165025Z
UID:10005588-1765479600-1765490400@livemusicasheville.com
SUMMARY:Django Jazz Jam
DESCRIPTION:Related
URL:https://livemusicasheville.com/calendar/django-jazz-jam/2025-12-11/
LOCATION:Sovereign Kava
CATEGORIES:Asheville Area,Open MIc/Jam
GEO:35.5854657;-82.5513352
END:VEVENT
BEGIN:VEVENT
DTSTART;TZID=America/New_York:20251128T200000
DTEND;TZID=America/New_York:20251128T230000
DTSTAMP:20260422T164804
CREATED:20251119T165018Z
LAST-MODIFIED:20251121T201859Z
UID:10024813-1764360000-1764370800@livemusicasheville.com
SUMMARY:Jernigan\, Lane\, and Jones
DESCRIPTION:Related
URL:https://livemusicasheville.com/calendar/jernigan-lane-and-jones/
LOCATION:Sovereign Kava
CATEGORIES:Asheville Area,Live Music
GEO:35.5854657;-82.5513352
END:VEVENT
BEGIN:VEVENT
DTSTART;TZID=America/New_York:20251127T180000
DTEND;TZID=America/New_York:20251127T220000
DTSTAMP:20260422T164804
CREATED:20251126T145058Z
LAST-MODIFIED:20251126T145058Z
UID:10025905-1764266400-1764280800@livemusicasheville.com
SUMMARY:DJ Uncle Rizz
DESCRIPTION:Related
URL:https://livemusicasheville.com/calendar/dj-uncle-rizz/
LOCATION:Sovereign Kava
CATEGORIES:Asheville Area,DJ/Electronic
GEO:35.5854657;-82.5513352
END:VEVENT
BEGIN:VEVENT
DTSTART;TZID=America/New_York:20251113T190000
DTEND;TZID=America/New_York:20251113T220000
DTSTAMP:20260422T164804
CREATED:20250109T094721Z
LAST-MODIFIED:20251210T165025Z
UID:10005587-1763060400-1763071200@livemusicasheville.com
SUMMARY:Django Jazz Jam
DESCRIPTION:Related
URL:https://livemusicasheville.com/calendar/django-jazz-jam/2025-11-13/
LOCATION:Sovereign Kava
CATEGORIES:Asheville Area,Open MIc/Jam
GEO:35.5854657;-82.5513352
END:VEVENT
BEGIN:VEVENT
DTSTART;TZID=America/New_York:20251108T210000
DTEND;TZID=America/New_York:20251109T000000
DTSTAMP:20260422T164804
CREATED:20241227T155617Z
LAST-MODIFIED:20251105T160403Z
UID:10004024-1762635600-1762646400@livemusicasheville.com
SUMMARY:Log's Electric Space Whistle Sound Bath
DESCRIPTION:Related
URL:https://livemusicasheville.com/calendar/logs-electric-space-whistle-sound-bath/
LOCATION:Sovereign Kava
CATEGORIES:DJ/Electronic,Live Music
GEO:35.5854657;-82.5513352
END:VEVENT
BEGIN:VEVENT
DTSTART;TZID=America/New_York:20251031T190000
DTEND;TZID=America/New_York:20251101T000000
DTSTAMP:20260422T164804
CREATED:20251029T133555Z
LAST-MODIFIED:20251029T133555Z
UID:10023147-1761937200-1761955200@livemusicasheville.com
SUMMARY:Lactones\, Two Planes\, Nathan Kairis
DESCRIPTION:Related
URL:https://livemusicasheville.com/calendar/lactones-two-planes-nathan-kairis/
LOCATION:Sovereign Kava
CATEGORIES:Asheville Area,Live Music
GEO:35.5854657;-82.5513352
END:VEVENT
BEGIN:VEVENT
DTSTART;TZID=America/New_York:20251025T200000
DTEND;TZID=America/New_York:20251025T230000
DTSTAMP:20260422T164804
CREATED:20250319T173841Z
LAST-MODIFIED:20251022T155421Z
UID:10010208-1761422400-1761433200@livemusicasheville.com
SUMMARY:The Dolltones // Goodgoat
DESCRIPTION:Related
URL:https://livemusicasheville.com/calendar/the-dolltones/
LOCATION:Sovereign Kava
CATEGORIES:Asheville Area,Live Music
GEO:35.5854657;-82.5513352
END:VEVENT
BEGIN:VEVENT
DTSTART;TZID=America/New_York:20251018T210000
DTEND;TZID=America/New_York:20251019T000000
DTSTAMP:20260422T164804
CREATED:20251015T141553Z
LAST-MODIFIED:20251015T141553Z
UID:10022723-1760821200-1760832000@livemusicasheville.com
SUMMARY:Animal Oracle w/ Love Handles Band
DESCRIPTION:Related
URL:https://livemusicasheville.com/calendar/animal-oracle-w-love-handles-band/
LOCATION:Sovereign Kava
CATEGORIES:Asheville Area,Live Music
GEO:35.5854657;-82.5513352
END:VEVENT
BEGIN:VEVENT
DTSTART;TZID=America/New_York:20251009T190000
DTEND;TZID=America/New_York:20251009T220000
DTSTAMP:20260422T164804
CREATED:20250109T094721Z
LAST-MODIFIED:20251210T165025Z
UID:10005586-1760036400-1760047200@livemusicasheville.com
SUMMARY:Django Jazz Jam
DESCRIPTION:Related
URL:https://livemusicasheville.com/calendar/django-jazz-jam/2025-10-09/
LOCATION:Sovereign Kava
CATEGORIES:Asheville Area,Open MIc/Jam
GEO:35.5854657;-82.5513352
END:VEVENT
BEGIN:VEVENT
DTSTART;TZID=America/New_York:20250927T200000
DTEND;TZID=America/New_York:20250927T230000
DTSTAMP:20260422T164804
CREATED:20250924T121714Z
LAST-MODIFIED:20250927T233917Z
UID:10021551-1759003200-1759014000@livemusicasheville.com
SUMMARY:Lavender Balm
DESCRIPTION:Related
URL:https://livemusicasheville.com/calendar/lavender-balm/
LOCATION:Sovereign Kava
CATEGORIES:Asheville Area,Live Music
GEO:35.5854657;-82.5513352
END:VEVENT
BEGIN:VEVENT
DTSTART;TZID=America/New_York:20250920T200000
DTEND;TZID=America/New_York:20250920T230000
DTSTAMP:20260422T164804
CREATED:20250327T132809Z
LAST-MODIFIED:20250917T154003Z
UID:10011501-1758398400-1758409200@livemusicasheville.com
SUMMARY:Eaze Dogg's Hip Hop Open Mic Showcase
DESCRIPTION:Related
URL:https://livemusicasheville.com/calendar/eaze-doggs-ashevilles-finest-5-ashevilles-legacy-ep/
LOCATION:Sovereign Kava
CATEGORIES:Asheville Area,DJ/Electronic,Live Music
GEO:35.5854657;-82.5513352
END:VEVENT
END:VCALENDAR