BEGIN:VCALENDAR
VERSION:2.0
PRODID:-//LiveMusicAsheville.com - ECPv6.15.20//NONSGML v1.0//EN
CALSCALE:GREGORIAN
METHOD:PUBLISH
X-WR-CALNAME:LiveMusicAsheville.com
X-ORIGINAL-URL:https://livemusicasheville.com
X-WR-CALDESC:Events for LiveMusicAsheville.com
REFRESH-INTERVAL;VALUE=DURATION:PT1H
X-Robots-Tag:noindex
X-PUBLISHED-TTL:PT1H
BEGIN:VTIMEZONE
TZID:America/New_York
BEGIN:DAYLIGHT
TZOFFSETFROM:-0500
TZOFFSETTO:-0400
TZNAME:EDT
DTSTART:20250309T070000
END:DAYLIGHT
BEGIN:STANDARD
TZOFFSETFROM:-0400
TZOFFSETTO:-0500
TZNAME:EST
DTSTART:20251102T060000
END:STANDARD
BEGIN:DAYLIGHT
TZOFFSETFROM:-0500
TZOFFSETTO:-0400
TZNAME:EDT
DTSTART:20260308T070000
END:DAYLIGHT
BEGIN:STANDARD
TZOFFSETFROM:-0400
TZOFFSETTO:-0500
TZNAME:EST
DTSTART:20261101T060000
END:STANDARD
BEGIN:DAYLIGHT
TZOFFSETFROM:-0500
TZOFFSETTO:-0400
TZNAME:EDT
DTSTART:20270314T070000
END:DAYLIGHT
BEGIN:STANDARD
TZOFFSETFROM:-0400
TZOFFSETTO:-0500
TZNAME:EST
DTSTART:20271107T060000
END:STANDARD
END:VTIMEZONE
BEGIN:VEVENT
DTSTART;TZID=America/New_York:20260425T140000
DTEND;TZID=America/New_York:20260425T170000
DTSTAMP:20260422T234843
CREATED:20250423T113820Z
LAST-MODIFIED:20260422T152156Z
UID:10013193-1777125600-1777136400@livemusicasheville.com
SUMMARY:The Strange Rangers
DESCRIPTION:Related
URL:https://livemusicasheville.com/calendar/the-strange-rangers/
LOCATION:Sierra Nevada Mills River\, 100 Sierra Nevada Way\, Mills River\, NC\, 28732
CATEGORIES:Asheville Area,Live Music,Mills River
GEO:35.4308568;-82.5535594
X-APPLE-STRUCTURED-LOCATION;VALUE=URI;X-ADDRESS=Sierra Nevada Mills River 100 Sierra Nevada Way Mills River NC 28732;X-APPLE-RADIUS=500;X-TITLE=100 Sierra Nevada Way:geo:-82.5535594,35.4308568
END:VEVENT
BEGIN:VEVENT
DTSTART;TZID=America/New_York:20260426T140000
DTEND;TZID=America/New_York:20260426T170000
DTSTAMP:20260422T234843
CREATED:20260422T152311Z
LAST-MODIFIED:20260422T152311Z
UID:10058428-1777212000-1777222800@livemusicasheville.com
SUMMARY:Andrew Scotchie
DESCRIPTION:Related
URL:https://livemusicasheville.com/calendar/andrew-scotchie-2/
LOCATION:Sierra Nevada Mills River\, 100 Sierra Nevada Way\, Mills River\, NC\, 28732
CATEGORIES:Asheville Area,Live Music,Mills River
GEO:35.4308568;-82.5535594
X-APPLE-STRUCTURED-LOCATION;VALUE=URI;X-ADDRESS=Sierra Nevada Mills River 100 Sierra Nevada Way Mills River NC 28732;X-APPLE-RADIUS=500;X-TITLE=100 Sierra Nevada Way:geo:-82.5535594,35.4308568
END:VEVENT
BEGIN:VEVENT
DTSTART;TZID=America/New_York:20260524T180000
DTEND;TZID=America/New_York:20260525T210000
DTSTAMP:20260422T234843
CREATED:20260415T180541Z
LAST-MODIFIED:20260415T180541Z
UID:10057145-1779645600-1779742800@livemusicasheville.com
SUMMARY:Auspicious Golden Fish w/sg Mike Healy (Papadosio) and Jonathan Cole (Electro Lust)
DESCRIPTION:Join us on Sunday May 24 for a FREE SHOW at the Sierra Nevada amphitheater! This show will feature special guests Mike Healy (Papadosio) and Jonathan Cole (Electro Lust) \nSwimming in an ocean of sound\, Auspicious Golden Fish weaves together searing guitar riffs\, hypnotic synth textures\, and deep funk grooves into a transcendent musical experience. American guitarist/producer Jamie Hendrickson (The Fritz/ElectroLust) assembles a revolving lineup of all-star musicians that bring his compositions to life. The result is a sonic journey- one that invites listeners to dissolve the ego\, embrace the present moment\, and dance into higher states of consciousness. \n\n\n	Related
URL:https://livemusicasheville.com/calendar/auspicious-golden-fish-w-sg-mike-healy-papadosio-and-jonathan-cole-electro-lust/
LOCATION:Sierra Nevada Mills River\, 100 Sierra Nevada Way\, Mills River\, NC\, 28732
CATEGORIES:Asheville Area,Live Music
ATTACH;FMTTYPE=image/jpeg:https://livemusicasheville.com/wp-content/uploads/2026/04/670356518_940971778829748_3096594732221041851_n-e1776276174310.jpg
GEO:35.4308568;-82.5535594
X-APPLE-STRUCTURED-LOCATION;VALUE=URI;X-ADDRESS=Sierra Nevada Mills River 100 Sierra Nevada Way Mills River NC 28732;X-APPLE-RADIUS=500;X-TITLE=100 Sierra Nevada Way:geo:-82.5535594,35.4308568
END:VEVENT
BEGIN:VEVENT
DTSTART;TZID=America/New_York:20260704T140000
DTEND;TZID=America/New_York:20260704T170000
DTSTAMP:20260422T234843
CREATED:20250408T125547Z
LAST-MODIFIED:20251216T174901Z
UID:10012156-1783173600-1783184400@livemusicasheville.com
SUMMARY:Sierra Nevada
DESCRIPTION:  \nSierra Nevada Brewing Co. is one of America’s premier craft breweries\, highly regarded for using only the finest quality ingredients.  Sierra Nevada has set the standard for craft brewers worldwide with innovations in the brewhouse as well as advances in sustainability. The view from our tree-lined brewery is something special no matter the season. Tour the brewhouse\, feast in the Taproom or soak in the sun on our Back Porch with a beer\, including the legendary Pale Ale and a snack. For our upcoming event line-up click here! \n  \n\n\n	Related
URL:https://livemusicasheville.com/calendar/sierra-nevada-mills-river/
LOCATION:Sierra Nevada Mills River\, 100 Sierra Nevada Way\, Mills River\, NC\, 28732
CATEGORIES:Asheville Area,Live Music,Mills River
GEO:35.4308568;-82.5535594
X-APPLE-STRUCTURED-LOCATION;VALUE=URI;X-ADDRESS=Sierra Nevada Mills River 100 Sierra Nevada Way Mills River NC 28732;X-APPLE-RADIUS=500;X-TITLE=100 Sierra Nevada Way:geo:-82.5535594,35.4308568
END:VEVENT
BEGIN:VEVENT
DTSTART;TZID=America/New_York:20260705T140000
DTEND;TZID=America/New_York:20260705T170000
DTSTAMP:20260422T234843
CREATED:20250408T154407Z
LAST-MODIFIED:20251216T175443Z
UID:10012159-1783260000-1783270800@livemusicasheville.com
SUMMARY:Hazy Music Series |
DESCRIPTION:For show details and our upcoming event line-up click here! \nThe view from our tree-lined brewery is something special no matter the season. Cool down in the Taproom with a farm-fresh salad and small plates\, or soak in the sun on our Back Porch with a beer and a snack. \nFounded in 1980\, Sierra Nevada Brewing Co. is one of America’s premier craft breweries\, highly regarded for using only the finest quality ingredients.  Sierra Nevada has set the standard for craft brewers worldwide with innovations in the brewhouse as well as advances in sustainability. Sierra Nevada has set the standard for artisan brewers worldwide as a winner of numerous awards for a wide variety of beers and ales\, including the legendary Pale Ale. \n  \n\n\n	Related
URL:https://livemusicasheville.com/calendar/hazy-music-series/
LOCATION:Sierra Nevada Mills River\, 100 Sierra Nevada Way\, Mills River\, NC\, 28732
CATEGORIES:Asheville Area,Live Music,Mills River
GEO:35.4308568;-82.5535594
X-APPLE-STRUCTURED-LOCATION;VALUE=URI;X-ADDRESS=Sierra Nevada Mills River 100 Sierra Nevada Way Mills River NC 28732;X-APPLE-RADIUS=500;X-TITLE=100 Sierra Nevada Way:geo:-82.5535594,35.4308568
END:VEVENT
END:VCALENDAR