BEGIN:VCALENDAR
VERSION:2.0
PRODID:-//LiveMusicAsheville.com - ECPv6.15.20//NONSGML v1.0//EN
CALSCALE:GREGORIAN
METHOD:PUBLISH
X-WR-CALNAME:LiveMusicAsheville.com
X-ORIGINAL-URL:https://livemusicasheville.com
X-WR-CALDESC:Events for LiveMusicAsheville.com
REFRESH-INTERVAL;VALUE=DURATION:PT1H
X-Robots-Tag:noindex
X-PUBLISHED-TTL:PT1H
BEGIN:VTIMEZONE
TZID:America/New_York
BEGIN:DAYLIGHT
TZOFFSETFROM:-0500
TZOFFSETTO:-0400
TZNAME:EDT
DTSTART:20240310T070000
END:DAYLIGHT
BEGIN:STANDARD
TZOFFSETFROM:-0400
TZOFFSETTO:-0500
TZNAME:EST
DTSTART:20241103T060000
END:STANDARD
BEGIN:DAYLIGHT
TZOFFSETFROM:-0500
TZOFFSETTO:-0400
TZNAME:EDT
DTSTART:20250309T070000
END:DAYLIGHT
BEGIN:STANDARD
TZOFFSETFROM:-0400
TZOFFSETTO:-0500
TZNAME:EST
DTSTART:20251102T060000
END:STANDARD
BEGIN:DAYLIGHT
TZOFFSETFROM:-0500
TZOFFSETTO:-0400
TZNAME:EDT
DTSTART:20260308T070000
END:DAYLIGHT
BEGIN:STANDARD
TZOFFSETFROM:-0400
TZOFFSETTO:-0500
TZNAME:EST
DTSTART:20261101T060000
END:STANDARD
BEGIN:DAYLIGHT
TZOFFSETFROM:-0500
TZOFFSETTO:-0400
TZNAME:EDT
DTSTART:20270314T070000
END:DAYLIGHT
BEGIN:STANDARD
TZOFFSETFROM:-0400
TZOFFSETTO:-0500
TZNAME:EST
DTSTART:20271107T060000
END:STANDARD
END:VTIMEZONE
BEGIN:VEVENT
DTSTART;TZID=America/New_York:20260419T180000
DTEND;TZID=America/New_York:20260419T200000
DTSTAMP:20260423T073410
CREATED:20250219T193235Z
LAST-MODIFIED:20260415T150622Z
UID:10008826-1776621600-1776628800@livemusicasheville.com
SUMMARY:Mamaw’s Angel
DESCRIPTION:Related
URL:https://livemusicasheville.com/calendar/mamaws-angel/
LOCATION:Old Town District Black Mountain\, 110 Black Mountain Ave\, Black Mountain\, NC\, 28711\, United States
CATEGORIES:Asheville Area,Black Mountain,Live Music
GEO:35.6144382;-82.320515
X-APPLE-STRUCTURED-LOCATION;VALUE=URI;X-ADDRESS=Old Town District Black Mountain 110 Black Mountain Ave Black Mountain NC 28711 United States;X-APPLE-RADIUS=500;X-TITLE=110 Black Mountain Ave:geo:-82.320515,35.6144382
END:VEVENT
BEGIN:VEVENT
DTSTART;TZID=America/New_York:20260418T180000
DTEND;TZID=America/New_York:20260418T200000
DTSTAMP:20260423T073410
CREATED:20250701T015936Z
LAST-MODIFIED:20260418T214711Z
UID:10002855-1776535200-1776542400@livemusicasheville.com
SUMMARY:Ashley Heath & Christopher Everett
DESCRIPTION:Related
URL:https://livemusicasheville.com/calendar/ashley-heath-chrstopher-everett/
LOCATION:Old Town District Black Mountain\, 110 Black Mountain Ave\, Black Mountain\, NC\, 28711\, United States
CATEGORIES:Asheville Area,Black Mountain,Live Music
GEO:35.6144382;-82.320515
X-APPLE-STRUCTURED-LOCATION;VALUE=URI;X-ADDRESS=Old Town District Black Mountain 110 Black Mountain Ave Black Mountain NC 28711 United States;X-APPLE-RADIUS=500;X-TITLE=110 Black Mountain Ave:geo:-82.320515,35.6144382
END:VEVENT
BEGIN:VEVENT
DTSTART;TZID=America/New_York:20260416T190000
DTEND;TZID=America/New_York:20260416T210000
DTSTAMP:20260423T073410
CREATED:20260205T175550Z
LAST-MODIFIED:20260205T175551Z
UID:10025132-1776366000-1776373200@livemusicasheville.com
SUMMARY:Americano Sessions with Billy Presnell & Friends
DESCRIPTION:Related
URL:https://livemusicasheville.com/calendar/americano-sessions-with-billy-presnell-friends-2-2-2-2-2-2/2026-04-16/
LOCATION:Old Town District Black Mountain\, 110 Black Mountain Ave\, Black Mountain\, NC\, 28711\, United States
CATEGORIES:Asheville Area,Black Mountain,Live Music
GEO:35.6144382;-82.320515
X-APPLE-STRUCTURED-LOCATION;VALUE=URI;X-ADDRESS=Old Town District Black Mountain 110 Black Mountain Ave Black Mountain NC 28711 United States;X-APPLE-RADIUS=500;X-TITLE=110 Black Mountain Ave:geo:-82.320515,35.6144382
END:VEVENT
BEGIN:VEVENT
DTSTART;TZID=America/New_York:20260411T180000
DTEND;TZID=America/New_York:20260411T220000
DTSTAMP:20260423T073410
CREATED:20260407T142146Z
LAST-MODIFIED:20260407T142312Z
UID:10055123-1775930400-1775944800@livemusicasheville.com
SUMMARY:Watkins Album Release Party
DESCRIPTION:This Saturday April 11th we will be celebrating Watkins’ third album release. Located at Old Town District in Black Mountain NC\, this FREE event will be 6-10PM with the band playing 7-9PM. Watkins full band will be performing the new record along with some other original tunes! Signed posters and new merch will be available the night of the show!\n\nThere will be an amazing AVL tattoo artist Meg providing flash tattoos (check out the flash sheet on the 3rd slide). There will also be an appearance by local mentalist Jonathan Pritchard\, who will be walking around performing mind reading! Artists booths will be set up as well by local favorites Hannah Sommer and Rachel. Not to mention we will be supporting local non-profit Waypoint Adventure North Carolina also\, so please stop by their table and learn more about the amazing work they do.\n\n\n\nFree event in support of art and community\, special Watkins signature cocktails\, and food trucks available if you get hungry.\n\n\nWith a desire to open the mind of the modern music scene\, Watkins brings flavors of indie-folk and alt-rock. Watkins has created a grassroots following in his travels across the country\, known for his acoustic guitar picking and soul-packed vocal performance. His lyrics showcase the spiritual journey taken during the writing process\, distilled through years of living on the road. From Teton Valley to the Blue Ridge Mountains\, Watkins is bringing his music to the masses. \nOld Town District | Locally Loved & Operated | Full Bar | 16+ Local Drafts \n\n\n	Related
URL:https://livemusicasheville.com/calendar/watkins-album-release-party/
LOCATION:Old Town District Black Mountain\, 110 Black Mountain Ave\, Black Mountain\, NC\, 28711\, United States
CATEGORIES:Asheville Area,Black Mountain,Live Music
GEO:35.6144382;-82.320515
X-APPLE-STRUCTURED-LOCATION;VALUE=URI;X-ADDRESS=Old Town District Black Mountain 110 Black Mountain Ave Black Mountain NC 28711 United States;X-APPLE-RADIUS=500;X-TITLE=110 Black Mountain Ave:geo:-82.320515,35.6144382
END:VEVENT
BEGIN:VEVENT
DTSTART;TZID=America/New_York:20260410T180000
DTEND;TZID=America/New_York:20260410T200000
DTSTAMP:20260423T073410
CREATED:20250122T140214Z
LAST-MODIFIED:20260409T224539Z
UID:10006835-1775844000-1775851200@livemusicasheville.com
SUMMARY:Lefty Carmean
DESCRIPTION:Related
URL:https://livemusicasheville.com/calendar/lefty-carmean-friends/
LOCATION:Old Town District Black Mountain\, 110 Black Mountain Ave\, Black Mountain\, NC\, 28711\, United States
CATEGORIES:Asheville Area,Black Mountain,Live Music
GEO:35.6144382;-82.320515
X-APPLE-STRUCTURED-LOCATION;VALUE=URI;X-ADDRESS=Old Town District Black Mountain 110 Black Mountain Ave Black Mountain NC 28711 United States;X-APPLE-RADIUS=500;X-TITLE=110 Black Mountain Ave:geo:-82.320515,35.6144382
END:VEVENT
BEGIN:VEVENT
DTSTART;TZID=America/New_York:20260409T190000
DTEND;TZID=America/New_York:20260409T210000
DTSTAMP:20260423T073410
CREATED:20260205T175550Z
LAST-MODIFIED:20260205T175551Z
UID:10025131-1775761200-1775768400@livemusicasheville.com
SUMMARY:Americano Sessions with Billy Presnell & Friends
DESCRIPTION:Related
URL:https://livemusicasheville.com/calendar/americano-sessions-with-billy-presnell-friends-2-2-2-2-2-2/2026-04-09/
LOCATION:Old Town District Black Mountain\, 110 Black Mountain Ave\, Black Mountain\, NC\, 28711\, United States
CATEGORIES:Asheville Area,Black Mountain,Live Music
GEO:35.6144382;-82.320515
X-APPLE-STRUCTURED-LOCATION;VALUE=URI;X-ADDRESS=Old Town District Black Mountain 110 Black Mountain Ave Black Mountain NC 28711 United States;X-APPLE-RADIUS=500;X-TITLE=110 Black Mountain Ave:geo:-82.320515,35.6144382
END:VEVENT
BEGIN:VEVENT
DTSTART;TZID=America/New_York:20260405T160000
DTEND;TZID=America/New_York:20260405T190000
DTSTAMP:20260423T073410
CREATED:20250723T113324Z
LAST-MODIFIED:20260401T120415Z
UID:10018136-1775404800-1775415600@livemusicasheville.com
SUMMARY:Circus Mutt
DESCRIPTION:Related
URL:https://livemusicasheville.com/calendar/sunday-music-series-w-circus-mutt/
LOCATION:Old Town District Black Mountain\, 110 Black Mountain Ave\, Black Mountain\, NC\, 28711\, United States
CATEGORIES:Asheville Area,Black Mountain,Live Music
GEO:35.6144382;-82.320515
X-APPLE-STRUCTURED-LOCATION;VALUE=URI;X-ADDRESS=Old Town District Black Mountain 110 Black Mountain Ave Black Mountain NC 28711 United States;X-APPLE-RADIUS=500;X-TITLE=110 Black Mountain Ave:geo:-82.320515,35.6144382
END:VEVENT
BEGIN:VEVENT
DTSTART;TZID=America/New_York:20260402T190000
DTEND;TZID=America/New_York:20260402T210000
DTSTAMP:20260423T073410
CREATED:20260205T175550Z
LAST-MODIFIED:20260205T175551Z
UID:10025130-1775156400-1775163600@livemusicasheville.com
SUMMARY:Americano Sessions with Billy Presnell & Friends
DESCRIPTION:Related
URL:https://livemusicasheville.com/calendar/americano-sessions-with-billy-presnell-friends-2-2-2-2-2-2/2026-04-02/
LOCATION:Old Town District Black Mountain\, 110 Black Mountain Ave\, Black Mountain\, NC\, 28711\, United States
CATEGORIES:Asheville Area,Black Mountain,Live Music
GEO:35.6144382;-82.320515
X-APPLE-STRUCTURED-LOCATION;VALUE=URI;X-ADDRESS=Old Town District Black Mountain 110 Black Mountain Ave Black Mountain NC 28711 United States;X-APPLE-RADIUS=500;X-TITLE=110 Black Mountain Ave:geo:-82.320515,35.6144382
END:VEVENT
BEGIN:VEVENT
DTSTART;TZID=America/New_York:20260328T180000
DTEND;TZID=America/New_York:20260328T200000
DTSTAMP:20260423T073410
CREATED:20260324T135340Z
LAST-MODIFIED:20260324T135340Z
UID:10051124-1774720800-1774728000@livemusicasheville.com
SUMMARY:The Tuxedo Junction Quartet
DESCRIPTION:Related
URL:https://livemusicasheville.com/calendar/the-tuxedo-junction-quartet/
LOCATION:Old Town District Black Mountain\, 110 Black Mountain Ave\, Black Mountain\, NC\, 28711\, United States
CATEGORIES:Asheville Area,Black Mountain,Live Music
GEO:35.6144382;-82.320515
X-APPLE-STRUCTURED-LOCATION;VALUE=URI;X-ADDRESS=Old Town District Black Mountain 110 Black Mountain Ave Black Mountain NC 28711 United States;X-APPLE-RADIUS=500;X-TITLE=110 Black Mountain Ave:geo:-82.320515,35.6144382
END:VEVENT
BEGIN:VEVENT
DTSTART;TZID=America/New_York:20260326T190000
DTEND;TZID=America/New_York:20260326T210000
DTSTAMP:20260423T073410
CREATED:20260205T175550Z
LAST-MODIFIED:20260205T175551Z
UID:10025129-1774551600-1774558800@livemusicasheville.com
SUMMARY:Americano Sessions with Billy Presnell & Friends
DESCRIPTION:Related
URL:https://livemusicasheville.com/calendar/americano-sessions-with-billy-presnell-friends-2-2-2-2-2-2/2026-03-26/
LOCATION:Old Town District Black Mountain\, 110 Black Mountain Ave\, Black Mountain\, NC\, 28711\, United States
CATEGORIES:Asheville Area,Black Mountain,Live Music
GEO:35.6144382;-82.320515
X-APPLE-STRUCTURED-LOCATION;VALUE=URI;X-ADDRESS=Old Town District Black Mountain 110 Black Mountain Ave Black Mountain NC 28711 United States;X-APPLE-RADIUS=500;X-TITLE=110 Black Mountain Ave:geo:-82.320515,35.6144382
END:VEVENT
BEGIN:VEVENT
DTSTART;TZID=America/New_York:20260321T180000
DTEND;TZID=America/New_York:20260321T200000
DTSTAMP:20260423T073410
CREATED:20250604T124634Z
LAST-MODIFIED:20260318T111215Z
UID:10015418-1774116000-1774123200@livemusicasheville.com
SUMMARY:Bill's Garage
DESCRIPTION:Related
URL:https://livemusicasheville.com/calendar/bills-garage-solo-2/
LOCATION:Old Town District Black Mountain\, 110 Black Mountain Ave\, Black Mountain\, NC\, 28711\, United States
CATEGORIES:Asheville Area,Black Mountain,Live Music
GEO:35.6144382;-82.320515
X-APPLE-STRUCTURED-LOCATION;VALUE=URI;X-ADDRESS=Old Town District Black Mountain 110 Black Mountain Ave Black Mountain NC 28711 United States;X-APPLE-RADIUS=500;X-TITLE=110 Black Mountain Ave:geo:-82.320515,35.6144382
END:VEVENT
BEGIN:VEVENT
DTSTART;TZID=America/New_York:20260319T190000
DTEND;TZID=America/New_York:20260319T210000
DTSTAMP:20260423T073410
CREATED:20260205T175550Z
LAST-MODIFIED:20260205T175551Z
UID:10025128-1773946800-1773954000@livemusicasheville.com
SUMMARY:Americano Sessions with Billy Presnell & Friends
DESCRIPTION:Related
URL:https://livemusicasheville.com/calendar/americano-sessions-with-billy-presnell-friends-2-2-2-2-2-2/2026-03-19/
LOCATION:Old Town District Black Mountain\, 110 Black Mountain Ave\, Black Mountain\, NC\, 28711\, United States
CATEGORIES:Asheville Area,Black Mountain,Live Music
GEO:35.6144382;-82.320515
X-APPLE-STRUCTURED-LOCATION;VALUE=URI;X-ADDRESS=Old Town District Black Mountain 110 Black Mountain Ave Black Mountain NC 28711 United States;X-APPLE-RADIUS=500;X-TITLE=110 Black Mountain Ave:geo:-82.320515,35.6144382
END:VEVENT
BEGIN:VEVENT
DTSTART;TZID=America/New_York:20260314T180000
DTEND;TZID=America/New_York:20260314T200000
DTSTAMP:20260423T073410
CREATED:20260311T150308Z
LAST-MODIFIED:20260311T150308Z
UID:10048931-1773511200-1773518400@livemusicasheville.com
SUMMARY:Trenton Walls
DESCRIPTION:Related
URL:https://livemusicasheville.com/calendar/trenton-walls/
LOCATION:Old Town District Black Mountain\, 110 Black Mountain Ave\, Black Mountain\, NC\, 28711\, United States
CATEGORIES:Asheville Area,Black Mountain,Live Music
GEO:35.6144382;-82.320515
X-APPLE-STRUCTURED-LOCATION;VALUE=URI;X-ADDRESS=Old Town District Black Mountain 110 Black Mountain Ave Black Mountain NC 28711 United States;X-APPLE-RADIUS=500;X-TITLE=110 Black Mountain Ave:geo:-82.320515,35.6144382
END:VEVENT
BEGIN:VEVENT
DTSTART;TZID=America/New_York:20260313T180000
DTEND;TZID=America/New_York:20260313T200000
DTSTAMP:20260423T073410
CREATED:20250205T184420Z
LAST-MODIFIED:20260311T150152Z
UID:10007780-1773424800-1773432000@livemusicasheville.com
SUMMARY:Lenny P's on the keys
DESCRIPTION:Related
URL:https://livemusicasheville.com/calendar/the-wild-card-trio/
LOCATION:Old Town District Black Mountain\, 110 Black Mountain Ave\, Black Mountain\, NC\, 28711\, United States
CATEGORIES:Asheville Area,Black Mountain,Live Music
GEO:35.6144382;-82.320515
X-APPLE-STRUCTURED-LOCATION;VALUE=URI;X-ADDRESS=Old Town District Black Mountain 110 Black Mountain Ave Black Mountain NC 28711 United States;X-APPLE-RADIUS=500;X-TITLE=110 Black Mountain Ave:geo:-82.320515,35.6144382
END:VEVENT
BEGIN:VEVENT
DTSTART;TZID=America/New_York:20260312T190000
DTEND;TZID=America/New_York:20260312T210000
DTSTAMP:20260423T073410
CREATED:20260205T175550Z
LAST-MODIFIED:20260205T175551Z
UID:10025127-1773342000-1773349200@livemusicasheville.com
SUMMARY:Americano Sessions with Billy Presnell & Friends
DESCRIPTION:Related
URL:https://livemusicasheville.com/calendar/americano-sessions-with-billy-presnell-friends-2-2-2-2-2-2/2026-03-12/
LOCATION:Old Town District Black Mountain\, 110 Black Mountain Ave\, Black Mountain\, NC\, 28711\, United States
CATEGORIES:Asheville Area,Black Mountain,Live Music
GEO:35.6144382;-82.320515
X-APPLE-STRUCTURED-LOCATION;VALUE=URI;X-ADDRESS=Old Town District Black Mountain 110 Black Mountain Ave Black Mountain NC 28711 United States;X-APPLE-RADIUS=500;X-TITLE=110 Black Mountain Ave:geo:-82.320515,35.6144382
END:VEVENT
BEGIN:VEVENT
DTSTART;TZID=America/New_York:20260307T180000
DTEND;TZID=America/New_York:20260307T200000
DTSTAMP:20260423T073410
CREATED:20250716T172227Z
LAST-MODIFIED:20260304T164734Z
UID:10017897-1772906400-1772913600@livemusicasheville.com
SUMMARY:Motel Pearl
DESCRIPTION:Related
URL:https://livemusicasheville.com/calendar/motel-pearl/
LOCATION:Old Town District Black Mountain\, 110 Black Mountain Ave\, Black Mountain\, NC\, 28711\, United States
CATEGORIES:Asheville Area,Black Mountain,Live Music
GEO:35.6144382;-82.320515
X-APPLE-STRUCTURED-LOCATION;VALUE=URI;X-ADDRESS=Old Town District Black Mountain 110 Black Mountain Ave Black Mountain NC 28711 United States;X-APPLE-RADIUS=500;X-TITLE=110 Black Mountain Ave:geo:-82.320515,35.6144382
END:VEVENT
BEGIN:VEVENT
DTSTART;TZID=America/New_York:20260305T190000
DTEND;TZID=America/New_York:20260305T210000
DTSTAMP:20260423T073410
CREATED:20260205T175550Z
LAST-MODIFIED:20260205T175551Z
UID:10025126-1772737200-1772744400@livemusicasheville.com
SUMMARY:Americano Sessions with Billy Presnell & Friends
DESCRIPTION:Related
URL:https://livemusicasheville.com/calendar/americano-sessions-with-billy-presnell-friends-2-2-2-2-2-2/2026-03-05/
LOCATION:Old Town District Black Mountain\, 110 Black Mountain Ave\, Black Mountain\, NC\, 28711\, United States
CATEGORIES:Asheville Area,Black Mountain,Live Music
GEO:35.6144382;-82.320515
X-APPLE-STRUCTURED-LOCATION;VALUE=URI;X-ADDRESS=Old Town District Black Mountain 110 Black Mountain Ave Black Mountain NC 28711 United States;X-APPLE-RADIUS=500;X-TITLE=110 Black Mountain Ave:geo:-82.320515,35.6144382
END:VEVENT
BEGIN:VEVENT
DTSTART;TZID=America/New_York:20260228T180000
DTEND;TZID=America/New_York:20260228T200000
DTSTAMP:20260423T073410
CREATED:20260225T154808Z
LAST-MODIFIED:20260225T154808Z
UID:10046851-1772301600-1772308800@livemusicasheville.com
SUMMARY:McKinney
DESCRIPTION:Related
URL:https://livemusicasheville.com/calendar/mckinney-3/
LOCATION:Old Town District Black Mountain\, 110 Black Mountain Ave\, Black Mountain\, NC\, 28711\, United States
CATEGORIES:Asheville Area,Black Mountain,Live Music
GEO:35.6144382;-82.320515
X-APPLE-STRUCTURED-LOCATION;VALUE=URI;X-ADDRESS=Old Town District Black Mountain 110 Black Mountain Ave Black Mountain NC 28711 United States;X-APPLE-RADIUS=500;X-TITLE=110 Black Mountain Ave:geo:-82.320515,35.6144382
END:VEVENT
BEGIN:VEVENT
DTSTART;TZID=America/New_York:20260226T190000
DTEND;TZID=America/New_York:20260226T210000
DTSTAMP:20260423T073410
CREATED:20260205T175550Z
LAST-MODIFIED:20260205T175551Z
UID:10025125-1772132400-1772139600@livemusicasheville.com
SUMMARY:Americano Sessions with Billy Presnell & Friends
DESCRIPTION:Related
URL:https://livemusicasheville.com/calendar/americano-sessions-with-billy-presnell-friends-2-2-2-2-2-2/2026-02-26/
LOCATION:Old Town District Black Mountain\, 110 Black Mountain Ave\, Black Mountain\, NC\, 28711\, United States
CATEGORIES:Asheville Area,Black Mountain,Live Music
GEO:35.6144382;-82.320515
X-APPLE-STRUCTURED-LOCATION;VALUE=URI;X-ADDRESS=Old Town District Black Mountain 110 Black Mountain Ave Black Mountain NC 28711 United States;X-APPLE-RADIUS=500;X-TITLE=110 Black Mountain Ave:geo:-82.320515,35.6144382
END:VEVENT
BEGIN:VEVENT
DTSTART;TZID=America/New_York:20260219T190000
DTEND;TZID=America/New_York:20260219T210000
DTSTAMP:20260423T073410
CREATED:20260205T175550Z
LAST-MODIFIED:20260205T175551Z
UID:10025124-1771527600-1771534800@livemusicasheville.com
SUMMARY:Americano Sessions with Billy Presnell & Friends
DESCRIPTION:Related
URL:https://livemusicasheville.com/calendar/americano-sessions-with-billy-presnell-friends-2-2-2-2-2-2/2026-02-19/
LOCATION:Old Town District Black Mountain\, 110 Black Mountain Ave\, Black Mountain\, NC\, 28711\, United States
CATEGORIES:Asheville Area,Black Mountain,Live Music
GEO:35.6144382;-82.320515
X-APPLE-STRUCTURED-LOCATION;VALUE=URI;X-ADDRESS=Old Town District Black Mountain 110 Black Mountain Ave Black Mountain NC 28711 United States;X-APPLE-RADIUS=500;X-TITLE=110 Black Mountain Ave:geo:-82.320515,35.6144382
END:VEVENT
BEGIN:VEVENT
DTSTART;TZID=America/New_York:20260218T180000
DTEND;TZID=America/New_York:20260218T200000
DTSTAMP:20260423T073410
CREATED:20260216T220518Z
LAST-MODIFIED:20260216T220518Z
UID:10045418-1771437600-1771444800@livemusicasheville.com
SUMMARY:Taylor Watkins and Lyndsay Wall
DESCRIPTION:Related
URL:https://livemusicasheville.com/calendar/taylor-watkins-and-lyndsay-wall/
LOCATION:Old Town District Black Mountain\, 110 Black Mountain Ave\, Black Mountain\, NC\, 28711\, United States
CATEGORIES:Asheville Area,Black Mountain,Live Music
GEO:35.6144382;-82.320515
X-APPLE-STRUCTURED-LOCATION;VALUE=URI;X-ADDRESS=Old Town District Black Mountain 110 Black Mountain Ave Black Mountain NC 28711 United States;X-APPLE-RADIUS=500;X-TITLE=110 Black Mountain Ave:geo:-82.320515,35.6144382
END:VEVENT
BEGIN:VEVENT
DTSTART;TZID=America/New_York:20260214T180000
DTEND;TZID=America/New_York:20260214T200000
DTSTAMP:20260423T073410
CREATED:20250629T144657Z
LAST-MODIFIED:20260211T155211Z
UID:10016293-1771092000-1771099200@livemusicasheville.com
SUMMARY:Liliana Hudgens
DESCRIPTION:Related
URL:https://livemusicasheville.com/calendar/liliana-hudgens-band/
LOCATION:Old Town District Black Mountain\, 110 Black Mountain Ave\, Black Mountain\, NC\, 28711\, United States
CATEGORIES:Asheville Area,Black Mountain,Live Music
GEO:35.6144382;-82.320515
X-APPLE-STRUCTURED-LOCATION;VALUE=URI;X-ADDRESS=Old Town District Black Mountain 110 Black Mountain Ave Black Mountain NC 28711 United States;X-APPLE-RADIUS=500;X-TITLE=110 Black Mountain Ave:geo:-82.320515,35.6144382
END:VEVENT
BEGIN:VEVENT
DTSTART;TZID=America/New_York:20260212T190000
DTEND;TZID=America/New_York:20260212T210000
DTSTAMP:20260423T073410
CREATED:20260205T175550Z
LAST-MODIFIED:20260205T175551Z
UID:10025122-1770922800-1770930000@livemusicasheville.com
SUMMARY:Americano Sessions with Billy Presnell & Friends
DESCRIPTION:Related
URL:https://livemusicasheville.com/calendar/americano-sessions-with-billy-presnell-friends-2-2-2-2-2-2/2026-02-12/
LOCATION:Old Town District Black Mountain\, 110 Black Mountain Ave\, Black Mountain\, NC\, 28711\, United States
CATEGORIES:Asheville Area,Black Mountain,Live Music
GEO:35.6144382;-82.320515
X-APPLE-STRUCTURED-LOCATION;VALUE=URI;X-ADDRESS=Old Town District Black Mountain 110 Black Mountain Ave Black Mountain NC 28711 United States;X-APPLE-RADIUS=500;X-TITLE=110 Black Mountain Ave:geo:-82.320515,35.6144382
END:VEVENT
BEGIN:VEVENT
DTSTART;TZID=America/New_York:20260129T190000
DTEND;TZID=America/New_York:20260129T210000
DTSTAMP:20260423T073410
CREATED:20260105T020907Z
LAST-MODIFIED:20260105T020908Z
UID:10025121-1769713200-1769720400@livemusicasheville.com
SUMMARY:Americano Sessions with Billy Presnell & Friends
DESCRIPTION:Related
URL:https://livemusicasheville.com/calendar/americano-sessions-with-billy-presnell-friends-2-2-2-2-2/2026-01-29/
LOCATION:Old Town District Black Mountain\, 110 Black Mountain Ave\, Black Mountain\, NC\, 28711\, United States
CATEGORIES:Asheville Area,Black Mountain,Live Music
GEO:35.6144382;-82.320515
X-APPLE-STRUCTURED-LOCATION;VALUE=URI;X-ADDRESS=Old Town District Black Mountain 110 Black Mountain Ave Black Mountain NC 28711 United States;X-APPLE-RADIUS=500;X-TITLE=110 Black Mountain Ave:geo:-82.320515,35.6144382
END:VEVENT
BEGIN:VEVENT
DTSTART;TZID=America/New_York:20260123T180000
DTEND;TZID=America/New_York:20260123T200000
DTSTAMP:20260423T073410
CREATED:20250108T230025Z
LAST-MODIFIED:20260120T165059Z
UID:10005497-1769191200-1769198400@livemusicasheville.com
SUMMARY:Andy Ferrell
DESCRIPTION:Related
URL:https://livemusicasheville.com/calendar/andy-ferrell-2/
LOCATION:Old Town District Black Mountain\, 110 Black Mountain Ave\, Black Mountain\, NC\, 28711\, United States
CATEGORIES:Asheville Area,Black Mountain,Live Music
GEO:35.6144382;-82.320515
X-APPLE-STRUCTURED-LOCATION;VALUE=URI;X-ADDRESS=Old Town District Black Mountain 110 Black Mountain Ave Black Mountain NC 28711 United States;X-APPLE-RADIUS=500;X-TITLE=110 Black Mountain Ave:geo:-82.320515,35.6144382
END:VEVENT
BEGIN:VEVENT
DTSTART;TZID=America/New_York:20260122T190000
DTEND;TZID=America/New_York:20260122T210000
DTSTAMP:20260423T073410
CREATED:20260105T020907Z
LAST-MODIFIED:20260105T020908Z
UID:10025118-1769108400-1769115600@livemusicasheville.com
SUMMARY:Americano Sessions with Billy Presnell & Friends
DESCRIPTION:Related
URL:https://livemusicasheville.com/calendar/americano-sessions-with-billy-presnell-friends-2-2-2-2-2/2026-01-22/
LOCATION:Old Town District Black Mountain\, 110 Black Mountain Ave\, Black Mountain\, NC\, 28711\, United States
CATEGORIES:Asheville Area,Black Mountain,Live Music
GEO:35.6144382;-82.320515
X-APPLE-STRUCTURED-LOCATION;VALUE=URI;X-ADDRESS=Old Town District Black Mountain 110 Black Mountain Ave Black Mountain NC 28711 United States;X-APPLE-RADIUS=500;X-TITLE=110 Black Mountain Ave:geo:-82.320515,35.6144382
END:VEVENT
BEGIN:VEVENT
DTSTART;TZID=America/New_York:20260101T190000
DTEND;TZID=America/New_York:20260101T210000
DTSTAMP:20260423T073410
CREATED:20251121T203926Z
LAST-MODIFIED:20251216T065445Z
UID:10003813-1767294000-1767301200@livemusicasheville.com
SUMMARY:Americano Sessions with Billy Presnell & Friends
DESCRIPTION:Related
URL:https://livemusicasheville.com/calendar/americano-sessions-with-billy-presnell-friends-2-2-2-2/2026-01-01/
LOCATION:Old Town District Black Mountain\, 110 Black Mountain Ave\, Black Mountain\, NC\, 28711\, United States
CATEGORIES:Black Mountain,Live Music
GEO:35.6144382;-82.320515
X-APPLE-STRUCTURED-LOCATION;VALUE=URI;X-ADDRESS=Old Town District Black Mountain 110 Black Mountain Ave Black Mountain NC 28711 United States;X-APPLE-RADIUS=500;X-TITLE=110 Black Mountain Ave:geo:-82.320515,35.6144382
END:VEVENT
BEGIN:VEVENT
DTSTART;TZID=America/New_York:20251221T180000
DTEND;TZID=America/New_York:20251221T200000
DTSTAMP:20260423T073410
CREATED:20250829T182538Z
LAST-MODIFIED:20251217T113607Z
UID:10020389-1766340000-1766347200@livemusicasheville.com
SUMMARY:The Cigar Brothers
DESCRIPTION:Related
URL:https://livemusicasheville.com/calendar/the-cigar-brothers/
LOCATION:Old Town District Black Mountain\, 110 Black Mountain Ave\, Black Mountain\, NC\, 28711\, United States
CATEGORIES:Asheville Area,Black Mountain,Live Music
GEO:35.6144382;-82.320515
X-APPLE-STRUCTURED-LOCATION;VALUE=URI;X-ADDRESS=Old Town District Black Mountain 110 Black Mountain Ave Black Mountain NC 28711 United States;X-APPLE-RADIUS=500;X-TITLE=110 Black Mountain Ave:geo:-82.320515,35.6144382
END:VEVENT
BEGIN:VEVENT
DTSTART;TZID=America/New_York:20251218T190000
DTEND;TZID=America/New_York:20251218T210000
DTSTAMP:20260423T073410
CREATED:20251121T203926Z
LAST-MODIFIED:20251216T065445Z
UID:10003811-1766084400-1766091600@livemusicasheville.com
SUMMARY:Americano Sessions with Billy Presnell & Friends
DESCRIPTION:Related
URL:https://livemusicasheville.com/calendar/americano-sessions-with-billy-presnell-friends-2-2-2-2/2025-12-18/
LOCATION:Old Town District Black Mountain\, 110 Black Mountain Ave\, Black Mountain\, NC\, 28711\, United States
CATEGORIES:Black Mountain,Live Music
GEO:35.6144382;-82.320515
X-APPLE-STRUCTURED-LOCATION;VALUE=URI;X-ADDRESS=Old Town District Black Mountain 110 Black Mountain Ave Black Mountain NC 28711 United States;X-APPLE-RADIUS=500;X-TITLE=110 Black Mountain Ave:geo:-82.320515,35.6144382
END:VEVENT
BEGIN:VEVENT
DTSTART;TZID=America/New_York:20251211T190000
DTEND;TZID=America/New_York:20251211T210000
DTSTAMP:20260423T073410
CREATED:20251121T203926Z
LAST-MODIFIED:20251216T065445Z
UID:10003810-1765479600-1765486800@livemusicasheville.com
SUMMARY:Americano Sessions with Billy Presnell & Friends
DESCRIPTION:Related
URL:https://livemusicasheville.com/calendar/americano-sessions-with-billy-presnell-friends-2-2-2-2/2025-12-11/
LOCATION:Old Town District Black Mountain\, 110 Black Mountain Ave\, Black Mountain\, NC\, 28711\, United States
CATEGORIES:Black Mountain,Live Music
GEO:35.6144382;-82.320515
X-APPLE-STRUCTURED-LOCATION;VALUE=URI;X-ADDRESS=Old Town District Black Mountain 110 Black Mountain Ave Black Mountain NC 28711 United States;X-APPLE-RADIUS=500;X-TITLE=110 Black Mountain Ave:geo:-82.320515,35.6144382
END:VEVENT
END:VCALENDAR