BEGIN:VCALENDAR
VERSION:2.0
PRODID:-//LiveMusicAsheville.com - ECPv6.15.20//NONSGML v1.0//EN
CALSCALE:GREGORIAN
METHOD:PUBLISH
X-ORIGINAL-URL:https://livemusicasheville.com
X-WR-CALDESC:Events for LiveMusicAsheville.com
REFRESH-INTERVAL;VALUE=DURATION:PT1H
X-Robots-Tag:noindex
X-PUBLISHED-TTL:PT1H
BEGIN:VTIMEZONE
TZID:America/New_York
BEGIN:DAYLIGHT
TZOFFSETFROM:-0500
TZOFFSETTO:-0400
TZNAME:EDT
DTSTART:20250309T070000
END:DAYLIGHT
BEGIN:STANDARD
TZOFFSETFROM:-0400
TZOFFSETTO:-0500
TZNAME:EST
DTSTART:20251102T060000
END:STANDARD
BEGIN:DAYLIGHT
TZOFFSETFROM:-0500
TZOFFSETTO:-0400
TZNAME:EDT
DTSTART:20260308T070000
END:DAYLIGHT
BEGIN:STANDARD
TZOFFSETFROM:-0400
TZOFFSETTO:-0500
TZNAME:EST
DTSTART:20261101T060000
END:STANDARD
BEGIN:DAYLIGHT
TZOFFSETFROM:-0500
TZOFFSETTO:-0400
TZNAME:EDT
DTSTART:20270314T070000
END:DAYLIGHT
BEGIN:STANDARD
TZOFFSETFROM:-0400
TZOFFSETTO:-0500
TZNAME:EST
DTSTART:20271107T060000
END:STANDARD
END:VTIMEZONE
BEGIN:VEVENT
DTSTART;TZID=America/New_York:20260423T180000
DTEND;TZID=America/New_York:20260423T200000
DTSTAMP:20260422T211048
CREATED:20260415T190425Z
LAST-MODIFIED:20260415T190425Z
UID:10057411-1776967200-1776974400@livemusicasheville.com
SUMMARY:Daniel Shearin
DESCRIPTION:Related
URL:https://livemusicasheville.com/calendar/daniel-shearin-3/
LOCATION:Zadies Market at The Old Marshall Jail Hotel
CATEGORIES:Asheville Area,Live Music,Madison County
END:VEVENT
BEGIN:VEVENT
DTSTART;TZID=America/New_York:20260424T180000
DTEND;TZID=America/New_York:20260424T200000
DTSTAMP:20260422T211048
CREATED:20260421T152428Z
LAST-MODIFIED:20260421T152428Z
UID:10058395-1777053600-1777060800@livemusicasheville.com
SUMMARY:Reed Miller & Straight Up!
DESCRIPTION:Related
URL:https://livemusicasheville.com/calendar/reed-miller-straight-up-2/
LOCATION:Zadies Market at The Old Marshall Jail Hotel
CATEGORIES:Asheville Area,Live Music,Madison County
END:VEVENT
BEGIN:VEVENT
DTSTART;TZID=America/New_York:20260430T180000
DTEND;TZID=America/New_York:20260430T200000
DTSTAMP:20260422T211048
CREATED:20250813T181949Z
LAST-MODIFIED:20260422T192149Z
UID:10019144-1777572000-1777579200@livemusicasheville.com
SUMMARY:Taylor Hollingsworth
DESCRIPTION:Related
URL:https://livemusicasheville.com/calendar/taylor-hollingsworth/
LOCATION:Zadies Market at The Old Marshall Jail Hotel
CATEGORIES:Asheville Area,Live Music,Madison County
END:VEVENT
BEGIN:VEVENT
DTSTART;TZID=America/New_York:20260513T180000
DTEND;TZID=America/New_York:20260513T200000
DTSTAMP:20260422T211048
CREATED:20260114T112301Z
LAST-MODIFIED:20260114T141255Z
UID:10024326-1778695200-1778702400@livemusicasheville.com
SUMMARY:The Old Marshall Jail Ballad Swap
DESCRIPTION:Related
URL:https://livemusicasheville.com/calendar/the-old-marshall-jail-ballad-swap-2-2/2026-05-13/
LOCATION:Zadies Market at The Old Marshall Jail Hotel
CATEGORIES:Live Music,Madison County
END:VEVENT
BEGIN:VEVENT
DTSTART;TZID=America/New_York:20260610T180000
DTEND;TZID=America/New_York:20260610T200000
DTSTAMP:20260422T211048
CREATED:20260114T112301Z
LAST-MODIFIED:20260114T141255Z
UID:10024327-1781114400-1781121600@livemusicasheville.com
SUMMARY:The Old Marshall Jail Ballad Swap
DESCRIPTION:Related
URL:https://livemusicasheville.com/calendar/the-old-marshall-jail-ballad-swap-2-2/2026-06-10/
LOCATION:Zadies Market at The Old Marshall Jail Hotel
CATEGORIES:Live Music,Madison County
END:VEVENT
BEGIN:VEVENT
DTSTART;TZID=America/New_York:20260708T180000
DTEND;TZID=America/New_York:20260708T200000
DTSTAMP:20260422T211048
CREATED:20260114T112301Z
LAST-MODIFIED:20260114T141255Z
UID:10024328-1783533600-1783540800@livemusicasheville.com
SUMMARY:The Old Marshall Jail Ballad Swap
DESCRIPTION:Related
URL:https://livemusicasheville.com/calendar/the-old-marshall-jail-ballad-swap-2-2/2026-07-08/
LOCATION:Zadies Market at The Old Marshall Jail Hotel
CATEGORIES:Live Music,Madison County
END:VEVENT
BEGIN:VEVENT
DTSTART;TZID=America/New_York:20260812T180000
DTEND;TZID=America/New_York:20260812T200000
DTSTAMP:20260422T211048
CREATED:20260114T112301Z
LAST-MODIFIED:20260114T141255Z
UID:10024329-1786557600-1786564800@livemusicasheville.com
SUMMARY:The Old Marshall Jail Ballad Swap
DESCRIPTION:Related
URL:https://livemusicasheville.com/calendar/the-old-marshall-jail-ballad-swap-2-2/2026-08-12/
LOCATION:Zadies Market at The Old Marshall Jail Hotel
CATEGORIES:Live Music,Madison County
END:VEVENT
BEGIN:VEVENT
DTSTART;TZID=America/New_York:20260909T180000
DTEND;TZID=America/New_York:20260909T200000
DTSTAMP:20260422T211048
CREATED:20260114T112301Z
LAST-MODIFIED:20260114T141255Z
UID:10024330-1788976800-1788984000@livemusicasheville.com
SUMMARY:The Old Marshall Jail Ballad Swap
DESCRIPTION:Related
URL:https://livemusicasheville.com/calendar/the-old-marshall-jail-ballad-swap-2-2/2026-09-09/
LOCATION:Zadies Market at The Old Marshall Jail Hotel
CATEGORIES:Live Music,Madison County
END:VEVENT
END:VCALENDAR