BEGIN:VCALENDAR
VERSION:2.0
PRODID:-//LiveMusicAsheville.com - ECPv6.15.20//NONSGML v1.0//EN
CALSCALE:GREGORIAN
METHOD:PUBLISH
X-ORIGINAL-URL:https://livemusicasheville.com
X-WR-CALDESC:Events for LiveMusicAsheville.com
REFRESH-INTERVAL;VALUE=DURATION:PT1H
X-Robots-Tag:noindex
X-PUBLISHED-TTL:PT1H
BEGIN:VTIMEZONE
TZID:America/New_York
BEGIN:DAYLIGHT
TZOFFSETFROM:-0500
TZOFFSETTO:-0400
TZNAME:EDT
DTSTART:20270314T070000
END:DAYLIGHT
BEGIN:STANDARD
TZOFFSETFROM:-0400
TZOFFSETTO:-0500
TZNAME:EST
DTSTART:20271107T060000
END:STANDARD
BEGIN:DAYLIGHT
TZOFFSETFROM:-0500
TZOFFSETTO:-0400
TZNAME:EDT
DTSTART:20280312T070000
END:DAYLIGHT
BEGIN:STANDARD
TZOFFSETFROM:-0400
TZOFFSETTO:-0500
TZNAME:EST
DTSTART:20281105T060000
END:STANDARD
BEGIN:DAYLIGHT
TZOFFSETFROM:-0500
TZOFFSETTO:-0400
TZNAME:EDT
DTSTART:20290311T070000
END:DAYLIGHT
BEGIN:STANDARD
TZOFFSETFROM:-0400
TZOFFSETTO:-0500
TZNAME:EST
DTSTART:20291104T060000
END:STANDARD
END:VTIMEZONE
BEGIN:VEVENT
DTSTART;TZID=America/New_York:20280224T200000
DTEND;TZID=America/New_York:20280225T020000
DTSTAMP:20260422T021019
CREATED:20260208T155221Z
LAST-MODIFIED:20260208T155221Z
UID:10043912-1835035200-1835056800@livemusicasheville.com
SUMMARY:All Request Piano Show
DESCRIPTION:Related
URL:https://livemusicasheville.com/calendar/all-request-piano-show-2/2028-02-24/
LOCATION:Off the Wagon
CATEGORIES:Asheville Area,Live Music
GEO:41.4302231;-81.3909542
END:VEVENT
BEGIN:VEVENT
DTSTART;TZID=America/New_York:20280227T200000
DTEND;TZID=America/New_York:20280228T020000
DTSTAMP:20260422T021019
CREATED:20260208T155221Z
LAST-MODIFIED:20260208T155221Z
UID:10043913-1835294400-1835316000@livemusicasheville.com
SUMMARY:All Request Piano Show
DESCRIPTION:Related
URL:https://livemusicasheville.com/calendar/all-request-piano-show-2/2028-02-27/
LOCATION:Off the Wagon
CATEGORIES:Asheville Area,Live Music
GEO:41.4302231;-81.3909542
END:VEVENT
BEGIN:VEVENT
DTSTART;TZID=America/New_York:20280301T200000
DTEND;TZID=America/New_York:20280302T020000
DTSTAMP:20260422T021019
CREATED:20260208T155221Z
LAST-MODIFIED:20260208T155221Z
UID:10043914-1835553600-1835575200@livemusicasheville.com
SUMMARY:All Request Piano Show
DESCRIPTION:Related
URL:https://livemusicasheville.com/calendar/all-request-piano-show-2/2028-03-01/
LOCATION:Off the Wagon
CATEGORIES:Asheville Area,Live Music
GEO:41.4302231;-81.3909542
END:VEVENT
BEGIN:VEVENT
DTSTART;TZID=America/New_York:20280302T200000
DTEND;TZID=America/New_York:20280303T020000
DTSTAMP:20260422T021019
CREATED:20260208T155221Z
LAST-MODIFIED:20260208T155221Z
UID:10043915-1835640000-1835661600@livemusicasheville.com
SUMMARY:All Request Piano Show
DESCRIPTION:Related
URL:https://livemusicasheville.com/calendar/all-request-piano-show-2/2028-03-02/
LOCATION:Off the Wagon
CATEGORIES:Asheville Area,Live Music
GEO:41.4302231;-81.3909542
END:VEVENT
BEGIN:VEVENT
DTSTART;TZID=America/New_York:20280305T200000
DTEND;TZID=America/New_York:20280306T020000
DTSTAMP:20260422T021019
CREATED:20260208T155221Z
LAST-MODIFIED:20260208T155221Z
UID:10043916-1835899200-1835920800@livemusicasheville.com
SUMMARY:All Request Piano Show
DESCRIPTION:Related
URL:https://livemusicasheville.com/calendar/all-request-piano-show-2/2028-03-05/
LOCATION:Off the Wagon
CATEGORIES:Asheville Area,Live Music
GEO:41.4302231;-81.3909542
END:VEVENT
BEGIN:VEVENT
DTSTART;TZID=America/New_York:20280308T200000
DTEND;TZID=America/New_York:20280309T020000
DTSTAMP:20260422T021019
CREATED:20260208T155221Z
LAST-MODIFIED:20260208T155221Z
UID:10043917-1836158400-1836180000@livemusicasheville.com
SUMMARY:All Request Piano Show
DESCRIPTION:Related
URL:https://livemusicasheville.com/calendar/all-request-piano-show-2/2028-03-08/
LOCATION:Off the Wagon
CATEGORIES:Asheville Area,Live Music
GEO:41.4302231;-81.3909542
END:VEVENT
BEGIN:VEVENT
DTSTART;TZID=America/New_York:20280309T200000
DTEND;TZID=America/New_York:20280310T020000
DTSTAMP:20260422T021019
CREATED:20260208T155221Z
LAST-MODIFIED:20260208T155221Z
UID:10043918-1836244800-1836266400@livemusicasheville.com
SUMMARY:All Request Piano Show
DESCRIPTION:Related
URL:https://livemusicasheville.com/calendar/all-request-piano-show-2/2028-03-09/
LOCATION:Off the Wagon
CATEGORIES:Asheville Area,Live Music
GEO:41.4302231;-81.3909542
END:VEVENT
BEGIN:VEVENT
DTSTART;TZID=America/New_York:20280312T200000
DTEND;TZID=America/New_York:20280313T020000
DTSTAMP:20260422T021019
CREATED:20260208T155221Z
LAST-MODIFIED:20260208T155221Z
UID:10043919-1836504000-1836525600@livemusicasheville.com
SUMMARY:All Request Piano Show
DESCRIPTION:Related
URL:https://livemusicasheville.com/calendar/all-request-piano-show-2/2028-03-12/
LOCATION:Off the Wagon
CATEGORIES:Asheville Area,Live Music
GEO:41.4302231;-81.3909542
END:VEVENT
BEGIN:VEVENT
DTSTART;TZID=America/New_York:20280315T200000
DTEND;TZID=America/New_York:20280316T020000
DTSTAMP:20260422T021019
CREATED:20260208T155221Z
LAST-MODIFIED:20260208T155221Z
UID:10043920-1836763200-1836784800@livemusicasheville.com
SUMMARY:All Request Piano Show
DESCRIPTION:Related
URL:https://livemusicasheville.com/calendar/all-request-piano-show-2/2028-03-15/
LOCATION:Off the Wagon
CATEGORIES:Asheville Area,Live Music
GEO:41.4302231;-81.3909542
END:VEVENT
BEGIN:VEVENT
DTSTART;TZID=America/New_York:20280316T200000
DTEND;TZID=America/New_York:20280317T020000
DTSTAMP:20260422T021019
CREATED:20260208T155221Z
LAST-MODIFIED:20260208T155221Z
UID:10043921-1836849600-1836871200@livemusicasheville.com
SUMMARY:All Request Piano Show
DESCRIPTION:Related
URL:https://livemusicasheville.com/calendar/all-request-piano-show-2/2028-03-16/
LOCATION:Off the Wagon
CATEGORIES:Asheville Area,Live Music
GEO:41.4302231;-81.3909542
END:VEVENT
BEGIN:VEVENT
DTSTART;TZID=America/New_York:20280319T200000
DTEND;TZID=America/New_York:20280320T020000
DTSTAMP:20260422T021019
CREATED:20260208T155221Z
LAST-MODIFIED:20260208T155221Z
UID:10043922-1837108800-1837130400@livemusicasheville.com
SUMMARY:All Request Piano Show
DESCRIPTION:Related
URL:https://livemusicasheville.com/calendar/all-request-piano-show-2/2028-03-19/
LOCATION:Off the Wagon
CATEGORIES:Asheville Area,Live Music
GEO:41.4302231;-81.3909542
END:VEVENT
BEGIN:VEVENT
DTSTART;TZID=America/New_York:20280322T200000
DTEND;TZID=America/New_York:20280323T020000
DTSTAMP:20260422T021019
CREATED:20260208T155221Z
LAST-MODIFIED:20260208T155221Z
UID:10043923-1837368000-1837389600@livemusicasheville.com
SUMMARY:All Request Piano Show
DESCRIPTION:Related
URL:https://livemusicasheville.com/calendar/all-request-piano-show-2/2028-03-22/
LOCATION:Off the Wagon
CATEGORIES:Asheville Area,Live Music
GEO:41.4302231;-81.3909542
END:VEVENT
BEGIN:VEVENT
DTSTART;TZID=America/New_York:20280323T200000
DTEND;TZID=America/New_York:20280324T020000
DTSTAMP:20260422T021019
CREATED:20260208T155221Z
LAST-MODIFIED:20260208T155221Z
UID:10043924-1837454400-1837476000@livemusicasheville.com
SUMMARY:All Request Piano Show
DESCRIPTION:Related
URL:https://livemusicasheville.com/calendar/all-request-piano-show-2/2028-03-23/
LOCATION:Off the Wagon
CATEGORIES:Asheville Area,Live Music
GEO:41.4302231;-81.3909542
END:VEVENT
BEGIN:VEVENT
DTSTART;TZID=America/New_York:20280326T200000
DTEND;TZID=America/New_York:20280327T020000
DTSTAMP:20260422T021019
CREATED:20260208T155221Z
LAST-MODIFIED:20260208T155221Z
UID:10043925-1837713600-1837735200@livemusicasheville.com
SUMMARY:All Request Piano Show
DESCRIPTION:Related
URL:https://livemusicasheville.com/calendar/all-request-piano-show-2/2028-03-26/
LOCATION:Off the Wagon
CATEGORIES:Asheville Area,Live Music
GEO:41.4302231;-81.3909542
END:VEVENT
BEGIN:VEVENT
DTSTART;TZID=America/New_York:20280329T200000
DTEND;TZID=America/New_York:20280330T020000
DTSTAMP:20260422T021019
CREATED:20260208T155221Z
LAST-MODIFIED:20260208T155221Z
UID:10043926-1837972800-1837994400@livemusicasheville.com
SUMMARY:All Request Piano Show
DESCRIPTION:Related
URL:https://livemusicasheville.com/calendar/all-request-piano-show-2/2028-03-29/
LOCATION:Off the Wagon
CATEGORIES:Asheville Area,Live Music
GEO:41.4302231;-81.3909542
END:VEVENT
BEGIN:VEVENT
DTSTART;TZID=America/New_York:20280330T200000
DTEND;TZID=America/New_York:20280331T020000
DTSTAMP:20260422T021019
CREATED:20260208T155221Z
LAST-MODIFIED:20260208T155221Z
UID:10043927-1838059200-1838080800@livemusicasheville.com
SUMMARY:All Request Piano Show
DESCRIPTION:Related
URL:https://livemusicasheville.com/calendar/all-request-piano-show-2/2028-03-30/
LOCATION:Off the Wagon
CATEGORIES:Asheville Area,Live Music
GEO:41.4302231;-81.3909542
END:VEVENT
BEGIN:VEVENT
DTSTART;TZID=America/New_York:20280402T200000
DTEND;TZID=America/New_York:20280403T020000
DTSTAMP:20260422T021019
CREATED:20260208T155221Z
LAST-MODIFIED:20260208T155221Z
UID:10043928-1838318400-1838340000@livemusicasheville.com
SUMMARY:All Request Piano Show
DESCRIPTION:Related
URL:https://livemusicasheville.com/calendar/all-request-piano-show-2/2028-04-02/
LOCATION:Off the Wagon
CATEGORIES:Asheville Area,Live Music
GEO:41.4302231;-81.3909542
END:VEVENT
BEGIN:VEVENT
DTSTART;TZID=America/New_York:20280405T200000
DTEND;TZID=America/New_York:20280406T020000
DTSTAMP:20260422T021019
CREATED:20260208T155221Z
LAST-MODIFIED:20260208T155221Z
UID:10043929-1838577600-1838599200@livemusicasheville.com
SUMMARY:All Request Piano Show
DESCRIPTION:Related
URL:https://livemusicasheville.com/calendar/all-request-piano-show-2/2028-04-05/
LOCATION:Off the Wagon
CATEGORIES:Asheville Area,Live Music
GEO:41.4302231;-81.3909542
END:VEVENT
BEGIN:VEVENT
DTSTART;TZID=America/New_York:20280406T200000
DTEND;TZID=America/New_York:20280407T020000
DTSTAMP:20260422T021019
CREATED:20260208T155221Z
LAST-MODIFIED:20260208T155221Z
UID:10043930-1838664000-1838685600@livemusicasheville.com
SUMMARY:All Request Piano Show
DESCRIPTION:Related
URL:https://livemusicasheville.com/calendar/all-request-piano-show-2/2028-04-06/
LOCATION:Off the Wagon
CATEGORIES:Asheville Area,Live Music
GEO:41.4302231;-81.3909542
END:VEVENT
BEGIN:VEVENT
DTSTART;TZID=America/New_York:20280409T200000
DTEND;TZID=America/New_York:20280410T020000
DTSTAMP:20260422T021019
CREATED:20260208T155221Z
LAST-MODIFIED:20260208T155221Z
UID:10043931-1838923200-1838944800@livemusicasheville.com
SUMMARY:All Request Piano Show
DESCRIPTION:Related
URL:https://livemusicasheville.com/calendar/all-request-piano-show-2/2028-04-09/
LOCATION:Off the Wagon
CATEGORIES:Asheville Area,Live Music
GEO:41.4302231;-81.3909542
END:VEVENT
BEGIN:VEVENT
DTSTART;TZID=America/New_York:20280412T200000
DTEND;TZID=America/New_York:20280413T020000
DTSTAMP:20260422T021019
CREATED:20260208T155221Z
LAST-MODIFIED:20260208T155221Z
UID:10043932-1839182400-1839204000@livemusicasheville.com
SUMMARY:All Request Piano Show
DESCRIPTION:Related
URL:https://livemusicasheville.com/calendar/all-request-piano-show-2/2028-04-12/
LOCATION:Off the Wagon
CATEGORIES:Asheville Area,Live Music
GEO:41.4302231;-81.3909542
END:VEVENT
BEGIN:VEVENT
DTSTART;TZID=America/New_York:20280413T200000
DTEND;TZID=America/New_York:20280414T020000
DTSTAMP:20260422T021019
CREATED:20260208T155221Z
LAST-MODIFIED:20260208T155221Z
UID:10043933-1839268800-1839290400@livemusicasheville.com
SUMMARY:All Request Piano Show
DESCRIPTION:Related
URL:https://livemusicasheville.com/calendar/all-request-piano-show-2/2028-04-13/
LOCATION:Off the Wagon
CATEGORIES:Asheville Area,Live Music
GEO:41.4302231;-81.3909542
END:VEVENT
BEGIN:VEVENT
DTSTART;TZID=America/New_York:20280416T200000
DTEND;TZID=America/New_York:20280417T020000
DTSTAMP:20260422T021019
CREATED:20260208T155221Z
LAST-MODIFIED:20260208T155221Z
UID:10043934-1839528000-1839549600@livemusicasheville.com
SUMMARY:All Request Piano Show
DESCRIPTION:Related
URL:https://livemusicasheville.com/calendar/all-request-piano-show-2/2028-04-16/
LOCATION:Off the Wagon
CATEGORIES:Asheville Area,Live Music
GEO:41.4302231;-81.3909542
END:VEVENT
BEGIN:VEVENT
DTSTART;TZID=America/New_York:20280419T200000
DTEND;TZID=America/New_York:20280420T020000
DTSTAMP:20260422T021019
CREATED:20260208T155221Z
LAST-MODIFIED:20260208T155221Z
UID:10043935-1839787200-1839808800@livemusicasheville.com
SUMMARY:All Request Piano Show
DESCRIPTION:Related
URL:https://livemusicasheville.com/calendar/all-request-piano-show-2/2028-04-19/
LOCATION:Off the Wagon
CATEGORIES:Asheville Area,Live Music
GEO:41.4302231;-81.3909542
END:VEVENT
BEGIN:VEVENT
DTSTART;TZID=America/New_York:20280420T200000
DTEND;TZID=America/New_York:20280421T020000
DTSTAMP:20260422T021019
CREATED:20260208T155221Z
LAST-MODIFIED:20260208T155221Z
UID:10043936-1839873600-1839895200@livemusicasheville.com
SUMMARY:All Request Piano Show
DESCRIPTION:Related
URL:https://livemusicasheville.com/calendar/all-request-piano-show-2/2028-04-20/
LOCATION:Off the Wagon
CATEGORIES:Asheville Area,Live Music
GEO:41.4302231;-81.3909542
END:VEVENT
BEGIN:VEVENT
DTSTART;TZID=America/New_York:20280423T200000
DTEND;TZID=America/New_York:20280424T020000
DTSTAMP:20260422T021019
CREATED:20260208T155221Z
LAST-MODIFIED:20260208T155221Z
UID:10043937-1840132800-1840154400@livemusicasheville.com
SUMMARY:All Request Piano Show
DESCRIPTION:Related
URL:https://livemusicasheville.com/calendar/all-request-piano-show-2/2028-04-23/
LOCATION:Off the Wagon
CATEGORIES:Asheville Area,Live Music
GEO:41.4302231;-81.3909542
END:VEVENT
BEGIN:VEVENT
DTSTART;TZID=America/New_York:20280426T200000
DTEND;TZID=America/New_York:20280427T020000
DTSTAMP:20260422T021019
CREATED:20260208T155221Z
LAST-MODIFIED:20260208T155221Z
UID:10043938-1840392000-1840413600@livemusicasheville.com
SUMMARY:All Request Piano Show
DESCRIPTION:Related
URL:https://livemusicasheville.com/calendar/all-request-piano-show-2/2028-04-26/
LOCATION:Off the Wagon
CATEGORIES:Asheville Area,Live Music
GEO:41.4302231;-81.3909542
END:VEVENT
BEGIN:VEVENT
DTSTART;TZID=America/New_York:20280427T200000
DTEND;TZID=America/New_York:20280428T020000
DTSTAMP:20260422T021019
CREATED:20260208T155221Z
LAST-MODIFIED:20260208T155221Z
UID:10043939-1840478400-1840500000@livemusicasheville.com
SUMMARY:All Request Piano Show
DESCRIPTION:Related
URL:https://livemusicasheville.com/calendar/all-request-piano-show-2/2028-04-27/
LOCATION:Off the Wagon
CATEGORIES:Asheville Area,Live Music
GEO:41.4302231;-81.3909542
END:VEVENT
BEGIN:VEVENT
DTSTART;TZID=America/New_York:20280430T200000
DTEND;TZID=America/New_York:20280501T020000
DTSTAMP:20260422T021019
CREATED:20260208T155221Z
LAST-MODIFIED:20260208T155221Z
UID:10043940-1840737600-1840759200@livemusicasheville.com
SUMMARY:All Request Piano Show
DESCRIPTION:Related
URL:https://livemusicasheville.com/calendar/all-request-piano-show-2/2028-04-30/
LOCATION:Off the Wagon
CATEGORIES:Asheville Area,Live Music
GEO:41.4302231;-81.3909542
END:VEVENT
BEGIN:VEVENT
DTSTART;TZID=America/New_York:20280503T200000
DTEND;TZID=America/New_York:20280504T020000
DTSTAMP:20260422T021019
CREATED:20260208T155221Z
LAST-MODIFIED:20260208T155221Z
UID:10043941-1840996800-1841018400@livemusicasheville.com
SUMMARY:All Request Piano Show
DESCRIPTION:Related
URL:https://livemusicasheville.com/calendar/all-request-piano-show-2/2028-05-03/
LOCATION:Off the Wagon
CATEGORIES:Asheville Area,Live Music
GEO:41.4302231;-81.3909542
END:VEVENT
END:VCALENDAR