BEGIN:VCALENDAR
VERSION:2.0
PRODID:-//LiveMusicAsheville.com - ECPv6.15.20//NONSGML v1.0//EN
CALSCALE:GREGORIAN
METHOD:PUBLISH
X-WR-CALNAME:LiveMusicAsheville.com
X-ORIGINAL-URL:https://livemusicasheville.com
X-WR-CALDESC:Events for LiveMusicAsheville.com
REFRESH-INTERVAL;VALUE=DURATION:PT1H
X-Robots-Tag:noindex
X-PUBLISHED-TTL:PT1H
BEGIN:VTIMEZONE
TZID:America/New_York
BEGIN:DAYLIGHT
TZOFFSETFROM:-0500
TZOFFSETTO:-0400
TZNAME:EDT
DTSTART:20260308T070000
END:DAYLIGHT
BEGIN:STANDARD
TZOFFSETFROM:-0400
TZOFFSETTO:-0500
TZNAME:EST
DTSTART:20261101T060000
END:STANDARD
BEGIN:DAYLIGHT
TZOFFSETFROM:-0500
TZOFFSETTO:-0400
TZNAME:EDT
DTSTART:20270314T070000
END:DAYLIGHT
BEGIN:STANDARD
TZOFFSETFROM:-0400
TZOFFSETTO:-0500
TZNAME:EST
DTSTART:20271107T060000
END:STANDARD
BEGIN:DAYLIGHT
TZOFFSETFROM:-0500
TZOFFSETTO:-0400
TZNAME:EDT
DTSTART:20280312T070000
END:DAYLIGHT
BEGIN:STANDARD
TZOFFSETFROM:-0400
TZOFFSETTO:-0500
TZNAME:EST
DTSTART:20281105T060000
END:STANDARD
END:VTIMEZONE
BEGIN:VEVENT
DTSTART;TZID=America/New_York:20271007T200000
DTEND;TZID=America/New_York:20271008T020000
DTSTAMP:20260421T125151
CREATED:20260208T155221Z
LAST-MODIFIED:20260208T155221Z
UID:10043852-1822939200-1822960800@livemusicasheville.com
SUMMARY:All Request Piano Show
DESCRIPTION:Related
URL:https://livemusicasheville.com/calendar/all-request-piano-show-2/2027-10-07/
LOCATION:Off the Wagon
CATEGORIES:Asheville Area,Live Music
GEO:41.4302231;-81.3909542
END:VEVENT
BEGIN:VEVENT
DTSTART;TZID=America/New_York:20271010T200000
DTEND;TZID=America/New_York:20271011T020000
DTSTAMP:20260421T125151
CREATED:20260208T155221Z
LAST-MODIFIED:20260208T155221Z
UID:10043853-1823198400-1823220000@livemusicasheville.com
SUMMARY:All Request Piano Show
DESCRIPTION:Related
URL:https://livemusicasheville.com/calendar/all-request-piano-show-2/2027-10-10/
LOCATION:Off the Wagon
CATEGORIES:Asheville Area,Live Music
GEO:41.4302231;-81.3909542
END:VEVENT
BEGIN:VEVENT
DTSTART;TZID=America/New_York:20271013T200000
DTEND;TZID=America/New_York:20271014T020000
DTSTAMP:20260421T125151
CREATED:20260208T155221Z
LAST-MODIFIED:20260208T155221Z
UID:10043854-1823457600-1823479200@livemusicasheville.com
SUMMARY:All Request Piano Show
DESCRIPTION:Related
URL:https://livemusicasheville.com/calendar/all-request-piano-show-2/2027-10-13/
LOCATION:Off the Wagon
CATEGORIES:Asheville Area,Live Music
GEO:41.4302231;-81.3909542
END:VEVENT
BEGIN:VEVENT
DTSTART;TZID=America/New_York:20271014T200000
DTEND;TZID=America/New_York:20271015T020000
DTSTAMP:20260421T125151
CREATED:20260208T155221Z
LAST-MODIFIED:20260208T155221Z
UID:10043855-1823544000-1823565600@livemusicasheville.com
SUMMARY:All Request Piano Show
DESCRIPTION:Related
URL:https://livemusicasheville.com/calendar/all-request-piano-show-2/2027-10-14/
LOCATION:Off the Wagon
CATEGORIES:Asheville Area,Live Music
GEO:41.4302231;-81.3909542
END:VEVENT
BEGIN:VEVENT
DTSTART;TZID=America/New_York:20271017T200000
DTEND;TZID=America/New_York:20271018T020000
DTSTAMP:20260421T125151
CREATED:20260208T155221Z
LAST-MODIFIED:20260208T155221Z
UID:10043856-1823803200-1823824800@livemusicasheville.com
SUMMARY:All Request Piano Show
DESCRIPTION:Related
URL:https://livemusicasheville.com/calendar/all-request-piano-show-2/2027-10-17/
LOCATION:Off the Wagon
CATEGORIES:Asheville Area,Live Music
GEO:41.4302231;-81.3909542
END:VEVENT
BEGIN:VEVENT
DTSTART;TZID=America/New_York:20271020T200000
DTEND;TZID=America/New_York:20271021T020000
DTSTAMP:20260421T125151
CREATED:20260208T155221Z
LAST-MODIFIED:20260208T155221Z
UID:10043857-1824062400-1824084000@livemusicasheville.com
SUMMARY:All Request Piano Show
DESCRIPTION:Related
URL:https://livemusicasheville.com/calendar/all-request-piano-show-2/2027-10-20/
LOCATION:Off the Wagon
CATEGORIES:Asheville Area,Live Music
GEO:41.4302231;-81.3909542
END:VEVENT
BEGIN:VEVENT
DTSTART;TZID=America/New_York:20271021T200000
DTEND;TZID=America/New_York:20271022T020000
DTSTAMP:20260421T125151
CREATED:20260208T155221Z
LAST-MODIFIED:20260208T155221Z
UID:10043858-1824148800-1824170400@livemusicasheville.com
SUMMARY:All Request Piano Show
DESCRIPTION:Related
URL:https://livemusicasheville.com/calendar/all-request-piano-show-2/2027-10-21/
LOCATION:Off the Wagon
CATEGORIES:Asheville Area,Live Music
GEO:41.4302231;-81.3909542
END:VEVENT
BEGIN:VEVENT
DTSTART;TZID=America/New_York:20271024T200000
DTEND;TZID=America/New_York:20271025T020000
DTSTAMP:20260421T125151
CREATED:20260208T155221Z
LAST-MODIFIED:20260208T155221Z
UID:10043859-1824408000-1824429600@livemusicasheville.com
SUMMARY:All Request Piano Show
DESCRIPTION:Related
URL:https://livemusicasheville.com/calendar/all-request-piano-show-2/2027-10-24/
LOCATION:Off the Wagon
CATEGORIES:Asheville Area,Live Music
GEO:41.4302231;-81.3909542
END:VEVENT
BEGIN:VEVENT
DTSTART;TZID=America/New_York:20271027T200000
DTEND;TZID=America/New_York:20271028T020000
DTSTAMP:20260421T125151
CREATED:20260208T155221Z
LAST-MODIFIED:20260208T155221Z
UID:10043860-1824667200-1824688800@livemusicasheville.com
SUMMARY:All Request Piano Show
DESCRIPTION:Related
URL:https://livemusicasheville.com/calendar/all-request-piano-show-2/2027-10-27/
LOCATION:Off the Wagon
CATEGORIES:Asheville Area,Live Music
GEO:41.4302231;-81.3909542
END:VEVENT
BEGIN:VEVENT
DTSTART;TZID=America/New_York:20271028T200000
DTEND;TZID=America/New_York:20271029T020000
DTSTAMP:20260421T125151
CREATED:20260208T155221Z
LAST-MODIFIED:20260208T155221Z
UID:10043861-1824753600-1824775200@livemusicasheville.com
SUMMARY:All Request Piano Show
DESCRIPTION:Related
URL:https://livemusicasheville.com/calendar/all-request-piano-show-2/2027-10-28/
LOCATION:Off the Wagon
CATEGORIES:Asheville Area,Live Music
GEO:41.4302231;-81.3909542
END:VEVENT
BEGIN:VEVENT
DTSTART;TZID=America/New_York:20271031T200000
DTEND;TZID=America/New_York:20271101T020000
DTSTAMP:20260421T125151
CREATED:20260208T155221Z
LAST-MODIFIED:20260208T155221Z
UID:10043862-1825012800-1825034400@livemusicasheville.com
SUMMARY:All Request Piano Show
DESCRIPTION:Related
URL:https://livemusicasheville.com/calendar/all-request-piano-show-2/2027-10-31/
LOCATION:Off the Wagon
CATEGORIES:Asheville Area,Live Music
GEO:41.4302231;-81.3909542
END:VEVENT
BEGIN:VEVENT
DTSTART;TZID=America/New_York:20271103T200000
DTEND;TZID=America/New_York:20271104T020000
DTSTAMP:20260421T125151
CREATED:20260208T155221Z
LAST-MODIFIED:20260208T155221Z
UID:10043863-1825272000-1825293600@livemusicasheville.com
SUMMARY:All Request Piano Show
DESCRIPTION:Related
URL:https://livemusicasheville.com/calendar/all-request-piano-show-2/2027-11-03/
LOCATION:Off the Wagon
CATEGORIES:Asheville Area,Live Music
GEO:41.4302231;-81.3909542
END:VEVENT
BEGIN:VEVENT
DTSTART;TZID=America/New_York:20271104T200000
DTEND;TZID=America/New_York:20271105T020000
DTSTAMP:20260421T125151
CREATED:20260208T155221Z
LAST-MODIFIED:20260208T155221Z
UID:10043864-1825358400-1825380000@livemusicasheville.com
SUMMARY:All Request Piano Show
DESCRIPTION:Related
URL:https://livemusicasheville.com/calendar/all-request-piano-show-2/2027-11-04/
LOCATION:Off the Wagon
CATEGORIES:Asheville Area,Live Music
GEO:41.4302231;-81.3909542
END:VEVENT
BEGIN:VEVENT
DTSTART;TZID=America/New_York:20271107T200000
DTEND;TZID=America/New_York:20271108T020000
DTSTAMP:20260421T125151
CREATED:20260208T155221Z
LAST-MODIFIED:20260208T155221Z
UID:10043865-1825617600-1825639200@livemusicasheville.com
SUMMARY:All Request Piano Show
DESCRIPTION:Related
URL:https://livemusicasheville.com/calendar/all-request-piano-show-2/2027-11-07/
LOCATION:Off the Wagon
CATEGORIES:Asheville Area,Live Music
GEO:41.4302231;-81.3909542
END:VEVENT
BEGIN:VEVENT
DTSTART;TZID=America/New_York:20271110T200000
DTEND;TZID=America/New_York:20271111T020000
DTSTAMP:20260421T125151
CREATED:20260208T155221Z
LAST-MODIFIED:20260208T155221Z
UID:10043866-1825876800-1825898400@livemusicasheville.com
SUMMARY:All Request Piano Show
DESCRIPTION:Related
URL:https://livemusicasheville.com/calendar/all-request-piano-show-2/2027-11-10/
LOCATION:Off the Wagon
CATEGORIES:Asheville Area,Live Music
GEO:41.4302231;-81.3909542
END:VEVENT
BEGIN:VEVENT
DTSTART;TZID=America/New_York:20271111T200000
DTEND;TZID=America/New_York:20271112T020000
DTSTAMP:20260421T125151
CREATED:20260208T155221Z
LAST-MODIFIED:20260208T155221Z
UID:10043867-1825963200-1825984800@livemusicasheville.com
SUMMARY:All Request Piano Show
DESCRIPTION:Related
URL:https://livemusicasheville.com/calendar/all-request-piano-show-2/2027-11-11/
LOCATION:Off the Wagon
CATEGORIES:Asheville Area,Live Music
GEO:41.4302231;-81.3909542
END:VEVENT
BEGIN:VEVENT
DTSTART;TZID=America/New_York:20271114T200000
DTEND;TZID=America/New_York:20271115T020000
DTSTAMP:20260421T125151
CREATED:20260208T155221Z
LAST-MODIFIED:20260208T155221Z
UID:10043868-1826222400-1826244000@livemusicasheville.com
SUMMARY:All Request Piano Show
DESCRIPTION:Related
URL:https://livemusicasheville.com/calendar/all-request-piano-show-2/2027-11-14/
LOCATION:Off the Wagon
CATEGORIES:Asheville Area,Live Music
GEO:41.4302231;-81.3909542
END:VEVENT
BEGIN:VEVENT
DTSTART;TZID=America/New_York:20271117T200000
DTEND;TZID=America/New_York:20271118T020000
DTSTAMP:20260421T125151
CREATED:20260208T155221Z
LAST-MODIFIED:20260208T155221Z
UID:10043869-1826481600-1826503200@livemusicasheville.com
SUMMARY:All Request Piano Show
DESCRIPTION:Related
URL:https://livemusicasheville.com/calendar/all-request-piano-show-2/2027-11-17/
LOCATION:Off the Wagon
CATEGORIES:Asheville Area,Live Music
GEO:41.4302231;-81.3909542
END:VEVENT
BEGIN:VEVENT
DTSTART;TZID=America/New_York:20271118T200000
DTEND;TZID=America/New_York:20271119T020000
DTSTAMP:20260421T125151
CREATED:20260208T155221Z
LAST-MODIFIED:20260208T155221Z
UID:10043870-1826568000-1826589600@livemusicasheville.com
SUMMARY:All Request Piano Show
DESCRIPTION:Related
URL:https://livemusicasheville.com/calendar/all-request-piano-show-2/2027-11-18/
LOCATION:Off the Wagon
CATEGORIES:Asheville Area,Live Music
GEO:41.4302231;-81.3909542
END:VEVENT
BEGIN:VEVENT
DTSTART;TZID=America/New_York:20271121T200000
DTEND;TZID=America/New_York:20271122T020000
DTSTAMP:20260421T125151
CREATED:20260208T155221Z
LAST-MODIFIED:20260208T155221Z
UID:10043871-1826827200-1826848800@livemusicasheville.com
SUMMARY:All Request Piano Show
DESCRIPTION:Related
URL:https://livemusicasheville.com/calendar/all-request-piano-show-2/2027-11-21/
LOCATION:Off the Wagon
CATEGORIES:Asheville Area,Live Music
GEO:41.4302231;-81.3909542
END:VEVENT
BEGIN:VEVENT
DTSTART;TZID=America/New_York:20271124T200000
DTEND;TZID=America/New_York:20271125T020000
DTSTAMP:20260421T125151
CREATED:20260208T155221Z
LAST-MODIFIED:20260208T155221Z
UID:10043872-1827086400-1827108000@livemusicasheville.com
SUMMARY:All Request Piano Show
DESCRIPTION:Related
URL:https://livemusicasheville.com/calendar/all-request-piano-show-2/2027-11-24/
LOCATION:Off the Wagon
CATEGORIES:Asheville Area,Live Music
GEO:41.4302231;-81.3909542
END:VEVENT
BEGIN:VEVENT
DTSTART;TZID=America/New_York:20271125T200000
DTEND;TZID=America/New_York:20271126T020000
DTSTAMP:20260421T125151
CREATED:20260208T155221Z
LAST-MODIFIED:20260208T155221Z
UID:10043873-1827172800-1827194400@livemusicasheville.com
SUMMARY:All Request Piano Show
DESCRIPTION:Related
URL:https://livemusicasheville.com/calendar/all-request-piano-show-2/2027-11-25/
LOCATION:Off the Wagon
CATEGORIES:Asheville Area,Live Music
GEO:41.4302231;-81.3909542
END:VEVENT
BEGIN:VEVENT
DTSTART;TZID=America/New_York:20271128T200000
DTEND;TZID=America/New_York:20271129T020000
DTSTAMP:20260421T125151
CREATED:20260208T155221Z
LAST-MODIFIED:20260208T155221Z
UID:10043874-1827432000-1827453600@livemusicasheville.com
SUMMARY:All Request Piano Show
DESCRIPTION:Related
URL:https://livemusicasheville.com/calendar/all-request-piano-show-2/2027-11-28/
LOCATION:Off the Wagon
CATEGORIES:Asheville Area,Live Music
GEO:41.4302231;-81.3909542
END:VEVENT
BEGIN:VEVENT
DTSTART;TZID=America/New_York:20271201T200000
DTEND;TZID=America/New_York:20271202T020000
DTSTAMP:20260421T125151
CREATED:20260208T155221Z
LAST-MODIFIED:20260208T155221Z
UID:10043875-1827691200-1827712800@livemusicasheville.com
SUMMARY:All Request Piano Show
DESCRIPTION:Related
URL:https://livemusicasheville.com/calendar/all-request-piano-show-2/2027-12-01/
LOCATION:Off the Wagon
CATEGORIES:Asheville Area,Live Music
GEO:41.4302231;-81.3909542
END:VEVENT
BEGIN:VEVENT
DTSTART;TZID=America/New_York:20271202T200000
DTEND;TZID=America/New_York:20271203T020000
DTSTAMP:20260421T125151
CREATED:20260208T155221Z
LAST-MODIFIED:20260208T155221Z
UID:10043876-1827777600-1827799200@livemusicasheville.com
SUMMARY:All Request Piano Show
DESCRIPTION:Related
URL:https://livemusicasheville.com/calendar/all-request-piano-show-2/2027-12-02/
LOCATION:Off the Wagon
CATEGORIES:Asheville Area,Live Music
GEO:41.4302231;-81.3909542
END:VEVENT
BEGIN:VEVENT
DTSTART;TZID=America/New_York:20271205T200000
DTEND;TZID=America/New_York:20271206T020000
DTSTAMP:20260421T125151
CREATED:20260208T155221Z
LAST-MODIFIED:20260208T155221Z
UID:10043877-1828036800-1828058400@livemusicasheville.com
SUMMARY:All Request Piano Show
DESCRIPTION:Related
URL:https://livemusicasheville.com/calendar/all-request-piano-show-2/2027-12-05/
LOCATION:Off the Wagon
CATEGORIES:Asheville Area,Live Music
GEO:41.4302231;-81.3909542
END:VEVENT
BEGIN:VEVENT
DTSTART;TZID=America/New_York:20271208T200000
DTEND;TZID=America/New_York:20271209T020000
DTSTAMP:20260421T125151
CREATED:20260208T155221Z
LAST-MODIFIED:20260208T155221Z
UID:10043878-1828296000-1828317600@livemusicasheville.com
SUMMARY:All Request Piano Show
DESCRIPTION:Related
URL:https://livemusicasheville.com/calendar/all-request-piano-show-2/2027-12-08/
LOCATION:Off the Wagon
CATEGORIES:Asheville Area,Live Music
GEO:41.4302231;-81.3909542
END:VEVENT
BEGIN:VEVENT
DTSTART;TZID=America/New_York:20271209T200000
DTEND;TZID=America/New_York:20271210T020000
DTSTAMP:20260421T125151
CREATED:20260208T155221Z
LAST-MODIFIED:20260208T155221Z
UID:10043879-1828382400-1828404000@livemusicasheville.com
SUMMARY:All Request Piano Show
DESCRIPTION:Related
URL:https://livemusicasheville.com/calendar/all-request-piano-show-2/2027-12-09/
LOCATION:Off the Wagon
CATEGORIES:Asheville Area,Live Music
GEO:41.4302231;-81.3909542
END:VEVENT
BEGIN:VEVENT
DTSTART;TZID=America/New_York:20271212T200000
DTEND;TZID=America/New_York:20271213T020000
DTSTAMP:20260421T125151
CREATED:20260208T155221Z
LAST-MODIFIED:20260208T155221Z
UID:10043880-1828641600-1828663200@livemusicasheville.com
SUMMARY:All Request Piano Show
DESCRIPTION:Related
URL:https://livemusicasheville.com/calendar/all-request-piano-show-2/2027-12-12/
LOCATION:Off the Wagon
CATEGORIES:Asheville Area,Live Music
GEO:41.4302231;-81.3909542
END:VEVENT
BEGIN:VEVENT
DTSTART;TZID=America/New_York:20271215T200000
DTEND;TZID=America/New_York:20271216T020000
DTSTAMP:20260421T125151
CREATED:20260208T155221Z
LAST-MODIFIED:20260208T155221Z
UID:10043881-1828900800-1828922400@livemusicasheville.com
SUMMARY:All Request Piano Show
DESCRIPTION:Related
URL:https://livemusicasheville.com/calendar/all-request-piano-show-2/2027-12-15/
LOCATION:Off the Wagon
CATEGORIES:Asheville Area,Live Music
GEO:41.4302231;-81.3909542
END:VEVENT
END:VCALENDAR