BEGIN:VCALENDAR
VERSION:2.0
PRODID:-//LiveMusicAsheville.com - ECPv6.15.20//NONSGML v1.0//EN
CALSCALE:GREGORIAN
METHOD:PUBLISH
X-WR-CALNAME:LiveMusicAsheville.com
X-ORIGINAL-URL:https://livemusicasheville.com
X-WR-CALDESC:Events for LiveMusicAsheville.com
REFRESH-INTERVAL;VALUE=DURATION:PT1H
X-Robots-Tag:noindex
X-PUBLISHED-TTL:PT1H
BEGIN:VTIMEZONE
TZID:America/New_York
BEGIN:DAYLIGHT
TZOFFSETFROM:-0500
TZOFFSETTO:-0400
TZNAME:EDT
DTSTART:20260308T070000
END:DAYLIGHT
BEGIN:STANDARD
TZOFFSETFROM:-0400
TZOFFSETTO:-0500
TZNAME:EST
DTSTART:20261101T060000
END:STANDARD
BEGIN:DAYLIGHT
TZOFFSETFROM:-0500
TZOFFSETTO:-0400
TZNAME:EDT
DTSTART:20270314T070000
END:DAYLIGHT
BEGIN:STANDARD
TZOFFSETFROM:-0400
TZOFFSETTO:-0500
TZNAME:EST
DTSTART:20271107T060000
END:STANDARD
BEGIN:DAYLIGHT
TZOFFSETFROM:-0500
TZOFFSETTO:-0400
TZNAME:EDT
DTSTART:20280312T070000
END:DAYLIGHT
BEGIN:STANDARD
TZOFFSETFROM:-0400
TZOFFSETTO:-0500
TZNAME:EST
DTSTART:20281105T060000
END:STANDARD
END:VTIMEZONE
BEGIN:VEVENT
DTSTART;TZID=America/New_York:20270805T200000
DTEND;TZID=America/New_York:20270806T020000
DTSTAMP:20260425T121037
CREATED:20260208T155221Z
LAST-MODIFIED:20260208T155221Z
UID:10043825-1817496000-1817517600@livemusicasheville.com
SUMMARY:All Request Piano Show
DESCRIPTION:Related
URL:https://livemusicasheville.com/calendar/all-request-piano-show-2/2027-08-05/
LOCATION:Off the Wagon
CATEGORIES:Asheville Area,Live Music
GEO:41.4302231;-81.3909542
END:VEVENT
BEGIN:VEVENT
DTSTART;TZID=America/New_York:20270808T200000
DTEND;TZID=America/New_York:20270809T020000
DTSTAMP:20260425T121037
CREATED:20260208T155221Z
LAST-MODIFIED:20260208T155221Z
UID:10043826-1817755200-1817776800@livemusicasheville.com
SUMMARY:All Request Piano Show
DESCRIPTION:Related
URL:https://livemusicasheville.com/calendar/all-request-piano-show-2/2027-08-08/
LOCATION:Off the Wagon
CATEGORIES:Asheville Area,Live Music
GEO:41.4302231;-81.3909542
END:VEVENT
BEGIN:VEVENT
DTSTART;TZID=America/New_York:20270811T200000
DTEND;TZID=America/New_York:20270812T020000
DTSTAMP:20260425T121037
CREATED:20260208T155221Z
LAST-MODIFIED:20260208T155221Z
UID:10043827-1818014400-1818036000@livemusicasheville.com
SUMMARY:All Request Piano Show
DESCRIPTION:Related
URL:https://livemusicasheville.com/calendar/all-request-piano-show-2/2027-08-11/
LOCATION:Off the Wagon
CATEGORIES:Asheville Area,Live Music
GEO:41.4302231;-81.3909542
END:VEVENT
BEGIN:VEVENT
DTSTART;TZID=America/New_York:20270812T200000
DTEND;TZID=America/New_York:20270813T020000
DTSTAMP:20260425T121037
CREATED:20260208T155221Z
LAST-MODIFIED:20260208T155221Z
UID:10043828-1818100800-1818122400@livemusicasheville.com
SUMMARY:All Request Piano Show
DESCRIPTION:Related
URL:https://livemusicasheville.com/calendar/all-request-piano-show-2/2027-08-12/
LOCATION:Off the Wagon
CATEGORIES:Asheville Area,Live Music
GEO:41.4302231;-81.3909542
END:VEVENT
BEGIN:VEVENT
DTSTART;TZID=America/New_York:20270815T200000
DTEND;TZID=America/New_York:20270816T020000
DTSTAMP:20260425T121037
CREATED:20260208T155221Z
LAST-MODIFIED:20260208T155221Z
UID:10043829-1818360000-1818381600@livemusicasheville.com
SUMMARY:All Request Piano Show
DESCRIPTION:Related
URL:https://livemusicasheville.com/calendar/all-request-piano-show-2/2027-08-15/
LOCATION:Off the Wagon
CATEGORIES:Asheville Area,Live Music
GEO:41.4302231;-81.3909542
END:VEVENT
BEGIN:VEVENT
DTSTART;TZID=America/New_York:20270818T200000
DTEND;TZID=America/New_York:20270819T020000
DTSTAMP:20260425T121037
CREATED:20260208T155221Z
LAST-MODIFIED:20260208T155221Z
UID:10043830-1818619200-1818640800@livemusicasheville.com
SUMMARY:All Request Piano Show
DESCRIPTION:Related
URL:https://livemusicasheville.com/calendar/all-request-piano-show-2/2027-08-18/
LOCATION:Off the Wagon
CATEGORIES:Asheville Area,Live Music
GEO:41.4302231;-81.3909542
END:VEVENT
BEGIN:VEVENT
DTSTART;TZID=America/New_York:20270819T200000
DTEND;TZID=America/New_York:20270820T020000
DTSTAMP:20260425T121037
CREATED:20260208T155221Z
LAST-MODIFIED:20260208T155221Z
UID:10043831-1818705600-1818727200@livemusicasheville.com
SUMMARY:All Request Piano Show
DESCRIPTION:Related
URL:https://livemusicasheville.com/calendar/all-request-piano-show-2/2027-08-19/
LOCATION:Off the Wagon
CATEGORIES:Asheville Area,Live Music
GEO:41.4302231;-81.3909542
END:VEVENT
BEGIN:VEVENT
DTSTART;TZID=America/New_York:20270822T200000
DTEND;TZID=America/New_York:20270823T020000
DTSTAMP:20260425T121037
CREATED:20260208T155221Z
LAST-MODIFIED:20260208T155221Z
UID:10043832-1818964800-1818986400@livemusicasheville.com
SUMMARY:All Request Piano Show
DESCRIPTION:Related
URL:https://livemusicasheville.com/calendar/all-request-piano-show-2/2027-08-22/
LOCATION:Off the Wagon
CATEGORIES:Asheville Area,Live Music
GEO:41.4302231;-81.3909542
END:VEVENT
BEGIN:VEVENT
DTSTART;TZID=America/New_York:20270825T200000
DTEND;TZID=America/New_York:20270826T020000
DTSTAMP:20260425T121037
CREATED:20260208T155221Z
LAST-MODIFIED:20260208T155221Z
UID:10043833-1819224000-1819245600@livemusicasheville.com
SUMMARY:All Request Piano Show
DESCRIPTION:Related
URL:https://livemusicasheville.com/calendar/all-request-piano-show-2/2027-08-25/
LOCATION:Off the Wagon
CATEGORIES:Asheville Area,Live Music
GEO:41.4302231;-81.3909542
END:VEVENT
BEGIN:VEVENT
DTSTART;TZID=America/New_York:20270826T200000
DTEND;TZID=America/New_York:20270827T020000
DTSTAMP:20260425T121037
CREATED:20260208T155221Z
LAST-MODIFIED:20260208T155221Z
UID:10043834-1819310400-1819332000@livemusicasheville.com
SUMMARY:All Request Piano Show
DESCRIPTION:Related
URL:https://livemusicasheville.com/calendar/all-request-piano-show-2/2027-08-26/
LOCATION:Off the Wagon
CATEGORIES:Asheville Area,Live Music
GEO:41.4302231;-81.3909542
END:VEVENT
BEGIN:VEVENT
DTSTART;TZID=America/New_York:20270829T200000
DTEND;TZID=America/New_York:20270830T020000
DTSTAMP:20260425T121037
CREATED:20260208T155221Z
LAST-MODIFIED:20260208T155221Z
UID:10043835-1819569600-1819591200@livemusicasheville.com
SUMMARY:All Request Piano Show
DESCRIPTION:Related
URL:https://livemusicasheville.com/calendar/all-request-piano-show-2/2027-08-29/
LOCATION:Off the Wagon
CATEGORIES:Asheville Area,Live Music
GEO:41.4302231;-81.3909542
END:VEVENT
BEGIN:VEVENT
DTSTART;TZID=America/New_York:20270901T200000
DTEND;TZID=America/New_York:20270902T020000
DTSTAMP:20260425T121037
CREATED:20260208T155221Z
LAST-MODIFIED:20260208T155221Z
UID:10043836-1819828800-1819850400@livemusicasheville.com
SUMMARY:All Request Piano Show
DESCRIPTION:Related
URL:https://livemusicasheville.com/calendar/all-request-piano-show-2/2027-09-01/
LOCATION:Off the Wagon
CATEGORIES:Asheville Area,Live Music
GEO:41.4302231;-81.3909542
END:VEVENT
BEGIN:VEVENT
DTSTART;TZID=America/New_York:20270902T200000
DTEND;TZID=America/New_York:20270903T020000
DTSTAMP:20260425T121037
CREATED:20260208T155221Z
LAST-MODIFIED:20260208T155221Z
UID:10043837-1819915200-1819936800@livemusicasheville.com
SUMMARY:All Request Piano Show
DESCRIPTION:Related
URL:https://livemusicasheville.com/calendar/all-request-piano-show-2/2027-09-02/
LOCATION:Off the Wagon
CATEGORIES:Asheville Area,Live Music
GEO:41.4302231;-81.3909542
END:VEVENT
BEGIN:VEVENT
DTSTART;TZID=America/New_York:20270905T200000
DTEND;TZID=America/New_York:20270906T020000
DTSTAMP:20260425T121037
CREATED:20260208T155221Z
LAST-MODIFIED:20260208T155221Z
UID:10043838-1820174400-1820196000@livemusicasheville.com
SUMMARY:All Request Piano Show
DESCRIPTION:Related
URL:https://livemusicasheville.com/calendar/all-request-piano-show-2/2027-09-05/
LOCATION:Off the Wagon
CATEGORIES:Asheville Area,Live Music
GEO:41.4302231;-81.3909542
END:VEVENT
BEGIN:VEVENT
DTSTART;TZID=America/New_York:20270908T200000
DTEND;TZID=America/New_York:20270909T020000
DTSTAMP:20260425T121037
CREATED:20260208T155221Z
LAST-MODIFIED:20260208T155221Z
UID:10043839-1820433600-1820455200@livemusicasheville.com
SUMMARY:All Request Piano Show
DESCRIPTION:Related
URL:https://livemusicasheville.com/calendar/all-request-piano-show-2/2027-09-08/
LOCATION:Off the Wagon
CATEGORIES:Asheville Area,Live Music
GEO:41.4302231;-81.3909542
END:VEVENT
BEGIN:VEVENT
DTSTART;TZID=America/New_York:20270909T200000
DTEND;TZID=America/New_York:20270910T020000
DTSTAMP:20260425T121037
CREATED:20260208T155221Z
LAST-MODIFIED:20260208T155221Z
UID:10043840-1820520000-1820541600@livemusicasheville.com
SUMMARY:All Request Piano Show
DESCRIPTION:Related
URL:https://livemusicasheville.com/calendar/all-request-piano-show-2/2027-09-09/
LOCATION:Off the Wagon
CATEGORIES:Asheville Area,Live Music
GEO:41.4302231;-81.3909542
END:VEVENT
BEGIN:VEVENT
DTSTART;TZID=America/New_York:20270912T200000
DTEND;TZID=America/New_York:20270913T020000
DTSTAMP:20260425T121037
CREATED:20260208T155221Z
LAST-MODIFIED:20260208T155221Z
UID:10043841-1820779200-1820800800@livemusicasheville.com
SUMMARY:All Request Piano Show
DESCRIPTION:Related
URL:https://livemusicasheville.com/calendar/all-request-piano-show-2/2027-09-12/
LOCATION:Off the Wagon
CATEGORIES:Asheville Area,Live Music
GEO:41.4302231;-81.3909542
END:VEVENT
BEGIN:VEVENT
DTSTART;TZID=America/New_York:20270915T200000
DTEND;TZID=America/New_York:20270916T020000
DTSTAMP:20260425T121037
CREATED:20260208T155221Z
LAST-MODIFIED:20260208T155221Z
UID:10043842-1821038400-1821060000@livemusicasheville.com
SUMMARY:All Request Piano Show
DESCRIPTION:Related
URL:https://livemusicasheville.com/calendar/all-request-piano-show-2/2027-09-15/
LOCATION:Off the Wagon
CATEGORIES:Asheville Area,Live Music
GEO:41.4302231;-81.3909542
END:VEVENT
BEGIN:VEVENT
DTSTART;TZID=America/New_York:20270916T200000
DTEND;TZID=America/New_York:20270917T020000
DTSTAMP:20260425T121037
CREATED:20260208T155221Z
LAST-MODIFIED:20260208T155221Z
UID:10043843-1821124800-1821146400@livemusicasheville.com
SUMMARY:All Request Piano Show
DESCRIPTION:Related
URL:https://livemusicasheville.com/calendar/all-request-piano-show-2/2027-09-16/
LOCATION:Off the Wagon
CATEGORIES:Asheville Area,Live Music
GEO:41.4302231;-81.3909542
END:VEVENT
BEGIN:VEVENT
DTSTART;TZID=America/New_York:20270919T200000
DTEND;TZID=America/New_York:20270920T020000
DTSTAMP:20260425T121037
CREATED:20260208T155221Z
LAST-MODIFIED:20260208T155221Z
UID:10043844-1821384000-1821405600@livemusicasheville.com
SUMMARY:All Request Piano Show
DESCRIPTION:Related
URL:https://livemusicasheville.com/calendar/all-request-piano-show-2/2027-09-19/
LOCATION:Off the Wagon
CATEGORIES:Asheville Area,Live Music
GEO:41.4302231;-81.3909542
END:VEVENT
BEGIN:VEVENT
DTSTART;TZID=America/New_York:20270922T200000
DTEND;TZID=America/New_York:20270923T020000
DTSTAMP:20260425T121037
CREATED:20260208T155221Z
LAST-MODIFIED:20260208T155221Z
UID:10043845-1821643200-1821664800@livemusicasheville.com
SUMMARY:All Request Piano Show
DESCRIPTION:Related
URL:https://livemusicasheville.com/calendar/all-request-piano-show-2/2027-09-22/
LOCATION:Off the Wagon
CATEGORIES:Asheville Area,Live Music
GEO:41.4302231;-81.3909542
END:VEVENT
BEGIN:VEVENT
DTSTART;TZID=America/New_York:20270923T200000
DTEND;TZID=America/New_York:20270924T020000
DTSTAMP:20260425T121037
CREATED:20260208T155221Z
LAST-MODIFIED:20260208T155221Z
UID:10043846-1821729600-1821751200@livemusicasheville.com
SUMMARY:All Request Piano Show
DESCRIPTION:Related
URL:https://livemusicasheville.com/calendar/all-request-piano-show-2/2027-09-23/
LOCATION:Off the Wagon
CATEGORIES:Asheville Area,Live Music
GEO:41.4302231;-81.3909542
END:VEVENT
BEGIN:VEVENT
DTSTART;TZID=America/New_York:20270926T200000
DTEND;TZID=America/New_York:20270927T020000
DTSTAMP:20260425T121037
CREATED:20260208T155221Z
LAST-MODIFIED:20260208T155221Z
UID:10043847-1821988800-1822010400@livemusicasheville.com
SUMMARY:All Request Piano Show
DESCRIPTION:Related
URL:https://livemusicasheville.com/calendar/all-request-piano-show-2/2027-09-26/
LOCATION:Off the Wagon
CATEGORIES:Asheville Area,Live Music
GEO:41.4302231;-81.3909542
END:VEVENT
BEGIN:VEVENT
DTSTART;TZID=America/New_York:20270929T200000
DTEND;TZID=America/New_York:20270930T020000
DTSTAMP:20260425T121037
CREATED:20260208T155221Z
LAST-MODIFIED:20260208T155221Z
UID:10043848-1822248000-1822269600@livemusicasheville.com
SUMMARY:All Request Piano Show
DESCRIPTION:Related
URL:https://livemusicasheville.com/calendar/all-request-piano-show-2/2027-09-29/
LOCATION:Off the Wagon
CATEGORIES:Asheville Area,Live Music
GEO:41.4302231;-81.3909542
END:VEVENT
BEGIN:VEVENT
DTSTART;TZID=America/New_York:20270930T200000
DTEND;TZID=America/New_York:20271001T020000
DTSTAMP:20260425T121037
CREATED:20260208T155221Z
LAST-MODIFIED:20260208T155221Z
UID:10043849-1822334400-1822356000@livemusicasheville.com
SUMMARY:All Request Piano Show
DESCRIPTION:Related
URL:https://livemusicasheville.com/calendar/all-request-piano-show-2/2027-09-30/
LOCATION:Off the Wagon
CATEGORIES:Asheville Area,Live Music
GEO:41.4302231;-81.3909542
END:VEVENT
BEGIN:VEVENT
DTSTART;TZID=America/New_York:20271003T200000
DTEND;TZID=America/New_York:20271004T020000
DTSTAMP:20260425T121037
CREATED:20260208T155221Z
LAST-MODIFIED:20260208T155221Z
UID:10043850-1822593600-1822615200@livemusicasheville.com
SUMMARY:All Request Piano Show
DESCRIPTION:Related
URL:https://livemusicasheville.com/calendar/all-request-piano-show-2/2027-10-03/
LOCATION:Off the Wagon
CATEGORIES:Asheville Area,Live Music
GEO:41.4302231;-81.3909542
END:VEVENT
BEGIN:VEVENT
DTSTART;TZID=America/New_York:20271006T200000
DTEND;TZID=America/New_York:20271007T020000
DTSTAMP:20260425T121037
CREATED:20260208T155221Z
LAST-MODIFIED:20260208T155221Z
UID:10043851-1822852800-1822874400@livemusicasheville.com
SUMMARY:All Request Piano Show
DESCRIPTION:Related
URL:https://livemusicasheville.com/calendar/all-request-piano-show-2/2027-10-06/
LOCATION:Off the Wagon
CATEGORIES:Asheville Area,Live Music
GEO:41.4302231;-81.3909542
END:VEVENT
BEGIN:VEVENT
DTSTART;TZID=America/New_York:20271007T200000
DTEND;TZID=America/New_York:20271008T020000
DTSTAMP:20260425T121037
CREATED:20260208T155221Z
LAST-MODIFIED:20260208T155221Z
UID:10043852-1822939200-1822960800@livemusicasheville.com
SUMMARY:All Request Piano Show
DESCRIPTION:Related
URL:https://livemusicasheville.com/calendar/all-request-piano-show-2/2027-10-07/
LOCATION:Off the Wagon
CATEGORIES:Asheville Area,Live Music
GEO:41.4302231;-81.3909542
END:VEVENT
BEGIN:VEVENT
DTSTART;TZID=America/New_York:20271010T200000
DTEND;TZID=America/New_York:20271011T020000
DTSTAMP:20260425T121037
CREATED:20260208T155221Z
LAST-MODIFIED:20260208T155221Z
UID:10043853-1823198400-1823220000@livemusicasheville.com
SUMMARY:All Request Piano Show
DESCRIPTION:Related
URL:https://livemusicasheville.com/calendar/all-request-piano-show-2/2027-10-10/
LOCATION:Off the Wagon
CATEGORIES:Asheville Area,Live Music
GEO:41.4302231;-81.3909542
END:VEVENT
BEGIN:VEVENT
DTSTART;TZID=America/New_York:20271013T200000
DTEND;TZID=America/New_York:20271014T020000
DTSTAMP:20260425T121037
CREATED:20260208T155221Z
LAST-MODIFIED:20260208T155221Z
UID:10043854-1823457600-1823479200@livemusicasheville.com
SUMMARY:All Request Piano Show
DESCRIPTION:Related
URL:https://livemusicasheville.com/calendar/all-request-piano-show-2/2027-10-13/
LOCATION:Off the Wagon
CATEGORIES:Asheville Area,Live Music
GEO:41.4302231;-81.3909542
END:VEVENT
END:VCALENDAR