BEGIN:VCALENDAR
VERSION:2.0
PRODID:-//LiveMusicAsheville.com - ECPv6.15.20//NONSGML v1.0//EN
CALSCALE:GREGORIAN
METHOD:PUBLISH
X-WR-CALNAME:LiveMusicAsheville.com
X-ORIGINAL-URL:https://livemusicasheville.com
X-WR-CALDESC:Events for LiveMusicAsheville.com
REFRESH-INTERVAL;VALUE=DURATION:PT1H
X-Robots-Tag:noindex
X-PUBLISHED-TTL:PT1H
BEGIN:VTIMEZONE
TZID:America/New_York
BEGIN:DAYLIGHT
TZOFFSETFROM:-0500
TZOFFSETTO:-0400
TZNAME:EDT
DTSTART:20240310T070000
END:DAYLIGHT
BEGIN:STANDARD
TZOFFSETFROM:-0400
TZOFFSETTO:-0500
TZNAME:EST
DTSTART:20241103T060000
END:STANDARD
BEGIN:DAYLIGHT
TZOFFSETFROM:-0500
TZOFFSETTO:-0400
TZNAME:EDT
DTSTART:20250309T070000
END:DAYLIGHT
BEGIN:STANDARD
TZOFFSETFROM:-0400
TZOFFSETTO:-0500
TZNAME:EST
DTSTART:20251102T060000
END:STANDARD
BEGIN:DAYLIGHT
TZOFFSETFROM:-0500
TZOFFSETTO:-0400
TZNAME:EDT
DTSTART:20260308T070000
END:DAYLIGHT
BEGIN:STANDARD
TZOFFSETFROM:-0400
TZOFFSETTO:-0500
TZNAME:EST
DTSTART:20261101T060000
END:STANDARD
END:VTIMEZONE
BEGIN:VEVENT
DTSTART;TZID=America/New_York:20250726T190000
DTEND;TZID=America/New_York:20250727T020000
DTSTAMP:20260419T212209
CREATED:20241225T123126Z
LAST-MODIFIED:20251122T132355Z
UID:10000587-1753556400-1753581600@livemusicasheville.com
SUMMARY:Dueling Piano Show
DESCRIPTION:Related
URL:https://livemusicasheville.com/calendar/dueling-piano-show/2025-07-26/
LOCATION:Off the Wagon
CATEGORIES:Asheville Area,Live Music
GEO:41.4302231;-81.3909542
END:VEVENT
BEGIN:VEVENT
DTSTART;TZID=America/New_York:20250725T190000
DTEND;TZID=America/New_York:20250726T020000
DTSTAMP:20260419T212209
CREATED:20241225T123126Z
LAST-MODIFIED:20251122T132355Z
UID:10000586-1753470000-1753495200@livemusicasheville.com
SUMMARY:Dueling Piano Show
DESCRIPTION:Related
URL:https://livemusicasheville.com/calendar/dueling-piano-show/2025-07-25/
LOCATION:Off the Wagon
CATEGORIES:Asheville Area,Live Music
GEO:41.4302231;-81.3909542
END:VEVENT
BEGIN:VEVENT
DTSTART;TZID=America/New_York:20250719T190000
DTEND;TZID=America/New_York:20250720T020000
DTSTAMP:20260419T212209
CREATED:20241225T123126Z
LAST-MODIFIED:20251122T132355Z
UID:10000585-1752951600-1752976800@livemusicasheville.com
SUMMARY:Dueling Piano Show
DESCRIPTION:Related
URL:https://livemusicasheville.com/calendar/dueling-piano-show/2025-07-19/
LOCATION:Off the Wagon
CATEGORIES:Asheville Area,Live Music
GEO:41.4302231;-81.3909542
END:VEVENT
BEGIN:VEVENT
DTSTART;TZID=America/New_York:20250718T190000
DTEND;TZID=America/New_York:20250719T020000
DTSTAMP:20260419T212209
CREATED:20241225T123126Z
LAST-MODIFIED:20251122T132355Z
UID:10000584-1752865200-1752890400@livemusicasheville.com
SUMMARY:Dueling Piano Show
DESCRIPTION:Related
URL:https://livemusicasheville.com/calendar/dueling-piano-show/2025-07-18/
LOCATION:Off the Wagon
CATEGORIES:Asheville Area,Live Music
GEO:41.4302231;-81.3909542
END:VEVENT
BEGIN:VEVENT
DTSTART;TZID=America/New_York:20250712T190000
DTEND;TZID=America/New_York:20250713T020000
DTSTAMP:20260419T212209
CREATED:20241225T123126Z
LAST-MODIFIED:20251122T132355Z
UID:10000583-1752346800-1752372000@livemusicasheville.com
SUMMARY:Dueling Piano Show
DESCRIPTION:Related
URL:https://livemusicasheville.com/calendar/dueling-piano-show/2025-07-12/
LOCATION:Off the Wagon
CATEGORIES:Asheville Area,Live Music
GEO:41.4302231;-81.3909542
END:VEVENT
BEGIN:VEVENT
DTSTART;TZID=America/New_York:20250711T190000
DTEND;TZID=America/New_York:20250712T020000
DTSTAMP:20260419T212209
CREATED:20241225T123126Z
LAST-MODIFIED:20251122T132355Z
UID:10000582-1752260400-1752285600@livemusicasheville.com
SUMMARY:Dueling Piano Show
DESCRIPTION:Related
URL:https://livemusicasheville.com/calendar/dueling-piano-show/2025-07-11/
LOCATION:Off the Wagon
CATEGORIES:Asheville Area,Live Music
GEO:41.4302231;-81.3909542
END:VEVENT
BEGIN:VEVENT
DTSTART;TZID=America/New_York:20250705T190000
DTEND;TZID=America/New_York:20250706T020000
DTSTAMP:20260419T212209
CREATED:20241225T123126Z
LAST-MODIFIED:20251122T132355Z
UID:10000581-1751742000-1751767200@livemusicasheville.com
SUMMARY:Dueling Piano Show
DESCRIPTION:Related
URL:https://livemusicasheville.com/calendar/dueling-piano-show/2025-07-05/
LOCATION:Off the Wagon
CATEGORIES:Asheville Area,Live Music
GEO:41.4302231;-81.3909542
END:VEVENT
BEGIN:VEVENT
DTSTART;TZID=America/New_York:20250704T190000
DTEND;TZID=America/New_York:20250705T020000
DTSTAMP:20260419T212209
CREATED:20241225T123126Z
LAST-MODIFIED:20251122T132355Z
UID:10000580-1751655600-1751680800@livemusicasheville.com
SUMMARY:Dueling Piano Show
DESCRIPTION:Related
URL:https://livemusicasheville.com/calendar/dueling-piano-show/2025-07-04/
LOCATION:Off the Wagon
CATEGORIES:Asheville Area,Live Music
GEO:41.4302231;-81.3909542
END:VEVENT
BEGIN:VEVENT
DTSTART;TZID=America/New_York:20250628T190000
DTEND;TZID=America/New_York:20250629T020000
DTSTAMP:20260419T212209
CREATED:20241225T123126Z
LAST-MODIFIED:20251122T132355Z
UID:10000579-1751137200-1751162400@livemusicasheville.com
SUMMARY:Dueling Piano Show
DESCRIPTION:Related
URL:https://livemusicasheville.com/calendar/dueling-piano-show/2025-06-28/
LOCATION:Off the Wagon
CATEGORIES:Asheville Area,Live Music
GEO:41.4302231;-81.3909542
END:VEVENT
BEGIN:VEVENT
DTSTART;TZID=America/New_York:20250627T190000
DTEND;TZID=America/New_York:20250628T020000
DTSTAMP:20260419T212209
CREATED:20241225T123126Z
LAST-MODIFIED:20251122T132355Z
UID:10000578-1751050800-1751076000@livemusicasheville.com
SUMMARY:Dueling Piano Show
DESCRIPTION:Related
URL:https://livemusicasheville.com/calendar/dueling-piano-show/2025-06-27/
LOCATION:Off the Wagon
CATEGORIES:Asheville Area,Live Music
GEO:41.4302231;-81.3909542
END:VEVENT
BEGIN:VEVENT
DTSTART;TZID=America/New_York:20250621T190000
DTEND;TZID=America/New_York:20250622T020000
DTSTAMP:20260419T212209
CREATED:20241225T123126Z
LAST-MODIFIED:20251122T132355Z
UID:10000577-1750532400-1750557600@livemusicasheville.com
SUMMARY:Dueling Piano Show
DESCRIPTION:Related
URL:https://livemusicasheville.com/calendar/dueling-piano-show/2025-06-21/
LOCATION:Off the Wagon
CATEGORIES:Asheville Area,Live Music
GEO:41.4302231;-81.3909542
END:VEVENT
BEGIN:VEVENT
DTSTART;TZID=America/New_York:20250620T190000
DTEND;TZID=America/New_York:20250621T020000
DTSTAMP:20260419T212209
CREATED:20241225T123126Z
LAST-MODIFIED:20251122T132355Z
UID:10000576-1750446000-1750471200@livemusicasheville.com
SUMMARY:Dueling Piano Show
DESCRIPTION:Related
URL:https://livemusicasheville.com/calendar/dueling-piano-show/2025-06-20/
LOCATION:Off the Wagon
CATEGORIES:Asheville Area,Live Music
GEO:41.4302231;-81.3909542
END:VEVENT
BEGIN:VEVENT
DTSTART;TZID=America/New_York:20250614T190000
DTEND;TZID=America/New_York:20250615T020000
DTSTAMP:20260419T212209
CREATED:20241225T123126Z
LAST-MODIFIED:20251122T132355Z
UID:10000575-1749927600-1749952800@livemusicasheville.com
SUMMARY:Dueling Piano Show
DESCRIPTION:Related
URL:https://livemusicasheville.com/calendar/dueling-piano-show/2025-06-14/
LOCATION:Off the Wagon
CATEGORIES:Asheville Area,Live Music
GEO:41.4302231;-81.3909542
END:VEVENT
BEGIN:VEVENT
DTSTART;TZID=America/New_York:20250613T190000
DTEND;TZID=America/New_York:20250614T020000
DTSTAMP:20260419T212209
CREATED:20241225T123126Z
LAST-MODIFIED:20251122T132355Z
UID:10000574-1749841200-1749866400@livemusicasheville.com
SUMMARY:Dueling Piano Show
DESCRIPTION:Related
URL:https://livemusicasheville.com/calendar/dueling-piano-show/2025-06-13/
LOCATION:Off the Wagon
CATEGORIES:Asheville Area,Live Music
GEO:41.4302231;-81.3909542
END:VEVENT
BEGIN:VEVENT
DTSTART;TZID=America/New_York:20250607T190000
DTEND;TZID=America/New_York:20250608T020000
DTSTAMP:20260419T212209
CREATED:20241225T123126Z
LAST-MODIFIED:20251122T132355Z
UID:10000573-1749322800-1749348000@livemusicasheville.com
SUMMARY:Dueling Piano Show
DESCRIPTION:Related
URL:https://livemusicasheville.com/calendar/dueling-piano-show/2025-06-07/
LOCATION:Off the Wagon
CATEGORIES:Asheville Area,Live Music
GEO:41.4302231;-81.3909542
END:VEVENT
BEGIN:VEVENT
DTSTART;TZID=America/New_York:20250606T190000
DTEND;TZID=America/New_York:20250607T020000
DTSTAMP:20260419T212209
CREATED:20241225T123126Z
LAST-MODIFIED:20251122T132355Z
UID:10000572-1749236400-1749261600@livemusicasheville.com
SUMMARY:Dueling Piano Show
DESCRIPTION:Related
URL:https://livemusicasheville.com/calendar/dueling-piano-show/2025-06-06/
LOCATION:Off the Wagon
CATEGORIES:Asheville Area,Live Music
GEO:41.4302231;-81.3909542
END:VEVENT
BEGIN:VEVENT
DTSTART;TZID=America/New_York:20250531T190000
DTEND;TZID=America/New_York:20250601T020000
DTSTAMP:20260419T212209
CREATED:20241225T123126Z
LAST-MODIFIED:20251122T132355Z
UID:10000571-1748718000-1748743200@livemusicasheville.com
SUMMARY:Dueling Piano Show
DESCRIPTION:Related
URL:https://livemusicasheville.com/calendar/dueling-piano-show/2025-05-31/
LOCATION:Off the Wagon
CATEGORIES:Asheville Area,Live Music
GEO:41.4302231;-81.3909542
END:VEVENT
BEGIN:VEVENT
DTSTART;TZID=America/New_York:20250530T190000
DTEND;TZID=America/New_York:20250531T020000
DTSTAMP:20260419T212209
CREATED:20241225T123126Z
LAST-MODIFIED:20251122T132355Z
UID:10000570-1748631600-1748656800@livemusicasheville.com
SUMMARY:Dueling Piano Show
DESCRIPTION:Related
URL:https://livemusicasheville.com/calendar/dueling-piano-show/2025-05-30/
LOCATION:Off the Wagon
CATEGORIES:Asheville Area,Live Music
GEO:41.4302231;-81.3909542
END:VEVENT
BEGIN:VEVENT
DTSTART;TZID=America/New_York:20250524T190000
DTEND;TZID=America/New_York:20250525T020000
DTSTAMP:20260419T212209
CREATED:20241225T123126Z
LAST-MODIFIED:20251122T132355Z
UID:10000569-1748113200-1748138400@livemusicasheville.com
SUMMARY:Dueling Piano Show
DESCRIPTION:Related
URL:https://livemusicasheville.com/calendar/dueling-piano-show/2025-05-24/
LOCATION:Off the Wagon
CATEGORIES:Asheville Area,Live Music
GEO:41.4302231;-81.3909542
END:VEVENT
BEGIN:VEVENT
DTSTART;TZID=America/New_York:20250523T190000
DTEND;TZID=America/New_York:20250524T020000
DTSTAMP:20260419T212209
CREATED:20241225T123126Z
LAST-MODIFIED:20251122T132355Z
UID:10000568-1748026800-1748052000@livemusicasheville.com
SUMMARY:Dueling Piano Show
DESCRIPTION:Related
URL:https://livemusicasheville.com/calendar/dueling-piano-show/2025-05-23/
LOCATION:Off the Wagon
CATEGORIES:Asheville Area,Live Music
GEO:41.4302231;-81.3909542
END:VEVENT
BEGIN:VEVENT
DTSTART;TZID=America/New_York:20250517T190000
DTEND;TZID=America/New_York:20250518T020000
DTSTAMP:20260419T212209
CREATED:20241225T123126Z
LAST-MODIFIED:20251122T132355Z
UID:10000567-1747508400-1747533600@livemusicasheville.com
SUMMARY:Dueling Piano Show
DESCRIPTION:Related
URL:https://livemusicasheville.com/calendar/dueling-piano-show/2025-05-17/
LOCATION:Off the Wagon
CATEGORIES:Asheville Area,Live Music
GEO:41.4302231;-81.3909542
END:VEVENT
BEGIN:VEVENT
DTSTART;TZID=America/New_York:20250516T190000
DTEND;TZID=America/New_York:20250517T020000
DTSTAMP:20260419T212209
CREATED:20241225T123126Z
LAST-MODIFIED:20251122T132355Z
UID:10000566-1747422000-1747447200@livemusicasheville.com
SUMMARY:Dueling Piano Show
DESCRIPTION:Related
URL:https://livemusicasheville.com/calendar/dueling-piano-show/2025-05-16/
LOCATION:Off the Wagon
CATEGORIES:Asheville Area,Live Music
GEO:41.4302231;-81.3909542
END:VEVENT
BEGIN:VEVENT
DTSTART;TZID=America/New_York:20250510T190000
DTEND;TZID=America/New_York:20250511T020000
DTSTAMP:20260419T212209
CREATED:20241225T123126Z
LAST-MODIFIED:20251122T132355Z
UID:10000565-1746903600-1746928800@livemusicasheville.com
SUMMARY:Dueling Piano Show
DESCRIPTION:Related
URL:https://livemusicasheville.com/calendar/dueling-piano-show/2025-05-10/
LOCATION:Off the Wagon
CATEGORIES:Asheville Area,Live Music
GEO:41.4302231;-81.3909542
END:VEVENT
BEGIN:VEVENT
DTSTART;TZID=America/New_York:20250509T190000
DTEND;TZID=America/New_York:20250510T020000
DTSTAMP:20260419T212209
CREATED:20241225T123126Z
LAST-MODIFIED:20251122T132355Z
UID:10000564-1746817200-1746842400@livemusicasheville.com
SUMMARY:Dueling Piano Show
DESCRIPTION:Related
URL:https://livemusicasheville.com/calendar/dueling-piano-show/2025-05-09/
LOCATION:Off the Wagon
CATEGORIES:Asheville Area,Live Music
GEO:41.4302231;-81.3909542
END:VEVENT
BEGIN:VEVENT
DTSTART;TZID=America/New_York:20250503T190000
DTEND;TZID=America/New_York:20250504T020000
DTSTAMP:20260419T212209
CREATED:20241225T123126Z
LAST-MODIFIED:20251122T132355Z
UID:10000563-1746298800-1746324000@livemusicasheville.com
SUMMARY:Dueling Piano Show
DESCRIPTION:Related
URL:https://livemusicasheville.com/calendar/dueling-piano-show/2025-05-03/
LOCATION:Off the Wagon
CATEGORIES:Asheville Area,Live Music
GEO:41.4302231;-81.3909542
END:VEVENT
BEGIN:VEVENT
DTSTART;TZID=America/New_York:20250502T190000
DTEND;TZID=America/New_York:20250503T020000
DTSTAMP:20260419T212209
CREATED:20241225T123126Z
LAST-MODIFIED:20251122T132355Z
UID:10000562-1746212400-1746237600@livemusicasheville.com
SUMMARY:Dueling Piano Show
DESCRIPTION:Related
URL:https://livemusicasheville.com/calendar/dueling-piano-show/2025-05-02/
LOCATION:Off the Wagon
CATEGORIES:Asheville Area,Live Music
GEO:41.4302231;-81.3909542
END:VEVENT
BEGIN:VEVENT
DTSTART;TZID=America/New_York:20250426T190000
DTEND;TZID=America/New_York:20250427T020000
DTSTAMP:20260419T212209
CREATED:20241225T123126Z
LAST-MODIFIED:20251122T132355Z
UID:10000561-1745694000-1745719200@livemusicasheville.com
SUMMARY:Dueling Piano Show
DESCRIPTION:Related
URL:https://livemusicasheville.com/calendar/dueling-piano-show/2025-04-26/
LOCATION:Off the Wagon
CATEGORIES:Asheville Area,Live Music
GEO:41.4302231;-81.3909542
END:VEVENT
BEGIN:VEVENT
DTSTART;TZID=America/New_York:20250425T190000
DTEND;TZID=America/New_York:20250426T020000
DTSTAMP:20260419T212209
CREATED:20241225T123126Z
LAST-MODIFIED:20251122T132355Z
UID:10000560-1745607600-1745632800@livemusicasheville.com
SUMMARY:Dueling Piano Show
DESCRIPTION:Related
URL:https://livemusicasheville.com/calendar/dueling-piano-show/2025-04-25/
LOCATION:Off the Wagon
CATEGORIES:Asheville Area,Live Music
GEO:41.4302231;-81.3909542
END:VEVENT
BEGIN:VEVENT
DTSTART;TZID=America/New_York:20250419T190000
DTEND;TZID=America/New_York:20250420T020000
DTSTAMP:20260419T212209
CREATED:20241225T123126Z
LAST-MODIFIED:20251122T132355Z
UID:10000559-1745089200-1745114400@livemusicasheville.com
SUMMARY:Dueling Piano Show
DESCRIPTION:Related
URL:https://livemusicasheville.com/calendar/dueling-piano-show/2025-04-19/
LOCATION:Off the Wagon
CATEGORIES:Asheville Area,Live Music
GEO:41.4302231;-81.3909542
END:VEVENT
END:VCALENDAR