BEGIN:VCALENDAR
VERSION:2.0
PRODID:-//LiveMusicAsheville.com - ECPv6.15.20//NONSGML v1.0//EN
CALSCALE:GREGORIAN
METHOD:PUBLISH
X-ORIGINAL-URL:https://livemusicasheville.com
X-WR-CALDESC:Events for LiveMusicAsheville.com
REFRESH-INTERVAL;VALUE=DURATION:PT1H
X-Robots-Tag:noindex
X-PUBLISHED-TTL:PT1H
BEGIN:VTIMEZONE
TZID:America/New_York
BEGIN:DAYLIGHT
TZOFFSETFROM:-0500
TZOFFSETTO:-0400
TZNAME:EDT
DTSTART:20300310T070000
END:DAYLIGHT
BEGIN:STANDARD
TZOFFSETFROM:-0400
TZOFFSETTO:-0500
TZNAME:EST
DTSTART:20301103T060000
END:STANDARD
BEGIN:DAYLIGHT
TZOFFSETFROM:-0500
TZOFFSETTO:-0400
TZNAME:EDT
DTSTART:20310309T070000
END:DAYLIGHT
BEGIN:STANDARD
TZOFFSETFROM:-0400
TZOFFSETTO:-0500
TZNAME:EST
DTSTART:20311102T060000
END:STANDARD
BEGIN:DAYLIGHT
TZOFFSETFROM:-0500
TZOFFSETTO:-0400
TZNAME:EDT
DTSTART:20320314T070000
END:DAYLIGHT
BEGIN:STANDARD
TZOFFSETFROM:-0400
TZOFFSETTO:-0500
TZNAME:EST
DTSTART:20321107T060000
END:STANDARD
END:VTIMEZONE
BEGIN:VEVENT
DTSTART;TZID=America/New_York:20310116T200000
DTEND;TZID=America/New_York:20310117T020000
DTSTAMP:20260425T153350
CREATED:20260208T155221Z
LAST-MODIFIED:20260208T155221Z
UID:10044365-1926360000-1926381600@livemusicasheville.com
SUMMARY:All Request Piano Show
DESCRIPTION:Related
URL:https://livemusicasheville.com/calendar/all-request-piano-show-2/2031-01-16/
LOCATION:Off the Wagon
CATEGORIES:Asheville Area,Live Music
GEO:41.4302231;-81.3909542
END:VEVENT
BEGIN:VEVENT
DTSTART;TZID=America/New_York:20310119T200000
DTEND;TZID=America/New_York:20310120T020000
DTSTAMP:20260425T153350
CREATED:20260208T155221Z
LAST-MODIFIED:20260208T155221Z
UID:10044366-1926619200-1926640800@livemusicasheville.com
SUMMARY:All Request Piano Show
DESCRIPTION:Related
URL:https://livemusicasheville.com/calendar/all-request-piano-show-2/2031-01-19/
LOCATION:Off the Wagon
CATEGORIES:Asheville Area,Live Music
GEO:41.4302231;-81.3909542
END:VEVENT
BEGIN:VEVENT
DTSTART;TZID=America/New_York:20310122T200000
DTEND;TZID=America/New_York:20310123T020000
DTSTAMP:20260425T153350
CREATED:20260208T155221Z
LAST-MODIFIED:20260208T155221Z
UID:10044367-1926878400-1926900000@livemusicasheville.com
SUMMARY:All Request Piano Show
DESCRIPTION:Related
URL:https://livemusicasheville.com/calendar/all-request-piano-show-2/2031-01-22/
LOCATION:Off the Wagon
CATEGORIES:Asheville Area,Live Music
GEO:41.4302231;-81.3909542
END:VEVENT
BEGIN:VEVENT
DTSTART;TZID=America/New_York:20310123T200000
DTEND;TZID=America/New_York:20310124T020000
DTSTAMP:20260425T153350
CREATED:20260208T155221Z
LAST-MODIFIED:20260208T155221Z
UID:10044368-1926964800-1926986400@livemusicasheville.com
SUMMARY:All Request Piano Show
DESCRIPTION:Related
URL:https://livemusicasheville.com/calendar/all-request-piano-show-2/2031-01-23/
LOCATION:Off the Wagon
CATEGORIES:Asheville Area,Live Music
GEO:41.4302231;-81.3909542
END:VEVENT
BEGIN:VEVENT
DTSTART;TZID=America/New_York:20310126T200000
DTEND;TZID=America/New_York:20310127T020000
DTSTAMP:20260425T153350
CREATED:20260208T155221Z
LAST-MODIFIED:20260208T155221Z
UID:10044369-1927224000-1927245600@livemusicasheville.com
SUMMARY:All Request Piano Show
DESCRIPTION:Related
URL:https://livemusicasheville.com/calendar/all-request-piano-show-2/2031-01-26/
LOCATION:Off the Wagon
CATEGORIES:Asheville Area,Live Music
GEO:41.4302231;-81.3909542
END:VEVENT
BEGIN:VEVENT
DTSTART;TZID=America/New_York:20310129T200000
DTEND;TZID=America/New_York:20310130T020000
DTSTAMP:20260425T153350
CREATED:20260208T155221Z
LAST-MODIFIED:20260208T155221Z
UID:10044370-1927483200-1927504800@livemusicasheville.com
SUMMARY:All Request Piano Show
DESCRIPTION:Related
URL:https://livemusicasheville.com/calendar/all-request-piano-show-2/2031-01-29/
LOCATION:Off the Wagon
CATEGORIES:Asheville Area,Live Music
GEO:41.4302231;-81.3909542
END:VEVENT
BEGIN:VEVENT
DTSTART;TZID=America/New_York:20310130T200000
DTEND;TZID=America/New_York:20310131T020000
DTSTAMP:20260425T153350
CREATED:20260208T155221Z
LAST-MODIFIED:20260208T155221Z
UID:10044371-1927569600-1927591200@livemusicasheville.com
SUMMARY:All Request Piano Show
DESCRIPTION:Related
URL:https://livemusicasheville.com/calendar/all-request-piano-show-2/2031-01-30/
LOCATION:Off the Wagon
CATEGORIES:Asheville Area,Live Music
GEO:41.4302231;-81.3909542
END:VEVENT
BEGIN:VEVENT
DTSTART;TZID=America/New_York:20310202T200000
DTEND;TZID=America/New_York:20310203T020000
DTSTAMP:20260425T153350
CREATED:20260208T155221Z
LAST-MODIFIED:20260208T155221Z
UID:10044372-1927828800-1927850400@livemusicasheville.com
SUMMARY:All Request Piano Show
DESCRIPTION:Related
URL:https://livemusicasheville.com/calendar/all-request-piano-show-2/2031-02-02/
LOCATION:Off the Wagon
CATEGORIES:Asheville Area,Live Music
GEO:41.4302231;-81.3909542
END:VEVENT
BEGIN:VEVENT
DTSTART;TZID=America/New_York:20310205T200000
DTEND;TZID=America/New_York:20310206T020000
DTSTAMP:20260425T153350
CREATED:20260208T155221Z
LAST-MODIFIED:20260208T155221Z
UID:10044373-1928088000-1928109600@livemusicasheville.com
SUMMARY:All Request Piano Show
DESCRIPTION:Related
URL:https://livemusicasheville.com/calendar/all-request-piano-show-2/2031-02-05/
LOCATION:Off the Wagon
CATEGORIES:Asheville Area,Live Music
GEO:41.4302231;-81.3909542
END:VEVENT
BEGIN:VEVENT
DTSTART;TZID=America/New_York:20310206T200000
DTEND;TZID=America/New_York:20310207T020000
DTSTAMP:20260425T153350
CREATED:20260208T155221Z
LAST-MODIFIED:20260208T155221Z
UID:10044374-1928174400-1928196000@livemusicasheville.com
SUMMARY:All Request Piano Show
DESCRIPTION:Related
URL:https://livemusicasheville.com/calendar/all-request-piano-show-2/2031-02-06/
LOCATION:Off the Wagon
CATEGORIES:Asheville Area,Live Music
GEO:41.4302231;-81.3909542
END:VEVENT
END:VCALENDAR