BEGIN:VCALENDAR
VERSION:2.0
PRODID:-//LiveMusicAsheville.com - ECPv6.15.20//NONSGML v1.0//EN
CALSCALE:GREGORIAN
METHOD:PUBLISH
X-WR-CALNAME:LiveMusicAsheville.com
X-ORIGINAL-URL:https://livemusicasheville.com
X-WR-CALDESC:Events for LiveMusicAsheville.com
REFRESH-INTERVAL;VALUE=DURATION:PT1H
X-Robots-Tag:noindex
X-PUBLISHED-TTL:PT1H
BEGIN:VTIMEZONE
TZID:America/New_York
BEGIN:DAYLIGHT
TZOFFSETFROM:-0500
TZOFFSETTO:-0400
TZNAME:EDT
DTSTART:20250309T070000
END:DAYLIGHT
BEGIN:STANDARD
TZOFFSETFROM:-0400
TZOFFSETTO:-0500
TZNAME:EST
DTSTART:20251102T060000
END:STANDARD
BEGIN:DAYLIGHT
TZOFFSETFROM:-0500
TZOFFSETTO:-0400
TZNAME:EDT
DTSTART:20260308T070000
END:DAYLIGHT
BEGIN:STANDARD
TZOFFSETFROM:-0400
TZOFFSETTO:-0500
TZNAME:EST
DTSTART:20261101T060000
END:STANDARD
BEGIN:DAYLIGHT
TZOFFSETFROM:-0500
TZOFFSETTO:-0400
TZNAME:EDT
DTSTART:20270314T070000
END:DAYLIGHT
BEGIN:STANDARD
TZOFFSETFROM:-0400
TZOFFSETTO:-0500
TZNAME:EST
DTSTART:20271107T060000
END:STANDARD
END:VTIMEZONE
BEGIN:VEVENT
DTSTART;TZID=America/New_York:20260419T140000
DTEND;TZID=America/New_York:20260419T170000
DTSTAMP:20260422T203530
CREATED:20250421T183036Z
LAST-MODIFIED:20260415T122737Z
UID:10012984-1776607200-1776618000@livemusicasheville.com
SUMMARY:Circus Mutt
DESCRIPTION:Related
URL:https://livemusicasheville.com/calendar/circus-mutt/
LOCATION:Mills River Brewing Co.\, 336 Banner Farm Rd\,\, Mills River\, NC\, 28759
CATEGORIES:Asheville Area,Live Music,Mills River
GEO:35.380515;-82.5654984
X-APPLE-STRUCTURED-LOCATION;VALUE=URI;X-ADDRESS=Mills River Brewing Co. 336 Banner Farm Rd Mills River NC 28759;X-APPLE-RADIUS=500;X-TITLE=336 Banner Farm Rd\,:geo:-82.5654984,35.380515
END:VEVENT
BEGIN:VEVENT
DTSTART;TZID=America/New_York:20260418T140000
DTEND;TZID=America/New_York:20260418T170000
DTSTAMP:20260422T203530
CREATED:20250121T145053Z
LAST-MODIFIED:20260415T122349Z
UID:10006795-1776520800-1776531600@livemusicasheville.com
SUMMARY:Iggy Radio
DESCRIPTION:Related
URL:https://livemusicasheville.com/calendar/iggy-radio-50th-birthday-show/
LOCATION:Mills River Brewing Co.\, 336 Banner Farm Rd\,\, Mills River\, NC\, 28759
CATEGORIES:Asheville Area,Live Music,Mills River
GEO:35.380515;-82.5654984
X-APPLE-STRUCTURED-LOCATION;VALUE=URI;X-ADDRESS=Mills River Brewing Co. 336 Banner Farm Rd Mills River NC 28759;X-APPLE-RADIUS=500;X-TITLE=336 Banner Farm Rd\,:geo:-82.5654984,35.380515
END:VEVENT
BEGIN:VEVENT
DTSTART;TZID=America/New_York:20260416T180000
DTEND;TZID=America/New_York:20260416T210000
DTSTAMP:20260422T203530
CREATED:20250507T121326Z
LAST-MODIFIED:20260408T111919Z
UID:10013867-1776362400-1776373200@livemusicasheville.com
SUMMARY:Daddy Rabbit
DESCRIPTION:Related
URL:https://livemusicasheville.com/calendar/daddy-rabbit/
LOCATION:Mills River Brewing Co.\, 336 Banner Farm Rd\,\, Mills River\, NC\, 28759
CATEGORIES:Asheville Area,Live Music,Mills River
GEO:35.380515;-82.5654984
X-APPLE-STRUCTURED-LOCATION;VALUE=URI;X-ADDRESS=Mills River Brewing Co. 336 Banner Farm Rd Mills River NC 28759;X-APPLE-RADIUS=500;X-TITLE=336 Banner Farm Rd\,:geo:-82.5654984,35.380515
END:VEVENT
BEGIN:VEVENT
DTSTART;TZID=America/New_York:20260412T140000
DTEND;TZID=America/New_York:20260412T170000
DTSTAMP:20260422T203530
CREATED:20250604T204631Z
LAST-MODIFIED:20260408T111825Z
UID:10015457-1776002400-1776013200@livemusicasheville.com
SUMMARY:Mike Hollon
DESCRIPTION:Related
URL:https://livemusicasheville.com/calendar/mike-hollon-4/
LOCATION:Mills River Brewing Co.\, 336 Banner Farm Rd\,\, Mills River\, NC\, 28759
CATEGORIES:Asheville Area,Live Music,Mills River
GEO:35.380515;-82.5654984
X-APPLE-STRUCTURED-LOCATION;VALUE=URI;X-ADDRESS=Mills River Brewing Co. 336 Banner Farm Rd Mills River NC 28759;X-APPLE-RADIUS=500;X-TITLE=336 Banner Farm Rd\,:geo:-82.5654984,35.380515
END:VEVENT
BEGIN:VEVENT
DTSTART;TZID=America/New_York:20260411T183000
DTEND;TZID=America/New_York:20260411T213000
DTSTAMP:20260422T203530
CREATED:20250129T191953Z
LAST-MODIFIED:20260408T111721Z
UID:10007342-1775932200-1775943000@livemusicasheville.com
SUMMARY:Fresh Buzz
DESCRIPTION:Related
URL:https://livemusicasheville.com/calendar/fresh-buzz/
LOCATION:Mills River Brewing Co.\, 336 Banner Farm Rd\,\, Mills River\, NC\, 28759
CATEGORIES:Asheville Area,Live Music,Mills River
GEO:35.380515;-82.5654984
X-APPLE-STRUCTURED-LOCATION;VALUE=URI;X-ADDRESS=Mills River Brewing Co. 336 Banner Farm Rd Mills River NC 28759;X-APPLE-RADIUS=500;X-TITLE=336 Banner Farm Rd\,:geo:-82.5654984,35.380515
END:VEVENT
BEGIN:VEVENT
DTSTART;TZID=America/New_York:20260411T140000
DTEND;TZID=America/New_York:20260411T170000
DTSTAMP:20260422T203530
CREATED:20250813T135803Z
LAST-MODIFIED:20260408T111610Z
UID:10019067-1775916000-1775926800@livemusicasheville.com
SUMMARY:Three Shades of Gray
DESCRIPTION:Related
URL:https://livemusicasheville.com/calendar/three-shades-of-gray/
LOCATION:Mills River Brewing Co.\, 336 Banner Farm Rd\,\, Mills River\, NC\, 28759
CATEGORIES:Asheville Area,Live Music,Mills River
GEO:35.380515;-82.5654984
X-APPLE-STRUCTURED-LOCATION;VALUE=URI;X-ADDRESS=Mills River Brewing Co. 336 Banner Farm Rd Mills River NC 28759;X-APPLE-RADIUS=500;X-TITLE=336 Banner Farm Rd\,:geo:-82.5654984,35.380515
END:VEVENT
BEGIN:VEVENT
DTSTART;TZID=America/New_York:20260410T183000
DTEND;TZID=America/New_York:20260410T213000
DTSTAMP:20260422T203530
CREATED:20260408T111451Z
LAST-MODIFIED:20260408T111451Z
UID:10055694-1775845800-1775856600@livemusicasheville.com
SUMMARY:Crimson Moon
DESCRIPTION:Related
URL:https://livemusicasheville.com/calendar/crimson-moon-2/
LOCATION:Mills River Brewing Co.\, 336 Banner Farm Rd\,\, Mills River\, NC\, 28759
CATEGORIES:Asheville Area,Live Music,Mills River
GEO:35.380515;-82.5654984
X-APPLE-STRUCTURED-LOCATION;VALUE=URI;X-ADDRESS=Mills River Brewing Co. 336 Banner Farm Rd Mills River NC 28759;X-APPLE-RADIUS=500;X-TITLE=336 Banner Farm Rd\,:geo:-82.5654984,35.380515
END:VEVENT
BEGIN:VEVENT
DTSTART;TZID=America/New_York:20260409T180000
DTEND;TZID=America/New_York:20260409T210000
DTSTAMP:20260422T203530
CREATED:20250212T123718Z
LAST-MODIFIED:20260401T113710Z
UID:10008127-1775757600-1775768400@livemusicasheville.com
SUMMARY:Jesse Talbott duo
DESCRIPTION:Related
URL:https://livemusicasheville.com/calendar/jesse-talbott/
LOCATION:Mills River Brewing Co.\, 336 Banner Farm Rd\,\, Mills River\, NC\, 28759
CATEGORIES:Asheville Area,Live Music,Mills River
GEO:35.380515;-82.5654984
X-APPLE-STRUCTURED-LOCATION;VALUE=URI;X-ADDRESS=Mills River Brewing Co. 336 Banner Farm Rd Mills River NC 28759;X-APPLE-RADIUS=500;X-TITLE=336 Banner Farm Rd\,:geo:-82.5654984,35.380515
END:VEVENT
BEGIN:VEVENT
DTSTART;TZID=America/New_York:20260405T140000
DTEND;TZID=America/New_York:20260405T170000
DTSTAMP:20260422T203530
CREATED:20250115T020626Z
LAST-MODIFIED:20260401T113616Z
UID:10006391-1775397600-1775408400@livemusicasheville.com
SUMMARY:Crystal Fountains Bluegrass
DESCRIPTION:Related
URL:https://livemusicasheville.com/calendar/crystal-fountains-bluegrass/
LOCATION:Mills River Brewing Co.\, 336 Banner Farm Rd\,\, Mills River\, NC\, 28759
CATEGORIES:Asheville Area,Live Music,Mills River
GEO:35.380515;-82.5654984
X-APPLE-STRUCTURED-LOCATION;VALUE=URI;X-ADDRESS=Mills River Brewing Co. 336 Banner Farm Rd Mills River NC 28759;X-APPLE-RADIUS=500;X-TITLE=336 Banner Farm Rd\,:geo:-82.5654984,35.380515
END:VEVENT
BEGIN:VEVENT
DTSTART;TZID=America/New_York:20260404T183000
DTEND;TZID=America/New_York:20260404T213000
DTSTAMP:20260422T203530
CREATED:20250702T120627Z
LAST-MODIFIED:20260401T113426Z
UID:10016567-1775327400-1775338200@livemusicasheville.com
SUMMARY:Country Pour
DESCRIPTION:Related
URL:https://livemusicasheville.com/calendar/country-pour/
LOCATION:Mills River Brewing Co.\, 336 Banner Farm Rd\,\, Mills River\, NC\, 28759
CATEGORIES:Asheville Area,Live Music,Mills River
GEO:35.380515;-82.5654984
X-APPLE-STRUCTURED-LOCATION;VALUE=URI;X-ADDRESS=Mills River Brewing Co. 336 Banner Farm Rd Mills River NC 28759;X-APPLE-RADIUS=500;X-TITLE=336 Banner Farm Rd\,:geo:-82.5654984,35.380515
END:VEVENT
BEGIN:VEVENT
DTSTART;TZID=America/New_York:20260404T140000
DTEND;TZID=America/New_York:20260404T170000
DTSTAMP:20260422T203530
CREATED:20250709T125109Z
LAST-MODIFIED:20260401T113341Z
UID:10017141-1775311200-1775322000@livemusicasheville.com
SUMMARY:Uptown Appalachia
DESCRIPTION:Related
URL:https://livemusicasheville.com/calendar/uptown-appalachia/
LOCATION:Mills River Brewing Co.\, 336 Banner Farm Rd\,\, Mills River\, NC\, 28759
CATEGORIES:Asheville Area,Live Music,Mills River
GEO:35.380515;-82.5654984
X-APPLE-STRUCTURED-LOCATION;VALUE=URI;X-ADDRESS=Mills River Brewing Co. 336 Banner Farm Rd Mills River NC 28759;X-APPLE-RADIUS=500;X-TITLE=336 Banner Farm Rd\,:geo:-82.5654984,35.380515
END:VEVENT
BEGIN:VEVENT
DTSTART;TZID=America/New_York:20260403T183000
DTEND;TZID=America/New_York:20260403T213000
DTSTAMP:20260422T203530
CREATED:20250115T225703Z
LAST-MODIFIED:20260401T113245Z
UID:10006578-1775241000-1775251800@livemusicasheville.com
SUMMARY:Peggy Ratusz and Daddy Longlegs
DESCRIPTION:Related
URL:https://livemusicasheville.com/calendar/peggy-ratusz-and-daddy-longlegs/
LOCATION:Mills River Brewing Co.\, 336 Banner Farm Rd\,\, Mills River\, NC\, 28759
CATEGORIES:Asheville Area,Live Music,Mills River
GEO:35.380515;-82.5654984
X-APPLE-STRUCTURED-LOCATION;VALUE=URI;X-ADDRESS=Mills River Brewing Co. 336 Banner Farm Rd Mills River NC 28759;X-APPLE-RADIUS=500;X-TITLE=336 Banner Farm Rd\,:geo:-82.5654984,35.380515
END:VEVENT
BEGIN:VEVENT
DTSTART;TZID=America/New_York:20260402T180000
DTEND;TZID=America/New_York:20260402T210000
DTSTAMP:20260422T203530
CREATED:20250122T133923Z
LAST-MODIFIED:20260325T132512Z
UID:10006831-1775152800-1775163600@livemusicasheville.com
SUMMARY:Seth & Sara
DESCRIPTION:Related
URL:https://livemusicasheville.com/calendar/seth-sara/
LOCATION:Mills River Brewing Co.\, 336 Banner Farm Rd\,\, Mills River\, NC\, 28759
CATEGORIES:Asheville Area,Live Music,Mills River
GEO:35.380515;-82.5654984
X-APPLE-STRUCTURED-LOCATION;VALUE=URI;X-ADDRESS=Mills River Brewing Co. 336 Banner Farm Rd Mills River NC 28759;X-APPLE-RADIUS=500;X-TITLE=336 Banner Farm Rd\,:geo:-82.5654984,35.380515
END:VEVENT
BEGIN:VEVENT
DTSTART;TZID=America/New_York:20260401T180000
DTEND;TZID=America/New_York:20260401T210000
DTSTAMP:20260422T203530
CREATED:20250805T224118Z
LAST-MODIFIED:20260401T003407Z
UID:10020297-1775066400-1775077200@livemusicasheville.com
SUMMARY:Mills River Brewing Bluegrass Jam
DESCRIPTION:Appalachia Haze will be hosting The bluegrass Jam Session on Wednesday\, April 1st (no fooling). The band performs from 6pm – 7pm // open jam from 7pm – 9pm. All are welcom \n\n\n	Related
URL:https://livemusicasheville.com/calendar/bear-creek-string-bandits-bluegrass-jam-2/2026-04-01/
LOCATION:Mills River Brewing Co.\, 336 Banner Farm Rd\,\, Mills River\, NC\, 28759
CATEGORIES:Asheville Area,Live Music,Mills River,Open MIc/Jam
GEO:35.380515;-82.5654984
X-APPLE-STRUCTURED-LOCATION;VALUE=URI;X-ADDRESS=Mills River Brewing Co. 336 Banner Farm Rd Mills River NC 28759;X-APPLE-RADIUS=500;X-TITLE=336 Banner Farm Rd\,:geo:-82.5654984,35.380515
END:VEVENT
BEGIN:VEVENT
DTSTART;TZID=America/New_York:20260329T140000
DTEND;TZID=America/New_York:20260329T170000
DTSTAMP:20260422T203530
CREATED:20250402T121549Z
LAST-MODIFIED:20260325T132405Z
UID:10011730-1774792800-1774803600@livemusicasheville.com
SUMMARY:Justin Howl
DESCRIPTION:Related
URL:https://livemusicasheville.com/calendar/justin-howl/
LOCATION:Mills River Brewing Co.\, 336 Banner Farm Rd\,\, Mills River\, NC\, 28759
CATEGORIES:Asheville Area,Live Music,Mills River
GEO:35.380515;-82.5654984
X-APPLE-STRUCTURED-LOCATION;VALUE=URI;X-ADDRESS=Mills River Brewing Co. 336 Banner Farm Rd Mills River NC 28759;X-APPLE-RADIUS=500;X-TITLE=336 Banner Farm Rd\,:geo:-82.5654984,35.380515
END:VEVENT
BEGIN:VEVENT
DTSTART;TZID=America/New_York:20260328T183000
DTEND;TZID=America/New_York:20260328T213000
DTSTAMP:20260422T203530
CREATED:20250922T183655Z
LAST-MODIFIED:20260325T132320Z
UID:10021537-1774722600-1774733400@livemusicasheville.com
SUMMARY:Cody Hale Trio
DESCRIPTION:Related
URL:https://livemusicasheville.com/calendar/cody-hale/
LOCATION:Mills River Brewing Co.\, 336 Banner Farm Rd\,\, Mills River\, NC\, 28759
CATEGORIES:Asheville Area,Live Music,Mills River
GEO:35.380515;-82.5654984
X-APPLE-STRUCTURED-LOCATION;VALUE=URI;X-ADDRESS=Mills River Brewing Co. 336 Banner Farm Rd Mills River NC 28759;X-APPLE-RADIUS=500;X-TITLE=336 Banner Farm Rd\,:geo:-82.5654984,35.380515
END:VEVENT
BEGIN:VEVENT
DTSTART;TZID=America/New_York:20260328T140000
DTEND;TZID=America/New_York:20260328T170000
DTSTAMP:20260422T203530
CREATED:20250326T131617Z
LAST-MODIFIED:20260325T132230Z
UID:10011445-1774706400-1774717200@livemusicasheville.com
SUMMARY:Jack Miller & Rick Callahan
DESCRIPTION:Related
URL:https://livemusicasheville.com/calendar/jack-miller-rick-callahan-2/
LOCATION:Mills River Brewing Co.\, 336 Banner Farm Rd\,\, Mills River\, NC\, 28759
CATEGORIES:Asheville Area,Live Music,Mills River
GEO:35.380515;-82.5654984
X-APPLE-STRUCTURED-LOCATION;VALUE=URI;X-ADDRESS=Mills River Brewing Co. 336 Banner Farm Rd Mills River NC 28759;X-APPLE-RADIUS=500;X-TITLE=336 Banner Farm Rd\,:geo:-82.5654984,35.380515
END:VEVENT
BEGIN:VEVENT
DTSTART;TZID=America/New_York:20260327T183000
DTEND;TZID=America/New_York:20260327T213000
DTSTAMP:20260422T203530
CREATED:20260325T132142Z
LAST-MODIFIED:20260325T132142Z
UID:10052316-1774636200-1774647000@livemusicasheville.com
SUMMARY:Zak Saltz Band
DESCRIPTION:Related
URL:https://livemusicasheville.com/calendar/zak-saltz-band-2/
LOCATION:Mills River Brewing Co.\, 336 Banner Farm Rd\,\, Mills River\, NC\, 28759
CATEGORIES:Asheville Area,Live Music,Mills River
GEO:35.380515;-82.5654984
X-APPLE-STRUCTURED-LOCATION;VALUE=URI;X-ADDRESS=Mills River Brewing Co. 336 Banner Farm Rd Mills River NC 28759;X-APPLE-RADIUS=500;X-TITLE=336 Banner Farm Rd\,:geo:-82.5654984,35.380515
END:VEVENT
BEGIN:VEVENT
DTSTART;TZID=America/New_York:20260326T180000
DTEND;TZID=America/New_York:20260326T210000
DTSTAMP:20260422T203530
CREATED:20250604T141239Z
LAST-MODIFIED:20260318T123943Z
UID:10015432-1774548000-1774558800@livemusicasheville.com
SUMMARY:Kid Billy Litz
DESCRIPTION:Related
URL:https://livemusicasheville.com/calendar/kid-billy-litz/
LOCATION:Mills River Brewing Co.\, 336 Banner Farm Rd\,\, Mills River\, NC\, 28759
CATEGORIES:Asheville Area,Live Music,Mills River
GEO:35.380515;-82.5654984
X-APPLE-STRUCTURED-LOCATION;VALUE=URI;X-ADDRESS=Mills River Brewing Co. 336 Banner Farm Rd Mills River NC 28759;X-APPLE-RADIUS=500;X-TITLE=336 Banner Farm Rd\,:geo:-82.5654984,35.380515
END:VEVENT
BEGIN:VEVENT
DTSTART;TZID=America/New_York:20260321T183000
DTEND;TZID=America/New_York:20260321T213000
DTSTAMP:20260422T203530
CREATED:20260107T132923Z
LAST-MODIFIED:20260321T074949Z
UID:10032003-1774117800-1774128600@livemusicasheville.com
SUMMARY:Laron Huntley & the Gravely Brothers
DESCRIPTION:Related
URL:https://livemusicasheville.com/calendar/the-laron-huntley-band-w-braelyn-grooms-opening/
LOCATION:Mills River Brewing Co.\, 336 Banner Farm Rd\,\, Mills River\, NC\, 28759
CATEGORIES:Asheville Area,Live Music,Mills River
GEO:35.380515;-82.5654984
X-APPLE-STRUCTURED-LOCATION;VALUE=URI;X-ADDRESS=Mills River Brewing Co. 336 Banner Farm Rd Mills River NC 28759;X-APPLE-RADIUS=500;X-TITLE=336 Banner Farm Rd\,:geo:-82.5654984,35.380515
END:VEVENT
BEGIN:VEVENT
DTSTART;TZID=America/New_York:20260320T183000
DTEND;TZID=America/New_York:20260320T213000
DTSTAMP:20260422T203530
CREATED:20250115T185012Z
LAST-MODIFIED:20260318T123550Z
UID:10006534-1774031400-1774042200@livemusicasheville.com
SUMMARY:Kristen Toole Band
DESCRIPTION:Related
URL:https://livemusicasheville.com/calendar/dakota-lee/
LOCATION:Mills River Brewing Co.\, 336 Banner Farm Rd\,\, Mills River\, NC\, 28759
CATEGORIES:Asheville Area,Live Music,Mills River
GEO:35.380515;-82.5654984
X-APPLE-STRUCTURED-LOCATION;VALUE=URI;X-ADDRESS=Mills River Brewing Co. 336 Banner Farm Rd Mills River NC 28759;X-APPLE-RADIUS=500;X-TITLE=336 Banner Farm Rd\,:geo:-82.5654984,35.380515
END:VEVENT
BEGIN:VEVENT
DTSTART;TZID=America/New_York:20260319T180000
DTEND;TZID=America/New_York:20260319T210000
DTSTAMP:20260422T203530
CREATED:20251015T124659Z
LAST-MODIFIED:20260311T125849Z
UID:10022716-1773943200-1773954000@livemusicasheville.com
SUMMARY:Connor Hunt Duo
DESCRIPTION:Related
URL:https://livemusicasheville.com/calendar/connor-hunt-3/
LOCATION:Mills River Brewing Co.\, 336 Banner Farm Rd\,\, Mills River\, NC\, 28759
CATEGORIES:Asheville Area,Live Music,Mills River
GEO:35.380515;-82.5654984
X-APPLE-STRUCTURED-LOCATION;VALUE=URI;X-ADDRESS=Mills River Brewing Co. 336 Banner Farm Rd Mills River NC 28759;X-APPLE-RADIUS=500;X-TITLE=336 Banner Farm Rd\,:geo:-82.5654984,35.380515
END:VEVENT
BEGIN:VEVENT
DTSTART;TZID=America/New_York:20260315T140000
DTEND;TZID=America/New_York:20260315T170000
DTSTAMP:20260422T203530
CREATED:20250709T202411Z
LAST-MODIFIED:20260311T125740Z
UID:10017230-1773583200-1773594000@livemusicasheville.com
SUMMARY:Live Music w/ Peggy Ratusz & Jonathan Pearlman
DESCRIPTION:Related
URL:https://livemusicasheville.com/calendar/live-music-w-peggy-kelly/
LOCATION:Mills River Brewing Co.\, 336 Banner Farm Rd\,\, Mills River\, NC\, 28759
CATEGORIES:Asheville Area,Live Music,Mills River
GEO:35.380515;-82.5654984
X-APPLE-STRUCTURED-LOCATION;VALUE=URI;X-ADDRESS=Mills River Brewing Co. 336 Banner Farm Rd Mills River NC 28759;X-APPLE-RADIUS=500;X-TITLE=336 Banner Farm Rd\,:geo:-82.5654984,35.380515
END:VEVENT
BEGIN:VEVENT
DTSTART;TZID=America/New_York:20260314T183000
DTEND;TZID=America/New_York:20260314T213000
DTSTAMP:20260422T203530
CREATED:20241227T111309Z
LAST-MODIFIED:20260311T125552Z
UID:10003948-1773513000-1773523800@livemusicasheville.com
SUMMARY:Flashback Band 🍀
DESCRIPTION:Related
URL:https://livemusicasheville.com/calendar/flashback-band/
LOCATION:Mills River Brewing Co.\, 336 Banner Farm Rd\,\, Mills River\, NC\, 28759
CATEGORIES:Asheville Area,Live Music,Mills River
GEO:35.380515;-82.5654984
X-APPLE-STRUCTURED-LOCATION;VALUE=URI;X-ADDRESS=Mills River Brewing Co. 336 Banner Farm Rd Mills River NC 28759;X-APPLE-RADIUS=500;X-TITLE=336 Banner Farm Rd\,:geo:-82.5654984,35.380515
END:VEVENT
BEGIN:VEVENT
DTSTART;TZID=America/New_York:20260314T140000
DTEND;TZID=America/New_York:20260314T170000
DTSTAMP:20260422T203530
CREATED:20260311T125431Z
LAST-MODIFIED:20260311T125431Z
UID:10048916-1773496800-1773507600@livemusicasheville.com
SUMMARY:The Ash & Wild Cask 🍀
DESCRIPTION:Related
URL:https://livemusicasheville.com/calendar/the-ash-wild-cask-%f0%9f%8d%80/
LOCATION:Mills River Brewing Co.\, 336 Banner Farm Rd\,\, Mills River\, NC\, 28759
CATEGORIES:Asheville Area,Live Music,Mills River
GEO:35.380515;-82.5654984
X-APPLE-STRUCTURED-LOCATION;VALUE=URI;X-ADDRESS=Mills River Brewing Co. 336 Banner Farm Rd Mills River NC 28759;X-APPLE-RADIUS=500;X-TITLE=336 Banner Farm Rd\,:geo:-82.5654984,35.380515
END:VEVENT
BEGIN:VEVENT
DTSTART;TZID=America/New_York:20260312T180000
DTEND;TZID=America/New_York:20260312T210000
DTSTAMP:20260422T203530
CREATED:20250108T154238Z
LAST-MODIFIED:20260304T143952Z
UID:10005472-1773338400-1773349200@livemusicasheville.com
SUMMARY:Will Hartz
DESCRIPTION:Related
URL:https://livemusicasheville.com/calendar/will-hartz-2/
LOCATION:Mills River Brewing Co.\, 336 Banner Farm Rd\,\, Mills River\, NC\, 28759
CATEGORIES:Asheville Area,Live Music,Mills River
GEO:35.380515;-82.5654984
X-APPLE-STRUCTURED-LOCATION;VALUE=URI;X-ADDRESS=Mills River Brewing Co. 336 Banner Farm Rd Mills River NC 28759;X-APPLE-RADIUS=500;X-TITLE=336 Banner Farm Rd\,:geo:-82.5654984,35.380515
END:VEVENT
BEGIN:VEVENT
DTSTART;TZID=America/New_York:20260308T140000
DTEND;TZID=America/New_York:20260308T170000
DTSTAMP:20260422T203530
CREATED:20260304T143854Z
LAST-MODIFIED:20260304T143854Z
UID:10047972-1772978400-1772989200@livemusicasheville.com
SUMMARY:Brian Peters Duo
DESCRIPTION:Related
URL:https://livemusicasheville.com/calendar/brian-peters-duo/
LOCATION:Mills River Brewing Co.\, 336 Banner Farm Rd\,\, Mills River\, NC\, 28759
CATEGORIES:Asheville Area,Live Music,Mills River
GEO:35.380515;-82.5654984
X-APPLE-STRUCTURED-LOCATION;VALUE=URI;X-ADDRESS=Mills River Brewing Co. 336 Banner Farm Rd Mills River NC 28759;X-APPLE-RADIUS=500;X-TITLE=336 Banner Farm Rd\,:geo:-82.5654984,35.380515
END:VEVENT
BEGIN:VEVENT
DTSTART;TZID=America/New_York:20260307T183000
DTEND;TZID=America/New_York:20260307T213000
DTSTAMP:20260422T203530
CREATED:20260304T143745Z
LAST-MODIFIED:20260304T143745Z
UID:10047971-1772908200-1772919000@livemusicasheville.com
SUMMARY:Steel Creek Band
DESCRIPTION:Related
URL:https://livemusicasheville.com/calendar/steel-creek-band/
LOCATION:Mills River Brewing Co.\, 336 Banner Farm Rd\,\, Mills River\, NC\, 28759
CATEGORIES:Asheville Area,Live Music,Mills River
GEO:35.380515;-82.5654984
X-APPLE-STRUCTURED-LOCATION;VALUE=URI;X-ADDRESS=Mills River Brewing Co. 336 Banner Farm Rd Mills River NC 28759;X-APPLE-RADIUS=500;X-TITLE=336 Banner Farm Rd\,:geo:-82.5654984,35.380515
END:VEVENT
BEGIN:VEVENT
DTSTART;TZID=America/New_York:20260307T140000
DTEND;TZID=America/New_York:20260307T170000
DTSTAMP:20260422T203530
CREATED:20250416T123821Z
LAST-MODIFIED:20260304T143645Z
UID:10012604-1772892000-1772902800@livemusicasheville.com
SUMMARY:The Pond Brothers
DESCRIPTION:Related
URL:https://livemusicasheville.com/calendar/the-pond-brothers/
LOCATION:Mills River Brewing Co.\, 336 Banner Farm Rd\,\, Mills River\, NC\, 28759
CATEGORIES:Asheville Area,Live Music,Mills River
GEO:35.380515;-82.5654984
X-APPLE-STRUCTURED-LOCATION;VALUE=URI;X-ADDRESS=Mills River Brewing Co. 336 Banner Farm Rd Mills River NC 28759;X-APPLE-RADIUS=500;X-TITLE=336 Banner Farm Rd\,:geo:-82.5654984,35.380515
END:VEVENT
BEGIN:VEVENT
DTSTART;TZID=America/New_York:20260304T180000
DTEND;TZID=America/New_York:20260304T210000
DTSTAMP:20260422T203530
CREATED:20250805T224118Z
LAST-MODIFIED:20260401T003407Z
UID:10020296-1772647200-1772658000@livemusicasheville.com
SUMMARY:Mills River Brewing Bluegrass Jam
DESCRIPTION:Appalachia Haze will be hosting The bluegrass Jam Session on Wednesday\, April 1st (no fooling). The band performs from 6pm – 7pm // open jam from 7pm – 9pm. All are welcom \n\n\n	Related
URL:https://livemusicasheville.com/calendar/bear-creek-string-bandits-bluegrass-jam-2/2026-03-04/
LOCATION:Mills River Brewing Co.\, 336 Banner Farm Rd\,\, Mills River\, NC\, 28759
CATEGORIES:Asheville Area,Live Music,Mills River,Open MIc/Jam
GEO:35.380515;-82.5654984
X-APPLE-STRUCTURED-LOCATION;VALUE=URI;X-ADDRESS=Mills River Brewing Co. 336 Banner Farm Rd Mills River NC 28759;X-APPLE-RADIUS=500;X-TITLE=336 Banner Farm Rd\,:geo:-82.5654984,35.380515
END:VEVENT
END:VCALENDAR