BEGIN:VCALENDAR
VERSION:2.0
PRODID:-//LiveMusicAsheville.com - ECPv6.15.20//NONSGML v1.0//EN
CALSCALE:GREGORIAN
METHOD:PUBLISH
X-WR-CALNAME:LiveMusicAsheville.com
X-ORIGINAL-URL:https://livemusicasheville.com
X-WR-CALDESC:Events for LiveMusicAsheville.com
REFRESH-INTERVAL;VALUE=DURATION:PT1H
X-Robots-Tag:noindex
X-PUBLISHED-TTL:PT1H
BEGIN:VTIMEZONE
TZID:America/New_York
BEGIN:DAYLIGHT
TZOFFSETFROM:-0500
TZOFFSETTO:-0400
TZNAME:EDT
DTSTART:20250309T070000
END:DAYLIGHT
BEGIN:STANDARD
TZOFFSETFROM:-0400
TZOFFSETTO:-0500
TZNAME:EST
DTSTART:20251102T060000
END:STANDARD
BEGIN:DAYLIGHT
TZOFFSETFROM:-0500
TZOFFSETTO:-0400
TZNAME:EDT
DTSTART:20260308T070000
END:DAYLIGHT
BEGIN:STANDARD
TZOFFSETFROM:-0400
TZOFFSETTO:-0500
TZNAME:EST
DTSTART:20261101T060000
END:STANDARD
BEGIN:DAYLIGHT
TZOFFSETFROM:-0500
TZOFFSETTO:-0400
TZNAME:EDT
DTSTART:20270314T070000
END:DAYLIGHT
BEGIN:STANDARD
TZOFFSETFROM:-0400
TZOFFSETTO:-0500
TZNAME:EST
DTSTART:20271107T060000
END:STANDARD
END:VTIMEZONE
BEGIN:VEVENT
DTSTART;TZID=America/New_York:20260422T180000
DTEND;TZID=America/New_York:20260422T200000
DTSTAMP:20260424T123723
CREATED:20260107T185729Z
LAST-MODIFIED:20260401T151556Z
UID:10023703-1776880800-1776888000@livemusicasheville.com
SUMMARY:Well Crafted Music Series with Matt Smith
DESCRIPTION:  \n4/1- Amanda Anne Platt\n4/8- A. Lee Edwards w Zack Page\n4/15- Datrian Johnson w Duane Simpson\, Tony Black and Mike Rhodes\n4/22- Silas Hamilton w Zach Smith and Evan Martin\n4/29- Lyndsay Pruett w Rick Cooper and Zach Smith \nCheck with the venue for Matt’s upcoming guest(s). \n\n\n	Related
URL:https://livemusicasheville.com/calendar/well-crafted-wednesday-with-matt-smith-2-2-2-2-2-2/2026-04-22/
LOCATION:Highland Brewing
CATEGORIES:Asheville Area,Live Music
END:VEVENT
BEGIN:VEVENT
DTSTART;TZID=America/New_York:20260419T140000
DTEND;TZID=America/New_York:20260419T170000
DTSTAMP:20260424T123723
CREATED:20260415T200009Z
LAST-MODIFIED:20260415T200009Z
UID:10057438-1776607200-1776618000@livemusicasheville.com
SUMMARY:Floridaze
DESCRIPTION:Related
URL:https://livemusicasheville.com/calendar/floridaze/
LOCATION:Highland Brewing
CATEGORIES:Asheville Area,Live Music
END:VEVENT
BEGIN:VEVENT
DTSTART;TZID=America/New_York:20260418T180000
DTEND;TZID=America/New_York:20260418T210000
DTSTAMP:20260424T123723
CREATED:20250716T191052Z
LAST-MODIFIED:20260415T195920Z
UID:10017932-1776535200-1776546000@livemusicasheville.com
SUMMARY:Angela Perley
DESCRIPTION:Related
URL:https://livemusicasheville.com/calendar/angela-perley/
LOCATION:Highland Brewing
CATEGORIES:Asheville Area,Live Music
END:VEVENT
BEGIN:VEVENT
DTSTART;TZID=America/New_York:20260417T190000
DTEND;TZID=America/New_York:20260417T213000
DTSTAMP:20260424T123723
CREATED:20260415T195838Z
LAST-MODIFIED:20260415T195838Z
UID:10057437-1776452400-1776461400@livemusicasheville.com
SUMMARY:My Magnificent Nemesis
DESCRIPTION:Related
URL:https://livemusicasheville.com/calendar/my-magnificent-nemesis/
LOCATION:Highland Brewing
CATEGORIES:Asheville Area,Live Music
END:VEVENT
BEGIN:VEVENT
DTSTART;TZID=America/New_York:20260415T180000
DTEND;TZID=America/New_York:20260415T200000
DTSTAMP:20260424T123723
CREATED:20260107T185729Z
LAST-MODIFIED:20260401T151556Z
UID:10023702-1776276000-1776283200@livemusicasheville.com
SUMMARY:Well Crafted Music Series with Matt Smith
DESCRIPTION:  \n4/1- Amanda Anne Platt\n4/8- A. Lee Edwards w Zack Page\n4/15- Datrian Johnson w Duane Simpson\, Tony Black and Mike Rhodes\n4/22- Silas Hamilton w Zach Smith and Evan Martin\n4/29- Lyndsay Pruett w Rick Cooper and Zach Smith \nCheck with the venue for Matt’s upcoming guest(s). \n\n\n	Related
URL:https://livemusicasheville.com/calendar/well-crafted-wednesday-with-matt-smith-2-2-2-2-2-2/2026-04-15/
LOCATION:Highland Brewing
CATEGORIES:Asheville Area,Live Music
END:VEVENT
BEGIN:VEVENT
DTSTART;TZID=America/New_York:20260412T140000
DTEND;TZID=America/New_York:20260412T170000
DTSTAMP:20260424T123723
CREATED:20250731T123427Z
LAST-MODIFIED:20260412T140302Z
UID:10018464-1776002400-1776013200@livemusicasheville.com
SUMMARY:The Firewater Tent Revival
DESCRIPTION:Related
URL:https://livemusicasheville.com/calendar/the-firewater-tent-revival-2/
LOCATION:Highland Brewing
CATEGORIES:Asheville Area,Live Music
END:VEVENT
BEGIN:VEVENT
DTSTART;TZID=America/New_York:20260411T180000
DTEND;TZID=America/New_York:20260411T210000
DTSTAMP:20260424T123723
CREATED:20250716T190825Z
LAST-MODIFIED:20260408T185820Z
UID:10017930-1775930400-1775941200@livemusicasheville.com
SUMMARY:Truphonic
DESCRIPTION:Related
URL:https://livemusicasheville.com/calendar/truphonic-2/
LOCATION:Highland Brewing
CATEGORIES:Asheville Area,Live Music
END:VEVENT
BEGIN:VEVENT
DTSTART;TZID=America/New_York:20260410T190000
DTEND;TZID=America/New_York:20260410T210000
DTSTAMP:20260424T123723
CREATED:20260408T185705Z
LAST-MODIFIED:20260409T145016Z
UID:10055966-1775847600-1775854800@livemusicasheville.com
SUMMARY:Lucille Klement
DESCRIPTION:Related
URL:https://livemusicasheville.com/calendar/lucille-klement/
LOCATION:Highland Brewing
CATEGORIES:Asheville Area,Live Music
END:VEVENT
BEGIN:VEVENT
DTSTART;TZID=America/New_York:20260408T180000
DTEND;TZID=America/New_York:20260408T200000
DTSTAMP:20260424T123723
CREATED:20260107T185729Z
LAST-MODIFIED:20260401T151556Z
UID:10023701-1775671200-1775678400@livemusicasheville.com
SUMMARY:Well Crafted Music Series with Matt Smith
DESCRIPTION:  \n4/1- Amanda Anne Platt\n4/8- A. Lee Edwards w Zack Page\n4/15- Datrian Johnson w Duane Simpson\, Tony Black and Mike Rhodes\n4/22- Silas Hamilton w Zach Smith and Evan Martin\n4/29- Lyndsay Pruett w Rick Cooper and Zach Smith \nCheck with the venue for Matt’s upcoming guest(s). \n\n\n	Related
URL:https://livemusicasheville.com/calendar/well-crafted-wednesday-with-matt-smith-2-2-2-2-2-2/2026-04-08/
LOCATION:Highland Brewing
CATEGORIES:Asheville Area,Live Music
END:VEVENT
BEGIN:VEVENT
DTSTART;TZID=America/New_York:20260404T180000
DTEND;TZID=America/New_York:20260404T210000
DTSTAMP:20260424T123723
CREATED:20260401T180224Z
LAST-MODIFIED:20260401T180224Z
UID:10054538-1775325600-1775336400@livemusicasheville.com
SUMMARY:Franklin’s Kite
DESCRIPTION:Related
URL:https://livemusicasheville.com/calendar/franklins-kite-2/
LOCATION:Highland Brewing
CATEGORIES:Asheville Area,Live Music
END:VEVENT
BEGIN:VEVENT
DTSTART;TZID=America/New_York:20260403T190000
DTEND;TZID=America/New_York:20260403T210000
DTSTAMP:20260424T123723
CREATED:20260401T180121Z
LAST-MODIFIED:20260401T180121Z
UID:10054537-1775242800-1775250000@livemusicasheville.com
SUMMARY:High Flying Criminals
DESCRIPTION:Related
URL:https://livemusicasheville.com/calendar/high-flying-criminals/
LOCATION:Highland Brewing
CATEGORIES:Asheville Area,Live Music
END:VEVENT
BEGIN:VEVENT
DTSTART;TZID=America/New_York:20260401T180000
DTEND;TZID=America/New_York:20260401T200000
DTSTAMP:20260424T123723
CREATED:20260107T185729Z
LAST-MODIFIED:20260401T151556Z
UID:10023700-1775066400-1775073600@livemusicasheville.com
SUMMARY:Well Crafted Music Series with Matt Smith
DESCRIPTION:  \n4/1- Amanda Anne Platt\n4/8- A. Lee Edwards w Zack Page\n4/15- Datrian Johnson w Duane Simpson\, Tony Black and Mike Rhodes\n4/22- Silas Hamilton w Zach Smith and Evan Martin\n4/29- Lyndsay Pruett w Rick Cooper and Zach Smith \nCheck with the venue for Matt’s upcoming guest(s). \n\n\n	Related
URL:https://livemusicasheville.com/calendar/well-crafted-wednesday-with-matt-smith-2-2-2-2-2-2/2026-04-01/
LOCATION:Highland Brewing
CATEGORIES:Asheville Area,Live Music
END:VEVENT
BEGIN:VEVENT
DTSTART;TZID=America/New_York:20260329T140000
DTEND;TZID=America/New_York:20260329T170000
DTSTAMP:20260424T123723
CREATED:20250622T170703Z
LAST-MODIFIED:20260325T200854Z
UID:10016171-1774792800-1774803600@livemusicasheville.com
SUMMARY:Fringe Revival
DESCRIPTION:Related
URL:https://livemusicasheville.com/calendar/fringe-revival/
LOCATION:Highland Brewing
CATEGORIES:Asheville Area,Live Music
END:VEVENT
BEGIN:VEVENT
DTSTART;TZID=America/New_York:20260328T170000
DTEND;TZID=America/New_York:20260328T200000
DTSTAMP:20260424T123723
CREATED:20250129T192550Z
LAST-MODIFIED:20260325T200727Z
UID:10007345-1774717200-1774728000@livemusicasheville.com
SUMMARY:Boat Command
DESCRIPTION:Related
URL:https://livemusicasheville.com/calendar/boat-command/
LOCATION:Highland Brewing
CATEGORIES:Asheville Area,Live Music
END:VEVENT
BEGIN:VEVENT
DTSTART;TZID=America/New_York:20260327T180000
DTEND;TZID=America/New_York:20260327T200000
DTSTAMP:20260424T123723
CREATED:20260325T200636Z
LAST-MODIFIED:20260325T200636Z
UID:10052673-1774634400-1774641600@livemusicasheville.com
SUMMARY:Hash Cabbage
DESCRIPTION:Related
URL:https://livemusicasheville.com/calendar/hash-cabbage-2/
LOCATION:Highland Brewing
CATEGORIES:Asheville Area,Live Music
END:VEVENT
BEGIN:VEVENT
DTSTART;TZID=America/New_York:20260325T180000
DTEND;TZID=America/New_York:20260325T200000
DTSTAMP:20260424T123723
CREATED:20260107T185729Z
LAST-MODIFIED:20260401T151556Z
UID:10023699-1774461600-1774468800@livemusicasheville.com
SUMMARY:Well Crafted Music Series with Matt Smith
DESCRIPTION:  \n4/1- Amanda Anne Platt\n4/8- A. Lee Edwards w Zack Page\n4/15- Datrian Johnson w Duane Simpson\, Tony Black and Mike Rhodes\n4/22- Silas Hamilton w Zach Smith and Evan Martin\n4/29- Lyndsay Pruett w Rick Cooper and Zach Smith \nCheck with the venue for Matt’s upcoming guest(s). \n\n\n	Related
URL:https://livemusicasheville.com/calendar/well-crafted-wednesday-with-matt-smith-2-2-2-2-2-2/2026-03-25/
LOCATION:Highland Brewing
CATEGORIES:Asheville Area,Live Music
END:VEVENT
BEGIN:VEVENT
DTSTART;TZID=America/New_York:20260322T140000
DTEND;TZID=America/New_York:20260322T170000
DTSTAMP:20260424T123723
CREATED:20250206T150820Z
LAST-MODIFIED:20260318T212141Z
UID:10007825-1774188000-1774198800@livemusicasheville.com
SUMMARY:The Resonant Rogues
DESCRIPTION:Related
URL:https://livemusicasheville.com/calendar/the-resonant-rogues-duo/
LOCATION:Highland Brewing
CATEGORIES:Asheville Area,Live Music
END:VEVENT
BEGIN:VEVENT
DTSTART;TZID=America/New_York:20260321T170000
DTEND;TZID=America/New_York:20260321T200000
DTSTAMP:20260424T123723
CREATED:20260318T212021Z
LAST-MODIFIED:20260318T212021Z
UID:10050013-1774112400-1774123200@livemusicasheville.com
SUMMARY:Relay Relay
DESCRIPTION:Related
URL:https://livemusicasheville.com/calendar/relay-relay/
LOCATION:Highland Brewing
CATEGORIES:Asheville Area,Live Music
END:VEVENT
BEGIN:VEVENT
DTSTART;TZID=America/New_York:20260318T180000
DTEND;TZID=America/New_York:20260318T200000
DTSTAMP:20260424T123723
CREATED:20260107T185729Z
LAST-MODIFIED:20260401T151556Z
UID:10023698-1773856800-1773864000@livemusicasheville.com
SUMMARY:Well Crafted Music Series with Matt Smith
DESCRIPTION:  \n4/1- Amanda Anne Platt\n4/8- A. Lee Edwards w Zack Page\n4/15- Datrian Johnson w Duane Simpson\, Tony Black and Mike Rhodes\n4/22- Silas Hamilton w Zach Smith and Evan Martin\n4/29- Lyndsay Pruett w Rick Cooper and Zach Smith \nCheck with the venue for Matt’s upcoming guest(s). \n\n\n	Related
URL:https://livemusicasheville.com/calendar/well-crafted-wednesday-with-matt-smith-2-2-2-2-2-2/2026-03-18/
LOCATION:Highland Brewing
CATEGORIES:Asheville Area,Live Music
END:VEVENT
BEGIN:VEVENT
DTSTART;TZID=America/New_York:20260315T160000
DTEND;TZID=America/New_York:20260315T180000
DTSTAMP:20260424T123723
CREATED:20251015T133617Z
LAST-MODIFIED:20260311T210022Z
UID:10022721-1773590400-1773597600@livemusicasheville.com
SUMMARY:Drop O’ The Pure 🍀
DESCRIPTION:Related
URL:https://livemusicasheville.com/calendar/irish-rock-w-drop-o-the-pure/
LOCATION:Highland Brewing
CATEGORIES:Asheville Area,Live Music
END:VEVENT
BEGIN:VEVENT
DTSTART;TZID=America/New_York:20260314T170000
DTEND;TZID=America/New_York:20260314T200000
DTSTAMP:20260424T123723
CREATED:20250501T020312Z
LAST-MODIFIED:20260311T205649Z
UID:10013484-1773507600-1773518400@livemusicasheville.com
SUMMARY:Carpal Tullar
DESCRIPTION:Related
URL:https://livemusicasheville.com/calendar/carpal-tullar/
LOCATION:Highland Brewing
CATEGORIES:Asheville Area,Live Music
END:VEVENT
BEGIN:VEVENT
DTSTART;TZID=America/New_York:20260313T180000
DTEND;TZID=America/New_York:20260313T200000
DTSTAMP:20260424T123723
CREATED:20250201T142525Z
LAST-MODIFIED:20260311T205546Z
UID:10007534-1773424800-1773432000@livemusicasheville.com
SUMMARY:Mana Meter
DESCRIPTION:Related
URL:https://livemusicasheville.com/calendar/mana-meter/
LOCATION:Highland Brewing
CATEGORIES:Asheville Area,Live Music
END:VEVENT
BEGIN:VEVENT
DTSTART;TZID=America/New_York:20260311T180000
DTEND;TZID=America/New_York:20260311T200000
DTSTAMP:20260424T123723
CREATED:20260107T185729Z
LAST-MODIFIED:20260401T151556Z
UID:10023697-1773252000-1773259200@livemusicasheville.com
SUMMARY:Well Crafted Music Series with Matt Smith
DESCRIPTION:  \n4/1- Amanda Anne Platt\n4/8- A. Lee Edwards w Zack Page\n4/15- Datrian Johnson w Duane Simpson\, Tony Black and Mike Rhodes\n4/22- Silas Hamilton w Zach Smith and Evan Martin\n4/29- Lyndsay Pruett w Rick Cooper and Zach Smith \nCheck with the venue for Matt’s upcoming guest(s). \n\n\n	Related
URL:https://livemusicasheville.com/calendar/well-crafted-wednesday-with-matt-smith-2-2-2-2-2-2/2026-03-11/
LOCATION:Highland Brewing
CATEGORIES:Asheville Area,Live Music
END:VEVENT
BEGIN:VEVENT
DTSTART;TZID=America/New_York:20260308T140000
DTEND;TZID=America/New_York:20260308T170000
DTSTAMP:20260424T123723
CREATED:20250716T145703Z
LAST-MODIFIED:20260304T210133Z
UID:10017823-1772978400-1772989200@livemusicasheville.com
SUMMARY:M A R and the Marmeladies
DESCRIPTION:Related
URL:https://livemusicasheville.com/calendar/m-a-r-and-the-marmeladies/
LOCATION:Highland Brewing
CATEGORIES:Asheville Area,Live Music
END:VEVENT
BEGIN:VEVENT
DTSTART;TZID=America/New_York:20260307T170000
DTEND;TZID=America/New_York:20260307T200000
DTSTAMP:20260424T123723
CREATED:20250604T124512Z
LAST-MODIFIED:20260304T210021Z
UID:10015417-1772902800-1772913600@livemusicasheville.com
SUMMARY:Dan Clare Collective
DESCRIPTION:Related
URL:https://livemusicasheville.com/calendar/dan-clare-collective/
LOCATION:Highland Brewing
CATEGORIES:Asheville Area,Live Music
END:VEVENT
BEGIN:VEVENT
DTSTART;TZID=America/New_York:20260304T180000
DTEND;TZID=America/New_York:20260304T200000
DTSTAMP:20260424T123723
CREATED:20260107T185729Z
LAST-MODIFIED:20260401T151556Z
UID:10023696-1772647200-1772654400@livemusicasheville.com
SUMMARY:Well Crafted Music Series with Matt Smith
DESCRIPTION:  \n4/1- Amanda Anne Platt\n4/8- A. Lee Edwards w Zack Page\n4/15- Datrian Johnson w Duane Simpson\, Tony Black and Mike Rhodes\n4/22- Silas Hamilton w Zach Smith and Evan Martin\n4/29- Lyndsay Pruett w Rick Cooper and Zach Smith \nCheck with the venue for Matt’s upcoming guest(s). \n\n\n	Related
URL:https://livemusicasheville.com/calendar/well-crafted-wednesday-with-matt-smith-2-2-2-2-2-2/2026-03-04/
LOCATION:Highland Brewing
CATEGORIES:Asheville Area,Live Music
END:VEVENT
BEGIN:VEVENT
DTSTART;TZID=America/New_York:20260301T140000
DTEND;TZID=America/New_York:20260301T170000
DTSTAMP:20260424T123723
CREATED:20250605T004110Z
LAST-MODIFIED:20260225T191720Z
UID:10015473-1772373600-1772384400@livemusicasheville.com
SUMMARY:Phuncle Sam
DESCRIPTION:Related
URL:https://livemusicasheville.com/calendar/phuncle-sam-4/
LOCATION:Highland Brewing
CATEGORIES:Asheville Area,Live Music
END:VEVENT
BEGIN:VEVENT
DTSTART;TZID=America/New_York:20260228T180000
DTEND;TZID=America/New_York:20260228T200000
DTSTAMP:20260424T123723
CREATED:20250326T212933Z
LAST-MODIFIED:20260225T191627Z
UID:10011498-1772301600-1772308800@livemusicasheville.com
SUMMARY:The Get Right Band
DESCRIPTION:Related
URL:https://livemusicasheville.com/calendar/the-get-right-band-3/
LOCATION:Highland Brewing
CATEGORIES:Asheville Area,Live Music
END:VEVENT
BEGIN:VEVENT
DTSTART;TZID=America/New_York:20260227T180000
DTEND;TZID=America/New_York:20260227T200000
DTSTAMP:20260424T123723
CREATED:20250402T213657Z
LAST-MODIFIED:20260225T192006Z
UID:10011948-1772215200-1772222400@livemusicasheville.com
SUMMARY:Reedy River String Band
DESCRIPTION:Related
URL:https://livemusicasheville.com/calendar/reedy-river-string-band/
LOCATION:Highland Brewing
CATEGORIES:Asheville Area,Live Music
END:VEVENT
BEGIN:VEVENT
DTSTART;TZID=America/New_York:20260225T180000
DTEND;TZID=America/New_York:20260225T200000
DTSTAMP:20260424T123723
CREATED:20260107T185729Z
LAST-MODIFIED:20260401T151556Z
UID:10023695-1772042400-1772049600@livemusicasheville.com
SUMMARY:Well Crafted Music Series with Matt Smith
DESCRIPTION:  \n4/1- Amanda Anne Platt\n4/8- A. Lee Edwards w Zack Page\n4/15- Datrian Johnson w Duane Simpson\, Tony Black and Mike Rhodes\n4/22- Silas Hamilton w Zach Smith and Evan Martin\n4/29- Lyndsay Pruett w Rick Cooper and Zach Smith \nCheck with the venue for Matt’s upcoming guest(s). \n\n\n	Related
URL:https://livemusicasheville.com/calendar/well-crafted-wednesday-with-matt-smith-2-2-2-2-2-2/2026-02-25/
LOCATION:Highland Brewing
CATEGORIES:Asheville Area,Live Music
END:VEVENT
END:VCALENDAR