BEGIN:VCALENDAR
VERSION:2.0
PRODID:-//LiveMusicAsheville.com - ECPv6.15.20//NONSGML v1.0//EN
CALSCALE:GREGORIAN
METHOD:PUBLISH
X-WR-CALNAME:LiveMusicAsheville.com
X-ORIGINAL-URL:https://livemusicasheville.com
X-WR-CALDESC:Events for LiveMusicAsheville.com
REFRESH-INTERVAL;VALUE=DURATION:PT1H
X-Robots-Tag:noindex
X-PUBLISHED-TTL:PT1H
BEGIN:VTIMEZONE
TZID:America/New_York
BEGIN:DAYLIGHT
TZOFFSETFROM:-0500
TZOFFSETTO:-0400
TZNAME:EDT
DTSTART:20240310T070000
END:DAYLIGHT
BEGIN:STANDARD
TZOFFSETFROM:-0400
TZOFFSETTO:-0500
TZNAME:EST
DTSTART:20241103T060000
END:STANDARD
BEGIN:DAYLIGHT
TZOFFSETFROM:-0500
TZOFFSETTO:-0400
TZNAME:EDT
DTSTART:20250309T070000
END:DAYLIGHT
BEGIN:STANDARD
TZOFFSETFROM:-0400
TZOFFSETTO:-0500
TZNAME:EST
DTSTART:20251102T060000
END:STANDARD
BEGIN:DAYLIGHT
TZOFFSETFROM:-0500
TZOFFSETTO:-0400
TZNAME:EDT
DTSTART:20260308T070000
END:DAYLIGHT
BEGIN:STANDARD
TZOFFSETFROM:-0400
TZOFFSETTO:-0500
TZNAME:EST
DTSTART:20261101T060000
END:STANDARD
END:VTIMEZONE
BEGIN:VEVENT
DTSTART;TZID=America/New_York:20250830T130000
DTEND;TZID=America/New_York:20250830T160000
DTSTAMP:20260425T153712
CREATED:20250630T131834Z
LAST-MODIFIED:20250825T005500Z
UID:10016351-1756558800-1756569600@livemusicasheville.com
SUMMARY:City Limits Band
DESCRIPTION:Related
URL:https://livemusicasheville.com/calendar/city-limits-band/
LOCATION:Harley-Davidson of Asheville Swannanoa
CATEGORIES:Asheville Area,Black Mountain,Live Music
END:VEVENT
BEGIN:VEVENT
DTSTART;TZID=America/New_York:20250426T120000
DTEND;TZID=America/New_York:20250426T150000
DTSTAMP:20260425T153712
CREATED:20250326T152934Z
LAST-MODIFIED:20250421T192029Z
UID:10011453-1745668800-1745679600@livemusicasheville.com
SUMMARY:SPRING BASH 2025 w/ Crosscut Groove
DESCRIPTION:Related
URL:https://livemusicasheville.com/calendar/crosscut-groove/
LOCATION:Harley-Davidson of Asheville Swannanoa
CATEGORIES:Asheville Area,Black Mountain,Live Music
END:VEVENT
END:VCALENDAR