BEGIN:VCALENDAR
VERSION:2.0
PRODID:-//LiveMusicAsheville.com - ECPv6.15.20//NONSGML v1.0//EN
CALSCALE:GREGORIAN
METHOD:PUBLISH
X-ORIGINAL-URL:https://livemusicasheville.com
X-WR-CALDESC:Events for LiveMusicAsheville.com
REFRESH-INTERVAL;VALUE=DURATION:PT1H
X-Robots-Tag:noindex
X-PUBLISHED-TTL:PT1H
BEGIN:VTIMEZONE
TZID:America/New_York
BEGIN:DAYLIGHT
TZOFFSETFROM:-0500
TZOFFSETTO:-0400
TZNAME:EDT
DTSTART:20260308T070000
END:DAYLIGHT
BEGIN:STANDARD
TZOFFSETFROM:-0400
TZOFFSETTO:-0500
TZNAME:EST
DTSTART:20261101T060000
END:STANDARD
BEGIN:DAYLIGHT
TZOFFSETFROM:-0500
TZOFFSETTO:-0400
TZNAME:EDT
DTSTART:20270314T070000
END:DAYLIGHT
BEGIN:STANDARD
TZOFFSETFROM:-0400
TZOFFSETTO:-0500
TZNAME:EST
DTSTART:20271107T060000
END:STANDARD
BEGIN:DAYLIGHT
TZOFFSETFROM:-0500
TZOFFSETTO:-0400
TZNAME:EDT
DTSTART:20280312T070000
END:DAYLIGHT
BEGIN:STANDARD
TZOFFSETFROM:-0400
TZOFFSETTO:-0500
TZNAME:EST
DTSTART:20281105T060000
END:STANDARD
BEGIN:DAYLIGHT
TZOFFSETFROM:-0500
TZOFFSETTO:-0400
TZNAME:EDT
DTSTART:20290311T070000
END:DAYLIGHT
BEGIN:STANDARD
TZOFFSETFROM:-0400
TZOFFSETTO:-0500
TZNAME:EST
DTSTART:20291104T060000
END:STANDARD
END:VTIMEZONE
BEGIN:VEVENT
DTSTART;TZID=America/New_York:20271003T143000
DTEND;TZID=America/New_York:20271003T163000
DTSTAMP:20260424T144625
CREATED:20260401T145357Z
LAST-MODIFIED:20260402T222123Z
UID:10039892-1822573800-1822581000@livemusicasheville.com
SUMMARY:Sunday Jazz Jam
DESCRIPTION:Related
URL:https://livemusicasheville.com/calendar/sunday-jazz-jam-2-2-2/2027-10-03/
LOCATION:Ginger’s Revenge
CATEGORIES:Asheville Area,Live Music,Open MIc/Jam
END:VEVENT
BEGIN:VEVENT
DTSTART;TZID=America/New_York:20271010T143000
DTEND;TZID=America/New_York:20271010T163000
DTSTAMP:20260424T144625
CREATED:20260401T145357Z
LAST-MODIFIED:20260402T222123Z
UID:10039893-1823178600-1823185800@livemusicasheville.com
SUMMARY:Sunday Jazz Jam
DESCRIPTION:Related
URL:https://livemusicasheville.com/calendar/sunday-jazz-jam-2-2-2/2027-10-10/
LOCATION:Ginger’s Revenge
CATEGORIES:Asheville Area,Live Music,Open MIc/Jam
END:VEVENT
BEGIN:VEVENT
DTSTART;TZID=America/New_York:20271017T143000
DTEND;TZID=America/New_York:20271017T163000
DTSTAMP:20260424T144625
CREATED:20260401T145357Z
LAST-MODIFIED:20260402T222123Z
UID:10039894-1823783400-1823790600@livemusicasheville.com
SUMMARY:Sunday Jazz Jam
DESCRIPTION:Related
URL:https://livemusicasheville.com/calendar/sunday-jazz-jam-2-2-2/2027-10-17/
LOCATION:Ginger’s Revenge
CATEGORIES:Asheville Area,Live Music,Open MIc/Jam
END:VEVENT
BEGIN:VEVENT
DTSTART;TZID=America/New_York:20271024T143000
DTEND;TZID=America/New_York:20271024T163000
DTSTAMP:20260424T144625
CREATED:20260401T145357Z
LAST-MODIFIED:20260402T222123Z
UID:10039895-1824388200-1824395400@livemusicasheville.com
SUMMARY:Sunday Jazz Jam
DESCRIPTION:Related
URL:https://livemusicasheville.com/calendar/sunday-jazz-jam-2-2-2/2027-10-24/
LOCATION:Ginger’s Revenge
CATEGORIES:Asheville Area,Live Music,Open MIc/Jam
END:VEVENT
BEGIN:VEVENT
DTSTART;TZID=America/New_York:20271031T143000
DTEND;TZID=America/New_York:20271031T163000
DTSTAMP:20260424T144625
CREATED:20260401T145357Z
LAST-MODIFIED:20260402T222123Z
UID:10039896-1824993000-1825000200@livemusicasheville.com
SUMMARY:Sunday Jazz Jam
DESCRIPTION:Related
URL:https://livemusicasheville.com/calendar/sunday-jazz-jam-2-2-2/2027-10-31/
LOCATION:Ginger’s Revenge
CATEGORIES:Asheville Area,Live Music,Open MIc/Jam
END:VEVENT
BEGIN:VEVENT
DTSTART;TZID=America/New_York:20271107T143000
DTEND;TZID=America/New_York:20271107T163000
DTSTAMP:20260424T144625
CREATED:20260401T145357Z
LAST-MODIFIED:20260402T222123Z
UID:10039897-1825597800-1825605000@livemusicasheville.com
SUMMARY:Sunday Jazz Jam
DESCRIPTION:Related
URL:https://livemusicasheville.com/calendar/sunday-jazz-jam-2-2-2/2027-11-07/
LOCATION:Ginger’s Revenge
CATEGORIES:Asheville Area,Live Music,Open MIc/Jam
END:VEVENT
BEGIN:VEVENT
DTSTART;TZID=America/New_York:20271114T143000
DTEND;TZID=America/New_York:20271114T163000
DTSTAMP:20260424T144625
CREATED:20260401T145357Z
LAST-MODIFIED:20260402T222123Z
UID:10039898-1826202600-1826209800@livemusicasheville.com
SUMMARY:Sunday Jazz Jam
DESCRIPTION:Related
URL:https://livemusicasheville.com/calendar/sunday-jazz-jam-2-2-2/2027-11-14/
LOCATION:Ginger’s Revenge
CATEGORIES:Asheville Area,Live Music,Open MIc/Jam
END:VEVENT
BEGIN:VEVENT
DTSTART;TZID=America/New_York:20271121T143000
DTEND;TZID=America/New_York:20271121T163000
DTSTAMP:20260424T144626
CREATED:20260401T145357Z
LAST-MODIFIED:20260402T222123Z
UID:10039899-1826807400-1826814600@livemusicasheville.com
SUMMARY:Sunday Jazz Jam
DESCRIPTION:Related
URL:https://livemusicasheville.com/calendar/sunday-jazz-jam-2-2-2/2027-11-21/
LOCATION:Ginger’s Revenge
CATEGORIES:Asheville Area,Live Music,Open MIc/Jam
END:VEVENT
BEGIN:VEVENT
DTSTART;TZID=America/New_York:20271128T143000
DTEND;TZID=America/New_York:20271128T163000
DTSTAMP:20260424T144626
CREATED:20260401T145357Z
LAST-MODIFIED:20260402T222123Z
UID:10039900-1827412200-1827419400@livemusicasheville.com
SUMMARY:Sunday Jazz Jam
DESCRIPTION:Related
URL:https://livemusicasheville.com/calendar/sunday-jazz-jam-2-2-2/2027-11-28/
LOCATION:Ginger’s Revenge
CATEGORIES:Asheville Area,Live Music,Open MIc/Jam
END:VEVENT
BEGIN:VEVENT
DTSTART;TZID=America/New_York:20271205T143000
DTEND;TZID=America/New_York:20271205T163000
DTSTAMP:20260424T144626
CREATED:20260401T145357Z
LAST-MODIFIED:20260402T222123Z
UID:10039901-1828017000-1828024200@livemusicasheville.com
SUMMARY:Sunday Jazz Jam
DESCRIPTION:Related
URL:https://livemusicasheville.com/calendar/sunday-jazz-jam-2-2-2/2027-12-05/
LOCATION:Ginger’s Revenge
CATEGORIES:Asheville Area,Live Music,Open MIc/Jam
END:VEVENT
BEGIN:VEVENT
DTSTART;TZID=America/New_York:20271212T143000
DTEND;TZID=America/New_York:20271212T163000
DTSTAMP:20260424T144626
CREATED:20260401T145357Z
LAST-MODIFIED:20260402T222123Z
UID:10039902-1828621800-1828629000@livemusicasheville.com
SUMMARY:Sunday Jazz Jam
DESCRIPTION:Related
URL:https://livemusicasheville.com/calendar/sunday-jazz-jam-2-2-2/2027-12-12/
LOCATION:Ginger’s Revenge
CATEGORIES:Asheville Area,Live Music,Open MIc/Jam
END:VEVENT
BEGIN:VEVENT
DTSTART;TZID=America/New_York:20271219T143000
DTEND;TZID=America/New_York:20271219T163000
DTSTAMP:20260424T144626
CREATED:20260401T145357Z
LAST-MODIFIED:20260402T222123Z
UID:10039903-1829226600-1829233800@livemusicasheville.com
SUMMARY:Sunday Jazz Jam
DESCRIPTION:Related
URL:https://livemusicasheville.com/calendar/sunday-jazz-jam-2-2-2/2027-12-19/
LOCATION:Ginger’s Revenge
CATEGORIES:Asheville Area,Live Music,Open MIc/Jam
END:VEVENT
BEGIN:VEVENT
DTSTART;TZID=America/New_York:20271226T143000
DTEND;TZID=America/New_York:20271226T163000
DTSTAMP:20260424T144626
CREATED:20260401T145357Z
LAST-MODIFIED:20260402T222123Z
UID:10039904-1829831400-1829838600@livemusicasheville.com
SUMMARY:Sunday Jazz Jam
DESCRIPTION:Related
URL:https://livemusicasheville.com/calendar/sunday-jazz-jam-2-2-2/2027-12-26/
LOCATION:Ginger’s Revenge
CATEGORIES:Asheville Area,Live Music,Open MIc/Jam
END:VEVENT
BEGIN:VEVENT
DTSTART;TZID=America/New_York:20280102T143000
DTEND;TZID=America/New_York:20280102T163000
DTSTAMP:20260424T144626
CREATED:20260401T145357Z
LAST-MODIFIED:20260402T222123Z
UID:10039905-1830436200-1830443400@livemusicasheville.com
SUMMARY:Sunday Jazz Jam
DESCRIPTION:Related
URL:https://livemusicasheville.com/calendar/sunday-jazz-jam-2-2-2/2028-01-02/
LOCATION:Ginger’s Revenge
CATEGORIES:Asheville Area,Live Music,Open MIc/Jam
END:VEVENT
BEGIN:VEVENT
DTSTART;TZID=America/New_York:20280109T143000
DTEND;TZID=America/New_York:20280109T163000
DTSTAMP:20260424T144626
CREATED:20260401T145357Z
LAST-MODIFIED:20260402T222123Z
UID:10039906-1831041000-1831048200@livemusicasheville.com
SUMMARY:Sunday Jazz Jam
DESCRIPTION:Related
URL:https://livemusicasheville.com/calendar/sunday-jazz-jam-2-2-2/2028-01-09/
LOCATION:Ginger’s Revenge
CATEGORIES:Asheville Area,Live Music,Open MIc/Jam
END:VEVENT
BEGIN:VEVENT
DTSTART;TZID=America/New_York:20280116T143000
DTEND;TZID=America/New_York:20280116T163000
DTSTAMP:20260424T144626
CREATED:20260401T145357Z
LAST-MODIFIED:20260402T222123Z
UID:10039907-1831645800-1831653000@livemusicasheville.com
SUMMARY:Sunday Jazz Jam
DESCRIPTION:Related
URL:https://livemusicasheville.com/calendar/sunday-jazz-jam-2-2-2/2028-01-16/
LOCATION:Ginger’s Revenge
CATEGORIES:Asheville Area,Live Music,Open MIc/Jam
END:VEVENT
BEGIN:VEVENT
DTSTART;TZID=America/New_York:20280123T143000
DTEND;TZID=America/New_York:20280123T163000
DTSTAMP:20260424T144626
CREATED:20260401T145357Z
LAST-MODIFIED:20260402T222123Z
UID:10039908-1832250600-1832257800@livemusicasheville.com
SUMMARY:Sunday Jazz Jam
DESCRIPTION:Related
URL:https://livemusicasheville.com/calendar/sunday-jazz-jam-2-2-2/2028-01-23/
LOCATION:Ginger’s Revenge
CATEGORIES:Asheville Area,Live Music,Open MIc/Jam
END:VEVENT
BEGIN:VEVENT
DTSTART;TZID=America/New_York:20280130T143000
DTEND;TZID=America/New_York:20280130T163000
DTSTAMP:20260424T144626
CREATED:20260401T145357Z
LAST-MODIFIED:20260402T222123Z
UID:10039909-1832855400-1832862600@livemusicasheville.com
SUMMARY:Sunday Jazz Jam
DESCRIPTION:Related
URL:https://livemusicasheville.com/calendar/sunday-jazz-jam-2-2-2/2028-01-30/
LOCATION:Ginger’s Revenge
CATEGORIES:Asheville Area,Live Music,Open MIc/Jam
END:VEVENT
BEGIN:VEVENT
DTSTART;TZID=America/New_York:20280206T143000
DTEND;TZID=America/New_York:20280206T163000
DTSTAMP:20260424T144626
CREATED:20260401T145357Z
LAST-MODIFIED:20260402T222123Z
UID:10039910-1833460200-1833467400@livemusicasheville.com
SUMMARY:Sunday Jazz Jam
DESCRIPTION:Related
URL:https://livemusicasheville.com/calendar/sunday-jazz-jam-2-2-2/2028-02-06/
LOCATION:Ginger’s Revenge
CATEGORIES:Asheville Area,Live Music,Open MIc/Jam
END:VEVENT
BEGIN:VEVENT
DTSTART;TZID=America/New_York:20280213T143000
DTEND;TZID=America/New_York:20280213T163000
DTSTAMP:20260424T144626
CREATED:20260401T145357Z
LAST-MODIFIED:20260402T222123Z
UID:10039911-1834065000-1834072200@livemusicasheville.com
SUMMARY:Sunday Jazz Jam
DESCRIPTION:Related
URL:https://livemusicasheville.com/calendar/sunday-jazz-jam-2-2-2/2028-02-13/
LOCATION:Ginger’s Revenge
CATEGORIES:Asheville Area,Live Music,Open MIc/Jam
END:VEVENT
BEGIN:VEVENT
DTSTART;TZID=America/New_York:20280220T143000
DTEND;TZID=America/New_York:20280220T163000
DTSTAMP:20260424T144626
CREATED:20260401T145357Z
LAST-MODIFIED:20260402T222123Z
UID:10039912-1834669800-1834677000@livemusicasheville.com
SUMMARY:Sunday Jazz Jam
DESCRIPTION:Related
URL:https://livemusicasheville.com/calendar/sunday-jazz-jam-2-2-2/2028-02-20/
LOCATION:Ginger’s Revenge
CATEGORIES:Asheville Area,Live Music,Open MIc/Jam
END:VEVENT
BEGIN:VEVENT
DTSTART;TZID=America/New_York:20280227T143000
DTEND;TZID=America/New_York:20280227T163000
DTSTAMP:20260424T144626
CREATED:20260401T145357Z
LAST-MODIFIED:20260402T222123Z
UID:10039913-1835274600-1835281800@livemusicasheville.com
SUMMARY:Sunday Jazz Jam
DESCRIPTION:Related
URL:https://livemusicasheville.com/calendar/sunday-jazz-jam-2-2-2/2028-02-27/
LOCATION:Ginger’s Revenge
CATEGORIES:Asheville Area,Live Music,Open MIc/Jam
END:VEVENT
BEGIN:VEVENT
DTSTART;TZID=America/New_York:20280305T143000
DTEND;TZID=America/New_York:20280305T163000
DTSTAMP:20260424T144626
CREATED:20260401T145357Z
LAST-MODIFIED:20260402T222123Z
UID:10039914-1835879400-1835886600@livemusicasheville.com
SUMMARY:Sunday Jazz Jam
DESCRIPTION:Related
URL:https://livemusicasheville.com/calendar/sunday-jazz-jam-2-2-2/2028-03-05/
LOCATION:Ginger’s Revenge
CATEGORIES:Asheville Area,Live Music,Open MIc/Jam
END:VEVENT
BEGIN:VEVENT
DTSTART;TZID=America/New_York:20280312T143000
DTEND;TZID=America/New_York:20280312T163000
DTSTAMP:20260424T144626
CREATED:20260401T145357Z
LAST-MODIFIED:20260402T222123Z
UID:10039915-1836484200-1836491400@livemusicasheville.com
SUMMARY:Sunday Jazz Jam
DESCRIPTION:Related
URL:https://livemusicasheville.com/calendar/sunday-jazz-jam-2-2-2/2028-03-12/
LOCATION:Ginger’s Revenge
CATEGORIES:Asheville Area,Live Music,Open MIc/Jam
END:VEVENT
BEGIN:VEVENT
DTSTART;TZID=America/New_York:20280319T143000
DTEND;TZID=America/New_York:20280319T163000
DTSTAMP:20260424T144626
CREATED:20260401T145357Z
LAST-MODIFIED:20260402T222123Z
UID:10039916-1837089000-1837096200@livemusicasheville.com
SUMMARY:Sunday Jazz Jam
DESCRIPTION:Related
URL:https://livemusicasheville.com/calendar/sunday-jazz-jam-2-2-2/2028-03-19/
LOCATION:Ginger’s Revenge
CATEGORIES:Asheville Area,Live Music,Open MIc/Jam
END:VEVENT
BEGIN:VEVENT
DTSTART;TZID=America/New_York:20280326T143000
DTEND;TZID=America/New_York:20280326T163000
DTSTAMP:20260424T144626
CREATED:20260401T145357Z
LAST-MODIFIED:20260402T222123Z
UID:10039917-1837693800-1837701000@livemusicasheville.com
SUMMARY:Sunday Jazz Jam
DESCRIPTION:Related
URL:https://livemusicasheville.com/calendar/sunday-jazz-jam-2-2-2/2028-03-26/
LOCATION:Ginger’s Revenge
CATEGORIES:Asheville Area,Live Music,Open MIc/Jam
END:VEVENT
BEGIN:VEVENT
DTSTART;TZID=America/New_York:20280402T143000
DTEND;TZID=America/New_York:20280402T163000
DTSTAMP:20260424T144626
CREATED:20260401T145357Z
LAST-MODIFIED:20260402T222123Z
UID:10039918-1838298600-1838305800@livemusicasheville.com
SUMMARY:Sunday Jazz Jam
DESCRIPTION:Related
URL:https://livemusicasheville.com/calendar/sunday-jazz-jam-2-2-2/2028-04-02/
LOCATION:Ginger’s Revenge
CATEGORIES:Asheville Area,Live Music,Open MIc/Jam
END:VEVENT
BEGIN:VEVENT
DTSTART;TZID=America/New_York:20280409T143000
DTEND;TZID=America/New_York:20280409T163000
DTSTAMP:20260424T144626
CREATED:20260401T145357Z
LAST-MODIFIED:20260402T222123Z
UID:10039919-1838903400-1838910600@livemusicasheville.com
SUMMARY:Sunday Jazz Jam
DESCRIPTION:Related
URL:https://livemusicasheville.com/calendar/sunday-jazz-jam-2-2-2/2028-04-09/
LOCATION:Ginger’s Revenge
CATEGORIES:Asheville Area,Live Music,Open MIc/Jam
END:VEVENT
BEGIN:VEVENT
DTSTART;TZID=America/New_York:20280416T143000
DTEND;TZID=America/New_York:20280416T163000
DTSTAMP:20260424T144626
CREATED:20260401T145357Z
LAST-MODIFIED:20260402T222123Z
UID:10039920-1839508200-1839515400@livemusicasheville.com
SUMMARY:Sunday Jazz Jam
DESCRIPTION:Related
URL:https://livemusicasheville.com/calendar/sunday-jazz-jam-2-2-2/2028-04-16/
LOCATION:Ginger’s Revenge
CATEGORIES:Asheville Area,Live Music,Open MIc/Jam
END:VEVENT
BEGIN:VEVENT
DTSTART;TZID=America/New_York:20280423T143000
DTEND;TZID=America/New_York:20280423T163000
DTSTAMP:20260424T144626
CREATED:20260401T145357Z
LAST-MODIFIED:20260402T222123Z
UID:10039921-1840113000-1840120200@livemusicasheville.com
SUMMARY:Sunday Jazz Jam
DESCRIPTION:Related
URL:https://livemusicasheville.com/calendar/sunday-jazz-jam-2-2-2/2028-04-23/
LOCATION:Ginger’s Revenge
CATEGORIES:Asheville Area,Live Music,Open MIc/Jam
END:VEVENT
END:VCALENDAR