BEGIN:VCALENDAR
VERSION:2.0
PRODID:-//LiveMusicAsheville.com - ECPv6.15.20//NONSGML v1.0//EN
CALSCALE:GREGORIAN
METHOD:PUBLISH
X-WR-CALNAME:LiveMusicAsheville.com
X-ORIGINAL-URL:https://livemusicasheville.com
X-WR-CALDESC:Events for LiveMusicAsheville.com
REFRESH-INTERVAL;VALUE=DURATION:PT1H
X-Robots-Tag:noindex
X-PUBLISHED-TTL:PT1H
BEGIN:VTIMEZONE
TZID:America/New_York
BEGIN:DAYLIGHT
TZOFFSETFROM:-0500
TZOFFSETTO:-0400
TZNAME:EDT
DTSTART:20240310T070000
END:DAYLIGHT
BEGIN:STANDARD
TZOFFSETFROM:-0400
TZOFFSETTO:-0500
TZNAME:EST
DTSTART:20241103T060000
END:STANDARD
BEGIN:DAYLIGHT
TZOFFSETFROM:-0500
TZOFFSETTO:-0400
TZNAME:EDT
DTSTART:20250309T070000
END:DAYLIGHT
BEGIN:STANDARD
TZOFFSETFROM:-0400
TZOFFSETTO:-0500
TZNAME:EST
DTSTART:20251102T060000
END:STANDARD
BEGIN:DAYLIGHT
TZOFFSETFROM:-0500
TZOFFSETTO:-0400
TZNAME:EDT
DTSTART:20260308T070000
END:DAYLIGHT
BEGIN:STANDARD
TZOFFSETFROM:-0400
TZOFFSETTO:-0500
TZNAME:EST
DTSTART:20261101T060000
END:STANDARD
END:VTIMEZONE
BEGIN:VEVENT
DTSTART;TZID=America/New_York:20250620T190000
DTEND;TZID=America/New_York:20250620T220000
DTSTAMP:20260423T060013
CREATED:20250618T102913Z
LAST-MODIFIED:20250618T102913Z
UID:10015952-1750446000-1750456800@livemusicasheville.com
SUMMARY:Kon Tiki Band
DESCRIPTION:Come hang for the Official Downtown After 5 After Party!Kon Tiki Band is bringing the island heat for this Friday night session.\nExpect surfy grooves\, retro vibes\, and tropical flair with a twist of weird and wonderful. It’s a little lounge\, a little luau\, and a whole lot of fun. Think vintage exotica meets backyard tiki party—with a strong drink in hand and nowhere else to be.\nNo cover. Just pure Polynesian-tinged party energy.\n\n\nFitz\, she’s the party. Wolfe\, he’s the epicure. 2 levels\, 3 vibes. 🎶 Live Music |🍸Sips & Noms 🥪 | 🕹️ Artcade | 🗝️Speakeasy | Private Events 🍽️\n\n\n	Related
URL:https://livemusicasheville.com/calendar/kon-tiki-band/
LOCATION:Fitz and the Wolfe\, 1 Battery Park Ave\, Asheville\, NC\, 28801\, United States
CATEGORIES:Asheville Area,Live Music
GEO:35.5954515;-82.5548502
X-APPLE-STRUCTURED-LOCATION;VALUE=URI;X-ADDRESS=Fitz and the Wolfe 1 Battery Park Ave Asheville NC 28801 United States;X-APPLE-RADIUS=500;X-TITLE=1 Battery Park Ave:geo:-82.5548502,35.5954515
END:VEVENT
BEGIN:VEVENT
DTSTART;TZID=America/New_York:20250619T180000
DTEND;TZID=America/New_York:20250619T210000
DTSTAMP:20260423T060013
CREATED:20250602T141732Z
LAST-MODIFIED:20250611T112016Z
UID:10015129-1750356000-1750366800@livemusicasheville.com
SUMMARY:Andrew Wakefield | Showroom UnPlugged
DESCRIPTION:Showroom UnPlugged welcomes Andrew Wakefield\, a singer-songwriter and multi-instrumentalist whose music finds its roots in folk\, bluegrass\, and Americana—then wanders somewhere entirely its own.\nKnown for thoughtful songwriting and masterful guitar work\, Wakefield delivers a set full of heart\, groove\, and southern storytelling. Whether he’s fingerpicking through a ballad or leaning into a soulful stomp\, the result is always genuine and deeply musical.\nNo cover. Just a mellow room\, good drinks\, and songs that stay with you.\n\nFitz and the Wolfe\nFitz\, she’s the party. Wolfe\, he’s the epicure. 2 levels\, 3 vibes. 🎶 Live Music |🍸Sips & Noms 🥪 | 🕹️ Artcade | 🗝️Speakeasy | Private Events 🍽️ | 1 Battery Park Ave | Downtown Asheville\n\n\n	Related
URL:https://livemusicasheville.com/calendar/the-showroom-unplugged-w-andrew-wooten/
LOCATION:Fitz and the Wolfe\, 1 Battery Park Ave\, Asheville\, NC\, 28801\, United States
CATEGORIES:Asheville Area,Live Music
GEO:35.5954515;-82.5548502
X-APPLE-STRUCTURED-LOCATION;VALUE=URI;X-ADDRESS=Fitz and the Wolfe 1 Battery Park Ave Asheville NC 28801 United States;X-APPLE-RADIUS=500;X-TITLE=1 Battery Park Ave:geo:-82.5548502,35.5954515
END:VEVENT
BEGIN:VEVENT
DTSTART;TZID=America/New_York:20250618T190000
DTEND;TZID=America/New_York:20250618T220000
DTSTAMP:20260423T060013
CREATED:20250611T111445Z
LAST-MODIFIED:20250626T213825Z
UID:10015716-1750273200-1750284000@livemusicasheville.com
SUMMARY:Swing Asheville - Swing Lesson & Live Jazz w/ The Swing Jammers!
DESCRIPTION:Swing Nights at Fitz and the Wolfe: Presented by Swing Asheville\n\nSwing Asheville returns with a big band bang—this time featuring The Swing Jammers\, bringing the timeless sounds of the swing era straight to The Showroom dance floor.\n\n\nThe evening kicks off with a $10 swing dance lesson from 7–8 PM (no partner needed\, just bring your best two feet)\, followed by a live swing social from 8–10 PM. Expect silky crooning\, dreamy melodies\, and plenty of chances to spin\, dip\, and sway.\n\nEvery Wednesday from 8 to 10 PM\, The Showroom transforms into a space where brass swings\, feet fly\, and the good times refuse to sit still. Join us for live jazz\, cocktails that keep pace with the music\, and a little old-school magic brought to life by Swing Asheville.\nThe night is free to attend. Whether you’re a seasoned dancer or just here for the rhythm\, everyone’s welcome to be part of the scene.\n\n\n	Related
URL:https://livemusicasheville.com/calendar/swing-asheville-swing-lesson-live-jazz-w-the-russ-wilson-orchestra/
LOCATION:Fitz and the Wolfe\, 1 Battery Park Ave\, Asheville\, NC\, 28801\, United States
CATEGORIES:Asheville Area,Live Music
GEO:35.5954515;-82.5548502
X-APPLE-STRUCTURED-LOCATION;VALUE=URI;X-ADDRESS=Fitz and the Wolfe 1 Battery Park Ave Asheville NC 28801 United States;X-APPLE-RADIUS=500;X-TITLE=1 Battery Park Ave:geo:-82.5548502,35.5954515
END:VEVENT
BEGIN:VEVENT
DTSTART;TZID=America/New_York:20250614T180000
DTEND;TZID=America/New_York:20250614T210000
DTSTAMP:20260423T060013
CREATED:20250611T105742Z
LAST-MODIFIED:20250611T111226Z
UID:10015714-1749924000-1749934800@livemusicasheville.com
SUMMARY:Vaden Landers Hillbilly Trio | Honky Tonk & Barn Burners
DESCRIPTION:Saturday night’s calling—and it’s got a twang.\nJoin us in The Showroom for Honky Tonk & Barn Burners with Vaden Landers\, a country crooner with a voice that sounds straight out of a dusty jukebox and a catalog full of toe-tappin’\, heartstring-pullin’\, two-steppin’ tunes.\nWhether you’re here to dance\, drink\, or just soak in the sounds of classic country done right\, this is your Saturday soundtrack.\nNo cover. Just honky tonk heat and cold drinks\n\nFitz\, she’s the party. Wolfe\, he’s the epicure. 2 levels\, 3 vibes. 🎶 Live Music |🍸Sips & Noms 🥪 | 🕹️ Artcade | 🗝️Speakeasy | Private Events 🍽️\n\n\n	Related
URL:https://livemusicasheville.com/calendar/vaden-landers-hillbilly-trio-honky-tonk-barn-burners/
LOCATION:Fitz and the Wolfe\, 1 Battery Park Ave\, Asheville\, NC\, 28801\, United States
CATEGORIES:Asheville Area,Live Music
GEO:35.5954515;-82.5548502
X-APPLE-STRUCTURED-LOCATION;VALUE=URI;X-ADDRESS=Fitz and the Wolfe 1 Battery Park Ave Asheville NC 28801 United States;X-APPLE-RADIUS=500;X-TITLE=1 Battery Park Ave:geo:-82.5548502,35.5954515
END:VEVENT
BEGIN:VEVENT
DTSTART;TZID=America/New_York:20250612T180000
DTEND;TZID=America/New_York:20250612T210000
DTSTAMP:20260423T060013
CREATED:20250604T113557Z
LAST-MODIFIED:20250604T113558Z
UID:10015383-1749751200-1749762000@livemusicasheville.com
SUMMARY:Riyen Roots | Showroom UnPlugged
DESCRIPTION:or this round of Showroom UnPlugged\, we’re handing the mic to Riyen Roots\, a raw\, roots-driven force with a voice that digs deep and lyrics that cut clean. Whether he’s leaning into gritty blues or stripped-down soul\, Riyen brings a presence that fills the room without needing to shout.\nExpect an evening of honest music\, strong pours\, and the kind of vibe that makes you want to stay awhile.\nNo cover. Just you\, the tunes\, and the glow of The Showroom.\n\n\n	Related
URL:https://livemusicasheville.com/calendar/riyen-roots-showroom-unplugged/
LOCATION:Fitz and the Wolfe\, 1 Battery Park Ave\, Asheville\, NC\, 28801\, United States
CATEGORIES:Asheville Area,Live Music
GEO:35.5954515;-82.5548502
X-APPLE-STRUCTURED-LOCATION;VALUE=URI;X-ADDRESS=Fitz and the Wolfe 1 Battery Park Ave Asheville NC 28801 United States;X-APPLE-RADIUS=500;X-TITLE=1 Battery Park Ave:geo:-82.5548502,35.5954515
END:VEVENT
BEGIN:VEVENT
DTSTART;TZID=America/New_York:20250607T180000
DTEND;TZID=America/New_York:20250607T210000
DTSTAMP:20260423T060013
CREATED:20250604T112648Z
LAST-MODIFIED:20250604T112905Z
UID:10015381-1749319200-1749330000@livemusicasheville.com
SUMMARY:Momma Molasses - Honky Tonk & Barn Burners
DESCRIPTION:Get ready for a Saturday night that swings\, sways\, and stomps.\nFor Honky Tonk & Barn Burners\, we’re bringing in Momma Molasses—a powerhouse performer whose sound blends Appalachian roots\, classic country\, and Southern soul into something both familiar and fresh. Her rich vocals and timeless twang promise a set that’ll make your boots itch and your heart ache (in the best way).\nGrab a drink\, grab a partner (or don’t)\, and join us in The Showroom for a night of music that doesn’t mind if you spill a little whiskey while dancing.\nNo cover. All twang.\n\nFitz\, she’s the party. Wolfe\, he’s the epicure. 2 levels\, 3 vibes. 🎶 Live Music |🍸Sips & Noms 🥪 | 🕹️ Artcade | 🗝️Speakeasy | Private Events 🍽️\n\n\n	Related
URL:https://livemusicasheville.com/calendar/momma-molasses-honky-tonk-barn-burners/
LOCATION:Fitz and the Wolfe\, 1 Battery Park Ave\, Asheville\, NC\, 28801\, United States
CATEGORIES:Asheville Area,Live Music
GEO:35.5954515;-82.5548502
X-APPLE-STRUCTURED-LOCATION;VALUE=URI;X-ADDRESS=Fitz and the Wolfe 1 Battery Park Ave Asheville NC 28801 United States;X-APPLE-RADIUS=500;X-TITLE=1 Battery Park Ave:geo:-82.5548502,35.5954515
END:VEVENT
BEGIN:VEVENT
DTSTART;TZID=America/New_York:20250531T130000
DTEND;TZID=America/New_York:20250601T000000
DTSTAMP:20260423T060013
CREATED:20250523T155700Z
LAST-MODIFIED:20250524T030401Z
UID:10014756-1748696400-1748736000@livemusicasheville.com
SUMMARY:The Grand Ole Opening
DESCRIPTION:Saturday\, May 31st | Doors open at 1PM\, Music til 12AM+ | No Cover \nFitz and the Wolfe is ready to throw open its doors! \nWelcome to the house of the rowdy and the refined.. where the boots are scuffed\, the cocktails and beer buckets are cold\, and every stair leads to a new kind of story. \nHere’s how it all plays out: \nUpstairs in The Showroom: We two-step\, spin\, and holler with six hours of honky tonk: \n• The Ashevegas Playboys (2PM–5PM)\n• The Jim McGuinn Band (6PM–9PM) \nDownstairs in The Palm Room 🗝️🌴 We slip into something smoother. Late-night jazz for the dreamers\, drifters\, and lovers of all things lush: with Meschiya Lake & The Speakeasy Three (9PM–12AM) \nTwo rooms. All vibes. \n**Every Saturday\, we keep the rhythm rolling with\nHonky Tonk + Barn Burners upstairs in The Showroom\nand Velvet Jazz + Moonlit Mischief downstairs in The Palm Room! \nCome lose yourself between the twang and the hush.\nCome be both the wild and the wise\, at Fitz and the Wolfe. \n\n\n	Related
URL:https://livemusicasheville.com/calendar/the-grand-ole-opening/
LOCATION:Fitz and the Wolfe\, 1 Battery Park Ave\, Asheville\, NC\, 28801\, United States
CATEGORIES:Asheville Area,Live Music
GEO:35.5954515;-82.5548502
X-APPLE-STRUCTURED-LOCATION;VALUE=URI;X-ADDRESS=Fitz and the Wolfe 1 Battery Park Ave Asheville NC 28801 United States;X-APPLE-RADIUS=500;X-TITLE=1 Battery Park Ave:geo:-82.5548502,35.5954515
END:VEVENT
BEGIN:VEVENT
DTSTART;VALUE=DATE:20250529
DTEND;VALUE=DATE:20250531
DTSTAMP:20260423T060013
CREATED:20250524T151143Z
LAST-MODIFIED:20250524T151143Z
UID:10014761-1748487600-1748573999@livemusicasheville.com
SUMMARY:THIS SATURDAY | The Grand Ole Opening
DESCRIPTION:Saturday\, May 31st | Doors open at 1PM\, Music til 12AM+ | No Cover \nFitz and the Wolfe is ready to throw open its doors! \nWelcome to the house of the rowdy and the refined.. where the boots are scuffed\, the cocktails and beer buckets are cold\, and every stair leads to a new kind of story. \nHere’s how it all plays out: \nUpstairs in The Showroom: We two-step\, spin\, and holler with six hours of honky tonk: \n• The Ashevegas Playboys (2PM–5PM)\n• The Jim McGuinn Band (6PM–9PM) \nDownstairs in The Palm Room 🗝️🌴 We slip into something smoother. Late-night jazz for the dreamers\, drifters\, and lovers of all things lush: with Meschiya Lake & The Speakeasy Three (9PM–12AM) \nTwo rooms. All vibes. \n**Every Saturday\, we keep the rhythm rolling with\nHonky Tonk + Barn Burners upstairs in The Showroom\nand Velvet Jazz + Moonlit Mischief downstairs in The Palm Room! \nCome lose yourself between the twang and the hush.\nCome be both the wild and the wise\, at Fitz and the Wolfe. \n\n\n	Related
URL:https://livemusicasheville.com/calendar/this-saturday-the-grand-ole-opening/2025-05-29/
LOCATION:Fitz and the Wolfe\, 1 Battery Park Ave\, Asheville\, NC\, 28801\, United States
CATEGORIES:Asheville Area,Live Music
GEO:35.5954515;-82.5548502
X-APPLE-STRUCTURED-LOCATION;VALUE=URI;X-ADDRESS=Fitz and the Wolfe 1 Battery Park Ave Asheville NC 28801 United States;X-APPLE-RADIUS=500;X-TITLE=1 Battery Park Ave:geo:-82.5548502,35.5954515
END:VEVENT
BEGIN:VEVENT
DTSTART;VALUE=DATE:20250526
DTEND;VALUE=DATE:20250528
DTSTAMP:20260423T060013
CREATED:20250524T151143Z
LAST-MODIFIED:20250524T151143Z
UID:10014760-1748228400-1748314799@livemusicasheville.com
SUMMARY:THIS SATURDAY | The Grand Ole Opening
DESCRIPTION:Saturday\, May 31st | Doors open at 1PM\, Music til 12AM+ | No Cover \nFitz and the Wolfe is ready to throw open its doors! \nWelcome to the house of the rowdy and the refined.. where the boots are scuffed\, the cocktails and beer buckets are cold\, and every stair leads to a new kind of story. \nHere’s how it all plays out: \nUpstairs in The Showroom: We two-step\, spin\, and holler with six hours of honky tonk: \n• The Ashevegas Playboys (2PM–5PM)\n• The Jim McGuinn Band (6PM–9PM) \nDownstairs in The Palm Room 🗝️🌴 We slip into something smoother. Late-night jazz for the dreamers\, drifters\, and lovers of all things lush: with Meschiya Lake & The Speakeasy Three (9PM–12AM) \nTwo rooms. All vibes. \n**Every Saturday\, we keep the rhythm rolling with\nHonky Tonk + Barn Burners upstairs in The Showroom\nand Velvet Jazz + Moonlit Mischief downstairs in The Palm Room! \nCome lose yourself between the twang and the hush.\nCome be both the wild and the wise\, at Fitz and the Wolfe. \n\n\n	Related
URL:https://livemusicasheville.com/calendar/this-saturday-the-grand-ole-opening/2025-05-26/
LOCATION:Fitz and the Wolfe\, 1 Battery Park Ave\, Asheville\, NC\, 28801\, United States
CATEGORIES:Asheville Area,Live Music
GEO:35.5954515;-82.5548502
X-APPLE-STRUCTURED-LOCATION;VALUE=URI;X-ADDRESS=Fitz and the Wolfe 1 Battery Park Ave Asheville NC 28801 United States;X-APPLE-RADIUS=500;X-TITLE=1 Battery Park Ave:geo:-82.5548502,35.5954515
END:VEVENT
END:VCALENDAR