BEGIN:VCALENDAR
VERSION:2.0
PRODID:-//LiveMusicAsheville.com - ECPv6.15.20//NONSGML v1.0//EN
CALSCALE:GREGORIAN
METHOD:PUBLISH
X-WR-CALNAME:LiveMusicAsheville.com
X-ORIGINAL-URL:https://livemusicasheville.com
X-WR-CALDESC:Events for LiveMusicAsheville.com
REFRESH-INTERVAL;VALUE=DURATION:PT1H
X-Robots-Tag:noindex
X-PUBLISHED-TTL:PT1H
BEGIN:VTIMEZONE
TZID:America/New_York
BEGIN:DAYLIGHT
TZOFFSETFROM:-0500
TZOFFSETTO:-0400
TZNAME:EDT
DTSTART:20250309T070000
END:DAYLIGHT
BEGIN:STANDARD
TZOFFSETFROM:-0400
TZOFFSETTO:-0500
TZNAME:EST
DTSTART:20251102T060000
END:STANDARD
BEGIN:DAYLIGHT
TZOFFSETFROM:-0500
TZOFFSETTO:-0400
TZNAME:EDT
DTSTART:20260308T070000
END:DAYLIGHT
BEGIN:STANDARD
TZOFFSETFROM:-0400
TZOFFSETTO:-0500
TZNAME:EST
DTSTART:20261101T060000
END:STANDARD
BEGIN:DAYLIGHT
TZOFFSETFROM:-0500
TZOFFSETTO:-0400
TZNAME:EDT
DTSTART:20270314T070000
END:DAYLIGHT
BEGIN:STANDARD
TZOFFSETFROM:-0400
TZOFFSETTO:-0500
TZNAME:EST
DTSTART:20271107T060000
END:STANDARD
END:VTIMEZONE
BEGIN:VEVENT
DTSTART;TZID=America/New_York:20260423T183000
DTEND;TZID=America/New_York:20260423T223000
DTSTAMP:20260423T013311
CREATED:20260330T155623Z
LAST-MODIFIED:20260330T163953Z
UID:10053891-1776969000-1776983400@livemusicasheville.com
SUMMARY:Mini Kiss w/ Smashing Mouths | The Showroom
DESCRIPTION:Thursday April 23\, 2026 || 6:30 PM – 10:30 PM || $16.91 Event Details and Tickets \nSome bands play tribute shows. Others turn them into a spectacle. On April 23\, the world-famous Mini Kiss storms The Showroom stage with a full-throttle\, KISS-inspired rock show that’s loud\, theatrical\, and completely unforgettable. Known around the globe for their electrifying performances\, this powerhouse group of talented little people has lit up stages everywhere from Jimmy Kimmel Live to HBO Live Sessions\, even appearing in the KISS Dr Pepper Super Bowl commercial. They’ve shared bills with artists like Snoop Dogg\, Peter Frampton\, Blue Öyster Cult\, and A Perfect Circle\, and in 2023 they set a Guinness World Record for the World’s Shortest Band. The costumes\, the attitude\, the larger-than-life rock energy. It’s all here.\n\n\nBefore the face paint and firepower hit the stage\, WNC’s own Smashing Mouths kicks off the night from 6:30pm . Known as Western North Carolina’s premier 90s and early 2000s nostalgia experience\, they bring a set packed with the singalong anthems and alt-rock favorites that defined a generation. It’s the perfect warmup before Mini Kiss takes over The Showroom and turns the room into a full-on rock arena.\nTwo bands. One very wild night.\n\n21+ Event\n  \nFitz\, she’s the party. Wolfe\, he’s the epicure. 2 levels\, 3 vibes. 🎶 Live Music |🍸Sips & Noms 🥪 | 🕹️ Artcade | 🗝️Speakeasy | Private Events \nFitz and the Wolfe is a cocktail and music venue shaped by the spirit of improvisation\, storytelling\, and the kind of nights that feel too good to end. Here\, every night brings a new soundtrack. Jazz\, swing\, honky-tonk\, and sometimes things a little more esoteric—if it moves people\, we book it. The music fills the space like a second heartbeat\, sometimes rowdy\, sometimes intimate\, always memorable. It’s not background noise. It’s the reason you’re here. fitzandthewolfe.com \n\n\n	Related
URL:https://livemusicasheville.com/calendar/mini-kiss-w-smashing-mouths-the-showroom/
LOCATION:Fitz and the Wolfe\, 1 Battery Park Ave\, Asheville\, NC\, 28801\, United States
CATEGORIES:Asheville Area,Live Music
ATTACH;FMTTYPE=image/png:https://livemusicasheville.com/wp-content/uploads/2026/03/Screenshot-2026-03-30-123836-e1774888781386.png
GEO:35.5954515;-82.5548502
X-APPLE-STRUCTURED-LOCATION;VALUE=URI;X-ADDRESS=Fitz and the Wolfe 1 Battery Park Ave Asheville NC 28801 United States;X-APPLE-RADIUS=500;X-TITLE=1 Battery Park Ave:geo:-82.5548502,35.5954515
END:VEVENT
BEGIN:VEVENT
DTSTART;TZID=America/New_York:20260424T190000
DTEND;TZID=America/New_York:20260424T230000
DTSTAMP:20260423T013311
CREATED:20250922T121332Z
LAST-MODIFIED:20260422T095245Z
UID:10021517-1777057200-1777071600@livemusicasheville.com
SUMMARY:Adrian Bundy & His Honky Tonk Hearts | Honky Tonk & Barn Burners
DESCRIPTION:Adrian Bundy & His Honky Tonk Hearts\n\nAdrian Bundy is a true honky-tonk crooner\, steeped in the sounds of country legends like Merle Haggard\, George Jones\, and Johnny Paycheck. With his band\, The Honky Tonk Hearts\, he channels the golden era of country from the 50s through the 90s with grit\, twang\, and heart.\nHe’s played iconic stages from Robert’s Western World and The Nashville Palace to Gruene Hall\, The Continental Club\, and even shared the spotlight with Dale Watson. He also stars as an up-and-coming country singer in the film Neon Shadows\, which premiered at Film Fest Knox in 2023\n\n\n\n\n\n\n\n\n\nFitz\, she’s the party. Wolfe\, he’s the epicure. 2 levels\, 3 vibes. 🎶 Live Music |🍸Sips & Noms 🥪 | 🕹️ Artcade | 🗝️Speakeasy | Private Events \nFitz and the Wolfe is a cocktail and music venue shaped by the spirit of improvisation\, storytelling\, and the kind of nights that feel too good to end. Here\, every night brings a new soundtrack. Jazz\, swing\, honky-tonk\, and sometimes things a little more esoteric—if it moves people\, we book it. The music fills the space like a second heartbeat\, sometimes rowdy\, sometimes intimate\, always memorable. It’s not background noise. It’s the reason you’re here. fitzandthewolfe.com \n\n\n	Related
URL:https://livemusicasheville.com/calendar/adrian-bundy-his-honky-tonk-hearts-honky-tonk-barn-burners/
LOCATION:Fitz and the Wolfe\, 1 Battery Park Ave\, Asheville\, NC\, 28801\, United States
CATEGORIES:Asheville Area,Live Music
ATTACH;FMTTYPE=image/jpeg:https://livemusicasheville.com/wp-content/uploads/2025/09/615422460_1547670237004540_8181745834838603598_n-e1769120046714.jpg
GEO:35.5954515;-82.5548502
X-APPLE-STRUCTURED-LOCATION;VALUE=URI;X-ADDRESS=Fitz and the Wolfe 1 Battery Park Ave Asheville NC 28801 United States;X-APPLE-RADIUS=500;X-TITLE=1 Battery Park Ave:geo:-82.5548502,35.5954515
END:VEVENT
BEGIN:VEVENT
DTSTART;TZID=America/New_York:20260424T210000
DTEND;TZID=America/New_York:20260425T000000
DTSTAMP:20260423T013311
CREATED:20260331T174004Z
LAST-MODIFIED:20260422T113956Z
UID:10054042-1777064400-1777075200@livemusicasheville.com
SUMMARY:Jazz Appreciation Month: Roots and Dore Band | The Palm Room
DESCRIPTION:ALL THAT JAZZ… with a twist 🎶 This Friday\, April 24th in The Palm Room speakeasy\, our month-long jazz celebration takes a turn… It’s time for some late night BLUES 🥃 \nWe’re bringing in Roots and Dore Band\, a blues\, roots\, and soul experience straight out of AVL. Known for their raw\, captivating sound\, they blend original music with timeless covers inspired by the legends of blues and soul. It’s authentic and built to move you. \n🕗 Doors: 8 PM\n🎸 Band: 9 PM \n  \n$10 covers both the Showroom and Palm Room music. \nFitz\, she’s the party. Wolfe\, he’s the epicure. 2 levels\, 3 vibes. 🎶 Live Music |🍸Sips & Noms 🥪 | 🕹️ Artcade | 🗝️Speakeasy | Private Events \nFitz and the Wolfe is a cocktail and music venue shaped by the spirit of improvisation\, storytelling\, and the kind of nights that feel too good to end. Here\, every night brings a new soundtrack. Jazz\, swing\, honky-tonk\, and sometimes things a little more esoteric—if it moves people\, we book it. The music fills the space like a second heartbeat\, sometimes rowdy\, sometimes intimate\, always memorable. It’s not background noise. It’s the reason you’re here. fitzandthewolfe.com \n\n\n	Related
URL:https://livemusicasheville.com/calendar/fitz-wolf-template-2/
LOCATION:Fitz and the Wolfe\, 1 Battery Park Ave\, Asheville\, NC\, 28801\, United States
CATEGORIES:Asheville Area,Live Music
ATTACH;FMTTYPE=image/jpeg:https://livemusicasheville.com/wp-content/uploads/2026/03/670898817_1129625760224392_1025302575205249966_n-e1776857985615.jpg
GEO:35.5954515;-82.5548502
X-APPLE-STRUCTURED-LOCATION;VALUE=URI;X-ADDRESS=Fitz and the Wolfe 1 Battery Park Ave Asheville NC 28801 United States;X-APPLE-RADIUS=500;X-TITLE=1 Battery Park Ave:geo:-82.5548502,35.5954515
END:VEVENT
BEGIN:VEVENT
DTSTART;TZID=America/New_York:20260425T180000
DTEND;TZID=America/New_York:20260425T200000
DTSTAMP:20260423T013311
CREATED:20260330T161307Z
LAST-MODIFIED:20260409T115313Z
UID:10056199-1777140000-1777147200@livemusicasheville.com
SUMMARY:Jazz Appreciation Month: Kass Blount & the Burners | The Palm Room
DESCRIPTION:The Palm Room settles into something a little smoother.\nKass Blount & The Burners bring a late-night blend of jazz\, soul\, and groove that feels right at home in a room built for it. Expect rich vocals\, tight musicianship\, and the kind of chemistry you can’t fake. The kind of set that pulls you in and keeps you there.\nIt’s Jazz Appreciation Month\, so we’re leaning all the way in. Dim lights\, good company\, and a sound that fills the room without ever trying too hard.\nSlip into The Palm Room and stay awhile.\n  \n$10 covers both the Showroom and Palm Room music. \nFitz\, she’s the party. Wolfe\, he’s the epicure. 2 levels\, 3 vibes. 🎶 Live Music |🍸Sips & Noms 🥪 | 🕹️ Artcade | 🗝️Speakeasy | Private Events \nFitz and the Wolfe is a cocktail and music venue shaped by the spirit of improvisation\, storytelling\, and the kind of nights that feel too good to end. Here\, every night brings a new soundtrack. Jazz\, swing\, honky-tonk\, and sometimes things a little more esoteric—if it moves people\, we book it. The music fills the space like a second heartbeat\, sometimes rowdy\, sometimes intimate\, always memorable. It’s not background noise. It’s the reason you’re here. fitzandthewolfe.com \n\n\n	Related
URL:https://livemusicasheville.com/calendar/jazz-appreciation-month-kass-blount-the-burners-the-palm-room/
LOCATION:Fitz and the Wolfe\, 1 Battery Park Ave\, Asheville\, NC\, 28801\, United States
CATEGORIES:Asheville Area,Live Music
ATTACH;FMTTYPE=image/jpeg:https://livemusicasheville.com/wp-content/uploads/2026/03/653709892_1604007658037464_2489377751275464124_n-e1774887179527.jpg
GEO:35.5954515;-82.5548502
X-APPLE-STRUCTURED-LOCATION;VALUE=URI;X-ADDRESS=Fitz and the Wolfe 1 Battery Park Ave Asheville NC 28801 United States;X-APPLE-RADIUS=500;X-TITLE=1 Battery Park Ave:geo:-82.5548502,35.5954515
END:VEVENT
BEGIN:VEVENT
DTSTART;TZID=America/New_York:20260425T200000
DTEND;TZID=America/New_York:20260426T000000
DTSTAMP:20260423T013311
CREATED:20260331T171404Z
LAST-MODIFIED:20260331T171404Z
UID:10054037-1777147200-1777161600@livemusicasheville.com
SUMMARY:Laura Vinson | The Showroom
DESCRIPTION:Country with a little spark and a lot of personality.\nNorth Carolina native Laura Vinson brings a sound that blends country\, rock\, and pop\, shaped by the legends who inspired her growing up like Reba McEntire\, Dolly Parton\, and Shania Twain. Raised in Goldsboro\, she has been performing since childhood and has developed a style that mixes heartfelt songwriting with an energetic stage presence.\nHer music pulls together modern country tones with pop energy\, creating a show that feels both polished and down-to-earth. Expect strong vocals\, original songs\, and a few crowd-favorite moments along the way.\nMusic starts at 8PM in The Showroom. Come early\, grab a cocktail\, and settle in for a great night of live music.\n  \n$10 covers both the Showroom and Palm Room music. \nFitz\, she’s the party. Wolfe\, he’s the epicure. 2 levels\, 3 vibes. 🎶 Live Music |🍸Sips & Noms 🥪 | 🕹️ Artcade | 🗝️Speakeasy | Private Events \nFitz and the Wolfe is a cocktail and music venue shaped by the spirit of improvisation\, storytelling\, and the kind of nights that feel too good to end. Here\, every night brings a new soundtrack. Jazz\, swing\, honky-tonk\, and sometimes things a little more esoteric—if it moves people\, we book it. The music fills the space like a second heartbeat\, sometimes rowdy\, sometimes intimate\, always memorable. It’s not background noise. It’s the reason you’re here. fitzandthewolfe.com \n\n\n	Related
URL:https://livemusicasheville.com/calendar/laura-vinson-the-showroom/
LOCATION:Fitz and the Wolfe\, 1 Battery Park Ave\, Asheville\, NC\, 28801\, United States
CATEGORIES:Asheville Area,Live Music
ATTACH;FMTTYPE=image/jpeg:https://livemusicasheville.com/wp-content/uploads/2026/03/660714814_1616065780164985_8157071631474474357_n-e1774977223388.jpg
GEO:35.5954515;-82.5548502
X-APPLE-STRUCTURED-LOCATION;VALUE=URI;X-ADDRESS=Fitz and the Wolfe 1 Battery Park Ave Asheville NC 28801 United States;X-APPLE-RADIUS=500;X-TITLE=1 Battery Park Ave:geo:-82.5548502,35.5954515
END:VEVENT
BEGIN:VEVENT
DTSTART;TZID=America/New_York:20260425T210000
DTEND;TZID=America/New_York:20260426T000000
DTSTAMP:20260423T013311
CREATED:20260331T175020Z
LAST-MODIFIED:20260331T175020Z
UID:10054046-1777150800-1777161600@livemusicasheville.com
SUMMARY:Jazz Appreciation Month: Queen Bee and the Honeylovers | The Palm Room
DESCRIPTION:Queen Bee and the Honeylovers bring a dance-first mix of classic swing\, blues\, and Latin jazz to the Palm Room for a late-night set that’s hard to sit still through. Vocal-driven\, groove-heavy\, and effortlessly fun\, this is a band that knows how to move a room.\nThey’ve been voted Best Jazz in Mountain Xpress every year since 2019\, and their debut album Asheville put them on the map well beyond town. Expect tight musicianship\, big personality\, and songs that sneak up on your feet before your brain catches on.\nCome ready to dance\, or at least pretend you weren’t tapping along.\n  \n$10 covers both the Showroom and Palm Room music. \nFitz\, she’s the party. Wolfe\, he’s the epicure. 2 levels\, 3 vibes. 🎶 Live Music |🍸Sips & Noms 🥪 | 🕹️ Artcade | 🗝️Speakeasy | Private Events \nFitz and the Wolfe is a cocktail and music venue shaped by the spirit of improvisation\, storytelling\, and the kind of nights that feel too good to end. Here\, every night brings a new soundtrack. Jazz\, swing\, honky-tonk\, and sometimes things a little more esoteric—if it moves people\, we book it. The music fills the space like a second heartbeat\, sometimes rowdy\, sometimes intimate\, always memorable. It’s not background noise. It’s the reason you’re here. fitzandthewolfe.com \n\n\n	Related
URL:https://livemusicasheville.com/calendar/jazz-appreciation-month-queen-bee-and-the-honeylovers-the-palm-room/
LOCATION:Fitz and the Wolfe\, 1 Battery Park Ave\, Asheville\, NC\, 28801\, United States
CATEGORIES:Asheville Area,Live Music
ATTACH;FMTTYPE=image/jpeg:https://livemusicasheville.com/wp-content/uploads/2026/03/653482589_1604129381358625_8372819896635703145_n-e1774979404707.jpg
GEO:35.5954515;-82.5548502
X-APPLE-STRUCTURED-LOCATION;VALUE=URI;X-ADDRESS=Fitz and the Wolfe 1 Battery Park Ave Asheville NC 28801 United States;X-APPLE-RADIUS=500;X-TITLE=1 Battery Park Ave:geo:-82.5548502,35.5954515
END:VEVENT
BEGIN:VEVENT
DTSTART;TZID=America/New_York:20260430T180000
DTEND;TZID=America/New_York:20260430T210000
DTSTAMP:20260423T013311
CREATED:20260208T145819Z
LAST-MODIFIED:20260330T160920Z
UID:10043590-1777572000-1777582800@livemusicasheville.com
SUMMARY:Pressley Laton
DESCRIPTION:Pressley Laton brings a sound that lives somewhere between outlaw country grit and Southern rock swagger\, shaped by Appalachian roots and small-town stories. Her bold\, soulful vocals and unfiltered songwriting have earned comparisons to “Lynyrd Skynyrd meets Jo Dee Messina\,” and it makes sense once the band kicks in. Expect a high-energy set that hits just as hard in a packed room as it does when she leans into the lyrics. Catch her live in the Showroom at Fitz and the Wolfe for a night that’s raw\, loud\, and very real.\n  \nFitz\, she’s the party. Wolfe\, he’s the epicure. 2 levels\, 3 vibes. 🎶 Live Music |🍸Sips & Noms 🥪 | 🕹️ Artcade | 🗝️Speakeasy | Private Events \nFitz and the Wolfe is a cocktail and music venue shaped by the spirit of improvisation\, storytelling\, and the kind of nights that feel too good to end. Here\, every night brings a new soundtrack. Jazz\, swing\, honky-tonk\, and sometimes things a little more esoteric—if it moves people\, we book it. The music fills the space like a second heartbeat\, sometimes rowdy\, sometimes intimate\, always memorable. It’s not background noise. It’s the reason you’re here. fitzandthewolfe.com \n\n\n	Related
URL:https://livemusicasheville.com/calendar/pressley-laton/
LOCATION:Fitz and the Wolfe\, 1 Battery Park Ave\, Asheville\, NC\, 28801\, United States
CATEGORIES:Asheville Area,Live Music
ATTACH;FMTTYPE=image/jpeg:https://livemusicasheville.com/wp-content/uploads/2026/02/channels4_profile-e1774886951458.jpg
GEO:35.5954515;-82.5548502
X-APPLE-STRUCTURED-LOCATION;VALUE=URI;X-ADDRESS=Fitz and the Wolfe 1 Battery Park Ave Asheville NC 28801 United States;X-APPLE-RADIUS=500;X-TITLE=1 Battery Park Ave:geo:-82.5548502,35.5954515
END:VEVENT
BEGIN:VEVENT
DTSTART;TZID=America/New_York:20260701T180000
DTEND;TZID=America/New_York:20260701T210000
DTSTAMP:20260423T013311
CREATED:20250624T184917Z
LAST-MODIFIED:20260108T154146Z
UID:10016184-1782928800-1782939600@livemusicasheville.com
SUMMARY:Fitz & Wolf Template
DESCRIPTION:  \n  \n$10 covers both the Showroom and Palm Room music. \nFitz\, she’s the party. Wolfe\, he’s the epicure. 2 levels\, 3 vibes. 🎶 Live Music |🍸Sips & Noms 🥪 | 🕹️ Artcade | 🗝️Speakeasy | Private Events \nFitz and the Wolfe is a cocktail and music venue shaped by the spirit of improvisation\, storytelling\, and the kind of nights that feel too good to end. Here\, every night brings a new soundtrack. Jazz\, swing\, honky-tonk\, and sometimes things a little more esoteric—if it moves people\, we book it. The music fills the space like a second heartbeat\, sometimes rowdy\, sometimes intimate\, always memorable. It’s not background noise. It’s the reason you’re here. fitzandthewolfe.com \n\n\n	Related
URL:https://livemusicasheville.com/calendar/fitz-wolf-template/
LOCATION:Fitz and the Wolfe\, 1 Battery Park Ave\, Asheville\, NC\, 28801\, United States
CATEGORIES:Asheville Area,Live Music
GEO:35.5954515;-82.5548502
X-APPLE-STRUCTURED-LOCATION;VALUE=URI;X-ADDRESS=Fitz and the Wolfe 1 Battery Park Ave Asheville NC 28801 United States;X-APPLE-RADIUS=500;X-TITLE=1 Battery Park Ave:geo:-82.5548502,35.5954515
END:VEVENT
END:VCALENDAR