BEGIN:VCALENDAR
VERSION:2.0
PRODID:-//LiveMusicAsheville.com - ECPv6.15.20//NONSGML v1.0//EN
CALSCALE:GREGORIAN
METHOD:PUBLISH
X-WR-CALNAME:LiveMusicAsheville.com
X-ORIGINAL-URL:https://livemusicasheville.com
X-WR-CALDESC:Events for LiveMusicAsheville.com
REFRESH-INTERVAL;VALUE=DURATION:PT1H
X-Robots-Tag:noindex
X-PUBLISHED-TTL:PT1H
BEGIN:VTIMEZONE
TZID:America/New_York
BEGIN:DAYLIGHT
TZOFFSETFROM:-0500
TZOFFSETTO:-0400
TZNAME:EDT
DTSTART:20240310T070000
END:DAYLIGHT
BEGIN:STANDARD
TZOFFSETFROM:-0400
TZOFFSETTO:-0500
TZNAME:EST
DTSTART:20241103T060000
END:STANDARD
BEGIN:DAYLIGHT
TZOFFSETFROM:-0500
TZOFFSETTO:-0400
TZNAME:EDT
DTSTART:20250309T070000
END:DAYLIGHT
BEGIN:STANDARD
TZOFFSETFROM:-0400
TZOFFSETTO:-0500
TZNAME:EST
DTSTART:20251102T060000
END:STANDARD
BEGIN:DAYLIGHT
TZOFFSETFROM:-0500
TZOFFSETTO:-0400
TZNAME:EDT
DTSTART:20260308T070000
END:DAYLIGHT
BEGIN:STANDARD
TZOFFSETFROM:-0400
TZOFFSETTO:-0500
TZNAME:EST
DTSTART:20261101T060000
END:STANDARD
BEGIN:DAYLIGHT
TZOFFSETFROM:-0500
TZOFFSETTO:-0400
TZNAME:EDT
DTSTART:20270314T070000
END:DAYLIGHT
BEGIN:STANDARD
TZOFFSETFROM:-0400
TZOFFSETTO:-0500
TZNAME:EST
DTSTART:20271107T060000
END:STANDARD
END:VTIMEZONE
BEGIN:VEVENT
DTSTART;TZID=America/New_York:20260409T150000
DTEND;TZID=America/New_York:20260409T210000
DTSTAMP:20260423T061756
CREATED:20260401T185356Z
LAST-MODIFIED:20260401T185356Z
UID:10054549-1775746800-1775768400@livemusicasheville.com
SUMMARY:PAN HARMONIA: GRIEF leads to GRATITUDE
DESCRIPTION:2 Shows – 3 & 7 pm \nFramed with instrumental works by Pierre Max Dubois (Petite Suite) and Fratres by famed Estonian minimalist composer Arvo Pärt\, the centerpiece of this special\, very intimate program is the world-premier of Asheville-based composer Carolina Perez’s song cycle: Matilda: A Mother’s Grief Journey After Stillbirth.\n\nKrista Tortora voice · Kate Steinbeck flute · Rosalind Buda bassoon · Jessica Schaeffer harp · Daphne Waggener violin · Claudia Malchow viola ·Patrick O’Neil cello\nPost-Concert Discussions with Dr. Katherine Hyde Hensley\, grief counselor\nAs ever\, PAN HARMONIA offers Donation-based\, Pay-as-You-Can Community Concerts. All are welcome\, advanced reservations encouraged.\nBoth intimate venues have limited seating\, offering 3 shows : 1 afternoon\, 2 evenings. Reservations and more: https://panharmonia.org/shop/\n\n\n	Related
URL:https://livemusicasheville.com/calendar/pan-harmonia-grief-leads-to-gratitude/
LOCATION:First Presbyterian Church of Asheville
CATEGORIES:Asheville Area,Black Mountain,Live Music
END:VEVENT
BEGIN:VEVENT
DTSTART;TZID=America/New_York:20251207T150000
DTEND;TZID=America/New_York:20251207T170000
DTSTAMP:20260423T061756
CREATED:20251202T223146Z
LAST-MODIFIED:20251202T223146Z
UID:10026332-1765119600-1765126800@livemusicasheville.com
SUMMARY:Pan Harmonia presents a Holiday Variety Show
DESCRIPTION:You’re invited to an afternoon of beautiful music\, community\, and generosity!\nPan Harmonia presents a Holiday Variety Show with performances by local musicians and ensembles — all to support Working Wheels\, a nonprofit that provides reliable vehicles to families in need across Western North Carolina.\n Sunday\, December 7 at 3 PM First Presbyterian Church\, Asheville\nFeaturing:• Asheville Flute Choir• Blue Ridge Classical Guitar Orchestra• AC Reynolds High School Flute Quartet• Kate Steinbeck – Flute• Amy Brucksch & Andy Jurik – Guitars• Michaela Wright – Soprano• Chandler Peveto – Piano… and more!\n Why it matters:Proceeds help Working Wheels repair and provide cars for local families who need safe\, dependable transportation.\n\n\n	Related
URL:https://livemusicasheville.com/calendar/pan-harmonia-presents-a-holiday-variety-show/
LOCATION:First Presbyterian Church of Asheville
CATEGORIES:Asheville Area,Live Music
END:VEVENT
BEGIN:VEVENT
DTSTART;TZID=America/New_York:20250907T150000
DTEND;TZID=America/New_York:20250907T170000
DTSTAMP:20260423T061756
CREATED:20250904T141459Z
LAST-MODIFIED:20250904T141459Z
UID:10020692-1757257200-1757264400@livemusicasheville.com
SUMMARY:Pan Harmonia presents: Let’s go Retro!!
DESCRIPTION:WELCOME to Community Chamber Music! \nDonation-based · Pay-as-You-Can concerts \nKate Steinbeck Flute ∙ \nMaría Luisa de la Cerda Rohde Flute and Piccolo ∙ \nJohn Crawley Piano ∙ \nByron Hedgepeth Percussion ∙ \nKevin Kehrberg Bass \nDress your best 1975 and join us afterwards for cake & tea! \n\n\n	Related
URL:https://livemusicasheville.com/calendar/pan-harmonia-presents-lets-go-retro-2/
LOCATION:First Presbyterian Church of Asheville
CATEGORIES:Asheville Area,Live Music
END:VEVENT
END:VCALENDAR