BEGIN:VCALENDAR
VERSION:2.0
PRODID:-//LiveMusicAsheville.com - ECPv6.15.20//NONSGML v1.0//EN
CALSCALE:GREGORIAN
METHOD:PUBLISH
X-ORIGINAL-URL:https://livemusicasheville.com
X-WR-CALDESC:Events for LiveMusicAsheville.com
REFRESH-INTERVAL;VALUE=DURATION:PT1H
X-Robots-Tag:noindex
X-PUBLISHED-TTL:PT1H
BEGIN:VTIMEZONE
TZID:America/New_York
BEGIN:DAYLIGHT
TZOFFSETFROM:-0500
TZOFFSETTO:-0400
TZNAME:EDT
DTSTART:20240310T070000
END:DAYLIGHT
BEGIN:STANDARD
TZOFFSETFROM:-0400
TZOFFSETTO:-0500
TZNAME:EST
DTSTART:20241103T060000
END:STANDARD
BEGIN:DAYLIGHT
TZOFFSETFROM:-0500
TZOFFSETTO:-0400
TZNAME:EDT
DTSTART:20250309T070000
END:DAYLIGHT
BEGIN:STANDARD
TZOFFSETFROM:-0400
TZOFFSETTO:-0500
TZNAME:EST
DTSTART:20251102T060000
END:STANDARD
BEGIN:DAYLIGHT
TZOFFSETFROM:-0500
TZOFFSETTO:-0400
TZNAME:EDT
DTSTART:20260308T070000
END:DAYLIGHT
BEGIN:STANDARD
TZOFFSETFROM:-0400
TZOFFSETTO:-0500
TZNAME:EST
DTSTART:20261101T060000
END:STANDARD
END:VTIMEZONE
BEGIN:VEVENT
DTSTART;TZID=America/New_York:20251018T190000
DTEND;TZID=America/New_York:20251018T220000
DTSTAMP:20260425T083446
CREATED:20251015T180129Z
LAST-MODIFIED:20251015T180129Z
UID:10022742-1760814000-1760824800@livemusicasheville.com
SUMMARY:The Legendary Pink Dots w/ Orbit Service
DESCRIPTION:Related
URL:https://livemusicasheville.com/calendar/the-legendary-pink-dots-w-orbit-service/
LOCATION:Eulogy\, 10 Buxton Ave\, Asheville\, NC\, 28801
CATEGORIES:Asheville Area,Live Music
GEO:35.5883468;-82.5539256
X-APPLE-STRUCTURED-LOCATION;VALUE=URI;X-ADDRESS=Eulogy 10 Buxton Ave Asheville NC 28801;X-APPLE-RADIUS=500;X-TITLE=10 Buxton Ave:geo:-82.5539256,35.5883468
END:VEVENT
BEGIN:VEVENT
DTSTART;TZID=America/New_York:20251017T190000
DTEND;TZID=America/New_York:20251017T220000
DTSTAMP:20260425T083446
CREATED:20251015T175921Z
LAST-MODIFIED:20251015T180045Z
UID:10022741-1760727600-1760738400@livemusicasheville.com
SUMMARY:Paper Pills w/ Lavender Blue & Porcelain Parro
DESCRIPTION:Related
URL:https://livemusicasheville.com/calendar/paper-pills-w-lavender-blue-porcelain-parro/
LOCATION:Eulogy\, 10 Buxton Ave\, Asheville\, NC\, 28801
CATEGORIES:Asheville Area,Live Music
GEO:35.5883468;-82.5539256
X-APPLE-STRUCTURED-LOCATION;VALUE=URI;X-ADDRESS=Eulogy 10 Buxton Ave Asheville NC 28801;X-APPLE-RADIUS=500;X-TITLE=10 Buxton Ave:geo:-82.5539256,35.5883468
END:VEVENT
BEGIN:VEVENT
DTSTART;TZID=America/New_York:20251016T190000
DTEND;TZID=America/New_York:20251016T230000
DTSTAMP:20260425T083446
CREATED:20251008T184221Z
LAST-MODIFIED:20251008T184221Z
UID:10022465-1760641200-1760655600@livemusicasheville.com
SUMMARY:The Runarounds w/ William Wild
DESCRIPTION:Related
URL:https://livemusicasheville.com/calendar/the-runarounds-w-william-wild/
LOCATION:Eulogy\, 10 Buxton Ave\, Asheville\, NC\, 28801
CATEGORIES:Asheville Area,Live Music
GEO:35.5883468;-82.5539256
X-APPLE-STRUCTURED-LOCATION;VALUE=URI;X-ADDRESS=Eulogy 10 Buxton Ave Asheville NC 28801;X-APPLE-RADIUS=500;X-TITLE=10 Buxton Ave:geo:-82.5539256,35.5883468
END:VEVENT
BEGIN:VEVENT
DTSTART;TZID=America/New_York:20251014T200000
DTEND;TZID=America/New_York:20251014T230000
DTSTAMP:20260425T083446
CREATED:20251008T184126Z
LAST-MODIFIED:20251008T184126Z
UID:10022464-1760472000-1760482800@livemusicasheville.com
SUMMARY:Hovvdy w/ Tombstone Poetry
DESCRIPTION:Related
URL:https://livemusicasheville.com/calendar/hovvdy-w-tombstone-poetry/
LOCATION:Eulogy\, 10 Buxton Ave\, Asheville\, NC\, 28801
CATEGORIES:Asheville Area,Live Music
GEO:35.5883468;-82.5539256
X-APPLE-STRUCTURED-LOCATION;VALUE=URI;X-ADDRESS=Eulogy 10 Buxton Ave Asheville NC 28801;X-APPLE-RADIUS=500;X-TITLE=10 Buxton Ave:geo:-82.5539256,35.5883468
END:VEVENT
BEGIN:VEVENT
DTSTART;TZID=America/New_York:20251010T200000
DTEND;TZID=America/New_York:20251010T233000
DTSTAMP:20260425T083446
CREATED:20251008T184029Z
LAST-MODIFIED:20251008T184029Z
UID:10022463-1760126400-1760139000@livemusicasheville.com
SUMMARY:Mind's Eye & Hot Flash Heat Wave w/ Sad Park
DESCRIPTION:Related
URL:https://livemusicasheville.com/calendar/minds-eye-hot-flash-heat-wave-w-sad-park/
LOCATION:Eulogy\, 10 Buxton Ave\, Asheville\, NC\, 28801
CATEGORIES:Asheville Area,Live Music
GEO:35.5883468;-82.5539256
X-APPLE-STRUCTURED-LOCATION;VALUE=URI;X-ADDRESS=Eulogy 10 Buxton Ave Asheville NC 28801;X-APPLE-RADIUS=500;X-TITLE=10 Buxton Ave:geo:-82.5539256,35.5883468
END:VEVENT
BEGIN:VEVENT
DTSTART;TZID=America/New_York:20251009T190000
DTEND;TZID=America/New_York:20251009T230000
DTSTAMP:20260425T083446
CREATED:20251001T174004Z
LAST-MODIFIED:20251001T174004Z
UID:10021756-1760036400-1760050800@livemusicasheville.com
SUMMARY:Panzerfaust w/ Groza\, All Hell & Widowed Light
DESCRIPTION:Related
URL:https://livemusicasheville.com/calendar/panzerfaust-w-groza-all-hell-widowed-light/
LOCATION:Eulogy\, 10 Buxton Ave\, Asheville\, NC\, 28801
CATEGORIES:Asheville Area,Live Music
GEO:35.5883468;-82.5539256
X-APPLE-STRUCTURED-LOCATION;VALUE=URI;X-ADDRESS=Eulogy 10 Buxton Ave Asheville NC 28801;X-APPLE-RADIUS=500;X-TITLE=10 Buxton Ave:geo:-82.5539256,35.5883468
END:VEVENT
BEGIN:VEVENT
DTSTART;TZID=America/New_York:20251008T200000
DTEND;TZID=America/New_York:20251008T230000
DTSTAMP:20260425T083446
CREATED:20251001T173905Z
LAST-MODIFIED:20251001T173905Z
UID:10021755-1759953600-1759964400@livemusicasheville.com
SUMMARY:Clay Street Unit w/ Valley Flower
DESCRIPTION:Related
URL:https://livemusicasheville.com/calendar/clay-street-unit-w-valley-flower/
LOCATION:Eulogy\, 10 Buxton Ave\, Asheville\, NC\, 28801
CATEGORIES:Asheville Area,Live Music
GEO:35.5883468;-82.5539256
X-APPLE-STRUCTURED-LOCATION;VALUE=URI;X-ADDRESS=Eulogy 10 Buxton Ave Asheville NC 28801;X-APPLE-RADIUS=500;X-TITLE=10 Buxton Ave:geo:-82.5539256,35.5883468
END:VEVENT
BEGIN:VEVENT
DTSTART;TZID=America/New_York:20251005T200000
DTEND;TZID=America/New_York:20251005T230000
DTSTAMP:20260425T083446
CREATED:20251001T173732Z
LAST-MODIFIED:20251001T173732Z
UID:10021754-1759694400-1759705200@livemusicasheville.com
SUMMARY:Daisy the Great
DESCRIPTION:Related
URL:https://livemusicasheville.com/calendar/daisy-the-great/
LOCATION:Eulogy\, 10 Buxton Ave\, Asheville\, NC\, 28801
CATEGORIES:Asheville Area,Live Music
GEO:35.5883468;-82.5539256
X-APPLE-STRUCTURED-LOCATION;VALUE=URI;X-ADDRESS=Eulogy 10 Buxton Ave Asheville NC 28801;X-APPLE-RADIUS=500;X-TITLE=10 Buxton Ave:geo:-82.5539256,35.5883468
END:VEVENT
BEGIN:VEVENT
DTSTART;TZID=America/New_York:20251003T200000
DTEND;TZID=America/New_York:20251003T230000
DTSTAMP:20260425T083446
CREATED:20251001T173149Z
LAST-MODIFIED:20251001T173149Z
UID:10021752-1759521600-1759532400@livemusicasheville.com
SUMMARY:Kerosene Heights w/ Fashion Bath
DESCRIPTION:Related
URL:https://livemusicasheville.com/calendar/kerosene-heights-w-fashion-bath/
LOCATION:Eulogy\, 10 Buxton Ave\, Asheville\, NC\, 28801
CATEGORIES:Asheville Area,Live Music
GEO:35.5883468;-82.5539256
X-APPLE-STRUCTURED-LOCATION;VALUE=URI;X-ADDRESS=Eulogy 10 Buxton Ave Asheville NC 28801;X-APPLE-RADIUS=500;X-TITLE=10 Buxton Ave:geo:-82.5539256,35.5883468
END:VEVENT
BEGIN:VEVENT
DTSTART;TZID=America/New_York:20251001T200000
DTEND;TZID=America/New_York:20251001T230000
DTSTAMP:20260425T083446
CREATED:20250924T145416Z
LAST-MODIFIED:20250924T145416Z
UID:10021583-1759348800-1759359600@livemusicasheville.com
SUMMARY:Castle Rat w/ Bask & Howling Gian
DESCRIPTION:Related
URL:https://livemusicasheville.com/calendar/castle-rat-w-bask-howling-gian/
LOCATION:Eulogy\, 10 Buxton Ave\, Asheville\, NC\, 28801
CATEGORIES:Asheville Area,Live Music
GEO:35.5883468;-82.5539256
X-APPLE-STRUCTURED-LOCATION;VALUE=URI;X-ADDRESS=Eulogy 10 Buxton Ave Asheville NC 28801;X-APPLE-RADIUS=500;X-TITLE=10 Buxton Ave:geo:-82.5539256,35.5883468
END:VEVENT
BEGIN:VEVENT
DTSTART;TZID=America/New_York:20250930T200000
DTEND;TZID=America/New_York:20250930T230000
DTSTAMP:20260425T083446
CREATED:20250924T145322Z
LAST-MODIFIED:20250924T145322Z
UID:10021582-1759262400-1759273200@livemusicasheville.com
SUMMARY:Spanish Love Songs w/ Bike Routes & World's Greatest Dad
DESCRIPTION:Related
URL:https://livemusicasheville.com/calendar/spanish-love-songs-w-bike-routes-worlds-greatest-dad/
LOCATION:Eulogy\, 10 Buxton Ave\, Asheville\, NC\, 28801
CATEGORIES:Asheville Area,Live Music
GEO:35.5883468;-82.5539256
X-APPLE-STRUCTURED-LOCATION;VALUE=URI;X-ADDRESS=Eulogy 10 Buxton Ave Asheville NC 28801;X-APPLE-RADIUS=500;X-TITLE=10 Buxton Ave:geo:-82.5539256,35.5883468
END:VEVENT
BEGIN:VEVENT
DTSTART;TZID=America/New_York:20250929T190000
DTEND;TZID=America/New_York:20250929T230000
DTSTAMP:20260425T083446
CREATED:20250924T145228Z
LAST-MODIFIED:20250924T145228Z
UID:10021581-1759172400-1759186800@livemusicasheville.com
SUMMARY:Dancing Plague w/ Dildox\, Cold Choir & More is not Enough
DESCRIPTION:Related
URL:https://livemusicasheville.com/calendar/dancing-plague-w-dildox-cold-choir-more-is-not-enough/
LOCATION:Eulogy\, 10 Buxton Ave\, Asheville\, NC\, 28801
CATEGORIES:Asheville Area,Live Music
GEO:35.5883468;-82.5539256
X-APPLE-STRUCTURED-LOCATION;VALUE=URI;X-ADDRESS=Eulogy 10 Buxton Ave Asheville NC 28801;X-APPLE-RADIUS=500;X-TITLE=10 Buxton Ave:geo:-82.5539256,35.5883468
END:VEVENT
BEGIN:VEVENT
DTSTART;TZID=America/New_York:20250926T190000
DTEND;TZID=America/New_York:20250926T220000
DTSTAMP:20260425T083446
CREATED:20250924T145006Z
LAST-MODIFIED:20250924T145006Z
UID:10021580-1758913200-1758924000@livemusicasheville.com
SUMMARY:Supatight w/ Jesse Velvet
DESCRIPTION:Related
URL:https://livemusicasheville.com/calendar/supatight-w-jesse-velvet/
LOCATION:Eulogy\, 10 Buxton Ave\, Asheville\, NC\, 28801
CATEGORIES:Asheville Area,Live Music
GEO:35.5883468;-82.5539256
X-APPLE-STRUCTURED-LOCATION;VALUE=URI;X-ADDRESS=Eulogy 10 Buxton Ave Asheville NC 28801;X-APPLE-RADIUS=500;X-TITLE=10 Buxton Ave:geo:-82.5539256,35.5883468
END:VEVENT
BEGIN:VEVENT
DTSTART;TZID=America/New_York:20250925T200000
DTEND;TZID=America/New_York:20250925T230000
DTSTAMP:20260425T083446
CREATED:20250917T183631Z
LAST-MODIFIED:20250917T183631Z
UID:10021299-1758830400-1758841200@livemusicasheville.com
SUMMARY:He is Legend w/ Eyes Set to Kill\, Downswing & Teeth
DESCRIPTION:Related
URL:https://livemusicasheville.com/calendar/he-is-legend-w-eyes-set-to-kill-downswing-teeth/
LOCATION:Eulogy\, 10 Buxton Ave\, Asheville\, NC\, 28801
CATEGORIES:Asheville Area,Live Music
GEO:35.5883468;-82.5539256
X-APPLE-STRUCTURED-LOCATION;VALUE=URI;X-ADDRESS=Eulogy 10 Buxton Ave Asheville NC 28801;X-APPLE-RADIUS=500;X-TITLE=10 Buxton Ave:geo:-82.5539256,35.5883468
END:VEVENT
BEGIN:VEVENT
DTSTART;TZID=America/New_York:20250924T200000
DTEND;TZID=America/New_York:20250924T230000
DTSTAMP:20260425T083446
CREATED:20250917T183534Z
LAST-MODIFIED:20250917T183534Z
UID:10021298-1758744000-1758754800@livemusicasheville.com
SUMMARY:River Shook w/ She Returns from War
DESCRIPTION:Related
URL:https://livemusicasheville.com/calendar/river-shook-w-she-returns-from-war/
LOCATION:Eulogy\, 10 Buxton Ave\, Asheville\, NC\, 28801
CATEGORIES:Asheville Area,Live Music
GEO:35.5883468;-82.5539256
X-APPLE-STRUCTURED-LOCATION;VALUE=URI;X-ADDRESS=Eulogy 10 Buxton Ave Asheville NC 28801;X-APPLE-RADIUS=500;X-TITLE=10 Buxton Ave:geo:-82.5539256,35.5883468
END:VEVENT
BEGIN:VEVENT
DTSTART;TZID=America/New_York:20250923T200000
DTEND;TZID=America/New_York:20250923T230000
DTSTAMP:20260425T083446
CREATED:20250917T183434Z
LAST-MODIFIED:20250917T183434Z
UID:10021297-1758657600-1758668400@livemusicasheville.com
SUMMARY:Woods w/ White Fence & Sharp Pins
DESCRIPTION:Related
URL:https://livemusicasheville.com/calendar/woods-w-white-fence-sharp-pins/
LOCATION:Eulogy\, 10 Buxton Ave\, Asheville\, NC\, 28801
CATEGORIES:Asheville Area,Live Music
GEO:35.5883468;-82.5539256
X-APPLE-STRUCTURED-LOCATION;VALUE=URI;X-ADDRESS=Eulogy 10 Buxton Ave Asheville NC 28801;X-APPLE-RADIUS=500;X-TITLE=10 Buxton Ave:geo:-82.5539256,35.5883468
END:VEVENT
BEGIN:VEVENT
DTSTART;TZID=America/New_York:20250921T190000
DTEND;TZID=America/New_York:20250921T220000
DTSTAMP:20260425T083446
CREATED:20250917T183324Z
LAST-MODIFIED:20250917T183324Z
UID:10021296-1758481200-1758492000@livemusicasheville.com
SUMMARY:MICO w/ vaultboy
DESCRIPTION:Related
URL:https://livemusicasheville.com/calendar/mico-w-vaultboy/
LOCATION:Eulogy\, 10 Buxton Ave\, Asheville\, NC\, 28801
CATEGORIES:Asheville Area,Live Music
GEO:35.5883468;-82.5539256
X-APPLE-STRUCTURED-LOCATION;VALUE=URI;X-ADDRESS=Eulogy 10 Buxton Ave Asheville NC 28801;X-APPLE-RADIUS=500;X-TITLE=10 Buxton Ave:geo:-82.5539256,35.5883468
END:VEVENT
BEGIN:VEVENT
DTSTART;TZID=America/New_York:20250920T190000
DTEND;TZID=America/New_York:20250920T220000
DTSTAMP:20260425T083446
CREATED:20250917T183227Z
LAST-MODIFIED:20250917T183227Z
UID:10021295-1758394800-1758405600@livemusicasheville.com
SUMMARY:Teen Mortgage
DESCRIPTION:Related
URL:https://livemusicasheville.com/calendar/teen-mortgage/
LOCATION:Eulogy\, 10 Buxton Ave\, Asheville\, NC\, 28801
CATEGORIES:Asheville Area,Live Music
GEO:35.5883468;-82.5539256
X-APPLE-STRUCTURED-LOCATION;VALUE=URI;X-ADDRESS=Eulogy 10 Buxton Ave Asheville NC 28801;X-APPLE-RADIUS=500;X-TITLE=10 Buxton Ave:geo:-82.5539256,35.5883468
END:VEVENT
BEGIN:VEVENT
DTSTART;TZID=America/New_York:20250919T190000
DTEND;TZID=America/New_York:20250919T220000
DTSTAMP:20260425T083446
CREATED:20250917T183113Z
LAST-MODIFIED:20250917T183113Z
UID:10021294-1758308400-1758319200@livemusicasheville.com
SUMMARY:Ethan Regan w/ The Man The Myth The Meatslab
DESCRIPTION:Related
URL:https://livemusicasheville.com/calendar/ethan-regan-w-the-man-the-myth-the-meatslab/
LOCATION:Eulogy\, 10 Buxton Ave\, Asheville\, NC\, 28801
CATEGORIES:Asheville Area,Live Music
GEO:35.5883468;-82.5539256
X-APPLE-STRUCTURED-LOCATION;VALUE=URI;X-ADDRESS=Eulogy 10 Buxton Ave Asheville NC 28801;X-APPLE-RADIUS=500;X-TITLE=10 Buxton Ave:geo:-82.5539256,35.5883468
END:VEVENT
BEGIN:VEVENT
DTSTART;TZID=America/New_York:20250918T200000
DTEND;TZID=America/New_York:20250918T230000
DTSTAMP:20260425T083446
CREATED:20250910T185939Z
LAST-MODIFIED:20250910T185939Z
UID:10021014-1758225600-1758236400@livemusicasheville.com
SUMMARY:House & Home w/ Troubled Minds
DESCRIPTION:Related
URL:https://livemusicasheville.com/calendar/house-home-w-troubled-minds/
LOCATION:Eulogy\, 10 Buxton Ave\, Asheville\, NC\, 28801
CATEGORIES:Asheville Area,Live Music
GEO:35.5883468;-82.5539256
X-APPLE-STRUCTURED-LOCATION;VALUE=URI;X-ADDRESS=Eulogy 10 Buxton Ave Asheville NC 28801;X-APPLE-RADIUS=500;X-TITLE=10 Buxton Ave:geo:-82.5539256,35.5883468
END:VEVENT
BEGIN:VEVENT
DTSTART;TZID=America/New_York:20250917T200000
DTEND;TZID=America/New_York:20250917T230000
DTSTAMP:20260425T083446
CREATED:20250910T185838Z
LAST-MODIFIED:20250910T185838Z
UID:10021013-1758139200-1758150000@livemusicasheville.com
SUMMARY:Carcass w/ Brujeria & Spiritworld
DESCRIPTION:Related
URL:https://livemusicasheville.com/calendar/carcass-w-brujeria-spiritworld/
LOCATION:Eulogy\, 10 Buxton Ave\, Asheville\, NC\, 28801
CATEGORIES:Asheville Area,Live Music
GEO:35.5883468;-82.5539256
X-APPLE-STRUCTURED-LOCATION;VALUE=URI;X-ADDRESS=Eulogy 10 Buxton Ave Asheville NC 28801;X-APPLE-RADIUS=500;X-TITLE=10 Buxton Ave:geo:-82.5539256,35.5883468
END:VEVENT
BEGIN:VEVENT
DTSTART;TZID=America/New_York:20250916T200000
DTEND;TZID=America/New_York:20250916T223000
DTSTAMP:20260425T083446
CREATED:20250910T185623Z
LAST-MODIFIED:20250910T185623Z
UID:10021012-1758052800-1758061800@livemusicasheville.com
SUMMARY:Runnner
DESCRIPTION:Related
URL:https://livemusicasheville.com/calendar/runnner/
LOCATION:Eulogy\, 10 Buxton Ave\, Asheville\, NC\, 28801
CATEGORIES:Asheville Area,Live Music
GEO:35.5883468;-82.5539256
X-APPLE-STRUCTURED-LOCATION;VALUE=URI;X-ADDRESS=Eulogy 10 Buxton Ave Asheville NC 28801;X-APPLE-RADIUS=500;X-TITLE=10 Buxton Ave:geo:-82.5539256,35.5883468
END:VEVENT
BEGIN:VEVENT
DTSTART;TZID=America/New_York:20250915T190000
DTEND;TZID=America/New_York:20250915T223000
DTSTAMP:20260425T083446
CREATED:20250910T185453Z
LAST-MODIFIED:20250910T185453Z
UID:10021011-1757962800-1757975400@livemusicasheville.com
SUMMARY:Calva Louise w/ Sicksense & Jesus Casino
DESCRIPTION:Related
URL:https://livemusicasheville.com/calendar/calva-louise-w-sicksense-jesus-casino/
LOCATION:Eulogy\, 10 Buxton Ave\, Asheville\, NC\, 28801
CATEGORIES:Asheville Area,Live Music
GEO:35.5883468;-82.5539256
X-APPLE-STRUCTURED-LOCATION;VALUE=URI;X-ADDRESS=Eulogy 10 Buxton Ave Asheville NC 28801;X-APPLE-RADIUS=500;X-TITLE=10 Buxton Ave:geo:-82.5539256,35.5883468
END:VEVENT
BEGIN:VEVENT
DTSTART;TZID=America/New_York:20250914T200000
DTEND;TZID=America/New_York:20250914T230000
DTSTAMP:20260425T083446
CREATED:20250910T185322Z
LAST-MODIFIED:20250910T185322Z
UID:10021010-1757880000-1757890800@livemusicasheville.com
SUMMARY:The Hails w/ Oceanic
DESCRIPTION:Related
URL:https://livemusicasheville.com/calendar/the-hails-w-oceanic/
LOCATION:Eulogy\, 10 Buxton Ave\, Asheville\, NC\, 28801
CATEGORIES:Asheville Area,Live Music
GEO:35.5883468;-82.5539256
X-APPLE-STRUCTURED-LOCATION;VALUE=URI;X-ADDRESS=Eulogy 10 Buxton Ave Asheville NC 28801;X-APPLE-RADIUS=500;X-TITLE=10 Buxton Ave:geo:-82.5539256,35.5883468
END:VEVENT
BEGIN:VEVENT
DTSTART;TZID=America/New_York:20250910T200000
DTEND;TZID=America/New_York:20250910T230000
DTSTAMP:20260425T083446
CREATED:20250903T192138Z
LAST-MODIFIED:20250903T192138Z
UID:10020660-1757534400-1757545200@livemusicasheville.com
SUMMARY:NICK HEXUM (of 311) w/ Water Tower
DESCRIPTION:Related
URL:https://livemusicasheville.com/calendar/nick-hexum-of-311-w-water-tower/
LOCATION:Eulogy\, 10 Buxton Ave\, Asheville\, NC\, 28801
CATEGORIES:Asheville Area,Live Music
GEO:35.5883468;-82.5539256
X-APPLE-STRUCTURED-LOCATION;VALUE=URI;X-ADDRESS=Eulogy 10 Buxton Ave Asheville NC 28801;X-APPLE-RADIUS=500;X-TITLE=10 Buxton Ave:geo:-82.5539256,35.5883468
END:VEVENT
BEGIN:VEVENT
DTSTART;TZID=America/New_York:20250909T200000
DTEND;TZID=America/New_York:20250909T223000
DTSTAMP:20260425T083446
CREATED:20250903T192028Z
LAST-MODIFIED:20250903T192028Z
UID:10020659-1757448000-1757457000@livemusicasheville.com
SUMMARY:Boldy James + Shame Gang
DESCRIPTION:Related
URL:https://livemusicasheville.com/calendar/boldy-james-shame-gang/
LOCATION:Eulogy\, 10 Buxton Ave\, Asheville\, NC\, 28801
CATEGORIES:Asheville Area,DJ/Electronic,Live Music
GEO:35.5883468;-82.5539256
X-APPLE-STRUCTURED-LOCATION;VALUE=URI;X-ADDRESS=Eulogy 10 Buxton Ave Asheville NC 28801;X-APPLE-RADIUS=500;X-TITLE=10 Buxton Ave:geo:-82.5539256,35.5883468
END:VEVENT
BEGIN:VEVENT
DTSTART;TZID=America/New_York:20250908T200000
DTEND;TZID=America/New_York:20250908T220000
DTSTAMP:20260425T083446
CREATED:20250903T191820Z
LAST-MODIFIED:20250903T191820Z
UID:10020658-1757361600-1757368800@livemusicasheville.com
SUMMARY:The Silent Light: Metropolis w/ live metal score
DESCRIPTION:Related
URL:https://livemusicasheville.com/calendar/the-silent-light-metropolis-w-live-metal-score/
LOCATION:Eulogy\, 10 Buxton Ave\, Asheville\, NC\, 28801
CATEGORIES:Asheville Area,Live Music
GEO:35.5883468;-82.5539256
X-APPLE-STRUCTURED-LOCATION;VALUE=URI;X-ADDRESS=Eulogy 10 Buxton Ave Asheville NC 28801;X-APPLE-RADIUS=500;X-TITLE=10 Buxton Ave:geo:-82.5539256,35.5883468
END:VEVENT
BEGIN:VEVENT
DTSTART;TZID=America/New_York:20250907T200000
DTEND;TZID=America/New_York:20250907T230000
DTSTAMP:20260425T083446
CREATED:20250903T191336Z
LAST-MODIFIED:20250903T191336Z
UID:10020657-1757275200-1757286000@livemusicasheville.com
SUMMARY:Temptations Wings (EP Release) w/ Shadowcloak & Killiad
DESCRIPTION:Related
URL:https://livemusicasheville.com/calendar/temptations-wings-ep-release-w-shadowcloak-killiad/
LOCATION:Eulogy\, 10 Buxton Ave\, Asheville\, NC\, 28801
CATEGORIES:Asheville Area,Live Music
GEO:35.5883468;-82.5539256
X-APPLE-STRUCTURED-LOCATION;VALUE=URI;X-ADDRESS=Eulogy 10 Buxton Ave Asheville NC 28801;X-APPLE-RADIUS=500;X-TITLE=10 Buxton Ave:geo:-82.5539256,35.5883468
END:VEVENT
BEGIN:VEVENT
DTSTART;TZID=America/New_York:20250906T200000
DTEND;TZID=America/New_York:20250906T233000
DTSTAMP:20260425T083446
CREATED:20250903T191232Z
LAST-MODIFIED:20250903T191232Z
UID:10020656-1757188800-1757201400@livemusicasheville.com
SUMMARY:Frankie Cosmos w/ Fantasy of a Broken Heart + Moontype
DESCRIPTION:Related
URL:https://livemusicasheville.com/calendar/frankie-cosmos-w-fantasy-of-a-broken-heart-moontype/
LOCATION:Eulogy\, 10 Buxton Ave\, Asheville\, NC\, 28801
CATEGORIES:Asheville Area,Live Music
GEO:35.5883468;-82.5539256
X-APPLE-STRUCTURED-LOCATION;VALUE=URI;X-ADDRESS=Eulogy 10 Buxton Ave Asheville NC 28801;X-APPLE-RADIUS=500;X-TITLE=10 Buxton Ave:geo:-82.5539256,35.5883468
END:VEVENT
BEGIN:VEVENT
DTSTART;TZID=America/New_York:20250903T200000
DTEND;TZID=America/New_York:20250903T230000
DTSTAMP:20260425T083446
CREATED:20250827T182148Z
LAST-MODIFIED:20250827T182148Z
UID:10020333-1756929600-1756940400@livemusicasheville.com
SUMMARY:Conan w/ Mares of Thrace & Sunbearer
DESCRIPTION:Related
URL:https://livemusicasheville.com/calendar/conan-w-mares-of-thrace-sunbearer/
LOCATION:Eulogy\, 10 Buxton Ave\, Asheville\, NC\, 28801
CATEGORIES:Asheville Area,Live Music
GEO:35.5883468;-82.5539256
X-APPLE-STRUCTURED-LOCATION;VALUE=URI;X-ADDRESS=Eulogy 10 Buxton Ave Asheville NC 28801;X-APPLE-RADIUS=500;X-TITLE=10 Buxton Ave:geo:-82.5539256,35.5883468
END:VEVENT
END:VCALENDAR