BEGIN:VCALENDAR
VERSION:2.0
PRODID:-//LiveMusicAsheville.com - ECPv6.15.20//NONSGML v1.0//EN
CALSCALE:GREGORIAN
METHOD:PUBLISH
X-ORIGINAL-URL:https://livemusicasheville.com
X-WR-CALDESC:Events for LiveMusicAsheville.com
REFRESH-INTERVAL;VALUE=DURATION:PT1H
X-Robots-Tag:noindex
X-PUBLISHED-TTL:PT1H
BEGIN:VTIMEZONE
TZID:America/New_York
BEGIN:DAYLIGHT
TZOFFSETFROM:-0500
TZOFFSETTO:-0400
TZNAME:EDT
DTSTART:20250309T070000
END:DAYLIGHT
BEGIN:STANDARD
TZOFFSETFROM:-0400
TZOFFSETTO:-0500
TZNAME:EST
DTSTART:20251102T060000
END:STANDARD
BEGIN:DAYLIGHT
TZOFFSETFROM:-0500
TZOFFSETTO:-0400
TZNAME:EDT
DTSTART:20260308T070000
END:DAYLIGHT
BEGIN:STANDARD
TZOFFSETFROM:-0400
TZOFFSETTO:-0500
TZNAME:EST
DTSTART:20261101T060000
END:STANDARD
BEGIN:DAYLIGHT
TZOFFSETFROM:-0500
TZOFFSETTO:-0400
TZNAME:EDT
DTSTART:20270314T070000
END:DAYLIGHT
BEGIN:STANDARD
TZOFFSETFROM:-0400
TZOFFSETTO:-0500
TZNAME:EST
DTSTART:20271107T060000
END:STANDARD
END:VTIMEZONE
BEGIN:VEVENT
DTSTART;TZID=America/New_York:20260424T200000
DTEND;TZID=America/New_York:20260424T230000
DTSTAMP:20260425T062724
CREATED:20260422T190130Z
LAST-MODIFIED:20260422T190130Z
UID:10058455-1777060800-1777071600@livemusicasheville.com
SUMMARY:Ghostface Killah of Wu-Tang Clan
DESCRIPTION:Related
URL:https://livemusicasheville.com/calendar/ghostface-killah-of-wu-tang-clan/
LOCATION:Eulogy\, 10 Buxton Ave\, Asheville\, NC\, 28801
CATEGORIES:Asheville Area,DJ/Electronic,Live Music
GEO:35.5883468;-82.5539256
X-APPLE-STRUCTURED-LOCATION;VALUE=URI;X-ADDRESS=Eulogy 10 Buxton Ave Asheville NC 28801;X-APPLE-RADIUS=500;X-TITLE=10 Buxton Ave:geo:-82.5539256,35.5883468
END:VEVENT
BEGIN:VEVENT
DTSTART;TZID=America/New_York:20260422T200000
DTEND;TZID=America/New_York:20260422T230000
DTSTAMP:20260425T062724
CREATED:20260415T185858Z
LAST-MODIFIED:20260415T185858Z
UID:10057409-1776888000-1776898800@livemusicasheville.com
SUMMARY:Superchunk w/ Rosali
DESCRIPTION:Related
URL:https://livemusicasheville.com/calendar/superchunk-w-rosali/
LOCATION:Eulogy\, 10 Buxton Ave\, Asheville\, NC\, 28801
CATEGORIES:Asheville Area,Live Music
GEO:35.5883468;-82.5539256
X-APPLE-STRUCTURED-LOCATION;VALUE=URI;X-ADDRESS=Eulogy 10 Buxton Ave Asheville NC 28801;X-APPLE-RADIUS=500;X-TITLE=10 Buxton Ave:geo:-82.5539256,35.5883468
END:VEVENT
BEGIN:VEVENT
DTSTART;TZID=America/New_York:20260420T200000
DTEND;TZID=America/New_York:20260420T230000
DTSTAMP:20260425T062724
CREATED:20260415T185738Z
LAST-MODIFIED:20260420T093303Z
UID:10057408-1776715200-1776726000@livemusicasheville.com
SUMMARY:Holy F*ck w/ Gus Englehorn
DESCRIPTION:Related
URL:https://livemusicasheville.com/calendar/holy-fuck-w-gus-englehorn/
LOCATION:Eulogy\, 10 Buxton Ave\, Asheville\, NC\, 28801
CATEGORIES:Asheville Area,Live Music
GEO:35.5883468;-82.5539256
X-APPLE-STRUCTURED-LOCATION;VALUE=URI;X-ADDRESS=Eulogy 10 Buxton Ave Asheville NC 28801;X-APPLE-RADIUS=500;X-TITLE=10 Buxton Ave:geo:-82.5539256,35.5883468
END:VEVENT
BEGIN:VEVENT
DTSTART;TZID=America/New_York:20260418T190000
DTEND;TZID=America/New_York:20260418T230000
DTSTAMP:20260425T062724
CREATED:20260415T185619Z
LAST-MODIFIED:20260415T185619Z
UID:10057407-1776538800-1776553200@livemusicasheville.com
SUMMARY:Acid King\, Bongzilla\, ASG & Sunbearer
DESCRIPTION:Related
URL:https://livemusicasheville.com/calendar/acid-king-bongzilla-asg-sunbearer/
LOCATION:Eulogy\, 10 Buxton Ave\, Asheville\, NC\, 28801
CATEGORIES:Asheville Area,Live Music
GEO:35.5883468;-82.5539256
X-APPLE-STRUCTURED-LOCATION;VALUE=URI;X-ADDRESS=Eulogy 10 Buxton Ave Asheville NC 28801;X-APPLE-RADIUS=500;X-TITLE=10 Buxton Ave:geo:-82.5539256,35.5883468
END:VEVENT
BEGIN:VEVENT
DTSTART;TZID=America/New_York:20260416T190000
DTEND;TZID=America/New_York:20260416T230000
DTSTAMP:20260425T062724
CREATED:20260408T171553Z
LAST-MODIFIED:20260408T171553Z
UID:10055728-1776366000-1776380400@livemusicasheville.com
SUMMARY:Trauma Ray + Glixen w/ Her New Knife & Knifeplay
DESCRIPTION:Related
URL:https://livemusicasheville.com/calendar/trauma-ray-glixen-w-her-new-knife-knifeplay/
LOCATION:Eulogy\, 10 Buxton Ave\, Asheville\, NC\, 28801
CATEGORIES:Asheville Area,Live Music
GEO:35.5883468;-82.5539256
X-APPLE-STRUCTURED-LOCATION;VALUE=URI;X-ADDRESS=Eulogy 10 Buxton Ave Asheville NC 28801;X-APPLE-RADIUS=500;X-TITLE=10 Buxton Ave:geo:-82.5539256,35.5883468
END:VEVENT
BEGIN:VEVENT
DTSTART;TZID=America/New_York:20260415T200000
DTEND;TZID=America/New_York:20260415T230000
DTSTAMP:20260425T062724
CREATED:20260408T171458Z
LAST-MODIFIED:20260408T171458Z
UID:10055727-1776283200-1776294000@livemusicasheville.com
SUMMARY:They are Gutting a Body of Water w/ Total Wife & Trust Blinks
DESCRIPTION:Related
URL:https://livemusicasheville.com/calendar/they-are-gutting-a-body-of-water-w-total-wife-trust-blinks/
LOCATION:Eulogy\, 10 Buxton Ave\, Asheville\, NC\, 28801
CATEGORIES:Asheville Area,Live Music
GEO:35.5883468;-82.5539256
X-APPLE-STRUCTURED-LOCATION;VALUE=URI;X-ADDRESS=Eulogy 10 Buxton Ave Asheville NC 28801;X-APPLE-RADIUS=500;X-TITLE=10 Buxton Ave:geo:-82.5539256,35.5883468
END:VEVENT
BEGIN:VEVENT
DTSTART;TZID=America/New_York:20260414T200000
DTEND;TZID=America/New_York:20260414T230000
DTSTAMP:20260425T062724
CREATED:20260408T171346Z
LAST-MODIFIED:20260408T171346Z
UID:10055726-1776196800-1776207600@livemusicasheville.com
SUMMARY:Dead Meadow
DESCRIPTION:Related
URL:https://livemusicasheville.com/calendar/dead-meadow/
LOCATION:Eulogy\, 10 Buxton Ave\, Asheville\, NC\, 28801
CATEGORIES:Asheville Area,Live Music
GEO:35.5883468;-82.5539256
X-APPLE-STRUCTURED-LOCATION;VALUE=URI;X-ADDRESS=Eulogy 10 Buxton Ave Asheville NC 28801;X-APPLE-RADIUS=500;X-TITLE=10 Buxton Ave:geo:-82.5539256,35.5883468
END:VEVENT
BEGIN:VEVENT
DTSTART;TZID=America/New_York:20260413T200000
DTEND;TZID=America/New_York:20260413T230000
DTSTAMP:20260425T062724
CREATED:20260408T171301Z
LAST-MODIFIED:20260408T171301Z
UID:10055725-1776110400-1776121200@livemusicasheville.com
SUMMARY:Crowbar & Eyehategod w/ Weight Shift
DESCRIPTION:Related
URL:https://livemusicasheville.com/calendar/crowbar-eyehategod-w-weight-shift/
LOCATION:Eulogy\, 10 Buxton Ave\, Asheville\, NC\, 28801
CATEGORIES:Asheville Area,Live Music
GEO:35.5883468;-82.5539256
X-APPLE-STRUCTURED-LOCATION;VALUE=URI;X-ADDRESS=Eulogy 10 Buxton Ave Asheville NC 28801;X-APPLE-RADIUS=500;X-TITLE=10 Buxton Ave:geo:-82.5539256,35.5883468
END:VEVENT
BEGIN:VEVENT
DTSTART;TZID=America/New_York:20260410T200000
DTEND;TZID=America/New_York:20260410T230000
DTSTAMP:20260425T062724
CREATED:20260408T170910Z
LAST-MODIFIED:20260408T170910Z
UID:10055724-1775851200-1775862000@livemusicasheville.com
SUMMARY:Jeremy's Ten
DESCRIPTION:Related
URL:https://livemusicasheville.com/calendar/jeremys-ten/
LOCATION:Eulogy\, 10 Buxton Ave\, Asheville\, NC\, 28801
CATEGORIES:Asheville Area,Live Music
GEO:35.5883468;-82.5539256
X-APPLE-STRUCTURED-LOCATION;VALUE=URI;X-ADDRESS=Eulogy 10 Buxton Ave Asheville NC 28801;X-APPLE-RADIUS=500;X-TITLE=10 Buxton Ave:geo:-82.5539256,35.5883468
END:VEVENT
BEGIN:VEVENT
DTSTART;TZID=America/New_York:20260408T200000
DTEND;TZID=America/New_York:20260408T230000
DTSTAMP:20260425T062724
CREATED:20260401T155144Z
LAST-MODIFIED:20260401T155144Z
UID:10054512-1775678400-1775689200@livemusicasheville.com
SUMMARY:Sports w/ Chrissy
DESCRIPTION:Related
URL:https://livemusicasheville.com/calendar/sports-w-chrissy/
LOCATION:Eulogy\, 10 Buxton Ave\, Asheville\, NC\, 28801
CATEGORIES:Asheville Area,Live Music
GEO:35.5883468;-82.5539256
X-APPLE-STRUCTURED-LOCATION;VALUE=URI;X-ADDRESS=Eulogy 10 Buxton Ave Asheville NC 28801;X-APPLE-RADIUS=500;X-TITLE=10 Buxton Ave:geo:-82.5539256,35.5883468
END:VEVENT
BEGIN:VEVENT
DTSTART;TZID=America/New_York:20260404T200000
DTEND;TZID=America/New_York:20260404T230000
DTSTAMP:20260425T062724
CREATED:20260401T155015Z
LAST-MODIFIED:20260401T155015Z
UID:10054511-1775332800-1775343600@livemusicasheville.com
SUMMARY:The Get Right Band w/ Hustle Souls
DESCRIPTION:Related
URL:https://livemusicasheville.com/calendar/the-get-right-band-w-hustle-souls/
LOCATION:Eulogy\, 10 Buxton Ave\, Asheville\, NC\, 28801
CATEGORIES:Asheville Area,Live Music
GEO:35.5883468;-82.5539256
X-APPLE-STRUCTURED-LOCATION;VALUE=URI;X-ADDRESS=Eulogy 10 Buxton Ave Asheville NC 28801;X-APPLE-RADIUS=500;X-TITLE=10 Buxton Ave:geo:-82.5539256,35.5883468
END:VEVENT
BEGIN:VEVENT
DTSTART;TZID=America/New_York:20260402T200000
DTEND;TZID=America/New_York:20260402T230000
DTSTAMP:20260425T062724
CREATED:20260325T192330Z
LAST-MODIFIED:20260325T192330Z
UID:10052662-1775160000-1775170800@livemusicasheville.com
SUMMARY:Lala Lala w/ Mother Soki
DESCRIPTION:Related
URL:https://livemusicasheville.com/calendar/lala-lala-w-mother-soki/
LOCATION:Eulogy\, 10 Buxton Ave\, Asheville\, NC\, 28801
CATEGORIES:Asheville Area,Live Music
GEO:35.5883468;-82.5539256
X-APPLE-STRUCTURED-LOCATION;VALUE=URI;X-ADDRESS=Eulogy 10 Buxton Ave Asheville NC 28801;X-APPLE-RADIUS=500;X-TITLE=10 Buxton Ave:geo:-82.5539256,35.5883468
END:VEVENT
BEGIN:VEVENT
DTSTART;TZID=America/New_York:20260401T200000
DTEND;TZID=America/New_York:20260401T230000
DTSTAMP:20260425T062724
CREATED:20260325T192232Z
LAST-MODIFIED:20260325T192232Z
UID:10052661-1775073600-1775084400@livemusicasheville.com
SUMMARY:Slomosa w/ The Mainliners
DESCRIPTION:Related
URL:https://livemusicasheville.com/calendar/slomosa-w-the-mainliners/
LOCATION:Eulogy\, 10 Buxton Ave\, Asheville\, NC\, 28801
CATEGORIES:Asheville Area,Live Music
GEO:35.5883468;-82.5539256
X-APPLE-STRUCTURED-LOCATION;VALUE=URI;X-ADDRESS=Eulogy 10 Buxton Ave Asheville NC 28801;X-APPLE-RADIUS=500;X-TITLE=10 Buxton Ave:geo:-82.5539256,35.5883468
END:VEVENT
BEGIN:VEVENT
DTSTART;TZID=America/New_York:20260328T200000
DTEND;TZID=America/New_York:20260329T000000
DTSTAMP:20260425T062724
CREATED:20260325T192129Z
LAST-MODIFIED:20260325T192129Z
UID:10052660-1774728000-1774742400@livemusicasheville.com
SUMMARY:Powder Horns w/ Mechanical River \, Cheeks & Zeb Camp Wright
DESCRIPTION:Related
URL:https://livemusicasheville.com/calendar/powder-horns-w-mechanical-river-cheeks-zeb-camp-wright/
LOCATION:Eulogy\, 10 Buxton Ave\, Asheville\, NC\, 28801
CATEGORIES:Asheville Area,Live Music
GEO:35.5883468;-82.5539256
X-APPLE-STRUCTURED-LOCATION;VALUE=URI;X-ADDRESS=Eulogy 10 Buxton Ave Asheville NC 28801;X-APPLE-RADIUS=500;X-TITLE=10 Buxton Ave:geo:-82.5539256,35.5883468
END:VEVENT
BEGIN:VEVENT
DTSTART;TZID=America/New_York:20260327T190000
DTEND;TZID=America/New_York:20260327T230000
DTSTAMP:20260425T062724
CREATED:20260325T191925Z
LAST-MODIFIED:20260325T191925Z
UID:10052659-1774638000-1774652400@livemusicasheville.com
SUMMARY:Moon Walker w/ Demi the Daredevil & Sarah and the Safe Word
DESCRIPTION:Related
URL:https://livemusicasheville.com/calendar/moon-walker-w-demi-the-daredevil-sarah-and-the-safe-word/
LOCATION:Eulogy\, 10 Buxton Ave\, Asheville\, NC\, 28801
CATEGORIES:Asheville Area,Live Music
GEO:35.5883468;-82.5539256
X-APPLE-STRUCTURED-LOCATION;VALUE=URI;X-ADDRESS=Eulogy 10 Buxton Ave Asheville NC 28801;X-APPLE-RADIUS=500;X-TITLE=10 Buxton Ave:geo:-82.5539256,35.5883468
END:VEVENT
BEGIN:VEVENT
DTSTART;TZID=America/New_York:20260326T200000
DTEND;TZID=America/New_York:20260326T233000
DTSTAMP:20260425T062724
CREATED:20260318T200958Z
LAST-MODIFIED:20260318T201053Z
UID:10049997-1774555200-1774567800@livemusicasheville.com
SUMMARY:Emo Night Live Band Karaoke + The Disaster Years
DESCRIPTION:Related
URL:https://livemusicasheville.com/calendar/emo-night-live-band-karaoke/
LOCATION:Eulogy\, 10 Buxton Ave\, Asheville\, NC\, 28801
CATEGORIES:Karaoke,Live Music
GEO:35.5883468;-82.5539256
X-APPLE-STRUCTURED-LOCATION;VALUE=URI;X-ADDRESS=Eulogy 10 Buxton Ave Asheville NC 28801;X-APPLE-RADIUS=500;X-TITLE=10 Buxton Ave:geo:-82.5539256,35.5883468
END:VEVENT
BEGIN:VEVENT
DTSTART;TZID=America/New_York:20260320T200000
DTEND;TZID=America/New_York:20260321T010000
DTSTAMP:20260425T062724
CREATED:20260318T200513Z
LAST-MODIFIED:20260318T200513Z
UID:10049996-1774036800-1774054800@livemusicasheville.com
SUMMARY:Jay Electronica w/ Neelam + DJ Kelly Green\, Landon Wordswell & DJ Kitty Ka$h
DESCRIPTION:Related
URL:https://livemusicasheville.com/calendar/jay-electronica-w-neelam-dj-kelly-green-landon-wordswell-dj-kitty-kah/
LOCATION:Eulogy\, 10 Buxton Ave\, Asheville\, NC\, 28801
CATEGORIES:Asheville Area,DJ/Electronic,Live Music
GEO:35.5883468;-82.5539256
X-APPLE-STRUCTURED-LOCATION;VALUE=URI;X-ADDRESS=Eulogy 10 Buxton Ave Asheville NC 28801;X-APPLE-RADIUS=500;X-TITLE=10 Buxton Ave:geo:-82.5539256,35.5883468
END:VEVENT
BEGIN:VEVENT
DTSTART;TZID=America/New_York:20260319T190000
DTEND;TZID=America/New_York:20260319T230000
DTSTAMP:20260425T062724
CREATED:20260311T181932Z
LAST-MODIFIED:20260311T181932Z
UID:10049207-1773946800-1773961200@livemusicasheville.com
SUMMARY:VISUALS Equinox Celebration w/ Walker Farrell
DESCRIPTION:-Walker Farrell (Asheville\, NC) *cassette release – “Crocus” \n– Tony Rolando \n– Sarah Louise and her Feral Kin featuring Ashley Paul and Emmalee Hunnicutt \n-DJ sets between performances by Forestfloor \n\n\n	Related
URL:https://livemusicasheville.com/calendar/visuals-equinox-celebration-w-walker-farrell/
LOCATION:Eulogy\, 10 Buxton Ave\, Asheville\, NC\, 28801
CATEGORIES:Asheville Area,DJ/Electronic,Live Music
GEO:35.5883468;-82.5539256
X-APPLE-STRUCTURED-LOCATION;VALUE=URI;X-ADDRESS=Eulogy 10 Buxton Ave Asheville NC 28801;X-APPLE-RADIUS=500;X-TITLE=10 Buxton Ave:geo:-82.5539256,35.5883468
END:VEVENT
BEGIN:VEVENT
DTSTART;TZID=America/New_York:20260318T200000
DTEND;TZID=America/New_York:20260318T230000
DTSTAMP:20260425T062724
CREATED:20260311T181704Z
LAST-MODIFIED:20260311T181704Z
UID:10049206-1773864000-1773874800@livemusicasheville.com
SUMMARY:Worry Club w/ Bike Routes & Bugsy
DESCRIPTION:Related
URL:https://livemusicasheville.com/calendar/worry-club-w-bike-routes-bugsy/
LOCATION:Eulogy\, 10 Buxton Ave\, Asheville\, NC\, 28801
CATEGORIES:Asheville Area,Live Music
GEO:35.5883468;-82.5539256
X-APPLE-STRUCTURED-LOCATION;VALUE=URI;X-ADDRESS=Eulogy 10 Buxton Ave Asheville NC 28801;X-APPLE-RADIUS=500;X-TITLE=10 Buxton Ave:geo:-82.5539256,35.5883468
END:VEVENT
BEGIN:VEVENT
DTSTART;TZID=America/New_York:20260314T200000
DTEND;TZID=America/New_York:20260314T230000
DTSTAMP:20260425T062724
CREATED:20260311T181546Z
LAST-MODIFIED:20260311T181546Z
UID:10049205-1773518400-1773529200@livemusicasheville.com
SUMMARY:Braxton Cook w/ Quantum Crusaders
DESCRIPTION:Related
URL:https://livemusicasheville.com/calendar/braxton-cook-w-quantum-crusaders/
LOCATION:Eulogy\, 10 Buxton Ave\, Asheville\, NC\, 28801
CATEGORIES:Asheville Area,Live Music
GEO:35.5883468;-82.5539256
X-APPLE-STRUCTURED-LOCATION;VALUE=URI;X-ADDRESS=Eulogy 10 Buxton Ave Asheville NC 28801;X-APPLE-RADIUS=500;X-TITLE=10 Buxton Ave:geo:-82.5539256,35.5883468
END:VEVENT
BEGIN:VEVENT
DTSTART;TZID=America/New_York:20260313T190000
DTEND;TZID=America/New_York:20260313T230000
DTSTAMP:20260425T062724
CREATED:20260311T181454Z
LAST-MODIFIED:20260311T181454Z
UID:10049204-1773428400-1773442800@livemusicasheville.com
SUMMARY:The Silver Doors\, Fortune Child\, In The Pines\, & Fashion Bath
DESCRIPTION:Related
URL:https://livemusicasheville.com/calendar/the-silver-doors-fortune-child-in-the-pines-fashion-bath/
LOCATION:Eulogy\, 10 Buxton Ave\, Asheville\, NC\, 28801
CATEGORIES:Asheville Area,Live Music
GEO:35.5883468;-82.5539256
X-APPLE-STRUCTURED-LOCATION;VALUE=URI;X-ADDRESS=Eulogy 10 Buxton Ave Asheville NC 28801;X-APPLE-RADIUS=500;X-TITLE=10 Buxton Ave:geo:-82.5539256,35.5883468
END:VEVENT
BEGIN:VEVENT
DTSTART;TZID=America/New_York:20260309T200000
DTEND;TZID=America/New_York:20260309T233000
DTSTAMP:20260425T062724
CREATED:20260304T193355Z
LAST-MODIFIED:20260304T193355Z
UID:10048526-1773086400-1773099000@livemusicasheville.com
SUMMARY:Artikal Sound System w/ SensaMotion & Tobyraps
DESCRIPTION:Related
URL:https://livemusicasheville.com/calendar/artikal-sound-system-w-sensamotion-tobyraps/
LOCATION:Eulogy\, 10 Buxton Ave\, Asheville\, NC\, 28801
CATEGORIES:Asheville Area,Live Music
GEO:35.5883468;-82.5539256
X-APPLE-STRUCTURED-LOCATION;VALUE=URI;X-ADDRESS=Eulogy 10 Buxton Ave Asheville NC 28801;X-APPLE-RADIUS=500;X-TITLE=10 Buxton Ave:geo:-82.5539256,35.5883468
END:VEVENT
BEGIN:VEVENT
DTSTART;TZID=America/New_York:20260308T140000
DTEND;TZID=America/New_York:20260308T180000
DTSTAMP:20260425T062724
CREATED:20260304T192924Z
LAST-MODIFIED:20260304T193243Z
UID:10048525-1772978400-1772992800@livemusicasheville.com
SUMMARY:Mountain Valley's Benefit Concert ft. The 40\,20\,10's\, Paint Rock\, and Pierce Edens
DESCRIPTION:Mountain Valleys Resource Conservation and Development Council is a 501(c)3 nonprofit established in 1974 to develop\, improve\, and conserve natural resources and to provide employment and other economic opportunities to the people of an eight-county area of Western North Carolina. \nWe have been working non-stop since Helene to assist our neighbors with natural resource recovery with a focus on streambank stabilization and wildfire mitigation and preparedness. \nWe invite you to hear some amazing local musicians\, learn more about our programs\, and show support for our continued work on recovering with resilience. \n\n\n	Related
URL:https://livemusicasheville.com/calendar/mountain-valleys-benefit-concert-ft-the-402010s-paint-rock-and-pierce-edens/
LOCATION:Eulogy\, 10 Buxton Ave\, Asheville\, NC\, 28801
CATEGORIES:Asheville Area,Live Music
GEO:35.5883468;-82.5539256
X-APPLE-STRUCTURED-LOCATION;VALUE=URI;X-ADDRESS=Eulogy 10 Buxton Ave Asheville NC 28801;X-APPLE-RADIUS=500;X-TITLE=10 Buxton Ave:geo:-82.5539256,35.5883468
END:VEVENT
BEGIN:VEVENT
DTSTART;TZID=America/New_York:20260306T190000
DTEND;TZID=America/New_York:20260306T233000
DTSTAMP:20260425T062724
CREATED:20260304T192632Z
LAST-MODIFIED:20260304T192632Z
UID:10048524-1772823600-1772839800@livemusicasheville.com
SUMMARY:NOTHING w/ Full Body 2\, Cryogeyser & Violent Magic Orchestra
DESCRIPTION:Related
URL:https://livemusicasheville.com/calendar/nothing-w-full-body-2-cryogeyser-violent-magic-orchestra/
LOCATION:Eulogy\, 10 Buxton Ave\, Asheville\, NC\, 28801
CATEGORIES:Asheville Area,Live Music
GEO:35.5883468;-82.5539256
X-APPLE-STRUCTURED-LOCATION;VALUE=URI;X-ADDRESS=Eulogy 10 Buxton Ave Asheville NC 28801;X-APPLE-RADIUS=500;X-TITLE=10 Buxton Ave:geo:-82.5539256,35.5883468
END:VEVENT
BEGIN:VEVENT
DTSTART;TZID=America/New_York:20260305T200000
DTEND;TZID=America/New_York:20260305T230000
DTSTAMP:20260425T062724
CREATED:20260225T171606Z
LAST-MODIFIED:20260225T171629Z
UID:10046859-1772740800-1772751600@livemusicasheville.com
SUMMARY:Impending Joy\, Cheeks & Paint Fumes
DESCRIPTION:Related
URL:https://livemusicasheville.com/calendar/impending-joy-cheeks-paint-fumes/
LOCATION:Eulogy\, 10 Buxton Ave\, Asheville\, NC\, 28801
CATEGORIES:Asheville Area,Live Music
GEO:35.5883468;-82.5539256
X-APPLE-STRUCTURED-LOCATION;VALUE=URI;X-ADDRESS=Eulogy 10 Buxton Ave Asheville NC 28801;X-APPLE-RADIUS=500;X-TITLE=10 Buxton Ave:geo:-82.5539256,35.5883468
END:VEVENT
BEGIN:VEVENT
DTSTART;TZID=America/New_York:20260303T200000
DTEND;TZID=America/New_York:20260303T230000
DTSTAMP:20260425T062724
CREATED:20260225T171515Z
LAST-MODIFIED:20260225T171515Z
UID:10046858-1772568000-1772578800@livemusicasheville.com
SUMMARY:Coma Cinema & Trace Mountains with Honeygaze
DESCRIPTION:Related
URL:https://livemusicasheville.com/calendar/coma-cinema-trace-mountains-with-honeygaze/
LOCATION:Eulogy\, 10 Buxton Ave\, Asheville\, NC\, 28801
CATEGORIES:Asheville Area,Live Music
GEO:35.5883468;-82.5539256
X-APPLE-STRUCTURED-LOCATION;VALUE=URI;X-ADDRESS=Eulogy 10 Buxton Ave Asheville NC 28801;X-APPLE-RADIUS=500;X-TITLE=10 Buxton Ave:geo:-82.5539256,35.5883468
END:VEVENT
BEGIN:VEVENT
DTSTART;TZID=America/New_York:20260226T200000
DTEND;TZID=America/New_York:20260226T230000
DTSTAMP:20260425T062724
CREATED:20260218T115219Z
LAST-MODIFIED:20260218T115220Z
UID:10045425-1772136000-1772146800@livemusicasheville.com
SUMMARY:Old Sap (Album Release) w/ Jackson Grimm & Balm.
DESCRIPTION:Thurs\, Febuary 26th || Doors 7PM || Show 8PM || $16.05 adv. Event Details and Tickets \nOld Sap\, poet from Chicago\, rambled out to Montana\, cut a banjo from a tamarack\, strings across the country\, foot like a freight train\, voice rushing down over lush Appalachia\, sings a thrush tune through the rush hour and into your long-forgotten prairie dreams. \nMarble Home captures the full spirit of Old Sap: the poet\, the rambler\, the philosopher with mud on his feet. Produced by Josh Goforth\, the record spans the full landscape of American sound—from stripped-down folk confessionals to expansive\, harmony-rich arrangements that recall the storytelling magic of John Prine\, Tom Waits\, and The Avett Brothers. \nIt’s an album that finds holiness in imperfection and joy in absurdity—a kind of musical home built out of laughter\, loss\, and lived experience. \nThis performance features an ensemble of mainstay Asheville musicians who all collaborated on the record over the course of five years. Josh Goforth (fiddle)\, Jackson Grimm (guitars\, vocals)\, Rachel Waterhouse (keys & synth\, vocals)\, Quinn Sternberg (bass)\, Jacob Baumann (drums)\, Ben Balmer (harmonica)\, and River Guerguerian (percussion). Experience the full album with an 8-piece band for an unforgettable night of dancing\, heart-expanding\, lyrical acrobatics\, and sonic pyrotechnics. That’s poetry-speak for some damn good music. \n\n\n	Related
URL:https://livemusicasheville.com/calendar/old-sap-album-release-w-jackson-grimm-balm/
LOCATION:Eulogy\, 10 Buxton Ave\, Asheville\, NC\, 28801
CATEGORIES:Asheville Area,Live Music
GEO:35.5883468;-82.5539256
X-APPLE-STRUCTURED-LOCATION;VALUE=URI;X-ADDRESS=Eulogy 10 Buxton Ave Asheville NC 28801;X-APPLE-RADIUS=500;X-TITLE=10 Buxton Ave:geo:-82.5539256,35.5883468
END:VEVENT
BEGIN:VEVENT
DTSTART;TZID=America/New_York:20260222T200000
DTEND;TZID=America/New_York:20260222T230000
DTSTAMP:20260425T062724
CREATED:20260218T184630Z
LAST-MODIFIED:20260218T184630Z
UID:10045464-1771790400-1771801200@livemusicasheville.com
SUMMARY:Blackwater Holylight w/ Glassing & Shadowcloak
DESCRIPTION:Related
URL:https://livemusicasheville.com/calendar/blackwater-holylight-w-glassing-shadowcloak/
LOCATION:Eulogy\, 10 Buxton Ave\, Asheville\, NC\, 28801
CATEGORIES:Asheville Area,Live Music
GEO:35.5883468;-82.5539256
X-APPLE-STRUCTURED-LOCATION;VALUE=URI;X-ADDRESS=Eulogy 10 Buxton Ave Asheville NC 28801;X-APPLE-RADIUS=500;X-TITLE=10 Buxton Ave:geo:-82.5539256,35.5883468
END:VEVENT
BEGIN:VEVENT
DTSTART;TZID=America/New_York:20260221T190000
DTEND;TZID=America/New_York:20260221T233000
DTSTAMP:20260425T062724
CREATED:20260218T201706Z
LAST-MODIFIED:20260218T201706Z
UID:10045487-1771700400-1771716600@livemusicasheville.com
SUMMARY:Bike Love ft. Cloud Circuit & DJ M.P. Pride
DESCRIPTION:Bike Love returns to The Eulogy for Asheville on Bikes’ annual gala—a night where cycling passion meets high-energy revelry. Whether you’re a rider or just love a great party\, expect live music\, DJ’s\, silent auction\, and raffle. \nBike Love Event Schedule\n\n7pm: Doors open with Cloud Circuit\n8:30pm – 11:30pm: DJ M.P. Pride\n10:30pm: Raffle Drawing & Silent Auction Closes\n11:30pm: Event concludes\n\nTickets\nAdvance tickets are now on sale at bikelove2026.auctria.events. \n\n$25 – Local Love Ticket – SOLD OUT\n$35 – General Admission\n$40 – At the Door\n\n\n\n	Related
URL:https://livemusicasheville.com/calendar/bike-love-ft-cloud-circuit-dj-m-p-pride/
LOCATION:Eulogy\, 10 Buxton Ave\, Asheville\, NC\, 28801
CATEGORIES:Asheville Area,DJ/Electronic,Live Music
GEO:35.5883468;-82.5539256
X-APPLE-STRUCTURED-LOCATION;VALUE=URI;X-ADDRESS=Eulogy 10 Buxton Ave Asheville NC 28801;X-APPLE-RADIUS=500;X-TITLE=10 Buxton Ave:geo:-82.5539256,35.5883468
END:VEVENT
BEGIN:VEVENT
DTSTART;TZID=America/New_York:20260219T200000
DTEND;TZID=America/New_York:20260219T230000
DTSTAMP:20260425T062724
CREATED:20250119T205844Z
LAST-MODIFIED:20260211T180642Z
UID:10044648-1771531200-1771542000@livemusicasheville.com
SUMMARY:Saxsquatch
DESCRIPTION:  \n  \n\n\n	Related
URL:https://livemusicasheville.com/calendar/saxsquatch-with-yahzay/2026-02-19/
LOCATION:Eulogy\, 10 Buxton Ave\, Asheville\, NC\, 28801
CATEGORIES:Asheville Area,DJ/Electronic,Live Music
GEO:35.5883468;-82.5539256
X-APPLE-STRUCTURED-LOCATION;VALUE=URI;X-ADDRESS=Eulogy 10 Buxton Ave Asheville NC 28801;X-APPLE-RADIUS=500;X-TITLE=10 Buxton Ave:geo:-82.5539256,35.5883468
END:VEVENT
END:VCALENDAR