BEGIN:VCALENDAR
VERSION:2.0
PRODID:-//LiveMusicAsheville.com - ECPv6.15.20//NONSGML v1.0//EN
CALSCALE:GREGORIAN
METHOD:PUBLISH
X-WR-CALNAME:LiveMusicAsheville.com
X-ORIGINAL-URL:https://livemusicasheville.com
X-WR-CALDESC:Events for LiveMusicAsheville.com
REFRESH-INTERVAL;VALUE=DURATION:PT1H
X-Robots-Tag:noindex
X-PUBLISHED-TTL:PT1H
BEGIN:VTIMEZONE
TZID:America/New_York
BEGIN:DAYLIGHT
TZOFFSETFROM:-0500
TZOFFSETTO:-0400
TZNAME:EDT
DTSTART:20250309T070000
END:DAYLIGHT
BEGIN:STANDARD
TZOFFSETFROM:-0400
TZOFFSETTO:-0500
TZNAME:EST
DTSTART:20251102T060000
END:STANDARD
BEGIN:DAYLIGHT
TZOFFSETFROM:-0500
TZOFFSETTO:-0400
TZNAME:EDT
DTSTART:20260308T070000
END:DAYLIGHT
BEGIN:STANDARD
TZOFFSETFROM:-0400
TZOFFSETTO:-0500
TZNAME:EST
DTSTART:20261101T060000
END:STANDARD
BEGIN:DAYLIGHT
TZOFFSETFROM:-0500
TZOFFSETTO:-0400
TZNAME:EDT
DTSTART:20270314T070000
END:DAYLIGHT
BEGIN:STANDARD
TZOFFSETFROM:-0400
TZOFFSETTO:-0500
TZNAME:EST
DTSTART:20271107T060000
END:STANDARD
END:VTIMEZONE
BEGIN:VEVENT
DTSTART;TZID=America/New_York:20260422T180000
DTEND;TZID=America/New_York:20260422T210000
DTSTAMP:20260422T091816
CREATED:20260114T160602Z
LAST-MODIFIED:20260114T160604Z
UID:10022416-1776880800-1776891600@livemusicasheville.com
SUMMARY:Country Line Dance Lessons and Dancing
DESCRIPTION:Related
URL:https://livemusicasheville.com/calendar/country-line-dance-lessons-and-dancing-2/2026-04-22/
LOCATION:Eda’s Hide-a-Way Weaverville
CATEGORIES:Asheville Area,DJ/Electronic,Weaverville
GEO:35.6970547;-82.5606851
END:VEVENT
BEGIN:VEVENT
DTSTART;TZID=America/New_York:20260429T180000
DTEND;TZID=America/New_York:20260429T210000
DTSTAMP:20260422T091816
CREATED:20260114T160602Z
LAST-MODIFIED:20260114T160604Z
UID:10022417-1777485600-1777496400@livemusicasheville.com
SUMMARY:Country Line Dance Lessons and Dancing
DESCRIPTION:Related
URL:https://livemusicasheville.com/calendar/country-line-dance-lessons-and-dancing-2/2026-04-29/
LOCATION:Eda’s Hide-a-Way Weaverville
CATEGORIES:Asheville Area,DJ/Electronic,Weaverville
GEO:35.6970547;-82.5606851
END:VEVENT
BEGIN:VEVENT
DTSTART;TZID=America/New_York:20260506T180000
DTEND;TZID=America/New_York:20260506T210000
DTSTAMP:20260422T091816
CREATED:20260114T160602Z
LAST-MODIFIED:20260114T160604Z
UID:10022418-1778090400-1778101200@livemusicasheville.com
SUMMARY:Country Line Dance Lessons and Dancing
DESCRIPTION:Related
URL:https://livemusicasheville.com/calendar/country-line-dance-lessons-and-dancing-2/2026-05-06/
LOCATION:Eda’s Hide-a-Way Weaverville
CATEGORIES:Asheville Area,DJ/Electronic,Weaverville
GEO:35.6970547;-82.5606851
END:VEVENT
BEGIN:VEVENT
DTSTART;TZID=America/New_York:20260513T180000
DTEND;TZID=America/New_York:20260513T210000
DTSTAMP:20260422T091816
CREATED:20260114T160602Z
LAST-MODIFIED:20260114T160604Z
UID:10022419-1778695200-1778706000@livemusicasheville.com
SUMMARY:Country Line Dance Lessons and Dancing
DESCRIPTION:Related
URL:https://livemusicasheville.com/calendar/country-line-dance-lessons-and-dancing-2/2026-05-13/
LOCATION:Eda’s Hide-a-Way Weaverville
CATEGORIES:Asheville Area,DJ/Electronic,Weaverville
GEO:35.6970547;-82.5606851
END:VEVENT
BEGIN:VEVENT
DTSTART;TZID=America/New_York:20260520T180000
DTEND;TZID=America/New_York:20260520T210000
DTSTAMP:20260422T091816
CREATED:20260114T160602Z
LAST-MODIFIED:20260114T160604Z
UID:10022420-1779300000-1779310800@livemusicasheville.com
SUMMARY:Country Line Dance Lessons and Dancing
DESCRIPTION:Related
URL:https://livemusicasheville.com/calendar/country-line-dance-lessons-and-dancing-2/2026-05-20/
LOCATION:Eda’s Hide-a-Way Weaverville
CATEGORIES:Asheville Area,DJ/Electronic,Weaverville
GEO:35.6970547;-82.5606851
END:VEVENT
BEGIN:VEVENT
DTSTART;TZID=America/New_York:20260527T180000
DTEND;TZID=America/New_York:20260527T210000
DTSTAMP:20260422T091816
CREATED:20260114T160602Z
LAST-MODIFIED:20260114T160604Z
UID:10022421-1779904800-1779915600@livemusicasheville.com
SUMMARY:Country Line Dance Lessons and Dancing
DESCRIPTION:Related
URL:https://livemusicasheville.com/calendar/country-line-dance-lessons-and-dancing-2/2026-05-27/
LOCATION:Eda’s Hide-a-Way Weaverville
CATEGORIES:Asheville Area,DJ/Electronic,Weaverville
GEO:35.6970547;-82.5606851
END:VEVENT
BEGIN:VEVENT
DTSTART;TZID=America/New_York:20260603T180000
DTEND;TZID=America/New_York:20260603T210000
DTSTAMP:20260422T091816
CREATED:20260114T160602Z
LAST-MODIFIED:20260114T160604Z
UID:10022422-1780509600-1780520400@livemusicasheville.com
SUMMARY:Country Line Dance Lessons and Dancing
DESCRIPTION:Related
URL:https://livemusicasheville.com/calendar/country-line-dance-lessons-and-dancing-2/2026-06-03/
LOCATION:Eda’s Hide-a-Way Weaverville
CATEGORIES:Asheville Area,DJ/Electronic,Weaverville
GEO:35.6970547;-82.5606851
END:VEVENT
BEGIN:VEVENT
DTSTART;TZID=America/New_York:20260610T180000
DTEND;TZID=America/New_York:20260610T210000
DTSTAMP:20260422T091816
CREATED:20260114T160602Z
LAST-MODIFIED:20260114T160604Z
UID:10022423-1781114400-1781125200@livemusicasheville.com
SUMMARY:Country Line Dance Lessons and Dancing
DESCRIPTION:Related
URL:https://livemusicasheville.com/calendar/country-line-dance-lessons-and-dancing-2/2026-06-10/
LOCATION:Eda’s Hide-a-Way Weaverville
CATEGORIES:Asheville Area,DJ/Electronic,Weaverville
GEO:35.6970547;-82.5606851
END:VEVENT
BEGIN:VEVENT
DTSTART;TZID=America/New_York:20260617T180000
DTEND;TZID=America/New_York:20260617T210000
DTSTAMP:20260422T091816
CREATED:20260114T160602Z
LAST-MODIFIED:20260114T160604Z
UID:10022424-1781719200-1781730000@livemusicasheville.com
SUMMARY:Country Line Dance Lessons and Dancing
DESCRIPTION:Related
URL:https://livemusicasheville.com/calendar/country-line-dance-lessons-and-dancing-2/2026-06-17/
LOCATION:Eda’s Hide-a-Way Weaverville
CATEGORIES:Asheville Area,DJ/Electronic,Weaverville
GEO:35.6970547;-82.5606851
END:VEVENT
BEGIN:VEVENT
DTSTART;TZID=America/New_York:20260624T180000
DTEND;TZID=America/New_York:20260624T210000
DTSTAMP:20260422T091816
CREATED:20260114T160602Z
LAST-MODIFIED:20260114T160604Z
UID:10022425-1782324000-1782334800@livemusicasheville.com
SUMMARY:Country Line Dance Lessons and Dancing
DESCRIPTION:Related
URL:https://livemusicasheville.com/calendar/country-line-dance-lessons-and-dancing-2/2026-06-24/
LOCATION:Eda’s Hide-a-Way Weaverville
CATEGORIES:Asheville Area,DJ/Electronic,Weaverville
GEO:35.6970547;-82.5606851
END:VEVENT
BEGIN:VEVENT
DTSTART;TZID=America/New_York:20260701T180000
DTEND;TZID=America/New_York:20260701T210000
DTSTAMP:20260422T091816
CREATED:20260114T160602Z
LAST-MODIFIED:20260114T160604Z
UID:10022426-1782928800-1782939600@livemusicasheville.com
SUMMARY:Country Line Dance Lessons and Dancing
DESCRIPTION:Related
URL:https://livemusicasheville.com/calendar/country-line-dance-lessons-and-dancing-2/2026-07-01/
LOCATION:Eda’s Hide-a-Way Weaverville
CATEGORIES:Asheville Area,DJ/Electronic,Weaverville
GEO:35.6970547;-82.5606851
END:VEVENT
BEGIN:VEVENT
DTSTART;TZID=America/New_York:20260708T180000
DTEND;TZID=America/New_York:20260708T210000
DTSTAMP:20260422T091816
CREATED:20260114T160602Z
LAST-MODIFIED:20260114T160604Z
UID:10022427-1783533600-1783544400@livemusicasheville.com
SUMMARY:Country Line Dance Lessons and Dancing
DESCRIPTION:Related
URL:https://livemusicasheville.com/calendar/country-line-dance-lessons-and-dancing-2/2026-07-08/
LOCATION:Eda’s Hide-a-Way Weaverville
CATEGORIES:Asheville Area,DJ/Electronic,Weaverville
GEO:35.6970547;-82.5606851
END:VEVENT
BEGIN:VEVENT
DTSTART;TZID=America/New_York:20260715T180000
DTEND;TZID=America/New_York:20260715T210000
DTSTAMP:20260422T091816
CREATED:20260114T160602Z
LAST-MODIFIED:20260114T160604Z
UID:10022428-1784138400-1784149200@livemusicasheville.com
SUMMARY:Country Line Dance Lessons and Dancing
DESCRIPTION:Related
URL:https://livemusicasheville.com/calendar/country-line-dance-lessons-and-dancing-2/2026-07-15/
LOCATION:Eda’s Hide-a-Way Weaverville
CATEGORIES:Asheville Area,DJ/Electronic,Weaverville
GEO:35.6970547;-82.5606851
END:VEVENT
BEGIN:VEVENT
DTSTART;TZID=America/New_York:20260722T180000
DTEND;TZID=America/New_York:20260722T210000
DTSTAMP:20260422T091816
CREATED:20260114T160602Z
LAST-MODIFIED:20260114T160604Z
UID:10022429-1784743200-1784754000@livemusicasheville.com
SUMMARY:Country Line Dance Lessons and Dancing
DESCRIPTION:Related
URL:https://livemusicasheville.com/calendar/country-line-dance-lessons-and-dancing-2/2026-07-22/
LOCATION:Eda’s Hide-a-Way Weaverville
CATEGORIES:Asheville Area,DJ/Electronic,Weaverville
GEO:35.6970547;-82.5606851
END:VEVENT
BEGIN:VEVENT
DTSTART;TZID=America/New_York:20260729T180000
DTEND;TZID=America/New_York:20260729T210000
DTSTAMP:20260422T091816
CREATED:20260114T160602Z
LAST-MODIFIED:20260114T160604Z
UID:10022430-1785348000-1785358800@livemusicasheville.com
SUMMARY:Country Line Dance Lessons and Dancing
DESCRIPTION:Related
URL:https://livemusicasheville.com/calendar/country-line-dance-lessons-and-dancing-2/2026-07-29/
LOCATION:Eda’s Hide-a-Way Weaverville
CATEGORIES:Asheville Area,DJ/Electronic,Weaverville
GEO:35.6970547;-82.5606851
END:VEVENT
BEGIN:VEVENT
DTSTART;TZID=America/New_York:20260805T180000
DTEND;TZID=America/New_York:20260805T210000
DTSTAMP:20260422T091816
CREATED:20260114T160602Z
LAST-MODIFIED:20260114T160604Z
UID:10022431-1785952800-1785963600@livemusicasheville.com
SUMMARY:Country Line Dance Lessons and Dancing
DESCRIPTION:Related
URL:https://livemusicasheville.com/calendar/country-line-dance-lessons-and-dancing-2/2026-08-05/
LOCATION:Eda’s Hide-a-Way Weaverville
CATEGORIES:Asheville Area,DJ/Electronic,Weaverville
GEO:35.6970547;-82.5606851
END:VEVENT
BEGIN:VEVENT
DTSTART;TZID=America/New_York:20260812T180000
DTEND;TZID=America/New_York:20260812T210000
DTSTAMP:20260422T091816
CREATED:20260114T160602Z
LAST-MODIFIED:20260114T160604Z
UID:10022432-1786557600-1786568400@livemusicasheville.com
SUMMARY:Country Line Dance Lessons and Dancing
DESCRIPTION:Related
URL:https://livemusicasheville.com/calendar/country-line-dance-lessons-and-dancing-2/2026-08-12/
LOCATION:Eda’s Hide-a-Way Weaverville
CATEGORIES:Asheville Area,DJ/Electronic,Weaverville
GEO:35.6970547;-82.5606851
END:VEVENT
BEGIN:VEVENT
DTSTART;TZID=America/New_York:20260819T180000
DTEND;TZID=America/New_York:20260819T210000
DTSTAMP:20260422T091816
CREATED:20260114T160602Z
LAST-MODIFIED:20260114T160604Z
UID:10022433-1787162400-1787173200@livemusicasheville.com
SUMMARY:Country Line Dance Lessons and Dancing
DESCRIPTION:Related
URL:https://livemusicasheville.com/calendar/country-line-dance-lessons-and-dancing-2/2026-08-19/
LOCATION:Eda’s Hide-a-Way Weaverville
CATEGORIES:Asheville Area,DJ/Electronic,Weaverville
GEO:35.6970547;-82.5606851
END:VEVENT
BEGIN:VEVENT
DTSTART;TZID=America/New_York:20260826T180000
DTEND;TZID=America/New_York:20260826T210000
DTSTAMP:20260422T091816
CREATED:20260114T160602Z
LAST-MODIFIED:20260114T160604Z
UID:10022434-1787767200-1787778000@livemusicasheville.com
SUMMARY:Country Line Dance Lessons and Dancing
DESCRIPTION:Related
URL:https://livemusicasheville.com/calendar/country-line-dance-lessons-and-dancing-2/2026-08-26/
LOCATION:Eda’s Hide-a-Way Weaverville
CATEGORIES:Asheville Area,DJ/Electronic,Weaverville
GEO:35.6970547;-82.5606851
END:VEVENT
BEGIN:VEVENT
DTSTART;TZID=America/New_York:20260902T180000
DTEND;TZID=America/New_York:20260902T210000
DTSTAMP:20260422T091816
CREATED:20260114T160602Z
LAST-MODIFIED:20260114T160604Z
UID:10022435-1788372000-1788382800@livemusicasheville.com
SUMMARY:Country Line Dance Lessons and Dancing
DESCRIPTION:Related
URL:https://livemusicasheville.com/calendar/country-line-dance-lessons-and-dancing-2/2026-09-02/
LOCATION:Eda’s Hide-a-Way Weaverville
CATEGORIES:Asheville Area,DJ/Electronic,Weaverville
GEO:35.6970547;-82.5606851
END:VEVENT
BEGIN:VEVENT
DTSTART;TZID=America/New_York:20260909T180000
DTEND;TZID=America/New_York:20260909T210000
DTSTAMP:20260422T091816
CREATED:20260114T160602Z
LAST-MODIFIED:20260114T160604Z
UID:10022436-1788976800-1788987600@livemusicasheville.com
SUMMARY:Country Line Dance Lessons and Dancing
DESCRIPTION:Related
URL:https://livemusicasheville.com/calendar/country-line-dance-lessons-and-dancing-2/2026-09-09/
LOCATION:Eda’s Hide-a-Way Weaverville
CATEGORIES:Asheville Area,DJ/Electronic,Weaverville
GEO:35.6970547;-82.5606851
END:VEVENT
BEGIN:VEVENT
DTSTART;TZID=America/New_York:20260916T180000
DTEND;TZID=America/New_York:20260916T210000
DTSTAMP:20260422T091816
CREATED:20260114T160602Z
LAST-MODIFIED:20260114T160604Z
UID:10022437-1789581600-1789592400@livemusicasheville.com
SUMMARY:Country Line Dance Lessons and Dancing
DESCRIPTION:Related
URL:https://livemusicasheville.com/calendar/country-line-dance-lessons-and-dancing-2/2026-09-16/
LOCATION:Eda’s Hide-a-Way Weaverville
CATEGORIES:Asheville Area,DJ/Electronic,Weaverville
GEO:35.6970547;-82.5606851
END:VEVENT
BEGIN:VEVENT
DTSTART;TZID=America/New_York:20260923T180000
DTEND;TZID=America/New_York:20260923T210000
DTSTAMP:20260422T091816
CREATED:20260114T160602Z
LAST-MODIFIED:20260114T160604Z
UID:10022438-1790186400-1790197200@livemusicasheville.com
SUMMARY:Country Line Dance Lessons and Dancing
DESCRIPTION:Related
URL:https://livemusicasheville.com/calendar/country-line-dance-lessons-and-dancing-2/2026-09-23/
LOCATION:Eda’s Hide-a-Way Weaverville
CATEGORIES:Asheville Area,DJ/Electronic,Weaverville
GEO:35.6970547;-82.5606851
END:VEVENT
BEGIN:VEVENT
DTSTART;TZID=America/New_York:20260930T180000
DTEND;TZID=America/New_York:20260930T210000
DTSTAMP:20260422T091816
CREATED:20260114T160602Z
LAST-MODIFIED:20260114T160604Z
UID:10022439-1790791200-1790802000@livemusicasheville.com
SUMMARY:Country Line Dance Lessons and Dancing
DESCRIPTION:Related
URL:https://livemusicasheville.com/calendar/country-line-dance-lessons-and-dancing-2/2026-09-30/
LOCATION:Eda’s Hide-a-Way Weaverville
CATEGORIES:Asheville Area,DJ/Electronic,Weaverville
GEO:35.6970547;-82.5606851
END:VEVENT
BEGIN:VEVENT
DTSTART;TZID=America/New_York:20261007T180000
DTEND;TZID=America/New_York:20261007T210000
DTSTAMP:20260422T091816
CREATED:20260114T160602Z
LAST-MODIFIED:20260114T160604Z
UID:10022440-1791396000-1791406800@livemusicasheville.com
SUMMARY:Country Line Dance Lessons and Dancing
DESCRIPTION:Related
URL:https://livemusicasheville.com/calendar/country-line-dance-lessons-and-dancing-2/2026-10-07/
LOCATION:Eda’s Hide-a-Way Weaverville
CATEGORIES:Asheville Area,DJ/Electronic,Weaverville
GEO:35.6970547;-82.5606851
END:VEVENT
END:VCALENDAR