BEGIN:VCALENDAR
VERSION:2.0
PRODID:-//LiveMusicAsheville.com - ECPv6.15.20//NONSGML v1.0//EN
CALSCALE:GREGORIAN
METHOD:PUBLISH
X-ORIGINAL-URL:https://livemusicasheville.com
X-WR-CALDESC:Events for LiveMusicAsheville.com
REFRESH-INTERVAL;VALUE=DURATION:PT1H
X-Robots-Tag:noindex
X-PUBLISHED-TTL:PT1H
BEGIN:VTIMEZONE
TZID:America/New_York
BEGIN:DAYLIGHT
TZOFFSETFROM:-0500
TZOFFSETTO:-0400
TZNAME:EDT
DTSTART:20240310T070000
END:DAYLIGHT
BEGIN:STANDARD
TZOFFSETFROM:-0400
TZOFFSETTO:-0500
TZNAME:EST
DTSTART:20241103T060000
END:STANDARD
BEGIN:DAYLIGHT
TZOFFSETFROM:-0500
TZOFFSETTO:-0400
TZNAME:EDT
DTSTART:20250309T070000
END:DAYLIGHT
BEGIN:STANDARD
TZOFFSETFROM:-0400
TZOFFSETTO:-0500
TZNAME:EST
DTSTART:20251102T060000
END:STANDARD
BEGIN:DAYLIGHT
TZOFFSETFROM:-0500
TZOFFSETTO:-0400
TZNAME:EDT
DTSTART:20260308T070000
END:DAYLIGHT
BEGIN:STANDARD
TZOFFSETFROM:-0400
TZOFFSETTO:-0500
TZNAME:EST
DTSTART:20261101T060000
END:STANDARD
BEGIN:DAYLIGHT
TZOFFSETFROM:-0500
TZOFFSETTO:-0400
TZNAME:EDT
DTSTART:20270314T070000
END:DAYLIGHT
BEGIN:STANDARD
TZOFFSETFROM:-0400
TZOFFSETTO:-0500
TZNAME:EST
DTSTART:20271107T060000
END:STANDARD
END:VTIMEZONE
BEGIN:VEVENT
DTSTART;TZID=America/New_York:20260422T190000
DTEND;TZID=America/New_York:20260422T220000
DTSTAMP:20260423T094132
CREATED:20250902T235040Z
LAST-MODIFIED:20260219T020732Z
UID:10037192-1776884400-1776895200@livemusicasheville.com
SUMMARY:Swing Asheville Dance and Lesson
DESCRIPTION:We have moved our Wednesday night location to Coffee Art Music type Place (CAMP) at 1 Kenilworth Knolls #1\, Asheville\, NC 28805!!!\nJoin us for our weekly dance series Wednesday night at Coffee Art Music type Place!\n\n\n\nA lesson is included with your $10 entry. ($5 for students with i.d.)\n\n\n\n\n\n	Related
URL:https://livemusicasheville.com/calendar/swing-asheville-dance-and-lesson-2-2-3/2026-04-22/
LOCATION:Coffee Art Music type Place\, 1 Kenilworth Knolls Suite 1\, Asheville\, NC\,
CATEGORIES:Asheville Area,DJ/Electronic
GEO:35.5895785;-82.5285828
X-APPLE-STRUCTURED-LOCATION;VALUE=URI;X-ADDRESS=Coffee Art Music type Place 1 Kenilworth Knolls Suite 1 Asheville NC;X-APPLE-RADIUS=500;X-TITLE=1 Kenilworth Knolls Suite 1\, Asheville\, NC\,:geo:-82.5285828,35.5895785
END:VEVENT
BEGIN:VEVENT
DTSTART;TZID=America/New_York:20260415T190000
DTEND;TZID=America/New_York:20260415T220000
DTSTAMP:20260423T094132
CREATED:20250902T235040Z
LAST-MODIFIED:20260219T020732Z
UID:10037191-1776279600-1776290400@livemusicasheville.com
SUMMARY:Swing Asheville Dance and Lesson
DESCRIPTION:We have moved our Wednesday night location to Coffee Art Music type Place (CAMP) at 1 Kenilworth Knolls #1\, Asheville\, NC 28805!!!\nJoin us for our weekly dance series Wednesday night at Coffee Art Music type Place!\n\n\n\nA lesson is included with your $10 entry. ($5 for students with i.d.)\n\n\n\n\n\n	Related
URL:https://livemusicasheville.com/calendar/swing-asheville-dance-and-lesson-2-2-3/2026-04-15/
LOCATION:Coffee Art Music type Place\, 1 Kenilworth Knolls Suite 1\, Asheville\, NC\,
CATEGORIES:Asheville Area,DJ/Electronic
GEO:35.5895785;-82.5285828
X-APPLE-STRUCTURED-LOCATION;VALUE=URI;X-ADDRESS=Coffee Art Music type Place 1 Kenilworth Knolls Suite 1 Asheville NC;X-APPLE-RADIUS=500;X-TITLE=1 Kenilworth Knolls Suite 1\, Asheville\, NC\,:geo:-82.5285828,35.5895785
END:VEVENT
BEGIN:VEVENT
DTSTART;TZID=America/New_York:20260408T190000
DTEND;TZID=America/New_York:20260408T220000
DTSTAMP:20260423T094132
CREATED:20250902T235040Z
LAST-MODIFIED:20260219T020732Z
UID:10037190-1775674800-1775685600@livemusicasheville.com
SUMMARY:Swing Asheville Dance and Lesson
DESCRIPTION:We have moved our Wednesday night location to Coffee Art Music type Place (CAMP) at 1 Kenilworth Knolls #1\, Asheville\, NC 28805!!!\nJoin us for our weekly dance series Wednesday night at Coffee Art Music type Place!\n\n\n\nA lesson is included with your $10 entry. ($5 for students with i.d.)\n\n\n\n\n\n	Related
URL:https://livemusicasheville.com/calendar/swing-asheville-dance-and-lesson-2-2-3/2026-04-08/
LOCATION:Coffee Art Music type Place\, 1 Kenilworth Knolls Suite 1\, Asheville\, NC\,
CATEGORIES:Asheville Area,DJ/Electronic
GEO:35.5895785;-82.5285828
X-APPLE-STRUCTURED-LOCATION;VALUE=URI;X-ADDRESS=Coffee Art Music type Place 1 Kenilworth Knolls Suite 1 Asheville NC;X-APPLE-RADIUS=500;X-TITLE=1 Kenilworth Knolls Suite 1\, Asheville\, NC\,:geo:-82.5285828,35.5895785
END:VEVENT
BEGIN:VEVENT
DTSTART;TZID=America/New_York:20260401T190000
DTEND;TZID=America/New_York:20260401T220000
DTSTAMP:20260423T094132
CREATED:20250902T235040Z
LAST-MODIFIED:20260219T020732Z
UID:10037189-1775070000-1775080800@livemusicasheville.com
SUMMARY:Swing Asheville Dance and Lesson
DESCRIPTION:We have moved our Wednesday night location to Coffee Art Music type Place (CAMP) at 1 Kenilworth Knolls #1\, Asheville\, NC 28805!!!\nJoin us for our weekly dance series Wednesday night at Coffee Art Music type Place!\n\n\n\nA lesson is included with your $10 entry. ($5 for students with i.d.)\n\n\n\n\n\n	Related
URL:https://livemusicasheville.com/calendar/swing-asheville-dance-and-lesson-2-2-3/2026-04-01/
LOCATION:Coffee Art Music type Place\, 1 Kenilworth Knolls Suite 1\, Asheville\, NC\,
CATEGORIES:Asheville Area,DJ/Electronic
GEO:35.5895785;-82.5285828
X-APPLE-STRUCTURED-LOCATION;VALUE=URI;X-ADDRESS=Coffee Art Music type Place 1 Kenilworth Knolls Suite 1 Asheville NC;X-APPLE-RADIUS=500;X-TITLE=1 Kenilworth Knolls Suite 1\, Asheville\, NC\,:geo:-82.5285828,35.5895785
END:VEVENT
BEGIN:VEVENT
DTSTART;TZID=America/New_York:20260325T190000
DTEND;TZID=America/New_York:20260325T220000
DTSTAMP:20260423T094132
CREATED:20250902T235040Z
LAST-MODIFIED:20260219T020732Z
UID:10037188-1774465200-1774476000@livemusicasheville.com
SUMMARY:Swing Asheville Dance and Lesson
DESCRIPTION:We have moved our Wednesday night location to Coffee Art Music type Place (CAMP) at 1 Kenilworth Knolls #1\, Asheville\, NC 28805!!!\nJoin us for our weekly dance series Wednesday night at Coffee Art Music type Place!\n\n\n\nA lesson is included with your $10 entry. ($5 for students with i.d.)\n\n\n\n\n\n	Related
URL:https://livemusicasheville.com/calendar/swing-asheville-dance-and-lesson-2-2-3/2026-03-25/
LOCATION:Coffee Art Music type Place\, 1 Kenilworth Knolls Suite 1\, Asheville\, NC\,
CATEGORIES:Asheville Area,DJ/Electronic
GEO:35.5895785;-82.5285828
X-APPLE-STRUCTURED-LOCATION;VALUE=URI;X-ADDRESS=Coffee Art Music type Place 1 Kenilworth Knolls Suite 1 Asheville NC;X-APPLE-RADIUS=500;X-TITLE=1 Kenilworth Knolls Suite 1\, Asheville\, NC\,:geo:-82.5285828,35.5895785
END:VEVENT
BEGIN:VEVENT
DTSTART;TZID=America/New_York:20260320T180000
DTEND;TZID=America/New_York:20260320T200000
DTSTAMP:20260423T094132
CREATED:20260131T191929Z
LAST-MODIFIED:20260319T131853Z
UID:10042225-1774029600-1774036800@livemusicasheville.com
SUMMARY:The Groove Ridge Collective
DESCRIPTION:Related
URL:https://livemusicasheville.com/calendar/the-groove-ridge-collective/
LOCATION:Coffee Art Music type Place\, 1 Kenilworth Knolls Suite 1\, Asheville\, NC\,
CATEGORIES:Asheville Area,Live Music
GEO:35.5895785;-82.5285828
X-APPLE-STRUCTURED-LOCATION;VALUE=URI;X-ADDRESS=Coffee Art Music type Place 1 Kenilworth Knolls Suite 1 Asheville NC;X-APPLE-RADIUS=500;X-TITLE=1 Kenilworth Knolls Suite 1\, Asheville\, NC\,:geo:-82.5285828,35.5895785
END:VEVENT
BEGIN:VEVENT
DTSTART;TZID=America/New_York:20260318T190000
DTEND;TZID=America/New_York:20260318T220000
DTSTAMP:20260423T094132
CREATED:20250902T235040Z
LAST-MODIFIED:20260219T020732Z
UID:10037187-1773860400-1773871200@livemusicasheville.com
SUMMARY:Swing Asheville Dance and Lesson
DESCRIPTION:We have moved our Wednesday night location to Coffee Art Music type Place (CAMP) at 1 Kenilworth Knolls #1\, Asheville\, NC 28805!!!\nJoin us for our weekly dance series Wednesday night at Coffee Art Music type Place!\n\n\n\nA lesson is included with your $10 entry. ($5 for students with i.d.)\n\n\n\n\n\n	Related
URL:https://livemusicasheville.com/calendar/swing-asheville-dance-and-lesson-2-2-3/2026-03-18/
LOCATION:Coffee Art Music type Place\, 1 Kenilworth Knolls Suite 1\, Asheville\, NC\,
CATEGORIES:Asheville Area,DJ/Electronic
GEO:35.5895785;-82.5285828
X-APPLE-STRUCTURED-LOCATION;VALUE=URI;X-ADDRESS=Coffee Art Music type Place 1 Kenilworth Knolls Suite 1 Asheville NC;X-APPLE-RADIUS=500;X-TITLE=1 Kenilworth Knolls Suite 1\, Asheville\, NC\,:geo:-82.5285828,35.5895785
END:VEVENT
BEGIN:VEVENT
DTSTART;TZID=America/New_York:20260311T190000
DTEND;TZID=America/New_York:20260311T220000
DTSTAMP:20260423T094132
CREATED:20250902T235040Z
LAST-MODIFIED:20260219T020732Z
UID:10037186-1773255600-1773266400@livemusicasheville.com
SUMMARY:Swing Asheville Dance and Lesson
DESCRIPTION:We have moved our Wednesday night location to Coffee Art Music type Place (CAMP) at 1 Kenilworth Knolls #1\, Asheville\, NC 28805!!!\nJoin us for our weekly dance series Wednesday night at Coffee Art Music type Place!\n\n\n\nA lesson is included with your $10 entry. ($5 for students with i.d.)\n\n\n\n\n\n	Related
URL:https://livemusicasheville.com/calendar/swing-asheville-dance-and-lesson-2-2-3/2026-03-11/
LOCATION:Coffee Art Music type Place\, 1 Kenilworth Knolls Suite 1\, Asheville\, NC\,
CATEGORIES:Asheville Area,DJ/Electronic
GEO:35.5895785;-82.5285828
X-APPLE-STRUCTURED-LOCATION;VALUE=URI;X-ADDRESS=Coffee Art Music type Place 1 Kenilworth Knolls Suite 1 Asheville NC;X-APPLE-RADIUS=500;X-TITLE=1 Kenilworth Knolls Suite 1\, Asheville\, NC\,:geo:-82.5285828,35.5895785
END:VEVENT
BEGIN:VEVENT
DTSTART;TZID=America/New_York:20260304T190000
DTEND;TZID=America/New_York:20260304T220000
DTSTAMP:20260423T094132
CREATED:20250902T235040Z
LAST-MODIFIED:20260219T020732Z
UID:10037185-1772650800-1772661600@livemusicasheville.com
SUMMARY:Swing Asheville Dance and Lesson
DESCRIPTION:We have moved our Wednesday night location to Coffee Art Music type Place (CAMP) at 1 Kenilworth Knolls #1\, Asheville\, NC 28805!!!\nJoin us for our weekly dance series Wednesday night at Coffee Art Music type Place!\n\n\n\nA lesson is included with your $10 entry. ($5 for students with i.d.)\n\n\n\n\n\n	Related
URL:https://livemusicasheville.com/calendar/swing-asheville-dance-and-lesson-2-2-3/2026-03-04/
LOCATION:Coffee Art Music type Place\, 1 Kenilworth Knolls Suite 1\, Asheville\, NC\,
CATEGORIES:Asheville Area,DJ/Electronic
GEO:35.5895785;-82.5285828
X-APPLE-STRUCTURED-LOCATION;VALUE=URI;X-ADDRESS=Coffee Art Music type Place 1 Kenilworth Knolls Suite 1 Asheville NC;X-APPLE-RADIUS=500;X-TITLE=1 Kenilworth Knolls Suite 1\, Asheville\, NC\,:geo:-82.5285828,35.5895785
END:VEVENT
BEGIN:VEVENT
DTSTART;TZID=America/New_York:20260218T190000
DTEND;TZID=America/New_York:20260218T220000
DTSTAMP:20260423T094132
CREATED:20250902T235040Z
LAST-MODIFIED:20260219T020732Z
UID:10037183-1771441200-1771452000@livemusicasheville.com
SUMMARY:Swing Asheville Dance and Lesson
DESCRIPTION:We have moved our Wednesday night location to Coffee Art Music type Place (CAMP) at 1 Kenilworth Knolls #1\, Asheville\, NC 28805!!!\nJoin us for our weekly dance series Wednesday night at Coffee Art Music type Place!\n\n\n\nA lesson is included with your $10 entry. ($5 for students with i.d.)\n\n\n\n\n\n	Related
URL:https://livemusicasheville.com/calendar/swing-asheville-dance-and-lesson-2-2-3/2026-02-18/
LOCATION:Coffee Art Music type Place\, 1 Kenilworth Knolls Suite 1\, Asheville\, NC\,
CATEGORIES:Asheville Area,DJ/Electronic
GEO:35.5895785;-82.5285828
X-APPLE-STRUCTURED-LOCATION;VALUE=URI;X-ADDRESS=Coffee Art Music type Place 1 Kenilworth Knolls Suite 1 Asheville NC;X-APPLE-RADIUS=500;X-TITLE=1 Kenilworth Knolls Suite 1\, Asheville\, NC\,:geo:-82.5285828,35.5895785
END:VEVENT
BEGIN:VEVENT
DTSTART;TZID=America/New_York:20260211T190000
DTEND;TZID=America/New_York:20260211T220000
DTSTAMP:20260423T094132
CREATED:20250902T235040Z
LAST-MODIFIED:20260219T020732Z
UID:10037182-1770836400-1770847200@livemusicasheville.com
SUMMARY:Swing Asheville Dance and Lesson
DESCRIPTION:We have moved our Wednesday night location to Coffee Art Music type Place (CAMP) at 1 Kenilworth Knolls #1\, Asheville\, NC 28805!!!\nJoin us for our weekly dance series Wednesday night at Coffee Art Music type Place!\n\n\n\nA lesson is included with your $10 entry. ($5 for students with i.d.)\n\n\n\n\n\n	Related
URL:https://livemusicasheville.com/calendar/swing-asheville-dance-and-lesson-2-2-3/2026-02-11/
LOCATION:Coffee Art Music type Place\, 1 Kenilworth Knolls Suite 1\, Asheville\, NC\,
CATEGORIES:Asheville Area,DJ/Electronic
GEO:35.5895785;-82.5285828
X-APPLE-STRUCTURED-LOCATION;VALUE=URI;X-ADDRESS=Coffee Art Music type Place 1 Kenilworth Knolls Suite 1 Asheville NC;X-APPLE-RADIUS=500;X-TITLE=1 Kenilworth Knolls Suite 1\, Asheville\, NC\,:geo:-82.5285828,35.5895785
END:VEVENT
BEGIN:VEVENT
DTSTART;TZID=America/New_York:20260204T190000
DTEND;TZID=America/New_York:20260204T220000
DTSTAMP:20260423T094132
CREATED:20250902T235040Z
LAST-MODIFIED:20260219T020732Z
UID:10037181-1770231600-1770242400@livemusicasheville.com
SUMMARY:Swing Asheville Dance and Lesson
DESCRIPTION:We have moved our Wednesday night location to Coffee Art Music type Place (CAMP) at 1 Kenilworth Knolls #1\, Asheville\, NC 28805!!!\nJoin us for our weekly dance series Wednesday night at Coffee Art Music type Place!\n\n\n\nA lesson is included with your $10 entry. ($5 for students with i.d.)\n\n\n\n\n\n	Related
URL:https://livemusicasheville.com/calendar/swing-asheville-dance-and-lesson-2-2-3/2026-02-04/
LOCATION:Coffee Art Music type Place\, 1 Kenilworth Knolls Suite 1\, Asheville\, NC\,
CATEGORIES:Asheville Area,DJ/Electronic
GEO:35.5895785;-82.5285828
X-APPLE-STRUCTURED-LOCATION;VALUE=URI;X-ADDRESS=Coffee Art Music type Place 1 Kenilworth Knolls Suite 1 Asheville NC;X-APPLE-RADIUS=500;X-TITLE=1 Kenilworth Knolls Suite 1\, Asheville\, NC\,:geo:-82.5285828,35.5895785
END:VEVENT
BEGIN:VEVENT
DTSTART;TZID=America/New_York:20260128T190000
DTEND;TZID=America/New_York:20260128T220000
DTSTAMP:20260423T094132
CREATED:20250902T235040Z
LAST-MODIFIED:20260219T020732Z
UID:10045620-1769626800-1769637600@livemusicasheville.com
SUMMARY:Swing Asheville Dance and Lesson
DESCRIPTION:We have moved our Wednesday night location to Coffee Art Music type Place (CAMP) at 1 Kenilworth Knolls #1\, Asheville\, NC 28805!!!\nJoin us for our weekly dance series Wednesday night at Coffee Art Music type Place!\n\n\n\nA lesson is included with your $10 entry. ($5 for students with i.d.)\n\n\n\n\n\n	Related
URL:https://livemusicasheville.com/calendar/swing-asheville-dance-and-lesson-2-2-3/2026-01-28/
LOCATION:Coffee Art Music type Place\, 1 Kenilworth Knolls Suite 1\, Asheville\, NC\,
CATEGORIES:Asheville Area,DJ/Electronic
GEO:35.5895785;-82.5285828
X-APPLE-STRUCTURED-LOCATION;VALUE=URI;X-ADDRESS=Coffee Art Music type Place 1 Kenilworth Knolls Suite 1 Asheville NC;X-APPLE-RADIUS=500;X-TITLE=1 Kenilworth Knolls Suite 1\, Asheville\, NC\,:geo:-82.5285828,35.5895785
END:VEVENT
BEGIN:VEVENT
DTSTART;TZID=America/New_York:20260121T190000
DTEND;TZID=America/New_York:20260121T220000
DTSTAMP:20260423T094132
CREATED:20250902T235040Z
LAST-MODIFIED:20260219T020732Z
UID:10037180-1769022000-1769032800@livemusicasheville.com
SUMMARY:Swing Asheville Dance and Lesson
DESCRIPTION:We have moved our Wednesday night location to Coffee Art Music type Place (CAMP) at 1 Kenilworth Knolls #1\, Asheville\, NC 28805!!!\nJoin us for our weekly dance series Wednesday night at Coffee Art Music type Place!\n\n\n\nA lesson is included with your $10 entry. ($5 for students with i.d.)\n\n\n\n\n\n	Related
URL:https://livemusicasheville.com/calendar/swing-asheville-dance-and-lesson-2-2-3/2026-01-21/
LOCATION:Coffee Art Music type Place\, 1 Kenilworth Knolls Suite 1\, Asheville\, NC\,
CATEGORIES:Asheville Area,DJ/Electronic
GEO:35.5895785;-82.5285828
X-APPLE-STRUCTURED-LOCATION;VALUE=URI;X-ADDRESS=Coffee Art Music type Place 1 Kenilworth Knolls Suite 1 Asheville NC;X-APPLE-RADIUS=500;X-TITLE=1 Kenilworth Knolls Suite 1\, Asheville\, NC\,:geo:-82.5285828,35.5895785
END:VEVENT
BEGIN:VEVENT
DTSTART;TZID=America/New_York:20250426T110000
DTEND;TZID=America/New_York:20250426T130000
DTSTAMP:20260423T094132
CREATED:20250421T200007Z
LAST-MODIFIED:20250421T200007Z
UID:10012998-1745665200-1745672400@livemusicasheville.com
SUMMARY:Grand Opening Celebration w/ with Mary Kay Williams
DESCRIPTION:Come meet the artists\, get some coffee or tea\, and enjoy viewing and buying from the work of 24 local artists’ work. There will be live entertainment at 11 a.m. with Mary Kay from the local music group Mary Kay and the Moonlighters. Enjoy live art demonstrations from local artists\, including Kelsey Moseley and her drumhead art creations! Try some of our signature drinks\, absorb some fresh new eclectic atmosphere\, and meet our mascot\, Eustacious \n\n\n	Related
URL:https://livemusicasheville.com/calendar/grand-opening-celebration-w-with-mary-kay-williams/
LOCATION:Coffee Art Music type Place\, 1 Kenilworth Knolls Suite 1\, Asheville\, NC\,
CATEGORIES:Asheville Area,Live Music
GEO:35.5895785;-82.5285828
X-APPLE-STRUCTURED-LOCATION;VALUE=URI;X-ADDRESS=Coffee Art Music type Place 1 Kenilworth Knolls Suite 1 Asheville NC;X-APPLE-RADIUS=500;X-TITLE=1 Kenilworth Knolls Suite 1\, Asheville\, NC\,:geo:-82.5285828,35.5895785
END:VEVENT
END:VCALENDAR