BEGIN:VCALENDAR
VERSION:2.0
PRODID:-//LiveMusicAsheville.com - ECPv6.15.20//NONSGML v1.0//EN
CALSCALE:GREGORIAN
METHOD:PUBLISH
X-WR-CALNAME:LiveMusicAsheville.com
X-ORIGINAL-URL:https://livemusicasheville.com
X-WR-CALDESC:Events for LiveMusicAsheville.com
REFRESH-INTERVAL;VALUE=DURATION:PT1H
X-Robots-Tag:noindex
X-PUBLISHED-TTL:PT1H
BEGIN:VTIMEZONE
TZID:America/New_York
BEGIN:DAYLIGHT
TZOFFSETFROM:-0500
TZOFFSETTO:-0400
TZNAME:EDT
DTSTART:20240310T070000
END:DAYLIGHT
BEGIN:STANDARD
TZOFFSETFROM:-0400
TZOFFSETTO:-0500
TZNAME:EST
DTSTART:20241103T060000
END:STANDARD
BEGIN:DAYLIGHT
TZOFFSETFROM:-0500
TZOFFSETTO:-0400
TZNAME:EDT
DTSTART:20250309T070000
END:DAYLIGHT
BEGIN:STANDARD
TZOFFSETFROM:-0400
TZOFFSETTO:-0500
TZNAME:EST
DTSTART:20251102T060000
END:STANDARD
BEGIN:DAYLIGHT
TZOFFSETFROM:-0500
TZOFFSETTO:-0400
TZNAME:EDT
DTSTART:20260308T070000
END:DAYLIGHT
BEGIN:STANDARD
TZOFFSETFROM:-0400
TZOFFSETTO:-0500
TZNAME:EST
DTSTART:20261101T060000
END:STANDARD
BEGIN:DAYLIGHT
TZOFFSETFROM:-0500
TZOFFSETTO:-0400
TZNAME:EDT
DTSTART:20270314T070000
END:DAYLIGHT
BEGIN:STANDARD
TZOFFSETFROM:-0400
TZOFFSETTO:-0500
TZNAME:EST
DTSTART:20271107T060000
END:STANDARD
END:VTIMEZONE
BEGIN:VEVENT
DTSTART;TZID=America/New_York:20260307T160000
DTEND;TZID=America/New_York:20260307T173000
DTSTAMP:20260423T114641
CREATED:20260306T145912Z
LAST-MODIFIED:20260306T145912Z
UID:10048567-1772899200-1772904600@livemusicasheville.com
SUMMARY:Asheville Choral Society Presents: Sanctuary
DESCRIPTION:Join the Asheville Choral Society for our exploration of Sanctuary in song\, featuring Faure’s Requiem paired with Serenade to Music\, by Ralph Vaughan Williams. 125 singers along with a string quintet and organist will bring this music to life as we look ahead to spring.\nMarch 6\, 2025 | 7pmMarch 7\, 2025 | 4pmCentral United Methodist Church27 Church Street\, Asheville\, NC 28801Adult Tickets $25 | Student Tickets $15 click here!\n\n\n	Related
URL:https://livemusicasheville.com/calendar/asheville-choral-society-presents-sanctuary/2026-03-07/
LOCATION:Central United Methodist Church of Asheville
CATEGORIES:Asheville Area,Live Music
END:VEVENT
BEGIN:VEVENT
DTSTART;TZID=America/New_York:20260306T190000
DTEND;TZID=America/New_York:20260306T203000
DTSTAMP:20260423T114641
CREATED:20260306T145912Z
LAST-MODIFIED:20260306T145912Z
UID:10048566-1772823600-1772829000@livemusicasheville.com
SUMMARY:Asheville Choral Society Presents: Sanctuary
DESCRIPTION:Join the Asheville Choral Society for our exploration of Sanctuary in song\, featuring Faure’s Requiem paired with Serenade to Music\, by Ralph Vaughan Williams. 125 singers along with a string quintet and organist will bring this music to life as we look ahead to spring.\nMarch 6\, 2025 | 7pmMarch 7\, 2025 | 4pmCentral United Methodist Church27 Church Street\, Asheville\, NC 28801Adult Tickets $25 | Student Tickets $15 click here!\n\n\n	Related
URL:https://livemusicasheville.com/calendar/asheville-choral-society-presents-sanctuary/2026-03-06/
LOCATION:Central United Methodist Church of Asheville
CATEGORIES:Asheville Area,Live Music
END:VEVENT
BEGIN:VEVENT
DTSTART;TZID=America/New_York:20260208T160000
DTEND;TZID=America/New_York:20260208T180000
DTSTAMP:20260423T114641
CREATED:20260204T222143Z
LAST-MODIFIED:20260204T222143Z
UID:10043227-1770566400-1770573600@livemusicasheville.com
SUMMARY:Manhattan Chamber Players with David Fung\, piano
DESCRIPTION:Asheville Chamber Music Series Event Details and Tickets \nPraised for his “ravishing and simply gorgeous” performances (The Washington Post)\, pianist David Fung is widely recognized for his intensely poetic and uncommonly expressive interpretations. A frequent guest artist at prestigious festivals and venues worldwide\, Fung will be joined in this program by talented members of a New York-based chamber music collective.\nArtists Performing– David Fung\, Piano– Gabriel Campos Zamora\, Clarinet– Grace Park\, Violin– Luke Fleming\, Viola– Andrew Janss\, Cello\nPROGRAM– Robert Schumann: Märchenerzählungen for Clarinet\, Viola\, and Piano\, Op. 132– Johannes Brahms: Trio for Piano\, Clarinet\, and Cello in A minor\, Op. 114– Gabriel Fauré: Piano Quartet No. 1 in C minor\, Op. 15\nSpecial event following the concert!Friends of the ACMS Meet & Greet with the Artists6:00 PM – 8:00 PM @ Weinhaus86 Patton Ave.RSVP required\n\n\n	Related
URL:https://livemusicasheville.com/calendar/manhattan-chamber-players-with-david-fung-piano/
LOCATION:Central United Methodist Church of Asheville
CATEGORIES:Asheville Area,Live Music
END:VEVENT
BEGIN:VEVENT
DTSTART;TZID=America/New_York:20251108T170000
DTEND;TZID=America/New_York:20251108T190000
DTSTAMP:20260423T114641
CREATED:20251102T143527Z
LAST-MODIFIED:20251102T143527Z
UID:10023356-1762621200-1762628400@livemusicasheville.com
SUMMARY:Wild Asheville Community Chorus Fall Concert
DESCRIPTION:Fall is here and you’re invited to come and celebrate with this wild and wonderful bunch of singers. We’ll share traditional songs from South Africa\, America and the Republic of Georgia.\nOur WACC concerts have been bringing joy and music to these old mountains since 2008. We’re still going strong.\nDonations at the door: Sliding Scale $10 – $30\n\n\n	Related
URL:https://livemusicasheville.com/calendar/wild-asheville-community-chorus-fall-concert/
LOCATION:Central United Methodist Church of Asheville
CATEGORIES:Asheville Area,Live Music
END:VEVENT
BEGIN:VEVENT
DTSTART;TZID=America/New_York:20250506T190000
DTEND;TZID=America/New_York:20250506T210000
DTSTAMP:20260423T114641
CREATED:20250505T155128Z
LAST-MODIFIED:20250505T155222Z
UID:10013805-1746558000-1746565200@livemusicasheville.com
SUMMARY:Asheville Symphony Chorus presents\, Majesty: Music for Kings & Queens
DESCRIPTION:Event Details and Tickets \n\n\n	Related
URL:https://livemusicasheville.com/calendar/asheville-symphony-chorus-presents-majesty-music-for-kings-queens/
LOCATION:Central United Methodist Church of Asheville
CATEGORIES:Asheville Area,Live Music
END:VEVENT
BEGIN:VEVENT
DTSTART;TZID=America/New_York:20250502T193000
DTEND;TZID=America/New_York:20250502T210000
DTSTAMP:20260423T114641
CREATED:20250402T103924Z
LAST-MODIFIED:20250502T120445Z
UID:10011707-1746214200-1746219600@livemusicasheville.com
SUMMARY:Asheville Chamber Music Series presents: The Isidore String Quartet
DESCRIPTION:The final concert in our 2024-5 series is coming up! The Isidore String Quartet is a young New York City-based ensemble formed in 2019 with a vision to revisit\, rediscover\, and reinvigorate the repertory. All Juilliard graduates\, the group seeks to cultivate joyful experiences\, impact the world\, and inspire others through the honored tradition of the string quartet in collaborative and playful ways.\n\n\nCelebrate the mastery of Mozart in this performance presented in partnership with the Asheville Amadeus festival.\n\n\nWhen: Friday\, May 2nd at 7:30pm\n\n\nWhere: Central United Methodist Church of Asheville\n27 Church Street\n\n\n\n	Related
URL:https://livemusicasheville.com/calendar/asheville-chamber-music-series-presents-aspen-string-trio/
LOCATION:Central United Methodist Church of Asheville
CATEGORIES:Asheville Area,Live Music
END:VEVENT
END:VCALENDAR