BEGIN:VCALENDAR
VERSION:2.0
PRODID:-//LiveMusicAsheville.com - ECPv6.15.20//NONSGML v1.0//EN
CALSCALE:GREGORIAN
METHOD:PUBLISH
X-WR-CALNAME:LiveMusicAsheville.com
X-ORIGINAL-URL:https://livemusicasheville.com
X-WR-CALDESC:Events for LiveMusicAsheville.com
REFRESH-INTERVAL;VALUE=DURATION:PT1H
X-Robots-Tag:noindex
X-PUBLISHED-TTL:PT1H
BEGIN:VTIMEZONE
TZID:America/New_York
BEGIN:DAYLIGHT
TZOFFSETFROM:-0500
TZOFFSETTO:-0400
TZNAME:EDT
DTSTART:20250309T070000
END:DAYLIGHT
BEGIN:STANDARD
TZOFFSETFROM:-0400
TZOFFSETTO:-0500
TZNAME:EST
DTSTART:20251102T060000
END:STANDARD
BEGIN:DAYLIGHT
TZOFFSETFROM:-0500
TZOFFSETTO:-0400
TZNAME:EDT
DTSTART:20260308T070000
END:DAYLIGHT
BEGIN:STANDARD
TZOFFSETFROM:-0400
TZOFFSETTO:-0500
TZNAME:EST
DTSTART:20261101T060000
END:STANDARD
BEGIN:DAYLIGHT
TZOFFSETFROM:-0500
TZOFFSETTO:-0400
TZNAME:EDT
DTSTART:20270314T070000
END:DAYLIGHT
BEGIN:STANDARD
TZOFFSETFROM:-0400
TZOFFSETTO:-0500
TZNAME:EST
DTSTART:20271107T060000
END:STANDARD
END:VTIMEZONE
BEGIN:VEVENT
DTSTART;TZID=America/New_York:20260425T190000
DTEND;TZID=America/New_York:20260425T220000
DTSTAMP:20260423T180043
CREATED:20250729T135506Z
LAST-MODIFIED:20260422T180136Z
UID:10018311-1777143600-1777154400@livemusicasheville.com
SUMMARY:Iggy Radio
DESCRIPTION:Related
URL:https://livemusicasheville.com/calendar/iggy-radio-5/
LOCATION:Bear’s Smokehouse South Slope\, 135 Coxe Avenue\, Asheville\, NC\, 28801
CATEGORIES:Asheville Area,Live Music
GEO:35.5898681;-82.5552613
X-APPLE-STRUCTURED-LOCATION;VALUE=URI;X-ADDRESS=Bear’s Smokehouse South Slope 135 Coxe Avenue Asheville NC 28801;X-APPLE-RADIUS=500;X-TITLE=135 Coxe Avenue:geo:-82.5552613,35.5898681
END:VEVENT
END:VCALENDAR