BEGIN:VCALENDAR
VERSION:2.0
PRODID:-//LiveMusicAsheville.com - ECPv6.15.20//NONSGML v1.0//EN
CALSCALE:GREGORIAN
METHOD:PUBLISH
X-WR-CALNAME:LiveMusicAsheville.com
X-ORIGINAL-URL:https://livemusicasheville.com
X-WR-CALDESC:Events for LiveMusicAsheville.com
REFRESH-INTERVAL;VALUE=DURATION:PT1H
X-Robots-Tag:noindex
X-PUBLISHED-TTL:PT1H
BEGIN:VTIMEZONE
TZID:America/New_York
BEGIN:DAYLIGHT
TZOFFSETFROM:-0500
TZOFFSETTO:-0400
TZNAME:EDT
DTSTART:20260308T070000
END:DAYLIGHT
BEGIN:STANDARD
TZOFFSETFROM:-0400
TZOFFSETTO:-0500
TZNAME:EST
DTSTART:20261101T060000
END:STANDARD
BEGIN:DAYLIGHT
TZOFFSETFROM:-0500
TZOFFSETTO:-0400
TZNAME:EDT
DTSTART:20270314T070000
END:DAYLIGHT
BEGIN:STANDARD
TZOFFSETFROM:-0400
TZOFFSETTO:-0500
TZNAME:EST
DTSTART:20271107T060000
END:STANDARD
BEGIN:DAYLIGHT
TZOFFSETFROM:-0500
TZOFFSETTO:-0400
TZNAME:EDT
DTSTART:20280312T070000
END:DAYLIGHT
BEGIN:STANDARD
TZOFFSETFROM:-0400
TZOFFSETTO:-0500
TZNAME:EST
DTSTART:20281105T060000
END:STANDARD
END:VTIMEZONE
BEGIN:VEVENT
DTSTART;TZID=America/New_York:20270506T090000
DTEND;TZID=America/New_York:20270506T103000
DTSTAMP:20260423T002648
CREATED:20260324T145424Z
LAST-MODIFIED:20260409T212604Z
UID:10051184-1809594000-1809599400@livemusicasheville.com
SUMMARY:Live Music Yoga with Seán Johnson ft. Chris Rosser
DESCRIPTION:Related
URL:https://livemusicasheville.com/calendar/live-music-yoga-with-sean-johnson-ft-chris-rosser/2027-05-06/
LOCATION:AyurPrana Listening Room\, 312 Haywood Rd\, Asheville\, NC\, 28806
CATEGORIES:Asheville Area,Live Music
GEO:35.5775962;-82.5760261
X-APPLE-STRUCTURED-LOCATION;VALUE=URI;X-ADDRESS=AyurPrana Listening Room 312 Haywood Rd Asheville NC 28806;X-APPLE-RADIUS=500;X-TITLE=312 Haywood Rd:geo:-82.5760261,35.5775962
END:VEVENT
BEGIN:VEVENT
DTSTART;TZID=America/New_York:20270513T090000
DTEND;TZID=America/New_York:20270513T103000
DTSTAMP:20260423T002648
CREATED:20260324T145424Z
LAST-MODIFIED:20260409T212604Z
UID:10051185-1810198800-1810204200@livemusicasheville.com
SUMMARY:Live Music Yoga with Seán Johnson ft. Chris Rosser
DESCRIPTION:Related
URL:https://livemusicasheville.com/calendar/live-music-yoga-with-sean-johnson-ft-chris-rosser/2027-05-13/
LOCATION:AyurPrana Listening Room\, 312 Haywood Rd\, Asheville\, NC\, 28806
CATEGORIES:Asheville Area,Live Music
GEO:35.5775962;-82.5760261
X-APPLE-STRUCTURED-LOCATION;VALUE=URI;X-ADDRESS=AyurPrana Listening Room 312 Haywood Rd Asheville NC 28806;X-APPLE-RADIUS=500;X-TITLE=312 Haywood Rd:geo:-82.5760261,35.5775962
END:VEVENT
BEGIN:VEVENT
DTSTART;TZID=America/New_York:20270520T090000
DTEND;TZID=America/New_York:20270520T103000
DTSTAMP:20260423T002648
CREATED:20260324T145424Z
LAST-MODIFIED:20260409T212604Z
UID:10051186-1810803600-1810809000@livemusicasheville.com
SUMMARY:Live Music Yoga with Seán Johnson ft. Chris Rosser
DESCRIPTION:Related
URL:https://livemusicasheville.com/calendar/live-music-yoga-with-sean-johnson-ft-chris-rosser/2027-05-20/
LOCATION:AyurPrana Listening Room\, 312 Haywood Rd\, Asheville\, NC\, 28806
CATEGORIES:Asheville Area,Live Music
GEO:35.5775962;-82.5760261
X-APPLE-STRUCTURED-LOCATION;VALUE=URI;X-ADDRESS=AyurPrana Listening Room 312 Haywood Rd Asheville NC 28806;X-APPLE-RADIUS=500;X-TITLE=312 Haywood Rd:geo:-82.5760261,35.5775962
END:VEVENT
BEGIN:VEVENT
DTSTART;TZID=America/New_York:20270527T090000
DTEND;TZID=America/New_York:20270527T103000
DTSTAMP:20260423T002648
CREATED:20260324T145424Z
LAST-MODIFIED:20260409T212604Z
UID:10051187-1811408400-1811413800@livemusicasheville.com
SUMMARY:Live Music Yoga with Seán Johnson ft. Chris Rosser
DESCRIPTION:Related
URL:https://livemusicasheville.com/calendar/live-music-yoga-with-sean-johnson-ft-chris-rosser/2027-05-27/
LOCATION:AyurPrana Listening Room\, 312 Haywood Rd\, Asheville\, NC\, 28806
CATEGORIES:Asheville Area,Live Music
GEO:35.5775962;-82.5760261
X-APPLE-STRUCTURED-LOCATION;VALUE=URI;X-ADDRESS=AyurPrana Listening Room 312 Haywood Rd Asheville NC 28806;X-APPLE-RADIUS=500;X-TITLE=312 Haywood Rd:geo:-82.5760261,35.5775962
END:VEVENT
BEGIN:VEVENT
DTSTART;TZID=America/New_York:20270603T090000
DTEND;TZID=America/New_York:20270603T103000
DTSTAMP:20260423T002648
CREATED:20260324T145424Z
LAST-MODIFIED:20260409T212604Z
UID:10051188-1812013200-1812018600@livemusicasheville.com
SUMMARY:Live Music Yoga with Seán Johnson ft. Chris Rosser
DESCRIPTION:Related
URL:https://livemusicasheville.com/calendar/live-music-yoga-with-sean-johnson-ft-chris-rosser/2027-06-03/
LOCATION:AyurPrana Listening Room\, 312 Haywood Rd\, Asheville\, NC\, 28806
CATEGORIES:Asheville Area,Live Music
GEO:35.5775962;-82.5760261
X-APPLE-STRUCTURED-LOCATION;VALUE=URI;X-ADDRESS=AyurPrana Listening Room 312 Haywood Rd Asheville NC 28806;X-APPLE-RADIUS=500;X-TITLE=312 Haywood Rd:geo:-82.5760261,35.5775962
END:VEVENT
BEGIN:VEVENT
DTSTART;TZID=America/New_York:20270610T090000
DTEND;TZID=America/New_York:20270610T103000
DTSTAMP:20260423T002648
CREATED:20260324T145424Z
LAST-MODIFIED:20260409T212604Z
UID:10051189-1812618000-1812623400@livemusicasheville.com
SUMMARY:Live Music Yoga with Seán Johnson ft. Chris Rosser
DESCRIPTION:Related
URL:https://livemusicasheville.com/calendar/live-music-yoga-with-sean-johnson-ft-chris-rosser/2027-06-10/
LOCATION:AyurPrana Listening Room\, 312 Haywood Rd\, Asheville\, NC\, 28806
CATEGORIES:Asheville Area,Live Music
GEO:35.5775962;-82.5760261
X-APPLE-STRUCTURED-LOCATION;VALUE=URI;X-ADDRESS=AyurPrana Listening Room 312 Haywood Rd Asheville NC 28806;X-APPLE-RADIUS=500;X-TITLE=312 Haywood Rd:geo:-82.5760261,35.5775962
END:VEVENT
BEGIN:VEVENT
DTSTART;TZID=America/New_York:20270617T090000
DTEND;TZID=America/New_York:20270617T103000
DTSTAMP:20260423T002648
CREATED:20260324T145424Z
LAST-MODIFIED:20260409T212604Z
UID:10051190-1813222800-1813228200@livemusicasheville.com
SUMMARY:Live Music Yoga with Seán Johnson ft. Chris Rosser
DESCRIPTION:Related
URL:https://livemusicasheville.com/calendar/live-music-yoga-with-sean-johnson-ft-chris-rosser/2027-06-17/
LOCATION:AyurPrana Listening Room\, 312 Haywood Rd\, Asheville\, NC\, 28806
CATEGORIES:Asheville Area,Live Music
GEO:35.5775962;-82.5760261
X-APPLE-STRUCTURED-LOCATION;VALUE=URI;X-ADDRESS=AyurPrana Listening Room 312 Haywood Rd Asheville NC 28806;X-APPLE-RADIUS=500;X-TITLE=312 Haywood Rd:geo:-82.5760261,35.5775962
END:VEVENT
BEGIN:VEVENT
DTSTART;TZID=America/New_York:20270624T090000
DTEND;TZID=America/New_York:20270624T103000
DTSTAMP:20260423T002648
CREATED:20260324T145424Z
LAST-MODIFIED:20260409T212604Z
UID:10051191-1813827600-1813833000@livemusicasheville.com
SUMMARY:Live Music Yoga with Seán Johnson ft. Chris Rosser
DESCRIPTION:Related
URL:https://livemusicasheville.com/calendar/live-music-yoga-with-sean-johnson-ft-chris-rosser/2027-06-24/
LOCATION:AyurPrana Listening Room\, 312 Haywood Rd\, Asheville\, NC\, 28806
CATEGORIES:Asheville Area,Live Music
GEO:35.5775962;-82.5760261
X-APPLE-STRUCTURED-LOCATION;VALUE=URI;X-ADDRESS=AyurPrana Listening Room 312 Haywood Rd Asheville NC 28806;X-APPLE-RADIUS=500;X-TITLE=312 Haywood Rd:geo:-82.5760261,35.5775962
END:VEVENT
BEGIN:VEVENT
DTSTART;TZID=America/New_York:20270701T090000
DTEND;TZID=America/New_York:20270701T103000
DTSTAMP:20260423T002648
CREATED:20260324T145424Z
LAST-MODIFIED:20260409T212604Z
UID:10051192-1814432400-1814437800@livemusicasheville.com
SUMMARY:Live Music Yoga with Seán Johnson ft. Chris Rosser
DESCRIPTION:Related
URL:https://livemusicasheville.com/calendar/live-music-yoga-with-sean-johnson-ft-chris-rosser/2027-07-01/
LOCATION:AyurPrana Listening Room\, 312 Haywood Rd\, Asheville\, NC\, 28806
CATEGORIES:Asheville Area,Live Music
GEO:35.5775962;-82.5760261
X-APPLE-STRUCTURED-LOCATION;VALUE=URI;X-ADDRESS=AyurPrana Listening Room 312 Haywood Rd Asheville NC 28806;X-APPLE-RADIUS=500;X-TITLE=312 Haywood Rd:geo:-82.5760261,35.5775962
END:VEVENT
BEGIN:VEVENT
DTSTART;TZID=America/New_York:20270708T090000
DTEND;TZID=America/New_York:20270708T103000
DTSTAMP:20260423T002648
CREATED:20260324T145424Z
LAST-MODIFIED:20260409T212604Z
UID:10051193-1815037200-1815042600@livemusicasheville.com
SUMMARY:Live Music Yoga with Seán Johnson ft. Chris Rosser
DESCRIPTION:Related
URL:https://livemusicasheville.com/calendar/live-music-yoga-with-sean-johnson-ft-chris-rosser/2027-07-08/
LOCATION:AyurPrana Listening Room\, 312 Haywood Rd\, Asheville\, NC\, 28806
CATEGORIES:Asheville Area,Live Music
GEO:35.5775962;-82.5760261
X-APPLE-STRUCTURED-LOCATION;VALUE=URI;X-ADDRESS=AyurPrana Listening Room 312 Haywood Rd Asheville NC 28806;X-APPLE-RADIUS=500;X-TITLE=312 Haywood Rd:geo:-82.5760261,35.5775962
END:VEVENT
BEGIN:VEVENT
DTSTART;TZID=America/New_York:20270715T090000
DTEND;TZID=America/New_York:20270715T103000
DTSTAMP:20260423T002648
CREATED:20260324T145424Z
LAST-MODIFIED:20260409T212604Z
UID:10051194-1815642000-1815647400@livemusicasheville.com
SUMMARY:Live Music Yoga with Seán Johnson ft. Chris Rosser
DESCRIPTION:Related
URL:https://livemusicasheville.com/calendar/live-music-yoga-with-sean-johnson-ft-chris-rosser/2027-07-15/
LOCATION:AyurPrana Listening Room\, 312 Haywood Rd\, Asheville\, NC\, 28806
CATEGORIES:Asheville Area,Live Music
GEO:35.5775962;-82.5760261
X-APPLE-STRUCTURED-LOCATION;VALUE=URI;X-ADDRESS=AyurPrana Listening Room 312 Haywood Rd Asheville NC 28806;X-APPLE-RADIUS=500;X-TITLE=312 Haywood Rd:geo:-82.5760261,35.5775962
END:VEVENT
BEGIN:VEVENT
DTSTART;TZID=America/New_York:20270722T090000
DTEND;TZID=America/New_York:20270722T103000
DTSTAMP:20260423T002648
CREATED:20260324T145424Z
LAST-MODIFIED:20260409T212604Z
UID:10051195-1816246800-1816252200@livemusicasheville.com
SUMMARY:Live Music Yoga with Seán Johnson ft. Chris Rosser
DESCRIPTION:Related
URL:https://livemusicasheville.com/calendar/live-music-yoga-with-sean-johnson-ft-chris-rosser/2027-07-22/
LOCATION:AyurPrana Listening Room\, 312 Haywood Rd\, Asheville\, NC\, 28806
CATEGORIES:Asheville Area,Live Music
GEO:35.5775962;-82.5760261
X-APPLE-STRUCTURED-LOCATION;VALUE=URI;X-ADDRESS=AyurPrana Listening Room 312 Haywood Rd Asheville NC 28806;X-APPLE-RADIUS=500;X-TITLE=312 Haywood Rd:geo:-82.5760261,35.5775962
END:VEVENT
BEGIN:VEVENT
DTSTART;TZID=America/New_York:20270729T090000
DTEND;TZID=America/New_York:20270729T103000
DTSTAMP:20260423T002648
CREATED:20260324T145424Z
LAST-MODIFIED:20260409T212604Z
UID:10051196-1816851600-1816857000@livemusicasheville.com
SUMMARY:Live Music Yoga with Seán Johnson ft. Chris Rosser
DESCRIPTION:Related
URL:https://livemusicasheville.com/calendar/live-music-yoga-with-sean-johnson-ft-chris-rosser/2027-07-29/
LOCATION:AyurPrana Listening Room\, 312 Haywood Rd\, Asheville\, NC\, 28806
CATEGORIES:Asheville Area,Live Music
GEO:35.5775962;-82.5760261
X-APPLE-STRUCTURED-LOCATION;VALUE=URI;X-ADDRESS=AyurPrana Listening Room 312 Haywood Rd Asheville NC 28806;X-APPLE-RADIUS=500;X-TITLE=312 Haywood Rd:geo:-82.5760261,35.5775962
END:VEVENT
BEGIN:VEVENT
DTSTART;TZID=America/New_York:20270805T090000
DTEND;TZID=America/New_York:20270805T103000
DTSTAMP:20260423T002648
CREATED:20260324T145424Z
LAST-MODIFIED:20260409T212604Z
UID:10051197-1817456400-1817461800@livemusicasheville.com
SUMMARY:Live Music Yoga with Seán Johnson ft. Chris Rosser
DESCRIPTION:Related
URL:https://livemusicasheville.com/calendar/live-music-yoga-with-sean-johnson-ft-chris-rosser/2027-08-05/
LOCATION:AyurPrana Listening Room\, 312 Haywood Rd\, Asheville\, NC\, 28806
CATEGORIES:Asheville Area,Live Music
GEO:35.5775962;-82.5760261
X-APPLE-STRUCTURED-LOCATION;VALUE=URI;X-ADDRESS=AyurPrana Listening Room 312 Haywood Rd Asheville NC 28806;X-APPLE-RADIUS=500;X-TITLE=312 Haywood Rd:geo:-82.5760261,35.5775962
END:VEVENT
BEGIN:VEVENT
DTSTART;TZID=America/New_York:20270812T090000
DTEND;TZID=America/New_York:20270812T103000
DTSTAMP:20260423T002648
CREATED:20260324T145424Z
LAST-MODIFIED:20260409T212604Z
UID:10051198-1818061200-1818066600@livemusicasheville.com
SUMMARY:Live Music Yoga with Seán Johnson ft. Chris Rosser
DESCRIPTION:Related
URL:https://livemusicasheville.com/calendar/live-music-yoga-with-sean-johnson-ft-chris-rosser/2027-08-12/
LOCATION:AyurPrana Listening Room\, 312 Haywood Rd\, Asheville\, NC\, 28806
CATEGORIES:Asheville Area,Live Music
GEO:35.5775962;-82.5760261
X-APPLE-STRUCTURED-LOCATION;VALUE=URI;X-ADDRESS=AyurPrana Listening Room 312 Haywood Rd Asheville NC 28806;X-APPLE-RADIUS=500;X-TITLE=312 Haywood Rd:geo:-82.5760261,35.5775962
END:VEVENT
BEGIN:VEVENT
DTSTART;TZID=America/New_York:20270819T090000
DTEND;TZID=America/New_York:20270819T103000
DTSTAMP:20260423T002648
CREATED:20260324T145424Z
LAST-MODIFIED:20260409T212604Z
UID:10051199-1818666000-1818671400@livemusicasheville.com
SUMMARY:Live Music Yoga with Seán Johnson ft. Chris Rosser
DESCRIPTION:Related
URL:https://livemusicasheville.com/calendar/live-music-yoga-with-sean-johnson-ft-chris-rosser/2027-08-19/
LOCATION:AyurPrana Listening Room\, 312 Haywood Rd\, Asheville\, NC\, 28806
CATEGORIES:Asheville Area,Live Music
GEO:35.5775962;-82.5760261
X-APPLE-STRUCTURED-LOCATION;VALUE=URI;X-ADDRESS=AyurPrana Listening Room 312 Haywood Rd Asheville NC 28806;X-APPLE-RADIUS=500;X-TITLE=312 Haywood Rd:geo:-82.5760261,35.5775962
END:VEVENT
BEGIN:VEVENT
DTSTART;TZID=America/New_York:20270826T090000
DTEND;TZID=America/New_York:20270826T103000
DTSTAMP:20260423T002648
CREATED:20260324T145424Z
LAST-MODIFIED:20260409T212604Z
UID:10051200-1819270800-1819276200@livemusicasheville.com
SUMMARY:Live Music Yoga with Seán Johnson ft. Chris Rosser
DESCRIPTION:Related
URL:https://livemusicasheville.com/calendar/live-music-yoga-with-sean-johnson-ft-chris-rosser/2027-08-26/
LOCATION:AyurPrana Listening Room\, 312 Haywood Rd\, Asheville\, NC\, 28806
CATEGORIES:Asheville Area,Live Music
GEO:35.5775962;-82.5760261
X-APPLE-STRUCTURED-LOCATION;VALUE=URI;X-ADDRESS=AyurPrana Listening Room 312 Haywood Rd Asheville NC 28806;X-APPLE-RADIUS=500;X-TITLE=312 Haywood Rd:geo:-82.5760261,35.5775962
END:VEVENT
BEGIN:VEVENT
DTSTART;TZID=America/New_York:20270902T090000
DTEND;TZID=America/New_York:20270902T103000
DTSTAMP:20260423T002648
CREATED:20260324T145424Z
LAST-MODIFIED:20260409T212604Z
UID:10051201-1819875600-1819881000@livemusicasheville.com
SUMMARY:Live Music Yoga with Seán Johnson ft. Chris Rosser
DESCRIPTION:Related
URL:https://livemusicasheville.com/calendar/live-music-yoga-with-sean-johnson-ft-chris-rosser/2027-09-02/
LOCATION:AyurPrana Listening Room\, 312 Haywood Rd\, Asheville\, NC\, 28806
CATEGORIES:Asheville Area,Live Music
GEO:35.5775962;-82.5760261
X-APPLE-STRUCTURED-LOCATION;VALUE=URI;X-ADDRESS=AyurPrana Listening Room 312 Haywood Rd Asheville NC 28806;X-APPLE-RADIUS=500;X-TITLE=312 Haywood Rd:geo:-82.5760261,35.5775962
END:VEVENT
BEGIN:VEVENT
DTSTART;TZID=America/New_York:20270909T090000
DTEND;TZID=America/New_York:20270909T103000
DTSTAMP:20260423T002648
CREATED:20260324T145424Z
LAST-MODIFIED:20260409T212604Z
UID:10051202-1820480400-1820485800@livemusicasheville.com
SUMMARY:Live Music Yoga with Seán Johnson ft. Chris Rosser
DESCRIPTION:Related
URL:https://livemusicasheville.com/calendar/live-music-yoga-with-sean-johnson-ft-chris-rosser/2027-09-09/
LOCATION:AyurPrana Listening Room\, 312 Haywood Rd\, Asheville\, NC\, 28806
CATEGORIES:Asheville Area,Live Music
GEO:35.5775962;-82.5760261
X-APPLE-STRUCTURED-LOCATION;VALUE=URI;X-ADDRESS=AyurPrana Listening Room 312 Haywood Rd Asheville NC 28806;X-APPLE-RADIUS=500;X-TITLE=312 Haywood Rd:geo:-82.5760261,35.5775962
END:VEVENT
BEGIN:VEVENT
DTSTART;TZID=America/New_York:20270916T090000
DTEND;TZID=America/New_York:20270916T103000
DTSTAMP:20260423T002648
CREATED:20260324T145424Z
LAST-MODIFIED:20260409T212604Z
UID:10051203-1821085200-1821090600@livemusicasheville.com
SUMMARY:Live Music Yoga with Seán Johnson ft. Chris Rosser
DESCRIPTION:Related
URL:https://livemusicasheville.com/calendar/live-music-yoga-with-sean-johnson-ft-chris-rosser/2027-09-16/
LOCATION:AyurPrana Listening Room\, 312 Haywood Rd\, Asheville\, NC\, 28806
CATEGORIES:Asheville Area,Live Music
GEO:35.5775962;-82.5760261
X-APPLE-STRUCTURED-LOCATION;VALUE=URI;X-ADDRESS=AyurPrana Listening Room 312 Haywood Rd Asheville NC 28806;X-APPLE-RADIUS=500;X-TITLE=312 Haywood Rd:geo:-82.5760261,35.5775962
END:VEVENT
BEGIN:VEVENT
DTSTART;TZID=America/New_York:20270923T090000
DTEND;TZID=America/New_York:20270923T103000
DTSTAMP:20260423T002648
CREATED:20260324T145424Z
LAST-MODIFIED:20260409T212604Z
UID:10051204-1821690000-1821695400@livemusicasheville.com
SUMMARY:Live Music Yoga with Seán Johnson ft. Chris Rosser
DESCRIPTION:Related
URL:https://livemusicasheville.com/calendar/live-music-yoga-with-sean-johnson-ft-chris-rosser/2027-09-23/
LOCATION:AyurPrana Listening Room\, 312 Haywood Rd\, Asheville\, NC\, 28806
CATEGORIES:Asheville Area,Live Music
GEO:35.5775962;-82.5760261
X-APPLE-STRUCTURED-LOCATION;VALUE=URI;X-ADDRESS=AyurPrana Listening Room 312 Haywood Rd Asheville NC 28806;X-APPLE-RADIUS=500;X-TITLE=312 Haywood Rd:geo:-82.5760261,35.5775962
END:VEVENT
BEGIN:VEVENT
DTSTART;TZID=America/New_York:20270930T090000
DTEND;TZID=America/New_York:20270930T103000
DTSTAMP:20260423T002648
CREATED:20260324T145424Z
LAST-MODIFIED:20260409T212604Z
UID:10051205-1822294800-1822300200@livemusicasheville.com
SUMMARY:Live Music Yoga with Seán Johnson ft. Chris Rosser
DESCRIPTION:Related
URL:https://livemusicasheville.com/calendar/live-music-yoga-with-sean-johnson-ft-chris-rosser/2027-09-30/
LOCATION:AyurPrana Listening Room\, 312 Haywood Rd\, Asheville\, NC\, 28806
CATEGORIES:Asheville Area,Live Music
GEO:35.5775962;-82.5760261
X-APPLE-STRUCTURED-LOCATION;VALUE=URI;X-ADDRESS=AyurPrana Listening Room 312 Haywood Rd Asheville NC 28806;X-APPLE-RADIUS=500;X-TITLE=312 Haywood Rd:geo:-82.5760261,35.5775962
END:VEVENT
BEGIN:VEVENT
DTSTART;TZID=America/New_York:20271007T090000
DTEND;TZID=America/New_York:20271007T103000
DTSTAMP:20260423T002648
CREATED:20260324T145424Z
LAST-MODIFIED:20260409T212604Z
UID:10051206-1822899600-1822905000@livemusicasheville.com
SUMMARY:Live Music Yoga with Seán Johnson ft. Chris Rosser
DESCRIPTION:Related
URL:https://livemusicasheville.com/calendar/live-music-yoga-with-sean-johnson-ft-chris-rosser/2027-10-07/
LOCATION:AyurPrana Listening Room\, 312 Haywood Rd\, Asheville\, NC\, 28806
CATEGORIES:Asheville Area,Live Music
GEO:35.5775962;-82.5760261
X-APPLE-STRUCTURED-LOCATION;VALUE=URI;X-ADDRESS=AyurPrana Listening Room 312 Haywood Rd Asheville NC 28806;X-APPLE-RADIUS=500;X-TITLE=312 Haywood Rd:geo:-82.5760261,35.5775962
END:VEVENT
BEGIN:VEVENT
DTSTART;TZID=America/New_York:20271014T090000
DTEND;TZID=America/New_York:20271014T103000
DTSTAMP:20260423T002648
CREATED:20260324T145424Z
LAST-MODIFIED:20260409T212604Z
UID:10051207-1823504400-1823509800@livemusicasheville.com
SUMMARY:Live Music Yoga with Seán Johnson ft. Chris Rosser
DESCRIPTION:Related
URL:https://livemusicasheville.com/calendar/live-music-yoga-with-sean-johnson-ft-chris-rosser/2027-10-14/
LOCATION:AyurPrana Listening Room\, 312 Haywood Rd\, Asheville\, NC\, 28806
CATEGORIES:Asheville Area,Live Music
GEO:35.5775962;-82.5760261
X-APPLE-STRUCTURED-LOCATION;VALUE=URI;X-ADDRESS=AyurPrana Listening Room 312 Haywood Rd Asheville NC 28806;X-APPLE-RADIUS=500;X-TITLE=312 Haywood Rd:geo:-82.5760261,35.5775962
END:VEVENT
BEGIN:VEVENT
DTSTART;TZID=America/New_York:20271021T090000
DTEND;TZID=America/New_York:20271021T103000
DTSTAMP:20260423T002648
CREATED:20260324T145424Z
LAST-MODIFIED:20260409T212604Z
UID:10051208-1824109200-1824114600@livemusicasheville.com
SUMMARY:Live Music Yoga with Seán Johnson ft. Chris Rosser
DESCRIPTION:Related
URL:https://livemusicasheville.com/calendar/live-music-yoga-with-sean-johnson-ft-chris-rosser/2027-10-21/
LOCATION:AyurPrana Listening Room\, 312 Haywood Rd\, Asheville\, NC\, 28806
CATEGORIES:Asheville Area,Live Music
GEO:35.5775962;-82.5760261
X-APPLE-STRUCTURED-LOCATION;VALUE=URI;X-ADDRESS=AyurPrana Listening Room 312 Haywood Rd Asheville NC 28806;X-APPLE-RADIUS=500;X-TITLE=312 Haywood Rd:geo:-82.5760261,35.5775962
END:VEVENT
BEGIN:VEVENT
DTSTART;TZID=America/New_York:20271028T090000
DTEND;TZID=America/New_York:20271028T103000
DTSTAMP:20260423T002648
CREATED:20260324T145424Z
LAST-MODIFIED:20260409T212604Z
UID:10051209-1824714000-1824719400@livemusicasheville.com
SUMMARY:Live Music Yoga with Seán Johnson ft. Chris Rosser
DESCRIPTION:Related
URL:https://livemusicasheville.com/calendar/live-music-yoga-with-sean-johnson-ft-chris-rosser/2027-10-28/
LOCATION:AyurPrana Listening Room\, 312 Haywood Rd\, Asheville\, NC\, 28806
CATEGORIES:Asheville Area,Live Music
GEO:35.5775962;-82.5760261
X-APPLE-STRUCTURED-LOCATION;VALUE=URI;X-ADDRESS=AyurPrana Listening Room 312 Haywood Rd Asheville NC 28806;X-APPLE-RADIUS=500;X-TITLE=312 Haywood Rd:geo:-82.5760261,35.5775962
END:VEVENT
BEGIN:VEVENT
DTSTART;TZID=America/New_York:20271104T090000
DTEND;TZID=America/New_York:20271104T103000
DTSTAMP:20260423T002648
CREATED:20260324T145424Z
LAST-MODIFIED:20260409T212604Z
UID:10051210-1825318800-1825324200@livemusicasheville.com
SUMMARY:Live Music Yoga with Seán Johnson ft. Chris Rosser
DESCRIPTION:Related
URL:https://livemusicasheville.com/calendar/live-music-yoga-with-sean-johnson-ft-chris-rosser/2027-11-04/
LOCATION:AyurPrana Listening Room\, 312 Haywood Rd\, Asheville\, NC\, 28806
CATEGORIES:Asheville Area,Live Music
GEO:35.5775962;-82.5760261
X-APPLE-STRUCTURED-LOCATION;VALUE=URI;X-ADDRESS=AyurPrana Listening Room 312 Haywood Rd Asheville NC 28806;X-APPLE-RADIUS=500;X-TITLE=312 Haywood Rd:geo:-82.5760261,35.5775962
END:VEVENT
BEGIN:VEVENT
DTSTART;TZID=America/New_York:20271111T090000
DTEND;TZID=America/New_York:20271111T103000
DTSTAMP:20260423T002648
CREATED:20260324T145424Z
LAST-MODIFIED:20260409T212604Z
UID:10051211-1825923600-1825929000@livemusicasheville.com
SUMMARY:Live Music Yoga with Seán Johnson ft. Chris Rosser
DESCRIPTION:Related
URL:https://livemusicasheville.com/calendar/live-music-yoga-with-sean-johnson-ft-chris-rosser/2027-11-11/
LOCATION:AyurPrana Listening Room\, 312 Haywood Rd\, Asheville\, NC\, 28806
CATEGORIES:Asheville Area,Live Music
GEO:35.5775962;-82.5760261
X-APPLE-STRUCTURED-LOCATION;VALUE=URI;X-ADDRESS=AyurPrana Listening Room 312 Haywood Rd Asheville NC 28806;X-APPLE-RADIUS=500;X-TITLE=312 Haywood Rd:geo:-82.5760261,35.5775962
END:VEVENT
BEGIN:VEVENT
DTSTART;TZID=America/New_York:20271118T090000
DTEND;TZID=America/New_York:20271118T103000
DTSTAMP:20260423T002648
CREATED:20260324T145424Z
LAST-MODIFIED:20260409T212604Z
UID:10051212-1826528400-1826533800@livemusicasheville.com
SUMMARY:Live Music Yoga with Seán Johnson ft. Chris Rosser
DESCRIPTION:Related
URL:https://livemusicasheville.com/calendar/live-music-yoga-with-sean-johnson-ft-chris-rosser/2027-11-18/
LOCATION:AyurPrana Listening Room\, 312 Haywood Rd\, Asheville\, NC\, 28806
CATEGORIES:Asheville Area,Live Music
GEO:35.5775962;-82.5760261
X-APPLE-STRUCTURED-LOCATION;VALUE=URI;X-ADDRESS=AyurPrana Listening Room 312 Haywood Rd Asheville NC 28806;X-APPLE-RADIUS=500;X-TITLE=312 Haywood Rd:geo:-82.5760261,35.5775962
END:VEVENT
BEGIN:VEVENT
DTSTART;TZID=America/New_York:20271125T090000
DTEND;TZID=America/New_York:20271125T103000
DTSTAMP:20260423T002648
CREATED:20260324T145424Z
LAST-MODIFIED:20260409T212604Z
UID:10051213-1827133200-1827138600@livemusicasheville.com
SUMMARY:Live Music Yoga with Seán Johnson ft. Chris Rosser
DESCRIPTION:Related
URL:https://livemusicasheville.com/calendar/live-music-yoga-with-sean-johnson-ft-chris-rosser/2027-11-25/
LOCATION:AyurPrana Listening Room\, 312 Haywood Rd\, Asheville\, NC\, 28806
CATEGORIES:Asheville Area,Live Music
GEO:35.5775962;-82.5760261
X-APPLE-STRUCTURED-LOCATION;VALUE=URI;X-ADDRESS=AyurPrana Listening Room 312 Haywood Rd Asheville NC 28806;X-APPLE-RADIUS=500;X-TITLE=312 Haywood Rd:geo:-82.5760261,35.5775962
END:VEVENT
END:VCALENDAR