BEGIN:VCALENDAR
VERSION:2.0
PRODID:-//LiveMusicAsheville.com - ECPv6.15.20//NONSGML v1.0//EN
CALSCALE:GREGORIAN
METHOD:PUBLISH
X-WR-CALNAME:LiveMusicAsheville.com
X-ORIGINAL-URL:https://livemusicasheville.com
X-WR-CALDESC:Events for LiveMusicAsheville.com
REFRESH-INTERVAL;VALUE=DURATION:PT1H
X-Robots-Tag:noindex
X-PUBLISHED-TTL:PT1H
BEGIN:VTIMEZONE
TZID:America/New_York
BEGIN:DAYLIGHT
TZOFFSETFROM:-0500
TZOFFSETTO:-0400
TZNAME:EDT
DTSTART:20240310T070000
END:DAYLIGHT
BEGIN:STANDARD
TZOFFSETFROM:-0400
TZOFFSETTO:-0500
TZNAME:EST
DTSTART:20241103T060000
END:STANDARD
BEGIN:DAYLIGHT
TZOFFSETFROM:-0500
TZOFFSETTO:-0400
TZNAME:EDT
DTSTART:20250309T070000
END:DAYLIGHT
BEGIN:STANDARD
TZOFFSETFROM:-0400
TZOFFSETTO:-0500
TZNAME:EST
DTSTART:20251102T060000
END:STANDARD
BEGIN:DAYLIGHT
TZOFFSETFROM:-0500
TZOFFSETTO:-0400
TZNAME:EDT
DTSTART:20260308T070000
END:DAYLIGHT
BEGIN:STANDARD
TZOFFSETFROM:-0400
TZOFFSETTO:-0500
TZNAME:EST
DTSTART:20261101T060000
END:STANDARD
BEGIN:DAYLIGHT
TZOFFSETFROM:-0500
TZOFFSETTO:-0400
TZNAME:EDT
DTSTART:20270314T070000
END:DAYLIGHT
BEGIN:STANDARD
TZOFFSETFROM:-0400
TZOFFSETTO:-0500
TZNAME:EST
DTSTART:20271107T060000
END:STANDARD
END:VTIMEZONE
BEGIN:VEVENT
DTSTART;TZID=America/New_York:20260424T190000
DTEND;TZID=America/New_York:20260424T220000
DTSTAMP:20260425T190739
CREATED:20260422T182219Z
LAST-MODIFIED:20260422T182219Z
UID:10058449-1777057200-1777068000@livemusicasheville.com
SUMMARY:Willie Nelson & Family
DESCRIPTION:Related
URL:https://livemusicasheville.com/calendar/willie-nelson-family/
LOCATION:Asheville Yards
CATEGORIES:Asheville Area,Live Music
GEO:35.5920902;-82.55537
END:VEVENT
BEGIN:VEVENT
DTSTART;TZID=America/New_York:20260417T180000
DTEND;TZID=America/New_York:20260417T220000
DTSTAMP:20260425T190739
CREATED:20260415T174200Z
LAST-MODIFIED:20260415T174200Z
UID:10057140-1776448800-1776463200@livemusicasheville.com
SUMMARY:Greensky Bluegrass w/sg Fireside Collective
DESCRIPTION:Related
URL:https://livemusicasheville.com/calendar/greensky-bluegrass-w-sg-fireside-collective/
LOCATION:Asheville Yards
CATEGORIES:Asheville Area,Live Music
GEO:35.5920902;-82.55537
END:VEVENT
BEGIN:VEVENT
DTSTART;TZID=America/New_York:20260107T180000
DTEND;TZID=America/New_York:20260107T200000
DTSTAMP:20260425T190739
CREATED:20260107T202152Z
LAST-MODIFIED:20260107T212226Z
UID:10033557-1767808800-1767816000@livemusicasheville.com
SUMMARY:Jame Schlender & Friends
DESCRIPTION:Related
URL:https://livemusicasheville.com/calendar/jame-schlender-friends/
LOCATION:Asheville Yards
CATEGORIES:Asheville Area,Live Music
GEO:35.5920902;-82.55537
END:VEVENT
BEGIN:VEVENT
DTSTART;TZID=America/New_York:20251217T180000
DTEND;TZID=America/New_York:20251217T210000
DTSTAMP:20260425T190739
CREATED:20251210T202536Z
LAST-MODIFIED:20251210T202536Z
UID:10027254-1765994400-1766005200@livemusicasheville.com
SUMMARY:Jackson Grimm & Friends
DESCRIPTION:Related
URL:https://livemusicasheville.com/calendar/jackson-grimm-friends/
LOCATION:Asheville Yards
CATEGORIES:Asheville Area,Live Music
GEO:35.5920902;-82.55537
END:VEVENT
BEGIN:VEVENT
DTSTART;TZID=America/New_York:20251210T180000
DTEND;TZID=America/New_York:20251210T210000
DTSTAMP:20260425T190739
CREATED:20251119T192021Z
LAST-MODIFIED:20251208T125407Z
UID:10024830-1765389600-1765400400@livemusicasheville.com
SUMMARY:Buncombe Turnpike duo
DESCRIPTION:Related
URL:https://livemusicasheville.com/calendar/buncombe-turnpike-duo/
LOCATION:Asheville Yards
CATEGORIES:Asheville Area,Live Music
GEO:35.5920902;-82.55537
END:VEVENT
BEGIN:VEVENT
DTSTART;TZID=America/New_York:20251031T190000
DTEND;TZID=America/New_York:20251031T220000
DTSTAMP:20260425T190739
CREATED:20251029T175538Z
LAST-MODIFIED:20251029T175538Z
UID:10023264-1761937200-1761948000@livemusicasheville.com
SUMMARY:Sam Barber w/Clover County\, Barrett
DESCRIPTION:Related
URL:https://livemusicasheville.com/calendar/sam-barber-w-clover-county-barrett/
LOCATION:Asheville Yards
CATEGORIES:Asheville Area,Live Music
GEO:35.5920902;-82.55537
END:VEVENT
BEGIN:VEVENT
DTSTART;TZID=America/New_York:20251015T190000
DTEND;TZID=America/New_York:20251015T220000
DTSTAMP:20260425T190739
CREATED:20251008T183127Z
LAST-MODIFIED:20251008T183127Z
UID:10022462-1760554800-1760565600@livemusicasheville.com
SUMMARY:MJ Lenderman w/ David Nance & Mowed Sound
DESCRIPTION:Related
URL:https://livemusicasheville.com/calendar/mj-lenderman-w-david-nance-mowed-sound/
LOCATION:Asheville Yards
CATEGORIES:Asheville Area,Live Music
GEO:35.5920902;-82.55537
END:VEVENT
BEGIN:VEVENT
DTSTART;TZID=America/New_York:20251002T173000
DTEND;TZID=America/New_York:20251002T210000
DTSTAMP:20260425T190739
CREATED:20250924T142904Z
LAST-MODIFIED:20250924T142904Z
UID:10021579-1759426200-1759438800@livemusicasheville.com
SUMMARY:Stronger Than The Storm = A MountainTrue Gathering ft. Unihorn
DESCRIPTION:It’s been nearly a year since Helene\, and we’re still here and stronger than ever. To mark the one-year anniversary\, we decided to focus on what matters most: coming together to honor people like you who are helping our mountain communities recover. This event will be our Annual Member Gathering\, Volunteer Appreciation\, and community celebration rolled into one special event! We hope you will join us as we recognize this milestone with an inspiring celebration of the people\, the progress\, and the power of community. \n📅 Thursday\, October 2\, 2025\n📍 Asheville Yards — 75 Coxe Ave\, Asheville\, NC 28801\n🕠 Doors open at 5:30 PM \nWhat’s in store?\n🎵 Live music by Unihorn (featuring members of Empire Strikes Brass!)\n🌭 Delicious local food\n🎨🖌️ Face painting & fairy hair \n🎁 Door prizes\n📰 Community resources\n…and a whole lot more! \n\n\n	Related
URL:https://livemusicasheville.com/calendar/stronger-than-the-storm-a-mountaintrue-gathering-ft-unihorn/
LOCATION:Asheville Yards
CATEGORIES:Asheville Area,Live Music
GEO:35.5920902;-82.55537
END:VEVENT
BEGIN:VEVENT
DTSTART;TZID=America/New_York:20251001T190000
DTEND;TZID=America/New_York:20251001T220000
DTSTAMP:20260425T190739
CREATED:20250924T142431Z
LAST-MODIFIED:20250924T142431Z
UID:10021578-1759345200-1759356000@livemusicasheville.com
SUMMARY:Lake Street Dive w/ Trousdale
DESCRIPTION:Related
URL:https://livemusicasheville.com/calendar/lake-street-dive-w-trousdale/
LOCATION:Asheville Yards
CATEGORIES:Asheville Area,Live Music
GEO:35.5920902;-82.55537
END:VEVENT
BEGIN:VEVENT
DTSTART;TZID=America/New_York:20250930T190000
DTEND;TZID=America/New_York:20250930T220000
DTSTAMP:20260425T190739
CREATED:20250924T142319Z
LAST-MODIFIED:20250924T142514Z
UID:10021577-1759258800-1759269600@livemusicasheville.com
SUMMARY:SOLD OUT | Djo w/ Post Animal
DESCRIPTION:Related
URL:https://livemusicasheville.com/calendar/djo-w-post-animal/
LOCATION:Asheville Yards
CATEGORIES:Asheville Area,Live Music
GEO:35.5920902;-82.55537
END:VEVENT
BEGIN:VEVENT
DTSTART;TZID=America/New_York:20250927T190000
DTEND;TZID=America/New_York:20250927T220000
DTSTAMP:20260425T190739
CREATED:20250924T142212Z
LAST-MODIFIED:20250924T142212Z
UID:10021576-1758999600-1759010400@livemusicasheville.com
SUMMARY:Rilo Kiley
DESCRIPTION:Related
URL:https://livemusicasheville.com/calendar/rilo-kiley/
LOCATION:Asheville Yards
CATEGORIES:Asheville Area,Live Music
GEO:35.5920902;-82.55537
END:VEVENT
BEGIN:VEVENT
DTSTART;TZID=America/New_York:20250923T190000
DTEND;TZID=America/New_York:20250923T220000
DTSTAMP:20260425T190739
CREATED:20250916T172830Z
LAST-MODIFIED:20250916T172830Z
UID:10021192-1758654000-1758664800@livemusicasheville.com
SUMMARY:Lucy Dacus w/ Slow Pulp
DESCRIPTION:Related
URL:https://livemusicasheville.com/calendar/lucy-dacus-w-slow-pulp/
LOCATION:Asheville Yards
CATEGORIES:Asheville Area,Live Music
GEO:35.5920902;-82.55537
END:VEVENT
BEGIN:VEVENT
DTSTART;TZID=America/New_York:20250921T190000
DTEND;TZID=America/New_York:20250921T220000
DTSTAMP:20260425T190739
CREATED:20250916T172730Z
LAST-MODIFIED:20250916T172730Z
UID:10021191-1758481200-1758492000@livemusicasheville.com
SUMMARY:Father John Misty w/ Cut Worms
DESCRIPTION:Related
URL:https://livemusicasheville.com/calendar/father-john-misty-w-cut-worms/
LOCATION:Asheville Yards
GEO:35.5920902;-82.55537
END:VEVENT
BEGIN:VEVENT
DTSTART;TZID=America/New_York:20250917T180000
DTEND;TZID=America/New_York:20250917T220000
DTSTAMP:20260425T190739
CREATED:20250910T183938Z
LAST-MODIFIED:20250910T183938Z
UID:10021009-1758132000-1758146400@livemusicasheville.com
SUMMARY:Turnstile w/ Mannequin Pussy\, Speed\, Jane Remover
DESCRIPTION:Related
URL:https://livemusicasheville.com/calendar/turnstile-w-mannequin-pussy-speed-jane-remover/
LOCATION:Asheville Yards
CATEGORIES:Asheville Area,Live Music
GEO:35.5920902;-82.55537
END:VEVENT
BEGIN:VEVENT
DTSTART;TZID=America/New_York:20250916T183000
DTEND;TZID=America/New_York:20250916T220000
DTSTAMP:20260425T190739
CREATED:20250910T183826Z
LAST-MODIFIED:20250910T183826Z
UID:10021008-1758047400-1758060000@livemusicasheville.com
SUMMARY:Vance Joy w/ Sammy Rae & The Friends\, Jonah Kagen\, Kyle Schuesler
DESCRIPTION:Related
URL:https://livemusicasheville.com/calendar/vance-joy-w-sammy-rae-the-friends-jonah-kagen-kyle-schuesler/
LOCATION:Asheville Yards
CATEGORIES:Asheville Area,Live Music
GEO:35.5920902;-82.55537
END:VEVENT
BEGIN:VEVENT
DTSTART;TZID=America/New_York:20250914T190000
DTEND;TZID=America/New_York:20250914T220000
DTSTAMP:20260425T190739
CREATED:20250910T183712Z
LAST-MODIFIED:20250910T183712Z
UID:10021007-1757876400-1757887200@livemusicasheville.com
SUMMARY:SOLD OUT | Sierra Ferrell w/ Nikki Lane
DESCRIPTION:Related
URL:https://livemusicasheville.com/calendar/sold-out-sierra-ferrell-w-nikki-lane/
LOCATION:Asheville Yards
CATEGORIES:Asheville Area,Live Music
GEO:35.5920902;-82.55537
END:VEVENT
BEGIN:VEVENT
DTSTART;TZID=America/New_York:20250910T180000
DTEND;TZID=America/New_York:20250910T220000
DTSTAMP:20260425T190739
CREATED:20250903T185013Z
LAST-MODIFIED:20250903T185013Z
UID:10020639-1757527200-1757541600@livemusicasheville.com
SUMMARY:Pixies w/ Spoon\, Fazerdaze
DESCRIPTION:Related
URL:https://livemusicasheville.com/calendar/pixies-w-spoon-fazerdaze/
LOCATION:Asheville Yards
CATEGORIES:Asheville Area,Live Music
GEO:35.5920902;-82.55537
END:VEVENT
BEGIN:VEVENT
DTSTART;TZID=America/New_York:20250830T190000
DTEND;TZID=America/New_York:20250830T220000
DTSTAMP:20260425T190739
CREATED:20250827T180807Z
LAST-MODIFIED:20250827T180807Z
UID:10020330-1756580400-1756591200@livemusicasheville.com
SUMMARY:SOLD OUT | Ethel Cain w/ 9million
DESCRIPTION:Related
URL:https://livemusicasheville.com/calendar/sold-out-ethel-cain-w-9million/
LOCATION:Asheville Yards
CATEGORIES:Asheville Area,Live Music
GEO:35.5920902;-82.55537
END:VEVENT
BEGIN:VEVENT
DTSTART;TZID=America/New_York:20250828T180000
DTEND;TZID=America/New_York:20250828T220000
DTSTAMP:20260425T190739
CREATED:20250820T175059Z
LAST-MODIFIED:20250820T175059Z
UID:10019746-1756404000-1756418400@livemusicasheville.com
SUMMARY:SOLD OUT | Caamp
DESCRIPTION:Related
URL:https://livemusicasheville.com/calendar/sold-out-caamp/
LOCATION:Asheville Yards
CATEGORIES:Asheville Area,Live Music
GEO:35.5920902;-82.55537
END:VEVENT
BEGIN:VEVENT
DTSTART;TZID=America/New_York:20250810T173000
DTEND;TZID=America/New_York:20250810T220000
DTSTAMP:20260425T190739
CREATED:20250806T230215Z
LAST-MODIFIED:20250806T230215Z
UID:10018649-1754847000-1754863200@livemusicasheville.com
SUMMARY:Blackberry Smoke w/ Mike Campbell and The Dirty Knobs
DESCRIPTION:Related
URL:https://livemusicasheville.com/calendar/blackberry-smoke-w-mike-campbell-and-the-dirty-knobs/
LOCATION:Asheville Yards
CATEGORIES:Asheville Area,Live Music
GEO:35.5920902;-82.55537
END:VEVENT
BEGIN:VEVENT
DTSTART;TZID=America/New_York:20250802T173000
DTEND;TZID=America/New_York:20250802T220000
DTSTAMP:20260425T190739
CREATED:20250730T152724Z
LAST-MODIFIED:20250730T152724Z
UID:10018439-1754155800-1754172000@livemusicasheville.com
SUMMARY:STS9 w/ Emancipator
DESCRIPTION:Related
URL:https://livemusicasheville.com/calendar/sts9-w-emancipator/
LOCATION:Asheville Yards
CATEGORIES:Asheville Area,DJ/Electronic,Live Music
GEO:35.5920902;-82.55537
END:VEVENT
BEGIN:VEVENT
DTSTART;TZID=America/New_York:20250801T173000
DTEND;TZID=America/New_York:20250801T220000
DTSTAMP:20260425T190739
CREATED:20250730T152618Z
LAST-MODIFIED:20250730T152618Z
UID:10018438-1754069400-1754085600@livemusicasheville.com
SUMMARY:STS9 w/ Beats Antique
DESCRIPTION:Related
URL:https://livemusicasheville.com/calendar/sts9-w-beats-antique/
LOCATION:Asheville Yards
CATEGORIES:Asheville Area,DJ/Electronic,Live Music
GEO:35.5920902;-82.55537
END:VEVENT
BEGIN:VEVENT
DTSTART;TZID=America/New_York:20250722T180000
DTEND;TZID=America/New_York:20250722T220000
DTSTAMP:20260425T190739
CREATED:20250716T174040Z
LAST-MODIFIED:20250716T174040Z
UID:10017905-1753207200-1753221600@livemusicasheville.com
SUMMARY:The Head and The Heart w/ Wild Rivers\, Marfa
DESCRIPTION:Related
URL:https://livemusicasheville.com/calendar/the-head-and-the-heart-w-wild-rivers-marfa/
LOCATION:Asheville Yards
CATEGORIES:Asheville Area,Live Music
GEO:35.5920902;-82.55537
END:VEVENT
BEGIN:VEVENT
DTSTART;TZID=America/New_York:20250718T190000
DTEND;TZID=America/New_York:20250718T220000
DTSTAMP:20260425T190739
CREATED:20250716T173924Z
LAST-MODIFIED:20250716T173924Z
UID:10017904-1752865200-1752876000@livemusicasheville.com
SUMMARY:Flipturn
DESCRIPTION:Related
URL:https://livemusicasheville.com/calendar/flipturn/
LOCATION:Asheville Yards
CATEGORIES:Asheville Area,Live Music
GEO:35.5920902;-82.55537
END:VEVENT
BEGIN:VEVENT
DTSTART;TZID=America/New_York:20250717T190000
DTEND;TZID=America/New_York:20250717T220000
DTSTAMP:20260425T190739
CREATED:20250709T201000Z
LAST-MODIFIED:20250717T162517Z
UID:10017229-1752778800-1752789600@livemusicasheville.com
SUMMARY:Greensky Bluegrass
DESCRIPTION:Related
URL:https://livemusicasheville.com/calendar/greensky-bluegrass/
LOCATION:Asheville Yards
CATEGORIES:Asheville Area,Live Music
GEO:35.5920902;-82.55537
END:VEVENT
BEGIN:VEVENT
DTSTART;TZID=America/New_York:20250712T190000
DTEND;TZID=America/New_York:20250712T230000
DTSTAMP:20260425T190739
CREATED:20250709T200718Z
LAST-MODIFIED:20250709T200718Z
UID:10017228-1752346800-1752361200@livemusicasheville.com
SUMMARY:Iron & Wine w/sg I'm With Her & Ken Pomeroy
DESCRIPTION:Related
URL:https://livemusicasheville.com/calendar/iron-wine-w-sg-im-with-her-ken-pomeroy/
LOCATION:Asheville Yards
CATEGORIES:Asheville Area,Live Music
GEO:35.5920902;-82.55537
END:VEVENT
BEGIN:VEVENT
DTSTART;TZID=America/New_York:20250711T190000
DTEND;TZID=America/New_York:20250711T230000
DTSTAMP:20260425T190739
CREATED:20250709T200550Z
LAST-MODIFIED:20250709T200550Z
UID:10017227-1752260400-1752274800@livemusicasheville.com
SUMMARY:Yonder Mountain String Band / Railroad Earth / Daniel Donato's Cosmic Country
DESCRIPTION:Related
URL:https://livemusicasheville.com/calendar/yonder-mountain-string-band-railroad-earth-daniel-donatos-cosmic-country/
LOCATION:Asheville Yards
CATEGORIES:Asheville Area,Live Music
GEO:35.5920902;-82.55537
END:VEVENT
BEGIN:VEVENT
DTSTART;TZID=America/New_York:20250707T190000
DTEND;TZID=America/New_York:20250707T220000
DTSTAMP:20260425T190739
CREATED:20250702T155959Z
LAST-MODIFIED:20250702T155959Z
UID:10016695-1751914800-1751925600@livemusicasheville.com
SUMMARY:Gary Clark Jr.
DESCRIPTION:Related
URL:https://livemusicasheville.com/calendar/gary-clark-jr/
LOCATION:Asheville Yards
CATEGORIES:Asheville Area,Live Music
GEO:35.5920902;-82.55537
END:VEVENT
BEGIN:VEVENT
DTSTART;TZID=America/New_York:20250624T190000
DTEND;TZID=America/New_York:20250624T220000
DTSTAMP:20260425T190739
CREATED:20250619T011646Z
LAST-MODIFIED:20250619T011646Z
UID:10016073-1750791600-1750802400@livemusicasheville.com
SUMMARY:Nathaniel Rateliff & The Night Sweats
DESCRIPTION:Related
URL:https://livemusicasheville.com/calendar/nathaniel-rateliff-the-night-sweats/
LOCATION:Asheville Yards
CATEGORIES:Asheville Area,Live Music
GEO:35.5920902;-82.55537
END:VEVENT
BEGIN:VEVENT
DTSTART;TZID=America/New_York:20250615T190000
DTEND;TZID=America/New_York:20250615T220000
DTSTAMP:20260425T190739
CREATED:20250612T005833Z
LAST-MODIFIED:20250615T205217Z
UID:10015814-1750014000-1750024800@livemusicasheville.com
SUMMARY:Wallows w/ Porches
DESCRIPTION:Related
URL:https://livemusicasheville.com/calendar/wallows-w-porches/
LOCATION:Asheville Yards
CATEGORIES:Asheville Area,Live Music
GEO:35.5920902;-82.55537
END:VEVENT
END:VCALENDAR