BEGIN:VCALENDAR
VERSION:2.0
PRODID:-//LiveMusicAsheville.com - ECPv6.15.20//NONSGML v1.0//EN
CALSCALE:GREGORIAN
METHOD:PUBLISH
X-WR-CALNAME:LiveMusicAsheville.com
X-ORIGINAL-URL:https://livemusicasheville.com
X-WR-CALDESC:Events for LiveMusicAsheville.com
REFRESH-INTERVAL;VALUE=DURATION:PT1H
X-Robots-Tag:noindex
X-PUBLISHED-TTL:PT1H
BEGIN:VTIMEZONE
TZID:America/New_York
BEGIN:DAYLIGHT
TZOFFSETFROM:-0500
TZOFFSETTO:-0400
TZNAME:EDT
DTSTART:20250309T070000
END:DAYLIGHT
BEGIN:STANDARD
TZOFFSETFROM:-0400
TZOFFSETTO:-0500
TZNAME:EST
DTSTART:20251102T060000
END:STANDARD
BEGIN:DAYLIGHT
TZOFFSETFROM:-0500
TZOFFSETTO:-0400
TZNAME:EDT
DTSTART:20260308T070000
END:DAYLIGHT
BEGIN:STANDARD
TZOFFSETFROM:-0400
TZOFFSETTO:-0500
TZNAME:EST
DTSTART:20261101T060000
END:STANDARD
BEGIN:DAYLIGHT
TZOFFSETFROM:-0500
TZOFFSETTO:-0400
TZNAME:EDT
DTSTART:20270314T070000
END:DAYLIGHT
BEGIN:STANDARD
TZOFFSETFROM:-0400
TZOFFSETTO:-0500
TZNAME:EST
DTSTART:20271107T060000
END:STANDARD
END:VTIMEZONE
BEGIN:VEVENT
DTSTART;TZID=America/New_York:20260422T183000
DTEND;TZID=America/New_York:20260422T190000
DTSTAMP:20260421T175219
CREATED:20260421T150248Z
LAST-MODIFIED:20260421T150422Z
UID:10058133-1776882600-1776884400@livemusicasheville.com
SUMMARY:Earth Day Concert w/ Murphy Campbell
DESCRIPTION:  \n  \nMurphy Campbell is nationally recognized\, known throughout Western North Carolina for her heartfelt blend of traditional Appalachian folk\, mountain ballads\, and acoustic storytelling music rooted in the rich musical heritage of our region. Her performances weave together guitar\, vocals\, and narrative song in a way that honors the land\, community\, and shared human experience. Drawing from Appalachian traditions while offering fresh interpretations\, Murphy’s music reflects themes of creation\, resilience\, and connection — making it a meaningful celebration of Earth Day. \n\n\n	Related
URL:https://livemusicasheville.com/calendar/earth-day-concert-w-murphy-campbell/
LOCATION:Alexander Chapel United Methodist Church\, 880 Aiken Road\, Asheville\, NC\, 28804\, United States
CATEGORIES:Asheville Area,Live Music
GEO:35.6733059;-82.5950885
X-APPLE-STRUCTURED-LOCATION;VALUE=URI;X-ADDRESS=Alexander Chapel United Methodist Church 880 Aiken Road Asheville NC 28804 United States;X-APPLE-RADIUS=500;X-TITLE=880 Aiken Road:geo:-82.5950885,35.6733059
END:VEVENT
END:VCALENDAR