BEGIN:VCALENDAR
VERSION:2.0
PRODID:-//LiveMusicAsheville.com - ECPv6.15.20//NONSGML v1.0//EN
CALSCALE:GREGORIAN
METHOD:PUBLISH
X-WR-CALNAME:LiveMusicAsheville.com
X-ORIGINAL-URL:https://livemusicasheville.com
X-WR-CALDESC:Events for LiveMusicAsheville.com
REFRESH-INTERVAL;VALUE=DURATION:PT1H
X-Robots-Tag:noindex
X-PUBLISHED-TTL:PT1H
BEGIN:VTIMEZONE
TZID:America/New_York
BEGIN:DAYLIGHT
TZOFFSETFROM:-0500
TZOFFSETTO:-0400
TZNAME:EDT
DTSTART:20250309T070000
END:DAYLIGHT
BEGIN:STANDARD
TZOFFSETFROM:-0400
TZOFFSETTO:-0500
TZNAME:EST
DTSTART:20251102T060000
END:STANDARD
BEGIN:DAYLIGHT
TZOFFSETFROM:-0500
TZOFFSETTO:-0400
TZNAME:EDT
DTSTART:20260308T070000
END:DAYLIGHT
BEGIN:STANDARD
TZOFFSETFROM:-0400
TZOFFSETTO:-0500
TZNAME:EST
DTSTART:20261101T060000
END:STANDARD
BEGIN:DAYLIGHT
TZOFFSETFROM:-0500
TZOFFSETTO:-0400
TZNAME:EDT
DTSTART:20270314T070000
END:DAYLIGHT
BEGIN:STANDARD
TZOFFSETFROM:-0400
TZOFFSETTO:-0500
TZNAME:EST
DTSTART:20271107T060000
END:STANDARD
END:VTIMEZONE
BEGIN:VEVENT
DTSTART;TZID=America/New_York:20260502T150000
DTEND;TZID=America/New_York:20260502T170000
DTSTAMP:20260420T185353
CREATED:20260420T151317Z
LAST-MODIFIED:20260420T151317Z
UID:10057862-1777734000-1777741200@livemusicasheville.com
SUMMARY:Blue Ridge Orchestra presents: BOOM-DE-AY
DESCRIPTION:Boom! It’s the Blue Ridge Orchestra’s 26th season finale. We hope you’ll join us for an afternoon of percussive explosions starting with Natalie William’s Sonic Boom\, followed by Stravinsky’s Berceuse and Finale from The Firebird and finally Mussorgsky’s Pictures at an Exhibition.\nPROGRAM:Natalie WILLIAMS – Sonic BoomCHAMINADE – Callirhöe Suite\, op. 37aSTRAVINSKY – Berceuse and Finale from The FirebirdMUSSORGSKY (orch. RAVEL) – Pictures at an Exhibition\nCONCERT DETAILS:Blue Ridge Orchestra’s BOOM-DE-AYSaturday\, May 2nd\, 2026(Performance 1 of 2)\n LocationA. C. Reynolds High School Auditorium1 Rocket DriveAsheville\, NC 28803\n TicketsGeneral Admission: $20Friends of the Orchestra (Current Donors): $15Students: $5Children 6 and under: FreeGet Tickets Online: https://blueridgeorchestra.org/boom-de-ay-may-2026 or at the door.\n  \n  \n  \n\n\n	Related
URL:https://livemusicasheville.com/calendar/blue-ridge-orchestra-presents-boom-de-ay/
LOCATION:A. C. Reynolds High School Auditorium
CATEGORIES:Asheville Area,Live Music
END:VEVENT
END:VCALENDAR