BEGIN:VCALENDAR
VERSION:2.0
PRODID:-//LiveMusicAsheville.com - ECPv6.15.20//NONSGML v1.0//EN
CALSCALE:GREGORIAN
METHOD:PUBLISH
X-ORIGINAL-URL:https://livemusicasheville.com
X-WR-CALDESC:Events for LiveMusicAsheville.com
REFRESH-INTERVAL;VALUE=DURATION:PT1H
X-Robots-Tag:noindex
X-PUBLISHED-TTL:PT1H
BEGIN:VTIMEZONE
TZID:America/New_York
BEGIN:DAYLIGHT
TZOFFSETFROM:-0500
TZOFFSETTO:-0400
TZNAME:EDT
DTSTART:20280312T070000
END:DAYLIGHT
BEGIN:STANDARD
TZOFFSETFROM:-0400
TZOFFSETTO:-0500
TZNAME:EST
DTSTART:20281105T060000
END:STANDARD
BEGIN:DAYLIGHT
TZOFFSETFROM:-0500
TZOFFSETTO:-0400
TZNAME:EDT
DTSTART:20290311T070000
END:DAYLIGHT
BEGIN:STANDARD
TZOFFSETFROM:-0400
TZOFFSETTO:-0500
TZNAME:EST
DTSTART:20291104T060000
END:STANDARD
BEGIN:DAYLIGHT
TZOFFSETFROM:-0500
TZOFFSETTO:-0400
TZNAME:EDT
DTSTART:20300310T070000
END:DAYLIGHT
BEGIN:STANDARD
TZOFFSETFROM:-0400
TZOFFSETTO:-0500
TZNAME:EST
DTSTART:20301103T060000
END:STANDARD
END:VTIMEZONE
BEGIN:VEVENT
DTSTART;TZID=America/New_York:20290308T200000
DTEND;TZID=America/New_York:20290308T220000
DTSTAMP:20260422T204508
CREATED:20260324T002042Z
LAST-MODIFIED:20260324T194103Z
UID:10051809-1867694400-1867701600@livemusicasheville.com
SUMMARY:Rock n Soul with Pleasure Chest
DESCRIPTION:Related
URL:https://livemusicasheville.com/calendar/rock-n-soul-with-pleasure-chest-2-2-2-2-2-2-2-2-2/2029-03-08/
LOCATION:5 Walnut Wine Bar
CATEGORIES:Asheville Area,Live Music
GEO:35.596654;-82.5525389
END:VEVENT
BEGIN:VEVENT
DTSTART;TZID=America/New_York:20290310T190000
DTEND;TZID=America/New_York:20290310T210000
DTSTAMP:20260422T204508
CREATED:20260221T162039Z
LAST-MODIFIED:20260221T162041Z
UID:10041880-1867863600-1867870800@livemusicasheville.com
SUMMARY:Will Hartz
DESCRIPTION:Related
URL:https://livemusicasheville.com/calendar/will-hartz-3-2-2-2-2-2-2/2029-03-10/
LOCATION:5 Walnut Wine Bar
CATEGORIES:Asheville Area,Live Music
GEO:35.596654;-82.5525389
END:VEVENT
BEGIN:VEVENT
DTSTART;TZID=America/New_York:20290312T190000
DTEND;TZID=America/New_York:20290312T210000
DTSTAMP:20260422T204508
CREATED:20260316T200227Z
LAST-MODIFIED:20260316T200227Z
UID:10034690-1868036400-1868043600@livemusicasheville.com
SUMMARY:Traditional Bluegrass w/ The Asheville Mountain Boys
DESCRIPTION:Related
URL:https://livemusicasheville.com/calendar/bluegrass-w-the-asheville-mountain-boys-3-2-2/2029-03-12/
LOCATION:5 Walnut Wine Bar
CATEGORIES:Asheville Area,Live Music
GEO:35.596654;-82.5525389
END:VEVENT
BEGIN:VEVENT
DTSTART;TZID=America/New_York:20290313T200000
DTEND;TZID=America/New_York:20290313T220000
DTSTAMP:20260422T204508
CREATED:20251023T142458Z
LAST-MODIFIED:20260406T181605Z
UID:10055009-1868126400-1868133600@livemusicasheville.com
SUMMARY:Hot Jazz w/ The John Henrys
DESCRIPTION:Related
URL:https://livemusicasheville.com/calendar/hot-jazz-w-the-john-henrys-2-2/2029-03-13/
LOCATION:5 Walnut Wine Bar
CATEGORIES:Asheville Area,Live Music
GEO:35.596654;-82.5525389
END:VEVENT
BEGIN:VEVENT
DTSTART;TZID=America/New_York:20290314T200000
DTEND;TZID=America/New_York:20290314T220000
DTSTAMP:20260422T204508
CREATED:20260326T085550Z
LAST-MODIFIED:20260326T085551Z
UID:10052792-1868212800-1868220000@livemusicasheville.com
SUMMARY:Bam-A Lam with Jason Krekel & Craig Kellberg
DESCRIPTION:Related
URL:https://livemusicasheville.com/calendar/bam-a-lam-with-jason-krekel-craig-kellberg-2-2-2-2-2-2-2/2029-03-14/
LOCATION:5 Walnut Wine Bar
CATEGORIES:Asheville Area,Live Music
GEO:35.596654;-82.5525389
END:VEVENT
BEGIN:VEVENT
DTSTART;TZID=America/New_York:20290315T200000
DTEND;TZID=America/New_York:20290315T220000
DTSTAMP:20260422T204508
CREATED:20260324T002042Z
LAST-MODIFIED:20260324T194103Z
UID:10051810-1868299200-1868306400@livemusicasheville.com
SUMMARY:Rock n Soul with Pleasure Chest
DESCRIPTION:Related
URL:https://livemusicasheville.com/calendar/rock-n-soul-with-pleasure-chest-2-2-2-2-2-2-2-2-2/2029-03-15/
LOCATION:5 Walnut Wine Bar
CATEGORIES:Asheville Area,Live Music
GEO:35.596654;-82.5525389
END:VEVENT
BEGIN:VEVENT
DTSTART;TZID=America/New_York:20290316T200000
DTEND;TZID=America/New_York:20290316T220000
DTSTAMP:20260422T204508
CREATED:20241226T143754Z
LAST-MODIFIED:20260331T121545Z
UID:10053975-1868385600-1868392800@livemusicasheville.com
SUMMARY:Jump Blues w/ Virginia and The Slims
DESCRIPTION:Related
URL:https://livemusicasheville.com/calendar/virginia-and-the-slims/2029-03-16/
LOCATION:5 Walnut Wine Bar
CATEGORIES:Asheville Area,Live Music
GEO:35.596654;-82.5525389
END:VEVENT
BEGIN:VEVENT
DTSTART;TZID=America/New_York:20290317T190000
DTEND;TZID=America/New_York:20290317T210000
DTSTAMP:20260422T204508
CREATED:20260221T162039Z
LAST-MODIFIED:20260221T162041Z
UID:10041881-1868468400-1868475600@livemusicasheville.com
SUMMARY:Will Hartz
DESCRIPTION:Related
URL:https://livemusicasheville.com/calendar/will-hartz-3-2-2-2-2-2-2/2029-03-17/
LOCATION:5 Walnut Wine Bar
CATEGORIES:Asheville Area,Live Music
GEO:35.596654;-82.5525389
END:VEVENT
BEGIN:VEVENT
DTSTART;TZID=America/New_York:20290320T200000
DTEND;TZID=America/New_York:20290320T220000
DTSTAMP:20260422T204508
CREATED:20251023T142458Z
LAST-MODIFIED:20260406T181605Z
UID:10055010-1868731200-1868738400@livemusicasheville.com
SUMMARY:Hot Jazz w/ The John Henrys
DESCRIPTION:Related
URL:https://livemusicasheville.com/calendar/hot-jazz-w-the-john-henrys-2-2/2029-03-20/
LOCATION:5 Walnut Wine Bar
CATEGORIES:Asheville Area,Live Music
GEO:35.596654;-82.5525389
END:VEVENT
BEGIN:VEVENT
DTSTART;TZID=America/New_York:20290321T200000
DTEND;TZID=America/New_York:20290321T220000
DTSTAMP:20260422T204508
CREATED:20260326T085550Z
LAST-MODIFIED:20260326T085551Z
UID:10052793-1868817600-1868824800@livemusicasheville.com
SUMMARY:Bam-A Lam with Jason Krekel & Craig Kellberg
DESCRIPTION:Related
URL:https://livemusicasheville.com/calendar/bam-a-lam-with-jason-krekel-craig-kellberg-2-2-2-2-2-2-2/2029-03-21/
LOCATION:5 Walnut Wine Bar
CATEGORIES:Asheville Area,Live Music
GEO:35.596654;-82.5525389
END:VEVENT
BEGIN:VEVENT
DTSTART;TZID=America/New_York:20290322T200000
DTEND;TZID=America/New_York:20290322T220000
DTSTAMP:20260422T204508
CREATED:20260324T002042Z
LAST-MODIFIED:20260324T194103Z
UID:10051811-1868904000-1868911200@livemusicasheville.com
SUMMARY:Rock n Soul with Pleasure Chest
DESCRIPTION:Related
URL:https://livemusicasheville.com/calendar/rock-n-soul-with-pleasure-chest-2-2-2-2-2-2-2-2-2/2029-03-22/
LOCATION:5 Walnut Wine Bar
CATEGORIES:Asheville Area,Live Music
GEO:35.596654;-82.5525389
END:VEVENT
BEGIN:VEVENT
DTSTART;TZID=America/New_York:20290324T190000
DTEND;TZID=America/New_York:20290324T210000
DTSTAMP:20260422T204508
CREATED:20260221T162039Z
LAST-MODIFIED:20260221T162041Z
UID:10041882-1869073200-1869080400@livemusicasheville.com
SUMMARY:Will Hartz
DESCRIPTION:Related
URL:https://livemusicasheville.com/calendar/will-hartz-3-2-2-2-2-2-2/2029-03-24/
LOCATION:5 Walnut Wine Bar
CATEGORIES:Asheville Area,Live Music
GEO:35.596654;-82.5525389
END:VEVENT
BEGIN:VEVENT
DTSTART;TZID=America/New_York:20290326T190000
DTEND;TZID=America/New_York:20290326T210000
DTSTAMP:20260422T204508
CREATED:20260316T200227Z
LAST-MODIFIED:20260316T200227Z
UID:10034691-1869246000-1869253200@livemusicasheville.com
SUMMARY:Traditional Bluegrass w/ The Asheville Mountain Boys
DESCRIPTION:Related
URL:https://livemusicasheville.com/calendar/bluegrass-w-the-asheville-mountain-boys-3-2-2/2029-03-26/
LOCATION:5 Walnut Wine Bar
CATEGORIES:Asheville Area,Live Music
GEO:35.596654;-82.5525389
END:VEVENT
BEGIN:VEVENT
DTSTART;TZID=America/New_York:20290327T200000
DTEND;TZID=America/New_York:20290327T220000
DTSTAMP:20260422T204508
CREATED:20251023T142458Z
LAST-MODIFIED:20260406T181605Z
UID:10055011-1869336000-1869343200@livemusicasheville.com
SUMMARY:Hot Jazz w/ The John Henrys
DESCRIPTION:Related
URL:https://livemusicasheville.com/calendar/hot-jazz-w-the-john-henrys-2-2/2029-03-27/
LOCATION:5 Walnut Wine Bar
CATEGORIES:Asheville Area,Live Music
GEO:35.596654;-82.5525389
END:VEVENT
BEGIN:VEVENT
DTSTART;TZID=America/New_York:20290328T200000
DTEND;TZID=America/New_York:20290328T220000
DTSTAMP:20260422T204508
CREATED:20260326T085550Z
LAST-MODIFIED:20260326T085551Z
UID:10052794-1869422400-1869429600@livemusicasheville.com
SUMMARY:Bam-A Lam with Jason Krekel & Craig Kellberg
DESCRIPTION:Related
URL:https://livemusicasheville.com/calendar/bam-a-lam-with-jason-krekel-craig-kellberg-2-2-2-2-2-2-2/2029-03-28/
LOCATION:5 Walnut Wine Bar
CATEGORIES:Asheville Area,Live Music
GEO:35.596654;-82.5525389
END:VEVENT
BEGIN:VEVENT
DTSTART;TZID=America/New_York:20290329T200000
DTEND;TZID=America/New_York:20290329T220000
DTSTAMP:20260422T204508
CREATED:20260324T002042Z
LAST-MODIFIED:20260324T194103Z
UID:10051812-1869508800-1869516000@livemusicasheville.com
SUMMARY:Rock n Soul with Pleasure Chest
DESCRIPTION:Related
URL:https://livemusicasheville.com/calendar/rock-n-soul-with-pleasure-chest-2-2-2-2-2-2-2-2-2/2029-03-29/
LOCATION:5 Walnut Wine Bar
CATEGORIES:Asheville Area,Live Music
GEO:35.596654;-82.5525389
END:VEVENT
BEGIN:VEVENT
DTSTART;TZID=America/New_York:20290330T200000
DTEND;TZID=America/New_York:20290330T220000
DTSTAMP:20260422T204508
CREATED:20241226T143754Z
LAST-MODIFIED:20260331T121545Z
UID:10053976-1869595200-1869602400@livemusicasheville.com
SUMMARY:Jump Blues w/ Virginia and The Slims
DESCRIPTION:Related
URL:https://livemusicasheville.com/calendar/virginia-and-the-slims/2029-03-30/
LOCATION:5 Walnut Wine Bar
CATEGORIES:Asheville Area,Live Music
GEO:35.596654;-82.5525389
END:VEVENT
BEGIN:VEVENT
DTSTART;TZID=America/New_York:20290331T190000
DTEND;TZID=America/New_York:20290331T210000
DTSTAMP:20260422T204508
CREATED:20260221T162039Z
LAST-MODIFIED:20260221T162041Z
UID:10041883-1869678000-1869685200@livemusicasheville.com
SUMMARY:Will Hartz
DESCRIPTION:Related
URL:https://livemusicasheville.com/calendar/will-hartz-3-2-2-2-2-2-2/2029-03-31/
LOCATION:5 Walnut Wine Bar
CATEGORIES:Asheville Area,Live Music
GEO:35.596654;-82.5525389
END:VEVENT
BEGIN:VEVENT
DTSTART;TZID=America/New_York:20290403T200000
DTEND;TZID=America/New_York:20290403T220000
DTSTAMP:20260422T204508
CREATED:20251023T142458Z
LAST-MODIFIED:20260406T181605Z
UID:10055012-1869940800-1869948000@livemusicasheville.com
SUMMARY:Hot Jazz w/ The John Henrys
DESCRIPTION:Related
URL:https://livemusicasheville.com/calendar/hot-jazz-w-the-john-henrys-2-2/2029-04-03/
LOCATION:5 Walnut Wine Bar
CATEGORIES:Asheville Area,Live Music
GEO:35.596654;-82.5525389
END:VEVENT
BEGIN:VEVENT
DTSTART;TZID=America/New_York:20290405T200000
DTEND;TZID=America/New_York:20290405T220000
DTSTAMP:20260422T204508
CREATED:20260324T002042Z
LAST-MODIFIED:20260324T194103Z
UID:10051813-1870113600-1870120800@livemusicasheville.com
SUMMARY:Rock n Soul with Pleasure Chest
DESCRIPTION:Related
URL:https://livemusicasheville.com/calendar/rock-n-soul-with-pleasure-chest-2-2-2-2-2-2-2-2-2/2029-04-05/
LOCATION:5 Walnut Wine Bar
CATEGORIES:Asheville Area,Live Music
GEO:35.596654;-82.5525389
END:VEVENT
BEGIN:VEVENT
DTSTART;TZID=America/New_York:20290407T190000
DTEND;TZID=America/New_York:20290407T210000
DTSTAMP:20260422T204508
CREATED:20250731T145648Z
LAST-MODIFIED:20260204T164527Z
UID:10042654-1870282800-1870290000@livemusicasheville.com
SUMMARY:Mojo Mountain (f.k.a. Swanny\, Crowe & the Monk)
DESCRIPTION:Related
URL:https://livemusicasheville.com/calendar/swanny-crowe-the-monk-4/2029-04-07/
LOCATION:5 Walnut Wine Bar
CATEGORIES:Asheville Area,Live Music
GEO:35.596654;-82.5525389
END:VEVENT
BEGIN:VEVENT
DTSTART;TZID=America/New_York:20290409T190000
DTEND;TZID=America/New_York:20290409T210000
DTSTAMP:20260422T204508
CREATED:20260316T200227Z
LAST-MODIFIED:20260316T200227Z
UID:10034692-1870455600-1870462800@livemusicasheville.com
SUMMARY:Traditional Bluegrass w/ The Asheville Mountain Boys
DESCRIPTION:Related
URL:https://livemusicasheville.com/calendar/bluegrass-w-the-asheville-mountain-boys-3-2-2/2029-04-09/
LOCATION:5 Walnut Wine Bar
CATEGORIES:Asheville Area,Live Music
GEO:35.596654;-82.5525389
END:VEVENT
BEGIN:VEVENT
DTSTART;TZID=America/New_York:20290410T200000
DTEND;TZID=America/New_York:20290410T220000
DTSTAMP:20260422T204508
CREATED:20251023T142458Z
LAST-MODIFIED:20260406T181605Z
UID:10055013-1870545600-1870552800@livemusicasheville.com
SUMMARY:Hot Jazz w/ The John Henrys
DESCRIPTION:Related
URL:https://livemusicasheville.com/calendar/hot-jazz-w-the-john-henrys-2-2/2029-04-10/
LOCATION:5 Walnut Wine Bar
CATEGORIES:Asheville Area,Live Music
GEO:35.596654;-82.5525389
END:VEVENT
BEGIN:VEVENT
DTSTART;TZID=America/New_York:20290411T200000
DTEND;TZID=America/New_York:20290411T220000
DTSTAMP:20260422T204508
CREATED:20260326T085550Z
LAST-MODIFIED:20260326T085551Z
UID:10052795-1870632000-1870639200@livemusicasheville.com
SUMMARY:Bam-A Lam with Jason Krekel & Craig Kellberg
DESCRIPTION:Related
URL:https://livemusicasheville.com/calendar/bam-a-lam-with-jason-krekel-craig-kellberg-2-2-2-2-2-2-2/2029-04-11/
LOCATION:5 Walnut Wine Bar
CATEGORIES:Asheville Area,Live Music
GEO:35.596654;-82.5525389
END:VEVENT
BEGIN:VEVENT
DTSTART;TZID=America/New_York:20290412T200000
DTEND;TZID=America/New_York:20290412T220000
DTSTAMP:20260422T204508
CREATED:20260324T002042Z
LAST-MODIFIED:20260324T194103Z
UID:10051814-1870718400-1870725600@livemusicasheville.com
SUMMARY:Rock n Soul with Pleasure Chest
DESCRIPTION:Related
URL:https://livemusicasheville.com/calendar/rock-n-soul-with-pleasure-chest-2-2-2-2-2-2-2-2-2/2029-04-12/
LOCATION:5 Walnut Wine Bar
CATEGORIES:Asheville Area,Live Music
GEO:35.596654;-82.5525389
END:VEVENT
BEGIN:VEVENT
DTSTART;TZID=America/New_York:20290413T200000
DTEND;TZID=America/New_York:20290413T220000
DTSTAMP:20260422T204508
CREATED:20241226T143754Z
LAST-MODIFIED:20260331T121545Z
UID:10053977-1870804800-1870812000@livemusicasheville.com
SUMMARY:Jump Blues w/ Virginia and The Slims
DESCRIPTION:Related
URL:https://livemusicasheville.com/calendar/virginia-and-the-slims/2029-04-13/
LOCATION:5 Walnut Wine Bar
CATEGORIES:Asheville Area,Live Music
GEO:35.596654;-82.5525389
END:VEVENT
BEGIN:VEVENT
DTSTART;TZID=America/New_York:20290414T190000
DTEND;TZID=America/New_York:20290414T210000
DTSTAMP:20260422T204508
CREATED:20260221T162039Z
LAST-MODIFIED:20260221T162041Z
UID:10041884-1870887600-1870894800@livemusicasheville.com
SUMMARY:Will Hartz
DESCRIPTION:Related
URL:https://livemusicasheville.com/calendar/will-hartz-3-2-2-2-2-2-2/2029-04-14/
LOCATION:5 Walnut Wine Bar
CATEGORIES:Asheville Area,Live Music
GEO:35.596654;-82.5525389
END:VEVENT
BEGIN:VEVENT
DTSTART;TZID=America/New_York:20290417T200000
DTEND;TZID=America/New_York:20290417T220000
DTSTAMP:20260422T204508
CREATED:20251023T142458Z
LAST-MODIFIED:20260406T181605Z
UID:10055014-1871150400-1871157600@livemusicasheville.com
SUMMARY:Hot Jazz w/ The John Henrys
DESCRIPTION:Related
URL:https://livemusicasheville.com/calendar/hot-jazz-w-the-john-henrys-2-2/2029-04-17/
LOCATION:5 Walnut Wine Bar
CATEGORIES:Asheville Area,Live Music
GEO:35.596654;-82.5525389
END:VEVENT
BEGIN:VEVENT
DTSTART;TZID=America/New_York:20290418T200000
DTEND;TZID=America/New_York:20290418T220000
DTSTAMP:20260422T204508
CREATED:20260326T085550Z
LAST-MODIFIED:20260326T085551Z
UID:10052796-1871236800-1871244000@livemusicasheville.com
SUMMARY:Bam-A Lam with Jason Krekel & Craig Kellberg
DESCRIPTION:Related
URL:https://livemusicasheville.com/calendar/bam-a-lam-with-jason-krekel-craig-kellberg-2-2-2-2-2-2-2/2029-04-18/
LOCATION:5 Walnut Wine Bar
CATEGORIES:Asheville Area,Live Music
GEO:35.596654;-82.5525389
END:VEVENT
BEGIN:VEVENT
DTSTART;TZID=America/New_York:20290419T200000
DTEND;TZID=America/New_York:20290419T220000
DTSTAMP:20260422T204508
CREATED:20260324T002042Z
LAST-MODIFIED:20260324T194103Z
UID:10051815-1871323200-1871330400@livemusicasheville.com
SUMMARY:Rock n Soul with Pleasure Chest
DESCRIPTION:Related
URL:https://livemusicasheville.com/calendar/rock-n-soul-with-pleasure-chest-2-2-2-2-2-2-2-2-2/2029-04-19/
LOCATION:5 Walnut Wine Bar
CATEGORIES:Asheville Area,Live Music
GEO:35.596654;-82.5525389
END:VEVENT
END:VCALENDAR