BEGIN:VCALENDAR
VERSION:2.0
PRODID:-//LiveMusicAsheville.com - ECPv6.15.20//NONSGML v1.0//EN
CALSCALE:GREGORIAN
METHOD:PUBLISH
X-WR-CALNAME:LiveMusicAsheville.com
X-ORIGINAL-URL:https://livemusicasheville.com
X-WR-CALDESC:Events for LiveMusicAsheville.com
REFRESH-INTERVAL;VALUE=DURATION:PT1H
X-Robots-Tag:noindex
X-PUBLISHED-TTL:PT1H
BEGIN:VTIMEZONE
TZID:America/New_York
BEGIN:DAYLIGHT
TZOFFSETFROM:-0500
TZOFFSETTO:-0400
TZNAME:EDT
DTSTART:20270314T070000
END:DAYLIGHT
BEGIN:STANDARD
TZOFFSETFROM:-0400
TZOFFSETTO:-0500
TZNAME:EST
DTSTART:20271107T060000
END:STANDARD
BEGIN:DAYLIGHT
TZOFFSETFROM:-0500
TZOFFSETTO:-0400
TZNAME:EDT
DTSTART:20280312T070000
END:DAYLIGHT
BEGIN:STANDARD
TZOFFSETFROM:-0400
TZOFFSETTO:-0500
TZNAME:EST
DTSTART:20281105T060000
END:STANDARD
BEGIN:DAYLIGHT
TZOFFSETFROM:-0500
TZOFFSETTO:-0400
TZNAME:EDT
DTSTART:20290311T070000
END:DAYLIGHT
BEGIN:STANDARD
TZOFFSETFROM:-0400
TZOFFSETTO:-0500
TZNAME:EST
DTSTART:20291104T060000
END:STANDARD
END:VTIMEZONE
BEGIN:VEVENT
DTSTART;TZID=America/New_York:20280120T180000
DTEND;TZID=America/New_York:20280120T210000
DTSTAMP:20260425T134540
CREATED:20260122T191302Z
LAST-MODIFIED:20260122T191304Z
UID:10040154-1832004000-1832014800@livemusicasheville.com
SUMMARY:Aaron LaFalce
DESCRIPTION:Related
URL:https://livemusicasheville.com/calendar/aaron-lafalce-2-2-2-2/2028-01-20/
LOCATION:131 Main Biltmore Park
CATEGORIES:Live Music,South Asheville/Arden/Fletcher
END:VEVENT
BEGIN:VEVENT
DTSTART;TZID=America/New_York:20280127T180000
DTEND;TZID=America/New_York:20280127T210000
DTSTAMP:20260425T134540
CREATED:20260122T191302Z
LAST-MODIFIED:20260122T191304Z
UID:10040155-1832608800-1832619600@livemusicasheville.com
SUMMARY:Aaron LaFalce
DESCRIPTION:Related
URL:https://livemusicasheville.com/calendar/aaron-lafalce-2-2-2-2/2028-01-27/
LOCATION:131 Main Biltmore Park
CATEGORIES:Live Music,South Asheville/Arden/Fletcher
END:VEVENT
BEGIN:VEVENT
DTSTART;TZID=America/New_York:20280203T180000
DTEND;TZID=America/New_York:20280203T210000
DTSTAMP:20260425T134540
CREATED:20260122T191302Z
LAST-MODIFIED:20260122T191304Z
UID:10040156-1833213600-1833224400@livemusicasheville.com
SUMMARY:Aaron LaFalce
DESCRIPTION:Related
URL:https://livemusicasheville.com/calendar/aaron-lafalce-2-2-2-2/2028-02-03/
LOCATION:131 Main Biltmore Park
CATEGORIES:Live Music,South Asheville/Arden/Fletcher
END:VEVENT
BEGIN:VEVENT
DTSTART;TZID=America/New_York:20280210T180000
DTEND;TZID=America/New_York:20280210T210000
DTSTAMP:20260425T134540
CREATED:20260122T191302Z
LAST-MODIFIED:20260122T191304Z
UID:10040157-1833818400-1833829200@livemusicasheville.com
SUMMARY:Aaron LaFalce
DESCRIPTION:Related
URL:https://livemusicasheville.com/calendar/aaron-lafalce-2-2-2-2/2028-02-10/
LOCATION:131 Main Biltmore Park
CATEGORIES:Live Music,South Asheville/Arden/Fletcher
END:VEVENT
BEGIN:VEVENT
DTSTART;TZID=America/New_York:20280217T180000
DTEND;TZID=America/New_York:20280217T210000
DTSTAMP:20260425T134540
CREATED:20260122T191302Z
LAST-MODIFIED:20260122T191304Z
UID:10040158-1834423200-1834434000@livemusicasheville.com
SUMMARY:Aaron LaFalce
DESCRIPTION:Related
URL:https://livemusicasheville.com/calendar/aaron-lafalce-2-2-2-2/2028-02-17/
LOCATION:131 Main Biltmore Park
CATEGORIES:Live Music,South Asheville/Arden/Fletcher
END:VEVENT
BEGIN:VEVENT
DTSTART;TZID=America/New_York:20280224T180000
DTEND;TZID=America/New_York:20280224T210000
DTSTAMP:20260425T134540
CREATED:20260122T191302Z
LAST-MODIFIED:20260122T191304Z
UID:10040159-1835028000-1835038800@livemusicasheville.com
SUMMARY:Aaron LaFalce
DESCRIPTION:Related
URL:https://livemusicasheville.com/calendar/aaron-lafalce-2-2-2-2/2028-02-24/
LOCATION:131 Main Biltmore Park
CATEGORIES:Live Music,South Asheville/Arden/Fletcher
END:VEVENT
BEGIN:VEVENT
DTSTART;TZID=America/New_York:20280302T180000
DTEND;TZID=America/New_York:20280302T210000
DTSTAMP:20260425T134540
CREATED:20260122T191302Z
LAST-MODIFIED:20260122T191304Z
UID:10040160-1835632800-1835643600@livemusicasheville.com
SUMMARY:Aaron LaFalce
DESCRIPTION:Related
URL:https://livemusicasheville.com/calendar/aaron-lafalce-2-2-2-2/2028-03-02/
LOCATION:131 Main Biltmore Park
CATEGORIES:Live Music,South Asheville/Arden/Fletcher
END:VEVENT
BEGIN:VEVENT
DTSTART;TZID=America/New_York:20280309T180000
DTEND;TZID=America/New_York:20280309T210000
DTSTAMP:20260425T134540
CREATED:20260122T191302Z
LAST-MODIFIED:20260122T191304Z
UID:10040161-1836237600-1836248400@livemusicasheville.com
SUMMARY:Aaron LaFalce
DESCRIPTION:Related
URL:https://livemusicasheville.com/calendar/aaron-lafalce-2-2-2-2/2028-03-09/
LOCATION:131 Main Biltmore Park
CATEGORIES:Live Music,South Asheville/Arden/Fletcher
END:VEVENT
BEGIN:VEVENT
DTSTART;TZID=America/New_York:20280316T180000
DTEND;TZID=America/New_York:20280316T210000
DTSTAMP:20260425T134540
CREATED:20260122T191302Z
LAST-MODIFIED:20260122T191304Z
UID:10040162-1836842400-1836853200@livemusicasheville.com
SUMMARY:Aaron LaFalce
DESCRIPTION:Related
URL:https://livemusicasheville.com/calendar/aaron-lafalce-2-2-2-2/2028-03-16/
LOCATION:131 Main Biltmore Park
CATEGORIES:Live Music,South Asheville/Arden/Fletcher
END:VEVENT
BEGIN:VEVENT
DTSTART;TZID=America/New_York:20280323T180000
DTEND;TZID=America/New_York:20280323T210000
DTSTAMP:20260425T134540
CREATED:20260122T191302Z
LAST-MODIFIED:20260122T191304Z
UID:10040163-1837447200-1837458000@livemusicasheville.com
SUMMARY:Aaron LaFalce
DESCRIPTION:Related
URL:https://livemusicasheville.com/calendar/aaron-lafalce-2-2-2-2/2028-03-23/
LOCATION:131 Main Biltmore Park
CATEGORIES:Live Music,South Asheville/Arden/Fletcher
END:VEVENT
BEGIN:VEVENT
DTSTART;TZID=America/New_York:20280330T180000
DTEND;TZID=America/New_York:20280330T210000
DTSTAMP:20260425T134540
CREATED:20260122T191302Z
LAST-MODIFIED:20260122T191304Z
UID:10040164-1838052000-1838062800@livemusicasheville.com
SUMMARY:Aaron LaFalce
DESCRIPTION:Related
URL:https://livemusicasheville.com/calendar/aaron-lafalce-2-2-2-2/2028-03-30/
LOCATION:131 Main Biltmore Park
CATEGORIES:Live Music,South Asheville/Arden/Fletcher
END:VEVENT
BEGIN:VEVENT
DTSTART;TZID=America/New_York:20280406T180000
DTEND;TZID=America/New_York:20280406T210000
DTSTAMP:20260425T134540
CREATED:20260122T191302Z
LAST-MODIFIED:20260122T191304Z
UID:10040165-1838656800-1838667600@livemusicasheville.com
SUMMARY:Aaron LaFalce
DESCRIPTION:Related
URL:https://livemusicasheville.com/calendar/aaron-lafalce-2-2-2-2/2028-04-06/
LOCATION:131 Main Biltmore Park
CATEGORIES:Live Music,South Asheville/Arden/Fletcher
END:VEVENT
BEGIN:VEVENT
DTSTART;TZID=America/New_York:20280413T180000
DTEND;TZID=America/New_York:20280413T210000
DTSTAMP:20260425T134540
CREATED:20260122T191302Z
LAST-MODIFIED:20260122T191304Z
UID:10040166-1839261600-1839272400@livemusicasheville.com
SUMMARY:Aaron LaFalce
DESCRIPTION:Related
URL:https://livemusicasheville.com/calendar/aaron-lafalce-2-2-2-2/2028-04-13/
LOCATION:131 Main Biltmore Park
CATEGORIES:Live Music,South Asheville/Arden/Fletcher
END:VEVENT
BEGIN:VEVENT
DTSTART;TZID=America/New_York:20280420T180000
DTEND;TZID=America/New_York:20280420T210000
DTSTAMP:20260425T134540
CREATED:20260122T191302Z
LAST-MODIFIED:20260122T191304Z
UID:10040167-1839866400-1839877200@livemusicasheville.com
SUMMARY:Aaron LaFalce
DESCRIPTION:Related
URL:https://livemusicasheville.com/calendar/aaron-lafalce-2-2-2-2/2028-04-20/
LOCATION:131 Main Biltmore Park
CATEGORIES:Live Music,South Asheville/Arden/Fletcher
END:VEVENT
BEGIN:VEVENT
DTSTART;TZID=America/New_York:20280427T180000
DTEND;TZID=America/New_York:20280427T210000
DTSTAMP:20260425T134540
CREATED:20260122T191302Z
LAST-MODIFIED:20260122T191304Z
UID:10040168-1840471200-1840482000@livemusicasheville.com
SUMMARY:Aaron LaFalce
DESCRIPTION:Related
URL:https://livemusicasheville.com/calendar/aaron-lafalce-2-2-2-2/2028-04-27/
LOCATION:131 Main Biltmore Park
CATEGORIES:Live Music,South Asheville/Arden/Fletcher
END:VEVENT
BEGIN:VEVENT
DTSTART;TZID=America/New_York:20280504T180000
DTEND;TZID=America/New_York:20280504T210000
DTSTAMP:20260425T134540
CREATED:20260122T191302Z
LAST-MODIFIED:20260122T191304Z
UID:10040169-1841076000-1841086800@livemusicasheville.com
SUMMARY:Aaron LaFalce
DESCRIPTION:Related
URL:https://livemusicasheville.com/calendar/aaron-lafalce-2-2-2-2/2028-05-04/
LOCATION:131 Main Biltmore Park
CATEGORIES:Live Music,South Asheville/Arden/Fletcher
END:VEVENT
BEGIN:VEVENT
DTSTART;TZID=America/New_York:20280511T180000
DTEND;TZID=America/New_York:20280511T210000
DTSTAMP:20260425T134540
CREATED:20260122T191302Z
LAST-MODIFIED:20260122T191304Z
UID:10040170-1841680800-1841691600@livemusicasheville.com
SUMMARY:Aaron LaFalce
DESCRIPTION:Related
URL:https://livemusicasheville.com/calendar/aaron-lafalce-2-2-2-2/2028-05-11/
LOCATION:131 Main Biltmore Park
CATEGORIES:Live Music,South Asheville/Arden/Fletcher
END:VEVENT
BEGIN:VEVENT
DTSTART;TZID=America/New_York:20280518T180000
DTEND;TZID=America/New_York:20280518T210000
DTSTAMP:20260425T134540
CREATED:20260122T191302Z
LAST-MODIFIED:20260122T191304Z
UID:10040171-1842285600-1842296400@livemusicasheville.com
SUMMARY:Aaron LaFalce
DESCRIPTION:Related
URL:https://livemusicasheville.com/calendar/aaron-lafalce-2-2-2-2/2028-05-18/
LOCATION:131 Main Biltmore Park
CATEGORIES:Live Music,South Asheville/Arden/Fletcher
END:VEVENT
BEGIN:VEVENT
DTSTART;TZID=America/New_York:20280525T180000
DTEND;TZID=America/New_York:20280525T210000
DTSTAMP:20260425T134540
CREATED:20260122T191302Z
LAST-MODIFIED:20260122T191304Z
UID:10040172-1842890400-1842901200@livemusicasheville.com
SUMMARY:Aaron LaFalce
DESCRIPTION:Related
URL:https://livemusicasheville.com/calendar/aaron-lafalce-2-2-2-2/2028-05-25/
LOCATION:131 Main Biltmore Park
CATEGORIES:Live Music,South Asheville/Arden/Fletcher
END:VEVENT
BEGIN:VEVENT
DTSTART;TZID=America/New_York:20280601T180000
DTEND;TZID=America/New_York:20280601T210000
DTSTAMP:20260425T134540
CREATED:20260122T191302Z
LAST-MODIFIED:20260122T191304Z
UID:10040173-1843495200-1843506000@livemusicasheville.com
SUMMARY:Aaron LaFalce
DESCRIPTION:Related
URL:https://livemusicasheville.com/calendar/aaron-lafalce-2-2-2-2/2028-06-01/
LOCATION:131 Main Biltmore Park
CATEGORIES:Live Music,South Asheville/Arden/Fletcher
END:VEVENT
BEGIN:VEVENT
DTSTART;TZID=America/New_York:20280608T180000
DTEND;TZID=America/New_York:20280608T210000
DTSTAMP:20260425T134540
CREATED:20260122T191302Z
LAST-MODIFIED:20260122T191304Z
UID:10040174-1844100000-1844110800@livemusicasheville.com
SUMMARY:Aaron LaFalce
DESCRIPTION:Related
URL:https://livemusicasheville.com/calendar/aaron-lafalce-2-2-2-2/2028-06-08/
LOCATION:131 Main Biltmore Park
CATEGORIES:Live Music,South Asheville/Arden/Fletcher
END:VEVENT
BEGIN:VEVENT
DTSTART;TZID=America/New_York:20280615T180000
DTEND;TZID=America/New_York:20280615T210000
DTSTAMP:20260425T134540
CREATED:20260122T191302Z
LAST-MODIFIED:20260122T191304Z
UID:10040175-1844704800-1844715600@livemusicasheville.com
SUMMARY:Aaron LaFalce
DESCRIPTION:Related
URL:https://livemusicasheville.com/calendar/aaron-lafalce-2-2-2-2/2028-06-15/
LOCATION:131 Main Biltmore Park
CATEGORIES:Live Music,South Asheville/Arden/Fletcher
END:VEVENT
BEGIN:VEVENT
DTSTART;TZID=America/New_York:20280622T180000
DTEND;TZID=America/New_York:20280622T210000
DTSTAMP:20260425T134540
CREATED:20260122T191302Z
LAST-MODIFIED:20260122T191304Z
UID:10040176-1845309600-1845320400@livemusicasheville.com
SUMMARY:Aaron LaFalce
DESCRIPTION:Related
URL:https://livemusicasheville.com/calendar/aaron-lafalce-2-2-2-2/2028-06-22/
LOCATION:131 Main Biltmore Park
CATEGORIES:Live Music,South Asheville/Arden/Fletcher
END:VEVENT
BEGIN:VEVENT
DTSTART;TZID=America/New_York:20280629T180000
DTEND;TZID=America/New_York:20280629T210000
DTSTAMP:20260425T134540
CREATED:20260122T191302Z
LAST-MODIFIED:20260122T191304Z
UID:10040177-1845914400-1845925200@livemusicasheville.com
SUMMARY:Aaron LaFalce
DESCRIPTION:Related
URL:https://livemusicasheville.com/calendar/aaron-lafalce-2-2-2-2/2028-06-29/
LOCATION:131 Main Biltmore Park
CATEGORIES:Live Music,South Asheville/Arden/Fletcher
END:VEVENT
BEGIN:VEVENT
DTSTART;TZID=America/New_York:20280706T180000
DTEND;TZID=America/New_York:20280706T210000
DTSTAMP:20260425T134540
CREATED:20260122T191302Z
LAST-MODIFIED:20260122T191304Z
UID:10040178-1846519200-1846530000@livemusicasheville.com
SUMMARY:Aaron LaFalce
DESCRIPTION:Related
URL:https://livemusicasheville.com/calendar/aaron-lafalce-2-2-2-2/2028-07-06/
LOCATION:131 Main Biltmore Park
CATEGORIES:Live Music,South Asheville/Arden/Fletcher
END:VEVENT
BEGIN:VEVENT
DTSTART;TZID=America/New_York:20280713T180000
DTEND;TZID=America/New_York:20280713T210000
DTSTAMP:20260425T134540
CREATED:20260122T191302Z
LAST-MODIFIED:20260122T191304Z
UID:10040179-1847124000-1847134800@livemusicasheville.com
SUMMARY:Aaron LaFalce
DESCRIPTION:Related
URL:https://livemusicasheville.com/calendar/aaron-lafalce-2-2-2-2/2028-07-13/
LOCATION:131 Main Biltmore Park
CATEGORIES:Live Music,South Asheville/Arden/Fletcher
END:VEVENT
BEGIN:VEVENT
DTSTART;TZID=America/New_York:20280720T180000
DTEND;TZID=America/New_York:20280720T210000
DTSTAMP:20260425T134540
CREATED:20260122T191302Z
LAST-MODIFIED:20260122T191304Z
UID:10040180-1847728800-1847739600@livemusicasheville.com
SUMMARY:Aaron LaFalce
DESCRIPTION:Related
URL:https://livemusicasheville.com/calendar/aaron-lafalce-2-2-2-2/2028-07-20/
LOCATION:131 Main Biltmore Park
CATEGORIES:Live Music,South Asheville/Arden/Fletcher
END:VEVENT
BEGIN:VEVENT
DTSTART;TZID=America/New_York:20280727T180000
DTEND;TZID=America/New_York:20280727T210000
DTSTAMP:20260425T134540
CREATED:20260122T191302Z
LAST-MODIFIED:20260122T191304Z
UID:10040181-1848333600-1848344400@livemusicasheville.com
SUMMARY:Aaron LaFalce
DESCRIPTION:Related
URL:https://livemusicasheville.com/calendar/aaron-lafalce-2-2-2-2/2028-07-27/
LOCATION:131 Main Biltmore Park
CATEGORIES:Live Music,South Asheville/Arden/Fletcher
END:VEVENT
BEGIN:VEVENT
DTSTART;TZID=America/New_York:20280803T180000
DTEND;TZID=America/New_York:20280803T210000
DTSTAMP:20260425T134540
CREATED:20260122T191302Z
LAST-MODIFIED:20260122T191304Z
UID:10040182-1848938400-1848949200@livemusicasheville.com
SUMMARY:Aaron LaFalce
DESCRIPTION:Related
URL:https://livemusicasheville.com/calendar/aaron-lafalce-2-2-2-2/2028-08-03/
LOCATION:131 Main Biltmore Park
CATEGORIES:Live Music,South Asheville/Arden/Fletcher
END:VEVENT
BEGIN:VEVENT
DTSTART;TZID=America/New_York:20280810T180000
DTEND;TZID=America/New_York:20280810T210000
DTSTAMP:20260425T134540
CREATED:20260122T191302Z
LAST-MODIFIED:20260122T191304Z
UID:10040183-1849543200-1849554000@livemusicasheville.com
SUMMARY:Aaron LaFalce
DESCRIPTION:Related
URL:https://livemusicasheville.com/calendar/aaron-lafalce-2-2-2-2/2028-08-10/
LOCATION:131 Main Biltmore Park
CATEGORIES:Live Music,South Asheville/Arden/Fletcher
END:VEVENT
END:VCALENDAR