BEGIN:VCALENDAR
VERSION:2.0
PRODID:-//LiveMusicAsheville.com - ECPv6.15.20//NONSGML v1.0//EN
CALSCALE:GREGORIAN
METHOD:PUBLISH
X-WR-CALNAME:LiveMusicAsheville.com
X-ORIGINAL-URL:https://livemusicasheville.com
X-WR-CALDESC:Events for LiveMusicAsheville.com
REFRESH-INTERVAL;VALUE=DURATION:PT1H
X-Robots-Tag:noindex
X-PUBLISHED-TTL:PT1H
BEGIN:VTIMEZONE
TZID:America/New_York
BEGIN:DAYLIGHT
TZOFFSETFROM:-0500
TZOFFSETTO:-0400
TZNAME:EDT
DTSTART:20240310T070000
END:DAYLIGHT
BEGIN:STANDARD
TZOFFSETFROM:-0400
TZOFFSETTO:-0500
TZNAME:EST
DTSTART:20241103T060000
END:STANDARD
BEGIN:DAYLIGHT
TZOFFSETFROM:-0500
TZOFFSETTO:-0400
TZNAME:EDT
DTSTART:20250309T070000
END:DAYLIGHT
BEGIN:STANDARD
TZOFFSETFROM:-0400
TZOFFSETTO:-0500
TZNAME:EST
DTSTART:20251102T060000
END:STANDARD
BEGIN:DAYLIGHT
TZOFFSETFROM:-0500
TZOFFSETTO:-0400
TZNAME:EDT
DTSTART:20260308T070000
END:DAYLIGHT
BEGIN:STANDARD
TZOFFSETFROM:-0400
TZOFFSETTO:-0500
TZNAME:EST
DTSTART:20261101T060000
END:STANDARD
BEGIN:DAYLIGHT
TZOFFSETFROM:-0500
TZOFFSETTO:-0400
TZNAME:EDT
DTSTART:20270314T070000
END:DAYLIGHT
BEGIN:STANDARD
TZOFFSETFROM:-0400
TZOFFSETTO:-0500
TZNAME:EST
DTSTART:20271107T060000
END:STANDARD
END:VTIMEZONE
BEGIN:VEVENT
DTSTART;TZID=America/New_York:20260416T173000
DTEND;TZID=America/New_York:20260416T193000
DTSTAMP:20260423T045825
CREATED:20250109T011105Z
LAST-MODIFIED:20260408T145418Z
UID:10018421-1776360600-1776367800@livemusicasheville.com
SUMMARY:Owen Walsh
DESCRIPTION:Related
URL:https://livemusicasheville.com/calendar/friday-music-series-w-hunter-begley/
LOCATION:12 Bones Brewing
CATEGORIES:Asheville Area,Live Music,South Asheville/Arden/Fletcher
END:VEVENT
BEGIN:VEVENT
DTSTART;TZID=America/New_York:20260409T173000
DTEND;TZID=America/New_York:20260409T193000
DTSTAMP:20260423T045825
CREATED:20241224T205356Z
LAST-MODIFIED:20260401T143529Z
UID:10054488-1775755800-1775763000@livemusicasheville.com
SUMMARY:Appalachian Americana w/ Andy Ferrell
DESCRIPTION:Related
URL:https://livemusicasheville.com/calendar/andy-ferrell/
LOCATION:12 Bones Brewing
CATEGORIES:Live Music,South Asheville/Arden/Fletcher
END:VEVENT
BEGIN:VEVENT
DTSTART;TZID=America/New_York:20260402T173000
DTEND;TZID=America/New_York:20260402T193000
DTSTAMP:20260423T045825
CREATED:20260325T183759Z
LAST-MODIFIED:20260325T183759Z
UID:10052651-1775151000-1775158200@livemusicasheville.com
SUMMARY:Michael Corwin
DESCRIPTION:Related
URL:https://livemusicasheville.com/calendar/michael-corwin-4/
LOCATION:12 Bones Brewing
CATEGORIES:Asheville Area,Live Music,South Asheville/Arden/Fletcher
END:VEVENT
BEGIN:VEVENT
DTSTART;TZID=America/New_York:20260319T173000
DTEND;TZID=America/New_York:20260319T193000
DTSTAMP:20260423T045825
CREATED:20250611T205958Z
LAST-MODIFIED:20260311T163019Z
UID:10015799-1773941400-1773948600@livemusicasheville.com
SUMMARY:Frances Eliza
DESCRIPTION:Related
URL:https://livemusicasheville.com/calendar/frances-eliza-3/
LOCATION:12 Bones Brewing
CATEGORIES:Asheville Area,Live Music,South Asheville/Arden/Fletcher
END:VEVENT
BEGIN:VEVENT
DTSTART;TZID=America/New_York:20260312T173000
DTEND;TZID=America/New_York:20260312T193000
DTSTAMP:20260423T045825
CREATED:20250329T141158Z
LAST-MODIFIED:20260304T185021Z
UID:10009893-1773336600-1773343800@livemusicasheville.com
SUMMARY:Appalachian Americana w/ Andy Ferrell
DESCRIPTION:Related
URL:https://livemusicasheville.com/calendar/andy-ferrell-3/
LOCATION:12 Bones Brewing
CATEGORIES:Live Music,South Asheville/Arden/Fletcher
END:VEVENT
BEGIN:VEVENT
DTSTART;TZID=America/New_York:20260129T173000
DTEND;TZID=America/New_York:20260129T193000
DTSTAMP:20260423T045825
CREATED:20250108T194054Z
LAST-MODIFIED:20260126T200755Z
UID:10005486-1769707800-1769715000@livemusicasheville.com
SUMMARY:Folk Rock Americana w/ Old Sap
DESCRIPTION:Related
URL:https://livemusicasheville.com/calendar/folk-rock-americana-w-old-sap/
LOCATION:12 Bones Brewing
CATEGORIES:Asheville Area,Live Music,South Asheville/Arden/Fletcher
END:VEVENT
BEGIN:VEVENT
DTSTART;TZID=America/New_York:20260115T173000
DTEND;TZID=America/New_York:20260115T193000
DTSTAMP:20260423T045825
CREATED:20251029T140452Z
LAST-MODIFIED:20260107T160824Z
UID:10023229-1768498200-1768505400@livemusicasheville.com
SUMMARY:J. Eldon Humphries
DESCRIPTION:Related
URL:https://livemusicasheville.com/calendar/j-eldon-humphries/
LOCATION:12 Bones Brewing
CATEGORIES:Asheville Area,Live Music,South Asheville/Arden/Fletcher
END:VEVENT
BEGIN:VEVENT
DTSTART;TZID=America/New_York:20260108T173000
DTEND;TZID=America/New_York:20260108T193000
DTSTAMP:20260423T045825
CREATED:20250408T210609Z
LAST-MODIFIED:20251231T135100Z
UID:10009890-1767893400-1767900600@livemusicasheville.com
SUMMARY:Appalachian Americana w/ Andy & Graham Ferrell
DESCRIPTION:Related
URL:https://livemusicasheville.com/calendar/andy-ferrell-6/
LOCATION:12 Bones Brewing
CATEGORIES:Asheville Area,Live Music,South Asheville/Arden/Fletcher
END:VEVENT
BEGIN:VEVENT
DTSTART;TZID=America/New_York:20251226T173000
DTEND;TZID=America/New_York:20251226T193000
DTSTAMP:20260423T045825
CREATED:20251217T152614Z
LAST-MODIFIED:20251220T140221Z
UID:10028947-1766770200-1766777400@livemusicasheville.com
SUMMARY:Claire Whall
DESCRIPTION:Related
URL:https://livemusicasheville.com/calendar/lo-wolf/
LOCATION:12 Bones Brewing
CATEGORIES:Asheville Area,Live Music
END:VEVENT
BEGIN:VEVENT
DTSTART;TZID=America/New_York:20251120T173000
DTEND;TZID=America/New_York:20251120T193000
DTSTAMP:20260423T045825
CREATED:20251112T204426Z
LAST-MODIFIED:20251112T204426Z
UID:10024492-1763659800-1763667000@livemusicasheville.com
SUMMARY:Conner Muir
DESCRIPTION:Related
URL:https://livemusicasheville.com/calendar/conner-muir/
LOCATION:12 Bones Brewing
CATEGORIES:Asheville Area,Live Music,South Asheville/Arden/Fletcher
END:VEVENT
BEGIN:VEVENT
DTSTART;TZID=America/New_York:20251113T173000
DTEND;TZID=America/New_York:20251113T193000
DTSTAMP:20260423T045825
CREATED:20250604T190958Z
LAST-MODIFIED:20251105T184843Z
UID:10015452-1763055000-1763062200@livemusicasheville.com
SUMMARY:Jackson Grimm
DESCRIPTION:Related
URL:https://livemusicasheville.com/calendar/jackson-grimm/
LOCATION:12 Bones Brewing
CATEGORIES:Asheville Area,Live Music,South Asheville/Arden/Fletcher
END:VEVENT
BEGIN:VEVENT
DTSTART;TZID=America/New_York:20251030T173000
DTEND;TZID=America/New_York:20251030T193000
DTSTAMP:20260423T045825
CREATED:20250409T154627Z
LAST-MODIFIED:20251022T182145Z
UID:10012412-1761845400-1761852600@livemusicasheville.com
SUMMARY:Clint Roberts
DESCRIPTION:Related
URL:https://livemusicasheville.com/calendar/clint-roberts/
LOCATION:12 Bones Brewing
CATEGORIES:Asheville Area,Live Music,South Asheville/Arden/Fletcher
END:VEVENT
BEGIN:VEVENT
DTSTART;TZID=America/New_York:20251002T173000
DTEND;TZID=America/New_York:20251002T193000
DTSTAMP:20260423T045825
CREATED:20250924T130955Z
LAST-MODIFIED:20250924T130955Z
UID:10021562-1759426200-1759433400@livemusicasheville.com
SUMMARY:Kevin Smith (aka Planefolk)
DESCRIPTION:Related
URL:https://livemusicasheville.com/calendar/kevin-smith-aka-planefolk/
LOCATION:12 Bones Brewing
CATEGORIES:Asheville Area,Live Music,South Asheville/Arden/Fletcher
END:VEVENT
BEGIN:VEVENT
DTSTART;TZID=America/New_York:20250828T173000
DTEND;TZID=America/New_York:20250828T193000
DTSTAMP:20260423T045825
CREATED:20250709T175432Z
LAST-MODIFIED:20250820T170646Z
UID:10017219-1756402200-1756409400@livemusicasheville.com
SUMMARY:Live Music | Leather Britches
DESCRIPTION:Related
URL:https://livemusicasheville.com/calendar/live-music-leather-britches/
LOCATION:12 Bones Brewing
CATEGORIES:Asheville Area,Live Music,South Asheville/Arden/Fletcher
END:VEVENT
BEGIN:VEVENT
DTSTART;TZID=America/New_York:20250731T173000
DTEND;TZID=America/New_York:20250731T193000
DTSTAMP:20260423T045825
CREATED:20250723T220725Z
LAST-MODIFIED:20250723T220725Z
UID:10018279-1753983000-1753990200@livemusicasheville.com
SUMMARY:Jackie Kelsh w/ Lo Wolf
DESCRIPTION:Related
URL:https://livemusicasheville.com/calendar/jackie-kelsh-w-lo-wolf/
LOCATION:12 Bones Brewing
CATEGORIES:Asheville Area,Live Music,South Asheville/Arden/Fletcher
END:VEVENT
BEGIN:VEVENT
DTSTART;TZID=America/New_York:20250522T173000
DTEND;TZID=America/New_York:20250522T193000
DTSTAMP:20260423T045825
CREATED:20250108T133202Z
LAST-MODIFIED:20250514T204024Z
UID:10005393-1747935000-1747942200@livemusicasheville.com
SUMMARY:Appalachian Songbird Alma Russ
DESCRIPTION:Related
URL:https://livemusicasheville.com/calendar/alma-russ/
LOCATION:12 Bones Brewing
CATEGORIES:Asheville Area,Live Music,South Asheville/Arden/Fletcher
END:VEVENT
BEGIN:VEVENT
DTSTART;TZID=America/New_York:20250501T173000
DTEND;TZID=America/New_York:20250501T193000
DTSTAMP:20260423T045825
CREATED:20250423T194025Z
LAST-MODIFIED:20250423T194025Z
UID:10013283-1746120600-1746127800@livemusicasheville.com
SUMMARY:Doctor Delia
DESCRIPTION:Related
URL:https://livemusicasheville.com/calendar/doctor-delia/
LOCATION:12 Bones Brewing
CATEGORIES:Asheville Area,Live Music,South Asheville/Arden/Fletcher
END:VEVENT
END:VCALENDAR