BEGIN:VCALENDAR
VERSION:2.0
PRODID:-//LiveMusicAsheville.com - ECPv6.15.20//NONSGML v1.0//EN
CALSCALE:GREGORIAN
METHOD:PUBLISH
X-ORIGINAL-URL:https://livemusicasheville.com
X-WR-CALDESC:Events for LiveMusicAsheville.com
REFRESH-INTERVAL;VALUE=DURATION:PT1H
X-Robots-Tag:noindex
X-PUBLISHED-TTL:PT1H
BEGIN:VTIMEZONE
TZID:America/New_York
BEGIN:DAYLIGHT
TZOFFSETFROM:-0500
TZOFFSETTO:-0400
TZNAME:EDT
DTSTART:20270314T070000
END:DAYLIGHT
BEGIN:STANDARD
TZOFFSETFROM:-0400
TZOFFSETTO:-0500
TZNAME:EST
DTSTART:20271107T060000
END:STANDARD
BEGIN:DAYLIGHT
TZOFFSETFROM:-0500
TZOFFSETTO:-0400
TZNAME:EDT
DTSTART:20280312T070000
END:DAYLIGHT
BEGIN:STANDARD
TZOFFSETFROM:-0400
TZOFFSETTO:-0500
TZNAME:EST
DTSTART:20281105T060000
END:STANDARD
BEGIN:DAYLIGHT
TZOFFSETFROM:-0500
TZOFFSETTO:-0400
TZNAME:EDT
DTSTART:20290311T070000
END:DAYLIGHT
BEGIN:STANDARD
TZOFFSETFROM:-0400
TZOFFSETTO:-0500
TZNAME:EST
DTSTART:20291104T060000
END:STANDARD
END:VTIMEZONE
BEGIN:VEVENT
DTSTART;TZID=America/New_York:20281227T200000
DTEND;TZID=America/New_York:20281227T220000
DTSTAMP:20260419T140825
CREATED:20260326T085550Z
LAST-MODIFIED:20260326T085551Z
UID:10052784-1861560000-1861567200@livemusicasheville.com
SUMMARY:Bam-A Lam with Jason Krekel & Craig Kellberg
DESCRIPTION:
URL:https://livemusicasheville.com/calendar/bam-a-lam-with-jason-krekel-craig-kellberg-2-2-2-2-2-2-2/2028-12-27/
LOCATION:5 Walnut Wine Bar
CATEGORIES:Asheville Area,Live Music
GEO:35.596654;-82.5525389
END:VEVENT
BEGIN:VEVENT
DTSTART;TZID=America/New_York:20281227T200000
DTEND;TZID=America/New_York:20281228T000000
DTSTAMP:20260419T140825
CREATED:20260324T165603Z
LAST-MODIFIED:20260324T165604Z
UID:10045082-1861560000-1861574400@livemusicasheville.com
SUMMARY:Latin Night Wednesdays
DESCRIPTION:
URL:https://livemusicasheville.com/calendar/latin-night-wednesdays-2-2-2-2-2/2028-12-27/
LOCATION:One World Brewing – West\, 520 Haywood Rd\, Asheville\, North Carolina\, 28806
CATEGORIES:Asheville Area,DJ/Electronic
GEO:35.5783642;-82.5848526
X-APPLE-STRUCTURED-LOCATION;VALUE=URI;X-ADDRESS=One World Brewing – West 520 Haywood Rd Asheville North Carolina 28806;X-APPLE-RADIUS=500;X-TITLE=520 Haywood Rd:geo:-82.5848526,35.5783642
END:VEVENT
BEGIN:VEVENT
DTSTART;TZID=America/New_York:20281227T200000
DTEND;TZID=America/New_York:20281228T020000
DTSTAMP:20260419T140825
CREATED:20251222T163440Z
LAST-MODIFIED:20260408T184720Z
UID:10055845-1861560000-1861581600@livemusicasheville.com
SUMMARY:Wednesday Weekly DJs
DESCRIPTION:Although we are primarily a Live Music Calendar\, we often come across Electronic & DJ events in the area and list them for you as we find out about them. Please verify the DJ\, times and cover charges with the venue. \nOne World Brewing West – 8pm-12am (Latin dance) \nThe One Stop -9pm-12am (until 5/27) \nShakeys Dive Bar – 10pm-2am \nVerify with the venue for the DJs and cover charges. \n 
URL:https://livemusicasheville.com/calendar/wednesday-weekely-djs-2/2028-12-27/
LOCATION:Asheville Area
CATEGORIES:Asheville Area,DJ/Electronic
END:VEVENT
BEGIN:VEVENT
DTSTART;TZID=America/New_York:20281227T200000
DTEND;TZID=America/New_York:20281228T020000
DTSTAMP:20260419T140825
CREATED:20251223T121045Z
LAST-MODIFIED:20260407T133820Z
UID:10035551-1861560000-1861581600@livemusicasheville.com
SUMMARY:Wednesday Karaoke
DESCRIPTION:Kootie Lounge Asheville at Haikuavl – 7-9pm (1st\, 2nd & 4th Wednesdays) \nPeri Social House Black Mountain – 7-9pm (April 1) \nThe Social East Asheville – 8-11pm \nOHenrys – 8-11:30pm \nSticks on Broadway – 8-11pm (March 4) \nFleetwoods – PSK – 9pm-1am (March 18) \nThe Lazy Diamond – 10pm-2am \n The Odd – 9pm-1am (exclude 4/8 & 4/29) \nPlease verify times and KJ with the venue. \n  \n\n 
URL:https://livemusicasheville.com/calendar/wednesday-karaoke-2/2028-12-27/
LOCATION:Asheville Area
CATEGORIES:Asheville Area,Black Mountain,Karaoke,Mills River
END:VEVENT
BEGIN:VEVENT
DTSTART;TZID=America/New_York:20281227T200000
DTEND;TZID=America/New_York:20281228T020000
DTSTAMP:20260419T140825
CREATED:20260208T155221Z
LAST-MODIFIED:20260208T155221Z
UID:10044043-1861560000-1861581600@livemusicasheville.com
SUMMARY:All Request Piano Show
DESCRIPTION:
URL:https://livemusicasheville.com/calendar/all-request-piano-show-2/2028-12-27/
LOCATION:Off the Wagon
CATEGORIES:Asheville Area,Live Music
GEO:41.4302231;-81.3909542
END:VEVENT
BEGIN:VEVENT
DTSTART;TZID=America/New_York:20281227T210000
DTEND;TZID=America/New_York:20281228T000000
DTSTAMP:20260419T140825
CREATED:20260331T144309Z
LAST-MODIFIED:20260415T100406Z
UID:10047323-1861563600-1861574400@livemusicasheville.com
SUMMARY:Western Wednesdays Asheville
DESCRIPTION:Western Wednesdays Asheville | Est. 2017 – Every Wednesday | The Double Crown – Asheville\, NC\n\nDon’t miss the best Honky Tonk in Asheville!\n**DOORS AT 8PM – $10 0ne Band | $15 Two Bands ** \n  \nThe Double Crown – Great vibes\, great bourbon\, and great music! (21+ only\, dog friendly) A West Asheville institution\, the Double Crown hosts Western Wednesdays\, karaoke\, DJ’s and rousing Gospel & Soul night’s each month. It’s a great place for an intimate evening of dancing\, drinks and fun\, especially if you love a good dive bar.
URL:https://livemusicasheville.com/calendar/western-wednesdays-asheville-w-rob-leines-2-2-2-2/2028-12-27/
LOCATION:The Double Crown West Asheville\, 375 West Haywood Rd\, Asheville\, NC\, 28806
CATEGORIES:Asheville Area,Live Music
ATTACH;FMTTYPE=image/png:https://livemusicasheville.com/wp-content/uploads/2026/03/Screenshot-2026-03-27-055357-e1774605327488.png
GEO:35.5780389;-82.5787972
X-APPLE-STRUCTURED-LOCATION;VALUE=URI;X-ADDRESS=The Double Crown West Asheville 375 West Haywood Rd Asheville NC 28806;X-APPLE-RADIUS=500;X-TITLE=375 West Haywood Rd:geo:-82.5787972,35.5780389
END:VEVENT
BEGIN:VEVENT
DTSTART;VALUE=DATE:20281228
DTEND;VALUE=DATE:20281230
DTSTAMP:20260419T140825
CREATED:20260115T155240Z
LAST-MODIFIED:20260416T122141Z
UID:10037745-1861585200-1861671599@livemusicasheville.com
SUMMARY:Love What We Do .......... Buy Us A Beer!
DESCRIPTION:We hope you enjoy our guide to the Asheville area’s dynamic music scene. \nIf we somehow help to brighten up your day\, please consider a small donation to help support our efforts in providing the area’s most reliable local live music calendar. \nVenmo: click here  \nLast 4 digits – 3383 \nPayPal: click here \n 
URL:https://livemusicasheville.com/calendar/greetings-fellow-music-lovers-2-2/2028-12-28/
LOCATION:Asheville Area
CATEGORIES:Asheville Area
ATTACH;FMTTYPE=image/jpeg:https://livemusicasheville.com/wp-content/uploads/2026/04/IMG_4936-e1776341497401.jpeg
END:VEVENT
BEGIN:VEVENT
DTSTART;TZID=America/New_York:20281228T090000
DTEND;TZID=America/New_York:20281228T103000
DTSTAMP:20260419T140825
CREATED:20260324T145424Z
LAST-MODIFIED:20260409T212604Z
UID:10051270-1861606800-1861612200@livemusicasheville.com
SUMMARY:Live Music Yoga with Seán Johnson ft. Chris Rosser
DESCRIPTION:
URL:https://livemusicasheville.com/calendar/live-music-yoga-with-sean-johnson-ft-chris-rosser/2028-12-28/
LOCATION:AyurPrana Listening Room\, 312 Haywood Rd\, Asheville\, NC\, 28806
CATEGORIES:Asheville Area,Live Music
GEO:35.5775962;-82.5760261
X-APPLE-STRUCTURED-LOCATION;VALUE=URI;X-ADDRESS=AyurPrana Listening Room 312 Haywood Rd Asheville NC 28806;X-APPLE-RADIUS=500;X-TITLE=312 Haywood Rd:geo:-82.5760261,35.5775962
END:VEVENT
BEGIN:VEVENT
DTSTART;TZID=America/New_York:20281228T170000
DTEND;TZID=America/New_York:20281228T190000
DTSTAMP:20260419T140825
CREATED:20260314T125134Z
LAST-MODIFIED:20260314T125135Z
UID:10045774-1861635600-1861642800@livemusicasheville.com
SUMMARY:The Candleers
DESCRIPTION:
URL:https://livemusicasheville.com/calendar/the-candleers-2-2-3-2/2028-12-28/
LOCATION:Twin Willows Mars Hill
CATEGORIES:Asheville Area,Live Music,Madison County
END:VEVENT
BEGIN:VEVENT
DTSTART;TZID=America/New_York:20281228T173000
DTEND;TZID=America/New_York:20281228T210000
DTSTAMP:20260419T140825
CREATED:20251209T220321Z
LAST-MODIFIED:20260107T123537Z
UID:10031474-1861637400-1861650000@livemusicasheville.com
SUMMARY:Irish Session
DESCRIPTION:
URL:https://livemusicasheville.com/calendar/irish-session-7/2028-12-28/
LOCATION:Leveller Brewing Weaverville
CATEGORIES:Live Music,Open MIc/Jam,Weaverville
END:VEVENT
BEGIN:VEVENT
DTSTART;TZID=America/New_York:20281228T180000
DTEND;TZID=America/New_York:20281228T210000
DTSTAMP:20260419T140825
CREATED:20251121T203137Z
LAST-MODIFIED:20260107T125034Z
UID:10031729-1861639200-1861650000@livemusicasheville.com
SUMMARY:BUTTS & BOOTS :: Line Dancing
DESCRIPTION:
URL:https://livemusicasheville.com/calendar/butts-boots-line-dancing-3/2028-12-28/
LOCATION:Banks Ave
CATEGORIES:Asheville Area,DJ/Electronic
GEO:35.5892908;-82.5536382
END:VEVENT
BEGIN:VEVENT
DTSTART;TZID=America/New_York:20281228T180000
DTEND;TZID=America/New_York:20281228T210000
DTSTAMP:20260419T140825
CREATED:20260122T191302Z
LAST-MODIFIED:20260122T191304Z
UID:10040203-1861639200-1861650000@livemusicasheville.com
SUMMARY:Aaron LaFalce
DESCRIPTION:
URL:https://livemusicasheville.com/calendar/aaron-lafalce-2-2-2-2/2028-12-28/
LOCATION:131 Main Biltmore Park
CATEGORIES:Live Music,South Asheville/Arden/Fletcher
END:VEVENT
BEGIN:VEVENT
DTSTART;TZID=America/New_York:20281228T180000
DTEND;TZID=America/New_York:20281229T020000
DTSTAMP:20260419T140825
CREATED:20251121T203413Z
LAST-MODIFIED:20260408T094503Z
UID:10032960-1861639200-1861668000@livemusicasheville.com
SUMMARY:Thursday Weekly DJs
DESCRIPTION:Although we are primarily a Live Music Calendar\, we often come across Electronic & DJ events in the area and list them for you as we find out about them. Please verify the DJ\, times and cover charges with the venue. \nThe Mule at Devils Foot Beverages – 4-9pm (Starts April 23) \nEda Rhyne Distilling – 6-9pm \nPotential New Boyfriend – 7-10pm \nSticks on Broadway – 10pm -2am \nLazy Diamond – 10pm-2am \nThe Double Crown – 10pm-2am \nCheck with the for DJs and covers.
URL:https://livemusicasheville.com/calendar/thursday-weekly-djs-2/2028-12-28/
LOCATION:Asheville Area
CATEGORIES:Asheville Area,DJ/Electronic
END:VEVENT
BEGIN:VEVENT
DTSTART;TZID=America/New_York:20281228T190000
DTEND;TZID=America/New_York:20281228T210000
DTSTAMP:20260419T140825
CREATED:20251231T133744Z
LAST-MODIFIED:20260311T213218Z
UID:10049309-1861642800-1861650000@livemusicasheville.com
SUMMARY:Billy Owens and Friends
DESCRIPTION:
URL:https://livemusicasheville.com/calendar/billy-owens-and-friends-3-2-2/2028-12-28/
LOCATION:Blue Mountain Pizza Weaverville
CATEGORIES:Asheville Area,Live Music,Weaverville
GEO:35.698228;-82.560231
END:VEVENT
BEGIN:VEVENT
DTSTART;TZID=America/New_York:20281228T190000
DTEND;TZID=America/New_York:20281228T210000
DTSTAMP:20260419T140825
CREATED:20260205T175550Z
LAST-MODIFIED:20260205T175551Z
UID:10043402-1861642800-1861650000@livemusicasheville.com
SUMMARY:Americano Sessions with Billy Presnell & Friends
DESCRIPTION:
URL:https://livemusicasheville.com/calendar/americano-sessions-with-billy-presnell-friends-2-2-2-2-2-2/2028-12-28/
LOCATION:Old Town District Black Mountain\, 110 Black Mountain Ave\, Black Mountain\, NC\, 28711\, United States
CATEGORIES:Asheville Area,Black Mountain,Live Music
GEO:35.6144382;-82.320515
X-APPLE-STRUCTURED-LOCATION;VALUE=URI;X-ADDRESS=Old Town District Black Mountain 110 Black Mountain Ave Black Mountain NC 28711 United States;X-APPLE-RADIUS=500;X-TITLE=110 Black Mountain Ave:geo:-82.320515,35.6144382
END:VEVENT
BEGIN:VEVENT
DTSTART;TZID=America/New_York:20281228T190000
DTEND;TZID=America/New_York:20281228T233000
DTSTAMP:20260419T140825
CREATED:20260225T194940Z
LAST-MODIFIED:20260225T194941Z
UID:10040430-1861642800-1861659000@livemusicasheville.com
SUMMARY:The Thursday Bluegrass Jam hosted by Drew Matulich
DESCRIPTION:Our amazing Thursday BlueGrass jam curated by the talented Drew Matulich! Don’t miss your chance to check out some of the best pickers from all over WNC! A real show-stopping performance only at Jack of the Wood! The Bluegrass Jam will start after the host band at 9:30 and go to 11:30pm. Pickers bring your instruments! Enjoy $1 OFF all our bourbons every Thursday \nJack Of The Wood is still a downtown hot spot for food\, brews and drink since 1997 and founders Joan and Joe Eckert who still own it\, have maintained the original lively English and Irish vibe. The old-time mountain and Irish music jams continue\, including a hot bluegrass jam Thursdays and brunch every Sunday. The venue extends a welcoming feeling to regulars and newcomers to this day. https://jackofthewood.com/
URL:https://livemusicasheville.com/calendar/the-thursday-bluegrass-jam-hosted-by-drew-matulich-2-2-2-2-2-2-2-2/2028-12-28/
LOCATION:Jack Of The Wood\, 95 Patton Ave\, asheville\, NC\, United States
CATEGORIES:Asheville Area,Live Music,Open MIc/Jam
ATTACH;FMTTYPE=image/jpeg:https://livemusicasheville.com/wp-content/uploads/2025/04/IMG_0947-e1750964014171.jpeg
GEO:35.5944492;-82.5558221
X-APPLE-STRUCTURED-LOCATION;VALUE=URI;X-ADDRESS=Jack Of The Wood 95 Patton Ave asheville NC United States;X-APPLE-RADIUS=500;X-TITLE=95 Patton Ave:geo:-82.5558221,35.5944492
END:VEVENT
BEGIN:VEVENT
DTSTART;TZID=America/New_York:20281228T190000
DTEND;TZID=America/New_York:20281229T020000
DTSTAMP:20260419T140825
CREATED:20251121T203604Z
LAST-MODIFIED:20260408T185204Z
UID:10033451-1861642800-1861668000@livemusicasheville.com
SUMMARY:Thursday Karaoke
DESCRIPTION:Please verify times and KJ with the venue! \n  \nTurgua Brewing Fairview – 6-8pm (April 16) \nAsheville Sports Club – 7-10pm \nThe Social East Asheville – 7-11pm \nDaddy Mac’s Downhome Dive – 8-11pm \nShiloh and Gaines – 8-11pm \nVOWL – 8-11pm \nPapertown Billiards Canton – 8-11pm  \nStatic Age Loft 10pm-2am \nShakeys Dive Bar 9pm-2am
URL:https://livemusicasheville.com/calendar/thursday-weekly-karaoke-2/2028-12-28/
LOCATION:Asheville Area
CATEGORIES:Asheville Area,Karaoke,Madison County,South Asheville/Arden/Fletcher
END:VEVENT
BEGIN:VEVENT
DTSTART;TZID=America/New_York:20281228T193000
DTEND;TZID=America/New_York:20281228T230000
DTSTAMP:20260419T140825
CREATED:20251223T163554Z
LAST-MODIFIED:20260107T163257Z
UID:10032259-1861644600-1861657200@livemusicasheville.com
SUMMARY:Old Farmers Ball Contra Dance
DESCRIPTION:
URL:https://livemusicasheville.com/calendar/old-farmers-ball-contra-dance-2/2028-12-28/
LOCATION:Warren Wilson College Swannanoa\, 701 Warren Wilson Road\, Swannanoa\, NC
CATEGORIES:Asheville Area,Live Music
GEO:35.611126;-82.4422791
X-APPLE-STRUCTURED-LOCATION;VALUE=URI;X-ADDRESS=Warren Wilson College Swannanoa 701 Warren Wilson Road Swannanoa NC;X-APPLE-RADIUS=500;X-TITLE=701 Warren Wilson Road:geo:-82.4422791,35.611126
END:VEVENT
BEGIN:VEVENT
DTSTART;TZID=America/New_York:20281228T200000
DTEND;TZID=America/New_York:20281228T220000
DTSTAMP:20260419T140825
CREATED:20260324T002042Z
LAST-MODIFIED:20260324T194103Z
UID:10051799-1861646400-1861653600@livemusicasheville.com
SUMMARY:Rock n Soul with Pleasure Chest
DESCRIPTION:
URL:https://livemusicasheville.com/calendar/rock-n-soul-with-pleasure-chest-2-2-2-2-2-2-2-2-2/2028-12-28/
LOCATION:5 Walnut Wine Bar
CATEGORIES:Asheville Area,Live Music
GEO:35.596654;-82.5525389
END:VEVENT
BEGIN:VEVENT
DTSTART;TZID=America/New_York:20281228T200000
DTEND;TZID=America/New_York:20281228T230000
DTSTAMP:20260419T140825
CREATED:20251231T114037Z
LAST-MODIFIED:20260325T110829Z
UID:10052038-1861646400-1861657200@livemusicasheville.com
SUMMARY:Fee Fi PHaux fISH
DESCRIPTION:
URL:https://livemusicasheville.com/calendar/fee-fi-phaux-fish-4-2-2-2/2028-12-28/
LOCATION:One World Brewing – West\, 520 Haywood Rd\, Asheville\, North Carolina\, 28806
CATEGORIES:Asheville Area,Live Music
GEO:35.5783642;-82.5848526
X-APPLE-STRUCTURED-LOCATION;VALUE=URI;X-ADDRESS=One World Brewing – West 520 Haywood Rd Asheville North Carolina 28806;X-APPLE-RADIUS=500;X-TITLE=520 Haywood Rd:geo:-82.5848526,35.5783642
END:VEVENT
BEGIN:VEVENT
DTSTART;TZID=America/New_York:20281228T200000
DTEND;TZID=America/New_York:20281229T020000
DTSTAMP:20260419T140825
CREATED:20260208T155221Z
LAST-MODIFIED:20260208T155221Z
UID:10044044-1861646400-1861668000@livemusicasheville.com
SUMMARY:All Request Piano Show
DESCRIPTION:
URL:https://livemusicasheville.com/calendar/all-request-piano-show-2/2028-12-28/
LOCATION:Off the Wagon
CATEGORIES:Asheville Area,Live Music
GEO:41.4302231;-81.3909542
END:VEVENT
BEGIN:VEVENT
DTSTART;TZID=America/New_York:20281228T210000
DTEND;TZID=America/New_York:20281229T000000
DTSTAMP:20260419T140825
CREATED:20260331T145851Z
LAST-MODIFIED:20260409T152837Z
UID:10031113-1861650000-1861660800@livemusicasheville.com
SUMMARY:Crowbar Blues ft. Melissa McKinney & Chris Everett
DESCRIPTION:Winners of the MerleFest band competition in 2025\, an annual competition that is a significant event at the long-running roots music festival\, Melissa McKinney & Chris Everett are lighting up the stage @crowbaravl on Thursday nights. Join us at 92 Patton Ave from 9pm-12am! \n  \nThe Crowbar – Asheville’s Best Flockin’ Bar 🐦‍⬛Live Music Every Thursday & Saturday 🎶Sun – Thurs | 1pm to 1amFri – Sat | 1pm to 2am \nDrinks\, Snacks\, Games\, Live Music\, DJ’s\, Karaoke\, More
URL:https://livemusicasheville.com/calendar/melissa-mckinney-chris-everett-duo-2-2/2028-12-28/
LOCATION:Crowbar Asheville\, 92 Patton Ave\, Asheville\, NC\, 28801\, United States
CATEGORIES:Asheville Area,Live Music
ATTACH;FMTTYPE=image/png:https://livemusicasheville.com/wp-content/uploads/2025/11/unnamed-4-e1772044796721.png
GEO:35.5941004;-82.5553361
X-APPLE-STRUCTURED-LOCATION;VALUE=URI;X-ADDRESS=Crowbar Asheville 92 Patton Ave Asheville NC 28801 United States;X-APPLE-RADIUS=500;X-TITLE=92 Patton Ave:geo:-82.5553361,35.5941004
END:VEVENT
BEGIN:VEVENT
DTSTART;TZID=America/New_York:20281229T173000
DTEND;TZID=America/New_York:20281229T213000
DTSTAMP:20260419T140825
CREATED:20260221T134837Z
LAST-MODIFIED:20260320T181747Z
UID:10050708-1861723800-1861738200@livemusicasheville.com
SUMMARY:The Friday Drum Circle
DESCRIPTION:Weather dependent
URL:https://livemusicasheville.com/calendar/the-friday-drum-circle-3/2028-12-29/
LOCATION:Pritchard Park Downtown\, 67 Patton Avenue\, Asheville\, NC\, 28801
CATEGORIES:Asheville Area,Live Music,Open MIc/Jam
GEO:35.5947402;-82.5543431
X-APPLE-STRUCTURED-LOCATION;VALUE=URI;X-ADDRESS=Pritchard Park Downtown 67 Patton Avenue Asheville NC 28801;X-APPLE-RADIUS=500;X-TITLE=67 Patton Avenue:geo:-82.5543431,35.5947402
END:VEVENT
BEGIN:VEVENT
DTSTART;TZID=America/New_York:20281229T180000
DTEND;TZID=America/New_York:20281230T020000
DTSTAMP:20260419T140825
CREATED:20241225T134450Z
LAST-MODIFIED:20260415T173808Z
UID:10032473-1861725600-1861754400@livemusicasheville.com
SUMMARY:Friday Weekly DJ's
DESCRIPTION:Although we are primarily a Live Music Calendar\, we often come across Electronic & DJ events in the area and list them for you as we find out about them. Please verify the DJ\, times and cover charges with the venue. \nLA Pizza Party Rooftop – 6-9pm \nThe Radical – 6-11pm \nPotential New Boyfriend – 7:30-11pm \nCapella On 9 – 8-11pm \nBen’s Tune Up – 8-11pm \nAntidote – 9-11pm \nBanks Ave – 9-11:30pm \nVOWL – 9pm-1am \nDouble Crown – 9pm-2am \nHavana Miami – 9pm-2am \nStatic Age Loft – 9pm-2am \nWaterstreet – 9pm-2am \nLa Pizza Party – 10pm-2am \nThe Barksdale – 10pm-2am \nLazy Diamond – 10pm-2am \nSticks On Broadway – 10pm-2am \nStrange Magic Bar – 10pm-2am \nShakeys – 10pm-2am \n  \nVerify with the venue on times\, cover charges and tonight’s DJ.
URL:https://livemusicasheville.com/calendar/friday-weekly-dj-schedule/2028-12-29/
LOCATION:Asheville Area
CATEGORIES:Asheville Area,DJ/Electronic
END:VEVENT
BEGIN:VEVENT
DTSTART;TZID=America/New_York:20281229T190000
DTEND;TZID=America/New_York:20281229T210000
DTSTAMP:20260419T140825
CREATED:20251029T132808Z
LAST-MODIFIED:20260415T133603Z
UID:10056994-1861729200-1861736400@livemusicasheville.com
SUMMARY:Grass Is Back!
DESCRIPTION:No Cover – Donations accepted!\n\n\n\n\nApril 17 – Lynn Goldsmith & The Jeter Mountain Band\nApril 24 – New Carolina Connection Band\nMay 1 – Harlan County Grass\nMay 8 – Mulley Holler Band\nMay 15- Travis Watts & Mountain Blessings\nMay 22 – Hit or Miss Bluegrass & Country Band
URL:https://livemusicasheville.com/calendar/grass-is-back-3/2028-12-29/
LOCATION:Feed and Seed Fletcher
CATEGORIES:Asheville Area,Live Music,South Asheville/Arden/Fletcher
END:VEVENT
BEGIN:VEVENT
DTSTART;TZID=America/New_York:20281229T190000
DTEND;TZID=America/New_York:20281229T220000
DTSTAMP:20260419T140825
CREATED:20251113T101742Z
LAST-MODIFIED:20260327T002508Z
UID:10053130-1861729200-1861740000@livemusicasheville.com
SUMMARY:Blues with Mr Jimmy
DESCRIPTION:
URL:https://livemusicasheville.com/calendar/blues-with-mr-jimmy-2-2-2/2028-12-29/
LOCATION:The Station Black Mountain
CATEGORIES:Asheville Area,Black Mountain,Live Music
END:VEVENT
BEGIN:VEVENT
DTSTART;TZID=America/New_York:20281229T190000
DTEND;TZID=America/New_York:20281230T010000
DTSTAMP:20260419T140825
CREATED:20241225T141623Z
LAST-MODIFIED:20260416T110217Z
UID:10056477-1861729200-1861750800@livemusicasheville.com
SUMMARY:Friday Karaoke
DESCRIPTION:  \n7-10pm – Mal’s Bar Marshall (February 20) \n7-10pm- Noble Cider (April 10) \n8pm-12am – Silverados Black Mountain \n8-11pm – Dalton Distillery (April 17) \n8-11pm – T Birds Weaverville \n8:30-11pm – The Village Porch Woodfin (April 17) \n8pm-1am – Fleetwoods (Feb 27) \n9pm-12am – Brewskies Fairview   \n9pm-12am – Little Creek Tavern Fletcher  \n9pm-1am – Handlebar & Grill \n9pm- 1am – O’Henrys \n9:30pm-1:30am – The Crowbar Downtown \n10pm – 2am – Shakeys \nVerify time and KJ with The Venue. \n  \n  \n\n 
URL:https://livemusicasheville.com/calendar/friday-weekly-karaoke/2028-12-29/
LOCATION:Asheville Area
CATEGORIES:Asheville Area,Black Mountain,Fairview,Karaoke,Madison County,Weaverville
END:VEVENT
BEGIN:VEVENT
DTSTART;TZID=America/New_York:20281229T200000
DTEND;TZID=America/New_York:20281229T230000
DTSTAMP:20260419T140825
CREATED:20250711T192233Z
LAST-MODIFIED:20260116T152048Z
UID:10038074-1861732800-1861743600@livemusicasheville.com
SUMMARY:Commodore Fox Band
DESCRIPTION:
URL:https://livemusicasheville.com/calendar/commodore-fox-band-2/2028-12-29/
LOCATION:Wild Wing Cafe South
CATEGORIES:Live Music,South Asheville/Arden/Fletcher
END:VEVENT
BEGIN:VEVENT
DTSTART;VALUE=DATE:20281230
DTEND;VALUE=DATE:20290101
DTSTAMP:20260419T140825
CREATED:20260115T155240Z
LAST-MODIFIED:20260416T122141Z
UID:10037746-1861758000-1861844399@livemusicasheville.com
SUMMARY:Love What We Do .......... Buy Us A Beer!
DESCRIPTION:We hope you enjoy our guide to the Asheville area’s dynamic music scene. \nIf we somehow help to brighten up your day\, please consider a small donation to help support our efforts in providing the area’s most reliable local live music calendar. \nVenmo: click here  \nLast 4 digits – 3383 \nPayPal: click here \n 
URL:https://livemusicasheville.com/calendar/greetings-fellow-music-lovers-2-2/2028-12-30/
LOCATION:Asheville Area
CATEGORIES:Asheville Area
ATTACH;FMTTYPE=image/jpeg:https://livemusicasheville.com/wp-content/uploads/2026/04/IMG_4936-e1776341497401.jpeg
END:VEVENT
BEGIN:VEVENT
DTSTART;TZID=America/New_York:20281230T090000
DTEND;TZID=America/New_York:20281230T120000
DTSTAMP:20260419T140825
CREATED:20260319T125009Z
LAST-MODIFIED:20260320T015859Z
UID:10050442-1861779600-1861790400@livemusicasheville.com
SUMMARY:Adi the Monk
DESCRIPTION:
URL:https://livemusicasheville.com/calendar/adi-the-monk-7/2028-12-30/
LOCATION:Sunny Point Café
CATEGORIES:Asheville Area,Live Music
END:VEVENT
END:VCALENDAR