BEGIN:VCALENDAR
VERSION:2.0
PRODID:-//LiveMusicAsheville.com - ECPv6.15.20//NONSGML v1.0//EN
CALSCALE:GREGORIAN
METHOD:PUBLISH
X-ORIGINAL-URL:https://livemusicasheville.com
X-WR-CALDESC:Events for LiveMusicAsheville.com
REFRESH-INTERVAL;VALUE=DURATION:PT1H
X-Robots-Tag:noindex
X-PUBLISHED-TTL:PT1H
BEGIN:VTIMEZONE
TZID:America/New_York
BEGIN:DAYLIGHT
TZOFFSETFROM:-0500
TZOFFSETTO:-0400
TZNAME:EDT
DTSTART:20270314T070000
END:DAYLIGHT
BEGIN:STANDARD
TZOFFSETFROM:-0400
TZOFFSETTO:-0500
TZNAME:EST
DTSTART:20271107T060000
END:STANDARD
BEGIN:DAYLIGHT
TZOFFSETFROM:-0500
TZOFFSETTO:-0400
TZNAME:EDT
DTSTART:20280312T070000
END:DAYLIGHT
BEGIN:STANDARD
TZOFFSETFROM:-0400
TZOFFSETTO:-0500
TZNAME:EST
DTSTART:20281105T060000
END:STANDARD
BEGIN:DAYLIGHT
TZOFFSETFROM:-0500
TZOFFSETTO:-0400
TZNAME:EDT
DTSTART:20290311T070000
END:DAYLIGHT
BEGIN:STANDARD
TZOFFSETFROM:-0400
TZOFFSETTO:-0500
TZNAME:EST
DTSTART:20291104T060000
END:STANDARD
END:VTIMEZONE
BEGIN:VEVENT
DTSTART;TZID=America/New_York:20281221T210000
DTEND;TZID=America/New_York:20281222T000000
DTSTAMP:20260419T145015
CREATED:20260331T145851Z
LAST-MODIFIED:20260409T152837Z
UID:10031112-1861045200-1861056000@livemusicasheville.com
SUMMARY:Crowbar Blues ft. Melissa McKinney & Chris Everett
DESCRIPTION:Winners of the MerleFest band competition in 2025\, an annual competition that is a significant event at the long-running roots music festival\, Melissa McKinney & Chris Everett are lighting up the stage @crowbaravl on Thursday nights. Join us at 92 Patton Ave from 9pm-12am! \n  \nThe Crowbar – Asheville’s Best Flockin’ Bar 🐦‍⬛Live Music Every Thursday & Saturday 🎶Sun – Thurs | 1pm to 1amFri – Sat | 1pm to 2am \nDrinks\, Snacks\, Games\, Live Music\, DJ’s\, Karaoke\, More
URL:https://livemusicasheville.com/calendar/melissa-mckinney-chris-everett-duo-2-2/2028-12-21/
LOCATION:Crowbar Asheville\, 92 Patton Ave\, Asheville\, NC\, 28801\, United States
CATEGORIES:Asheville Area,Live Music
ATTACH;FMTTYPE=image/png:https://livemusicasheville.com/wp-content/uploads/2025/11/unnamed-4-e1772044796721.png
GEO:35.5941004;-82.5553361
X-APPLE-STRUCTURED-LOCATION;VALUE=URI;X-ADDRESS=Crowbar Asheville 92 Patton Ave Asheville NC 28801 United States;X-APPLE-RADIUS=500;X-TITLE=92 Patton Ave:geo:-82.5553361,35.5941004
END:VEVENT
BEGIN:VEVENT
DTSTART;TZID=America/New_York:20281222T173000
DTEND;TZID=America/New_York:20281222T213000
DTSTAMP:20260419T145015
CREATED:20260221T134837Z
LAST-MODIFIED:20260320T181747Z
UID:10050707-1861119000-1861133400@livemusicasheville.com
SUMMARY:The Friday Drum Circle
DESCRIPTION:Weather dependent
URL:https://livemusicasheville.com/calendar/the-friday-drum-circle-3/2028-12-22/
LOCATION:Pritchard Park Downtown\, 67 Patton Avenue\, Asheville\, NC\, 28801
CATEGORIES:Asheville Area,Live Music,Open MIc/Jam
GEO:35.5947402;-82.5543431
X-APPLE-STRUCTURED-LOCATION;VALUE=URI;X-ADDRESS=Pritchard Park Downtown 67 Patton Avenue Asheville NC 28801;X-APPLE-RADIUS=500;X-TITLE=67 Patton Avenue:geo:-82.5543431,35.5947402
END:VEVENT
BEGIN:VEVENT
DTSTART;TZID=America/New_York:20281222T180000
DTEND;TZID=America/New_York:20281223T020000
DTSTAMP:20260419T145015
CREATED:20241225T134450Z
LAST-MODIFIED:20260415T173808Z
UID:10032472-1861120800-1861149600@livemusicasheville.com
SUMMARY:Friday Weekly DJ's
DESCRIPTION:Although we are primarily a Live Music Calendar\, we often come across Electronic & DJ events in the area and list them for you as we find out about them. Please verify the DJ\, times and cover charges with the venue. \nLA Pizza Party Rooftop – 6-9pm \nThe Radical – 6-11pm \nPotential New Boyfriend – 7:30-11pm \nCapella On 9 – 8-11pm \nBen’s Tune Up – 8-11pm \nAntidote – 9-11pm \nBanks Ave – 9-11:30pm \nVOWL – 9pm-1am \nDouble Crown – 9pm-2am \nHavana Miami – 9pm-2am \nStatic Age Loft – 9pm-2am \nWaterstreet – 9pm-2am \nLa Pizza Party – 10pm-2am \nThe Barksdale – 10pm-2am \nLazy Diamond – 10pm-2am \nSticks On Broadway – 10pm-2am \nStrange Magic Bar – 10pm-2am \nShakeys – 10pm-2am \n  \nVerify with the venue on times\, cover charges and tonight’s DJ.
URL:https://livemusicasheville.com/calendar/friday-weekly-dj-schedule/2028-12-22/
LOCATION:Asheville Area
CATEGORIES:Asheville Area,DJ/Electronic
END:VEVENT
BEGIN:VEVENT
DTSTART;TZID=America/New_York:20281222T190000
DTEND;TZID=America/New_York:20281222T210000
DTSTAMP:20260419T145015
CREATED:20251029T132808Z
LAST-MODIFIED:20260415T133603Z
UID:10056993-1861124400-1861131600@livemusicasheville.com
SUMMARY:Grass Is Back!
DESCRIPTION:No Cover – Donations accepted!\n\n\n\n\nApril 17 – Lynn Goldsmith & The Jeter Mountain Band\nApril 24 – New Carolina Connection Band\nMay 1 – Harlan County Grass\nMay 8 – Mulley Holler Band\nMay 15- Travis Watts & Mountain Blessings\nMay 22 – Hit or Miss Bluegrass & Country Band
URL:https://livemusicasheville.com/calendar/grass-is-back-3/2028-12-22/
LOCATION:Feed and Seed Fletcher
CATEGORIES:Asheville Area,Live Music,South Asheville/Arden/Fletcher
END:VEVENT
BEGIN:VEVENT
DTSTART;TZID=America/New_York:20281222T190000
DTEND;TZID=America/New_York:20281222T220000
DTSTAMP:20260419T145015
CREATED:20251113T101742Z
LAST-MODIFIED:20260327T002508Z
UID:10053129-1861124400-1861135200@livemusicasheville.com
SUMMARY:Blues with Mr Jimmy
DESCRIPTION:
URL:https://livemusicasheville.com/calendar/blues-with-mr-jimmy-2-2-2/2028-12-22/
LOCATION:The Station Black Mountain
CATEGORIES:Asheville Area,Black Mountain,Live Music
END:VEVENT
BEGIN:VEVENT
DTSTART;TZID=America/New_York:20281222T190000
DTEND;TZID=America/New_York:20281223T010000
DTSTAMP:20260419T145015
CREATED:20241225T141623Z
LAST-MODIFIED:20260416T110217Z
UID:10056476-1861124400-1861146000@livemusicasheville.com
SUMMARY:Friday Karaoke
DESCRIPTION:  \n7-10pm – Mal’s Bar Marshall (February 20) \n7-10pm- Noble Cider (April 10) \n8pm-12am – Silverados Black Mountain \n8-11pm – Dalton Distillery (April 17) \n8-11pm – T Birds Weaverville \n8:30-11pm – The Village Porch Woodfin (April 17) \n8pm-1am – Fleetwoods (Feb 27) \n9pm-12am – Brewskies Fairview   \n9pm-12am – Little Creek Tavern Fletcher  \n9pm-1am – Handlebar & Grill \n9pm- 1am – O’Henrys \n9:30pm-1:30am – The Crowbar Downtown \n10pm – 2am – Shakeys \nVerify time and KJ with The Venue. \n  \n  \n\n 
URL:https://livemusicasheville.com/calendar/friday-weekly-karaoke/2028-12-22/
LOCATION:Asheville Area
CATEGORIES:Asheville Area,Black Mountain,Fairview,Karaoke,Madison County,Weaverville
END:VEVENT
BEGIN:VEVENT
DTSTART;TZID=America/New_York:20281222T200000
DTEND;TZID=America/New_York:20281222T220000
DTSTAMP:20260419T145015
CREATED:20241226T143754Z
LAST-MODIFIED:20260331T121545Z
UID:10053969-1861128000-1861135200@livemusicasheville.com
SUMMARY:Jump Blues w/ Virginia and The Slims
DESCRIPTION:
URL:https://livemusicasheville.com/calendar/virginia-and-the-slims/2028-12-22/
LOCATION:5 Walnut Wine Bar
CATEGORIES:Asheville Area,Live Music
GEO:35.596654;-82.5525389
END:VEVENT
BEGIN:VEVENT
DTSTART;TZID=America/New_York:20281222T200000
DTEND;TZID=America/New_York:20281222T230000
DTSTAMP:20260419T145015
CREATED:20250711T192233Z
LAST-MODIFIED:20260116T152048Z
UID:10038073-1861128000-1861138800@livemusicasheville.com
SUMMARY:Commodore Fox Band
DESCRIPTION:
URL:https://livemusicasheville.com/calendar/commodore-fox-band-2/2028-12-22/
LOCATION:Wild Wing Cafe South
CATEGORIES:Live Music,South Asheville/Arden/Fletcher
END:VEVENT
BEGIN:VEVENT
DTSTART;VALUE=DATE:20281223
DTEND;VALUE=DATE:20281225
DTSTAMP:20260419T145015
CREATED:20260115T155240Z
LAST-MODIFIED:20260416T122141Z
UID:10037744-1861153200-1861239599@livemusicasheville.com
SUMMARY:Love What We Do .......... Buy Us A Beer!
DESCRIPTION:We hope you enjoy our guide to the Asheville area’s dynamic music scene. \nIf we somehow help to brighten up your day\, please consider a small donation to help support our efforts in providing the area’s most reliable local live music calendar. \nVenmo: click here  \nLast 4 digits – 3383 \nPayPal: click here \n 
URL:https://livemusicasheville.com/calendar/greetings-fellow-music-lovers-2-2/2028-12-23/
LOCATION:Asheville Area
CATEGORIES:Asheville Area
ATTACH;FMTTYPE=image/jpeg:https://livemusicasheville.com/wp-content/uploads/2026/04/IMG_4936-e1776341497401.jpeg
END:VEVENT
BEGIN:VEVENT
DTSTART;TZID=America/New_York:20281223T090000
DTEND;TZID=America/New_York:20281223T120000
DTSTAMP:20260419T145015
CREATED:20260319T125009Z
LAST-MODIFIED:20260320T015859Z
UID:10050441-1861174800-1861185600@livemusicasheville.com
SUMMARY:Adi the Monk
DESCRIPTION:
URL:https://livemusicasheville.com/calendar/adi-the-monk-7/2028-12-23/
LOCATION:Sunny Point Café
CATEGORIES:Asheville Area,Live Music
END:VEVENT
BEGIN:VEVENT
DTSTART;TZID=America/New_York:20281223T110000
DTEND;TZID=America/New_York:20281223T140000
DTSTAMP:20260419T145015
CREATED:20260326T163613Z
LAST-MODIFIED:20260326T163614Z
UID:10046042-1861182000-1861192800@livemusicasheville.com
SUMMARY:Jazz Brunch w/ “Four Peanuts” trio
DESCRIPTION:Jazz Brunch is now officially on the schedule for every Saturday here in the taproom! We’re so very excited to introduce our newest free weekly event\, open to all ages\, family & pet-friendly\n\n\n\n\nWe’ll have an extra special brunch menu\, craft beer\, mimosas\, and of course\, beer-mosas\, all alongside jazz music from the talented jazz fusion trio\, “Four Peanuts”. The group explores both original compositions and zesty covers of tunes you may or may not know. The trio features Alex Taub on keyboards\, Brennan Dugan on bass\, and Joe Enright on drums\, and will certainly leave your peanuts salted and boiled to perfection.\n\n\n\nJazz Brunch will take place every Saturday from 11am-2pm at French Broad River Brewery\, with a special brunch menu from @frenchbroadriverpizza🍕 \nIt is our hope that many of our community and new friends may join us in making Saturday dayzzz special here in the taproom this spring☀️ Cheers! \n\n\n  \n \n  \n  \n  \n  \n  \n  \nFrench Broad River Brewery is more than just a place to enjoy a drink—it’s a community hub where great beer\, delicious pizza\, live music\, and good times come together. Just minutes from the Biltmore Estate & Downtown\, our taproom is a gathering spot for locals and visitors alike. We regularly host live music and entertainment in our taproom\, making French Broad River Brewery a lively hub of local activity. From bluegrass to reggae\, there’s always something happening. Check out our Events Page to see what’s coming up next! \nNo brewery experience is complete without great food. That’s why we offer French Broad River Pizza\, serving up hot\, hand-tossed pizzas made to order. Whether you’re here for a quick slice or a full meal\, our pizza perfectly complements our craft beers and the lively atmosphere of our taproom. frenchbroadbrewery.com/pizza
URL:https://livemusicasheville.com/calendar/jazz-brunch-w-four-peanuts-trio-2/2028-12-23/
LOCATION:French Broad River Brewery\, 101 Fairview Rd\, Asheville\, NC\, United States
CATEGORIES:Asheville Area,Live Music
ATTACH;FMTTYPE=image/jpeg:https://livemusicasheville.com/wp-content/uploads/2026/01/639669445_18559886668008860_7411816844449725460_n-e1771543444195.jpg
GEO:35.5662722;-82.5374054
X-APPLE-STRUCTURED-LOCATION;VALUE=URI;X-ADDRESS=French Broad River Brewery 101 Fairview Rd Asheville NC United States;X-APPLE-RADIUS=500;X-TITLE=101 Fairview Rd:geo:-82.5374054,35.5662722
END:VEVENT
BEGIN:VEVENT
DTSTART;TZID=America/New_York:20281223T110000
DTEND;TZID=America/New_York:20281224T010000
DTSTAMP:20260419T145015
CREATED:20241225T201123Z
LAST-MODIFIED:20260416T102359Z
UID:10053748-1861182000-1861232400@livemusicasheville.com
SUMMARY:Saturday Karaoke
DESCRIPTION:Ben’s Tune Up – 11am-2pm (1st & 3rd Saturdays) \nLookout Brewing Black Mountain – 7-10pm (April 18) \nThe Whale South Slope – 7-10pm (April 18) \nIce Bar Arden – 8pm-12am (April 25) \nLiondog Lounge Weaverville – 8pm-12am (every other week) \nT Birds Weaverville – 8-11pm \nThe Burger Bar – 8pm-1am \nThe Social East Asheville – 9pm-1am \n  \n  \nPlease verify times and KJ with the venue.
URL:https://livemusicasheville.com/calendar/saturday-karaoke/2028-12-23/
CATEGORIES:Asheville Area,Karaoke
END:VEVENT
BEGIN:VEVENT
DTSTART;TZID=America/New_York:20281223T120000
DTEND;TZID=America/New_York:20281223T140000
DTSTAMP:20260419T145015
CREATED:20260123T211132Z
LAST-MODIFIED:20260123T211133Z
UID:10040649-1861185600-1861192800@livemusicasheville.com
SUMMARY:Yala Cultural Tour w/ Adama Dembele
DESCRIPTION:Visit LEAF Global Arts every Saturday for an in-house cultural exchange with Adama Dembele. Experience the Ivory Coast with our Culture Keeper from the House of Djembe.\nYala Culture Tour includes drumming\, dancing\, and stories from Ivory Coast. Drums are provided! Families are welcome.
URL:https://livemusicasheville.com/calendar/yala-cultural-tour-w-adama-dembele-3-2-2/2028-12-23/
LOCATION:LEAF Global Arts\, 19 Eagle St\, Asheville\, NC\, 28801
CATEGORIES:Asheville Area,Live Music
GEO:35.5938244;-82.5505196
X-APPLE-STRUCTURED-LOCATION;VALUE=URI;X-ADDRESS=LEAF Global Arts 19 Eagle St Asheville NC 28801;X-APPLE-RADIUS=500;X-TITLE=19 Eagle St:geo:-82.5505196,35.5938244
END:VEVENT
BEGIN:VEVENT
DTSTART;TZID=America/New_York:20281223T160000
DTEND;TZID=America/New_York:20281223T180000
DTSTAMP:20260419T145015
CREATED:20260124T152951Z
LAST-MODIFIED:20260124T152952Z
UID:10036811-1861200000-1861207200@livemusicasheville.com
SUMMARY:Nobody’s Darling String Band
DESCRIPTION:Nobody’s Darling String Band is a group of five ladies who are seasoned Old Time musicians\, that play lively Mountain Music every Saturday from 4 to 6 at Jack of the Wood. A fiddle\, guitars\, standup bass and banjo uke round out this engaging and energetic group\, playing in the traditional style of Appalachian roots music. \nJack Of The Wood is still a downtown hot spot for food\, brews and drink since 1997 and founders Joan and Joe Eckert who still own it\, have maintained the original lively English and Irish vibe. The old-time mountain and Irish music jams continue\, including a hot bluegrass jam Thursdays and brunch every Sunday. The venue extends a welcoming feeling to regulars and newcomers to this day. https://jackofthewood.com/
URL:https://livemusicasheville.com/calendar/nobodys-darling-string-band-3-2/2028-12-23/
LOCATION:Jack Of The Wood\, 95 Patton Ave\, asheville\, NC\, United States
CATEGORIES:Asheville Area,Live Music
ATTACH;FMTTYPE=image/jpeg:https://livemusicasheville.com/wp-content/uploads/2024/12/523978150_1214912560437765_7917422461527545901_n-e1754135504539.jpg
GEO:35.5944492;-82.5558221
X-APPLE-STRUCTURED-LOCATION;VALUE=URI;X-ADDRESS=Jack Of The Wood 95 Patton Ave asheville NC United States;X-APPLE-RADIUS=500;X-TITLE=95 Patton Ave:geo:-82.5558221,35.5944492
END:VEVENT
BEGIN:VEVENT
DTSTART;TZID=America/New_York:20281223T173000
DTEND;TZID=America/New_York:20281223T193000
DTSTAMP:20260419T145015
CREATED:20260109T141149Z
LAST-MODIFIED:20260109T141150Z
UID:10034062-1861205400-1861212600@livemusicasheville.com
SUMMARY:Gypsy Jazz with Dinah’s Daydream
DESCRIPTION:
URL:https://livemusicasheville.com/calendar/gypsy-jazz-with-dinahs-daydream-2/2028-12-23/
LOCATION:Battery Park Book Exchange & Champagne Bar
CATEGORIES:Asheville Area,Live Music
GEO:35.5951042;-82.556633
END:VEVENT
BEGIN:VEVENT
DTSTART;TZID=America/New_York:20281223T180000
DTEND;TZID=America/New_York:20281224T020000
DTSTAMP:20260419T145015
CREATED:20241225T200257Z
LAST-MODIFIED:20260415T173722Z
UID:10054674-1861207200-1861236000@livemusicasheville.com
SUMMARY:Saturday Weekly DJ's
DESCRIPTION:Although we are primarily a Live Music Calendar\, we often come across Electronic & DJ events in the area and list them for you as we find out about them. Please verify the DJ\, times and cover charges with the venue. \nWaterstreet – 3-7pm \nLA Pizza Party Rooftop – 6-9pm \nThe Radical – 6-11pm \nPotential New Boyfriend – 7:30-11pm \nCapella On 9 – 8-11pm \nBen’s Tune Up – 8-11pm \nThe Tiki Easy Bar – 9pm-12am \nBanks Ave – 9-11:30pm \nHavana Miami – 9pm-2am \nStatic Age Loft – 9pm-2am \nWaterstreet – 9pm-2am \nNightshade – 9pm-1am \nVOWL – 9pm-1am \nLa Pizza Party South Slope – 10pm-2am \nFarməse – 10pm-1am \nThe Barksdale – 10pm-2am \nDouble Crown – 10pm-2am \nLazy Diamond – 10pm-2am \nStrange Magic Bar – 10pm-2am \nShakeys – 10pm-2am \nVerify with the venue on time\, cover charges and tonight’s DJ.
URL:https://livemusicasheville.com/calendar/saturday-weekly-dj-schedule/2028-12-23/
CATEGORIES:Asheville Area,DJ/Electronic
END:VEVENT
BEGIN:VEVENT
DTSTART;TZID=America/New_York:20281223T190000
DTEND;TZID=America/New_York:20281223T210000
DTSTAMP:20260419T145015
CREATED:20260221T162039Z
LAST-MODIFIED:20260221T162041Z
UID:10041872-1861210800-1861218000@livemusicasheville.com
SUMMARY:Will Hartz
DESCRIPTION:
URL:https://livemusicasheville.com/calendar/will-hartz-3-2-2-2-2-2-2/2028-12-23/
LOCATION:5 Walnut Wine Bar
CATEGORIES:Asheville Area,Live Music
GEO:35.596654;-82.5525389
END:VEVENT
BEGIN:VEVENT
DTSTART;TZID=America/New_York:20281223T190000
DTEND;TZID=America/New_York:20281223T220000
DTSTAMP:20260419T145015
CREATED:20251223T180111Z
LAST-MODIFIED:20260204T220353Z
UID:10043115-1861210800-1861221600@livemusicasheville.com
SUMMARY:Solo Piano in The Great Hall w/ Jamar A. Woods
DESCRIPTION:
URL:https://livemusicasheville.com/calendar/solo-piano-in-the-great-hall-w-jamar-a-woods-3/2028-12-23/
LOCATION:The Omni Grove Park Inn
CATEGORIES:Asheville Area,Live Music
GEO:35.6206376;-82.5422977
END:VEVENT
BEGIN:VEVENT
DTSTART;TZID=America/New_York:20281223T190000
DTEND;TZID=America/New_York:20281223T220000
DTSTAMP:20260419T145015
CREATED:20260321T203926Z
LAST-MODIFIED:20260327T002625Z
UID:10053390-1861210800-1861221600@livemusicasheville.com
SUMMARY:Mr Jimmy Blues
DESCRIPTION:
URL:https://livemusicasheville.com/calendar/mr-jimmy-blues-2-2-2-2-2-2/2028-12-23/
LOCATION:The Asheville Club
CATEGORIES:Asheville Area,Live Music
GEO:35.5952143;-82.554524
END:VEVENT
BEGIN:VEVENT
DTSTART;TZID=America/New_York:20281224T110000
DTEND;TZID=America/New_York:20281224T140000
DTSTAMP:20260419T145015
CREATED:20260408T092619Z
LAST-MODIFIED:20260408T092619Z
UID:10055551-1861268400-1861279200@livemusicasheville.com
SUMMARY:Miss Dazey
DESCRIPTION:
URL:https://livemusicasheville.com/calendar/miss-dazey/2028-12-24/
LOCATION:Asheville Charcuterie Co.
CATEGORIES:Asheville Area,Live Music
END:VEVENT
BEGIN:VEVENT
DTSTART;TZID=America/New_York:20281224T110000
DTEND;TZID=America/New_York:20281225T020000
DTSTAMP:20260419T145015
CREATED:20241225T203202Z
LAST-MODIFIED:20260415T173939Z
UID:10055283-1861268400-1861322400@livemusicasheville.com
SUMMARY:Sunday Weekly DJ Events
DESCRIPTION:Bens Tune Up – 11am-3pm \nWaterstreet – 3-7pm \nLA Pizza Party Rooftop – 6-9pm \nVOWL – 7-11pm \nCheck with the venue for the DJ and cover charges.
URL:https://livemusicasheville.com/calendar/sunday-weekly-dj/2028-12-24/
LOCATION:Asheville Area
CATEGORIES:Asheville Area,DJ/Electronic
END:VEVENT
BEGIN:VEVENT
DTSTART;TZID=America/New_York:20281224T143000
DTEND;TZID=America/New_York:20281224T163000
DTSTAMP:20260419T145015
CREATED:20260401T145357Z
LAST-MODIFIED:20260402T222123Z
UID:10039956-1861281000-1861288200@livemusicasheville.com
SUMMARY:Sunday Jazz Jam
DESCRIPTION:
URL:https://livemusicasheville.com/calendar/sunday-jazz-jam-2-2-2/2028-12-24/
LOCATION:Ginger’s Revenge
CATEGORIES:Asheville Area,Live Music,Open MIc/Jam
END:VEVENT
BEGIN:VEVENT
DTSTART;TZID=America/New_York:20281224T150000
DTEND;TZID=America/New_York:20281224T170000
DTSTAMP:20260419T145015
CREATED:20260411T165723Z
LAST-MODIFIED:20260411T165724Z
UID:10034321-1861282800-1861290000@livemusicasheville.com
SUMMARY:Vintage Swing w/ Parker’s Back
DESCRIPTION:
URL:https://livemusicasheville.com/calendar/vintage-swing-w-parkers-back-2-2-2/2028-12-24/
LOCATION:Battery Park Book Exchange & Champagne Bar
CATEGORIES:Asheville Area,Live Music
GEO:35.5951042;-82.556633
END:VEVENT
BEGIN:VEVENT
DTSTART;TZID=America/New_York:20281224T150000
DTEND;TZID=America/New_York:20281224T180000
DTSTAMP:20260419T145015
CREATED:20260124T204451Z
LAST-MODIFIED:20260124T204452Z
UID:10041014-1861282800-1861293600@livemusicasheville.com
SUMMARY:Reggae Sunday w/ CHALWA
DESCRIPTION:This 8-member Mountain Reggae powerhouse packs it full of roots meditations and high grade jams that awaken your spirit and soul! Chalwa’s high energy shows are one of a kind\, featuring smooth vocals\, percussion\, bass\, lead guitar\, keys and saxophone. Their extensive collection of original music is interlaced with music from some of the Greats including\, Bob Marley\, Peter Tosh\, Burning Spear\, Bunny Wailer and even Jerry Garcia and the Grateful Dead. \nFrench Broad River Brewery is more than just a place to enjoy a drink—it’s a community hub where great beer\, delicious pizza\, live music\, and good times come together. Just minutes from the Biltmore Estate & Downtown\, our taproom is a gathering spot for locals and visitors alike. We regularly host live music and entertainment in our taproom\, making French Broad River Brewery a lively hub of local activity. From bluegrass to reggae\, there’s always something happening. Check out our Events Page to see what’s coming up next! \nNo brewery experience is complete without great food. That’s why we offer French Broad River Pizza\, serving up hot\, hand-tossed pizzas made to order. Whether you’re here for a quick slice or a full meal\, our pizza perfectly complements our craft beers and the lively atmosphere of our taproom. frenchbroadbrewery.com/pizza \n 
URL:https://livemusicasheville.com/calendar/chalwa-returns-2-2-2/2028-12-24/
LOCATION:French Broad River Brewery\, 101 Fairview Rd\, Asheville\, NC\, United States
CATEGORIES:Asheville Area,Live Music
ATTACH;FMTTYPE=image/png:https://livemusicasheville.com/wp-content/uploads/2025/10/Screenshot-2025-12-20-214144-e1766285002169.png
GEO:35.5662722;-82.5374054
X-APPLE-STRUCTURED-LOCATION;VALUE=URI;X-ADDRESS=French Broad River Brewery 101 Fairview Rd Asheville NC United States;X-APPLE-RADIUS=500;X-TITLE=101 Fairview Rd:geo:-82.5374054,35.5662722
END:VEVENT
BEGIN:VEVENT
DTSTART;TZID=America/New_York:20281224T150000
DTEND;TZID=America/New_York:20281224T180000
DTSTAMP:20260419T145015
CREATED:20260125T195817Z
LAST-MODIFIED:20260125T195819Z
UID:10037072-1861282800-1861293600@livemusicasheville.com
SUMMARY:Iggy Radio
DESCRIPTION:
URL:https://livemusicasheville.com/calendar/iggy-radio-6-2/2028-12-24/
LOCATION:Asheville Yacht Club
CATEGORIES:Asheville Area,Live Music
GEO:35.5944176;-82.5554715
END:VEVENT
BEGIN:VEVENT
DTSTART;TZID=America/New_York:20281224T153000
DTEND;TZID=America/New_York:20281224T200000
DTSTAMP:20260419T145015
CREATED:20260125T153905Z
LAST-MODIFIED:20260125T153907Z
UID:10039334-1861284600-1861300800@livemusicasheville.com
SUMMARY:Jack’s Traditional Irish/Celtic Jam Session
DESCRIPTION:Stop in for the pub’s long running Traditional Irish Session each Sunday afternoon beginning around 3:30pm. Many talented local musicians come from WNC to jam away into the night – all on our pub stage! Sunday is a perfect day to enjoy a pint or afternoon Irish coffee! Slaínte! \nJack Of The Wood is still a downtown hot spot for food\, brews and drink since 1997 and founders Joan and Joe Eckert who still own it\, have maintained the original lively English and Irish vibe. The old-time mountain and Irish music jams continue\, including a hot bluegrass jam Thursdays and brunch every Sunday. The venue extends a welcoming feeling to regulars and newcomers to this day. https://jackofthewood.com/
URL:https://livemusicasheville.com/calendar/jacks-traditional-irish-celtic-jam-session-2-2-2/2028-12-24/
LOCATION:Jack Of The Wood\, 95 Patton Ave\, asheville\, NC\, United States
CATEGORIES:Asheville Area,Live Music,Open MIc/Jam
ATTACH;FMTTYPE=image/jpeg:https://livemusicasheville.com/wp-content/uploads/2025/02/520234226_634124486372464_8974916319488110849_n-e1754135686660.jpg
GEO:35.5944492;-82.5558221
X-APPLE-STRUCTURED-LOCATION;VALUE=URI;X-ADDRESS=Jack Of The Wood 95 Patton Ave asheville NC United States;X-APPLE-RADIUS=500;X-TITLE=95 Patton Ave:geo:-82.5558221,35.5944492
END:VEVENT
BEGIN:VEVENT
DTSTART;TZID=America/New_York:20281224T160000
DTEND;TZID=America/New_York:20281224T190000
DTSTAMP:20260419T145015
CREATED:20260125T154344Z
LAST-MODIFIED:20260215T131033Z
UID:10031914-1861286400-1861297200@livemusicasheville.com
SUMMARY:BUTTS & BOOTS :: Line Dancing
DESCRIPTION:
URL:https://livemusicasheville.com/calendar/butts-boots-line-dancing-2-2-2-2/2028-12-24/
LOCATION:Banks Ave
CATEGORIES:Asheville Area,DJ/Electronic
GEO:35.5892908;-82.5536382
END:VEVENT
BEGIN:VEVENT
DTSTART;TZID=America/New_York:20281224T160000
DTEND;TZID=America/New_York:20281225T020000
DTSTAMP:20260419T145015
CREATED:20260125T153955Z
LAST-MODIFIED:20260412T125122Z
UID:10041230-1861286400-1861322400@livemusicasheville.com
SUMMARY:Sunday Karaoke
DESCRIPTION:T Birds Weaverville – 4-8pm \nStatic Age Loft – 6-9pm (April 12) \nEda’s Hideaway Weaverville – 7-10pm \nBanks Ave – 9pm-12am \nThe Social East Asheville – 9pm-12am (exclude Feb 8) \nThe Double Crown – 10pm-2am \nPlease verify with the venue on times and KJ. \n 
URL:https://livemusicasheville.com/calendar/sunday-karaoke-2/2028-12-24/
LOCATION:Asheville Area
CATEGORIES:Asheville Area,Black Mountain,Karaoke,South Asheville/Arden/Fletcher,Weaverville
END:VEVENT
BEGIN:VEVENT
DTSTART;TZID=America/New_York:20281224T163000
DTEND;TZID=America/New_York:20281224T193000
DTSTAMP:20260419T145015
CREATED:20260124T141302Z
LAST-MODIFIED:20260204T201517Z
UID:10040820-1861288200-1861299000@livemusicasheville.com
SUMMARY:Sunday Bluegrass & Jam On The River
DESCRIPTION:A rotating local host band will play from 4:30 to 5:30\, and then an open bluegrass jam from 5:30 to 7:30.
URL:https://livemusicasheville.com/calendar/sunday-bluegrass-jam-on-the-river-2/2028-12-24/
LOCATION:Zillicoah Beer Company
CATEGORIES:Asheville Area,Live Music,Open MIc/Jam
END:VEVENT
BEGIN:VEVENT
DTSTART;TZID=America/New_York:20281224T183000
DTEND;TZID=America/New_York:20281224T210000
DTSTAMP:20260419T145015
CREATED:20251106T150537Z
LAST-MODIFIED:20260413T144556Z
UID:10045304-1861295400-1861304400@livemusicasheville.com
SUMMARY:Pisgah Sunday Jam
DESCRIPTION:Every Sunday | Bar: 2PM | Deli 4PM | Music: 6:30PM\n\nSunday. A special time with friends and musicians alike and with what has become a Sunday tradition\, Pisgah Brewing Company hosts the Pisgah Sunday Jam – an open jam every Sunday evening (with a few exceptions) on the taproom stage.\nAny and all musicians are welcome to come sit in! Some of America’s finest\, touring artists will be featured each week. Jam starts at 6:30pm and is free to the public. The Jam is hosted by rotating special guests.\n  \nFounded in 2005\, Pisgah is known for producing some of the most sought after craft ales in Western North Carolina. Pisgah Brewing Company currently operates an indoor taproom and an open air outdoor bar in the summer and fall months with live music several days a week. Check out our upcoming schedule at pisgahbrewing.com/events
URL:https://livemusicasheville.com/calendar/pisgah-sunday-jam-4/2028-12-24/
LOCATION:Pisgah Brewing Company Black Mountain\, 2948 US-70\, Black Mountain\, NC\, 28711
CATEGORIES:Asheville Area,Black Mountain,Live Music
ATTACH;FMTTYPE=image/jpeg:https://livemusicasheville.com/wp-content/uploads/2025/07/535882627_10236646460495100_8484649981408740208_n-e1755956585913.jpg
GEO:35.6068069;-82.3568213
X-APPLE-STRUCTURED-LOCATION;VALUE=URI;X-ADDRESS=Pisgah Brewing Company Black Mountain 2948 US-70 Black Mountain NC 28711;X-APPLE-RADIUS=500;X-TITLE=2948 US-70:geo:-82.3568213,35.6068069
END:VEVENT
END:VCALENDAR