BEGIN:VCALENDAR
VERSION:2.0
PRODID:-//LiveMusicAsheville.com - ECPv6.15.20//NONSGML v1.0//EN
CALSCALE:GREGORIAN
METHOD:PUBLISH
X-WR-CALNAME:LiveMusicAsheville.com
X-ORIGINAL-URL:https://livemusicasheville.com
X-WR-CALDESC:Events for LiveMusicAsheville.com
REFRESH-INTERVAL;VALUE=DURATION:PT1H
X-Robots-Tag:noindex
X-PUBLISHED-TTL:PT1H
BEGIN:VTIMEZONE
TZID:America/New_York
BEGIN:DAYLIGHT
TZOFFSETFROM:-0500
TZOFFSETTO:-0400
TZNAME:EDT
DTSTART:20290311T070000
END:DAYLIGHT
BEGIN:STANDARD
TZOFFSETFROM:-0400
TZOFFSETTO:-0500
TZNAME:EST
DTSTART:20291104T060000
END:STANDARD
BEGIN:DAYLIGHT
TZOFFSETFROM:-0500
TZOFFSETTO:-0400
TZNAME:EDT
DTSTART:20300310T070000
END:DAYLIGHT
BEGIN:STANDARD
TZOFFSETFROM:-0400
TZOFFSETTO:-0500
TZNAME:EST
DTSTART:20301103T060000
END:STANDARD
BEGIN:DAYLIGHT
TZOFFSETFROM:-0500
TZOFFSETTO:-0400
TZNAME:EDT
DTSTART:20310309T070000
END:DAYLIGHT
BEGIN:STANDARD
TZOFFSETFROM:-0400
TZOFFSETTO:-0500
TZNAME:EST
DTSTART:20311102T060000
END:STANDARD
BEGIN:DAYLIGHT
TZOFFSETFROM:-0500
TZOFFSETTO:-0400
TZNAME:EDT
DTSTART:20320314T070000
END:DAYLIGHT
BEGIN:STANDARD
TZOFFSETFROM:-0400
TZOFFSETTO:-0500
TZNAME:EST
DTSTART:20321107T060000
END:STANDARD
END:VTIMEZONE
BEGIN:VEVENT
DTSTART;VALUE=DATE:20301212
DTEND;VALUE=DATE:20301214
DTSTAMP:20260425T174042
CREATED:20260115T155240Z
LAST-MODIFIED:20260423T154010Z
UID:10037947-1923274800-1923361199@livemusicasheville.com
SUMMARY:Love What We Do .......... Buy Us A Beer!
DESCRIPTION:We hope you enjoy our guide to the Asheville area’s dynamic music scene. \nIf we somehow help to brighten up your day\, please consider a small donation to help support our efforts in providing the area’s most reliable local live music calendar. \nVenmo: click here  \nLast 4 digits – 3383 \nPayPal: click here \n 
URL:https://livemusicasheville.com/calendar/greetings-fellow-music-lovers-2-2/2030-12-12/
LOCATION:Asheville Area
CATEGORIES:Asheville Area
ATTACH;FMTTYPE=image/jpeg:https://livemusicasheville.com/wp-content/uploads/2019/01/alcohol-alcoholic-beverages-beer-1624263-e1776958791382.jpg
END:VEVENT
BEGIN:VEVENT
DTSTART;VALUE=DATE:20301214
DTEND;VALUE=DATE:20301216
DTSTAMP:20260425T174042
CREATED:20260115T155240Z
LAST-MODIFIED:20260423T154010Z
UID:10037948-1923447600-1923533999@livemusicasheville.com
SUMMARY:Love What We Do .......... Buy Us A Beer!
DESCRIPTION:We hope you enjoy our guide to the Asheville area’s dynamic music scene. \nIf we somehow help to brighten up your day\, please consider a small donation to help support our efforts in providing the area’s most reliable local live music calendar. \nVenmo: click here  \nLast 4 digits – 3383 \nPayPal: click here \n 
URL:https://livemusicasheville.com/calendar/greetings-fellow-music-lovers-2-2/2030-12-14/
LOCATION:Asheville Area
CATEGORIES:Asheville Area
ATTACH;FMTTYPE=image/jpeg:https://livemusicasheville.com/wp-content/uploads/2019/01/alcohol-alcoholic-beverages-beer-1624263-e1776958791382.jpg
END:VEVENT
BEGIN:VEVENT
DTSTART;VALUE=DATE:20301216
DTEND;VALUE=DATE:20301218
DTSTAMP:20260425T174042
CREATED:20260115T155240Z
LAST-MODIFIED:20260423T154010Z
UID:10057786-1923620400-1923706799@livemusicasheville.com
SUMMARY:Love What We Do .......... Buy Us A Beer!
DESCRIPTION:We hope you enjoy our guide to the Asheville area’s dynamic music scene. \nIf we somehow help to brighten up your day\, please consider a small donation to help support our efforts in providing the area’s most reliable local live music calendar. \nVenmo: click here  \nLast 4 digits – 3383 \nPayPal: click here \n 
URL:https://livemusicasheville.com/calendar/greetings-fellow-music-lovers-2-2/2030-12-16/
LOCATION:Asheville Area
CATEGORIES:Asheville Area
ATTACH;FMTTYPE=image/jpeg:https://livemusicasheville.com/wp-content/uploads/2019/01/alcohol-alcoholic-beverages-beer-1624263-e1776958791382.jpg
END:VEVENT
BEGIN:VEVENT
DTSTART;VALUE=DATE:20301219
DTEND;VALUE=DATE:20301221
DTSTAMP:20260425T174042
CREATED:20260115T155240Z
LAST-MODIFIED:20260423T154010Z
UID:10037949-1923879600-1923965999@livemusicasheville.com
SUMMARY:Love What We Do .......... Buy Us A Beer!
DESCRIPTION:We hope you enjoy our guide to the Asheville area’s dynamic music scene. \nIf we somehow help to brighten up your day\, please consider a small donation to help support our efforts in providing the area’s most reliable local live music calendar. \nVenmo: click here  \nLast 4 digits – 3383 \nPayPal: click here \n 
URL:https://livemusicasheville.com/calendar/greetings-fellow-music-lovers-2-2/2030-12-19/
LOCATION:Asheville Area
CATEGORIES:Asheville Area
ATTACH;FMTTYPE=image/jpeg:https://livemusicasheville.com/wp-content/uploads/2019/01/alcohol-alcoholic-beverages-beer-1624263-e1776958791382.jpg
END:VEVENT
BEGIN:VEVENT
DTSTART;VALUE=DATE:20301221
DTEND;VALUE=DATE:20301223
DTSTAMP:20260425T174042
CREATED:20260115T155240Z
LAST-MODIFIED:20260423T154010Z
UID:10037950-1924052400-1924138799@livemusicasheville.com
SUMMARY:Love What We Do .......... Buy Us A Beer!
DESCRIPTION:We hope you enjoy our guide to the Asheville area’s dynamic music scene. \nIf we somehow help to brighten up your day\, please consider a small donation to help support our efforts in providing the area’s most reliable local live music calendar. \nVenmo: click here  \nLast 4 digits – 3383 \nPayPal: click here \n 
URL:https://livemusicasheville.com/calendar/greetings-fellow-music-lovers-2-2/2030-12-21/
LOCATION:Asheville Area
CATEGORIES:Asheville Area
ATTACH;FMTTYPE=image/jpeg:https://livemusicasheville.com/wp-content/uploads/2019/01/alcohol-alcoholic-beverages-beer-1624263-e1776958791382.jpg
END:VEVENT
BEGIN:VEVENT
DTSTART;VALUE=DATE:20301223
DTEND;VALUE=DATE:20301225
DTSTAMP:20260425T174042
CREATED:20260115T155240Z
LAST-MODIFIED:20260423T154010Z
UID:10057787-1924225200-1924311599@livemusicasheville.com
SUMMARY:Love What We Do .......... Buy Us A Beer!
DESCRIPTION:We hope you enjoy our guide to the Asheville area’s dynamic music scene. \nIf we somehow help to brighten up your day\, please consider a small donation to help support our efforts in providing the area’s most reliable local live music calendar. \nVenmo: click here  \nLast 4 digits – 3383 \nPayPal: click here \n 
URL:https://livemusicasheville.com/calendar/greetings-fellow-music-lovers-2-2/2030-12-23/
LOCATION:Asheville Area
CATEGORIES:Asheville Area
ATTACH;FMTTYPE=image/jpeg:https://livemusicasheville.com/wp-content/uploads/2019/01/alcohol-alcoholic-beverages-beer-1624263-e1776958791382.jpg
END:VEVENT
BEGIN:VEVENT
DTSTART;VALUE=DATE:20301226
DTEND;VALUE=DATE:20301228
DTSTAMP:20260425T174042
CREATED:20260115T155240Z
LAST-MODIFIED:20260423T154010Z
UID:10037951-1924484400-1924570799@livemusicasheville.com
SUMMARY:Love What We Do .......... Buy Us A Beer!
DESCRIPTION:We hope you enjoy our guide to the Asheville area’s dynamic music scene. \nIf we somehow help to brighten up your day\, please consider a small donation to help support our efforts in providing the area’s most reliable local live music calendar. \nVenmo: click here  \nLast 4 digits – 3383 \nPayPal: click here \n 
URL:https://livemusicasheville.com/calendar/greetings-fellow-music-lovers-2-2/2030-12-26/
LOCATION:Asheville Area
CATEGORIES:Asheville Area
ATTACH;FMTTYPE=image/jpeg:https://livemusicasheville.com/wp-content/uploads/2019/01/alcohol-alcoholic-beverages-beer-1624263-e1776958791382.jpg
END:VEVENT
BEGIN:VEVENT
DTSTART;VALUE=DATE:20301228
DTEND;VALUE=DATE:20301230
DTSTAMP:20260425T174042
CREATED:20260115T155240Z
LAST-MODIFIED:20260423T154010Z
UID:10037952-1924657200-1924743599@livemusicasheville.com
SUMMARY:Love What We Do .......... Buy Us A Beer!
DESCRIPTION:We hope you enjoy our guide to the Asheville area’s dynamic music scene. \nIf we somehow help to brighten up your day\, please consider a small donation to help support our efforts in providing the area’s most reliable local live music calendar. \nVenmo: click here  \nLast 4 digits – 3383 \nPayPal: click here \n 
URL:https://livemusicasheville.com/calendar/greetings-fellow-music-lovers-2-2/2030-12-28/
LOCATION:Asheville Area
CATEGORIES:Asheville Area
ATTACH;FMTTYPE=image/jpeg:https://livemusicasheville.com/wp-content/uploads/2019/01/alcohol-alcoholic-beverages-beer-1624263-e1776958791382.jpg
END:VEVENT
BEGIN:VEVENT
DTSTART;VALUE=DATE:20301230
DTEND;VALUE=DATE:20310101
DTSTAMP:20260425T174042
CREATED:20260115T155240Z
LAST-MODIFIED:20260423T154010Z
UID:10057788-1924830000-1924916399@livemusicasheville.com
SUMMARY:Love What We Do .......... Buy Us A Beer!
DESCRIPTION:We hope you enjoy our guide to the Asheville area’s dynamic music scene. \nIf we somehow help to brighten up your day\, please consider a small donation to help support our efforts in providing the area’s most reliable local live music calendar. \nVenmo: click here  \nLast 4 digits – 3383 \nPayPal: click here \n 
URL:https://livemusicasheville.com/calendar/greetings-fellow-music-lovers-2-2/2030-12-30/
LOCATION:Asheville Area
CATEGORIES:Asheville Area
ATTACH;FMTTYPE=image/jpeg:https://livemusicasheville.com/wp-content/uploads/2019/01/alcohol-alcoholic-beverages-beer-1624263-e1776958791382.jpg
END:VEVENT
BEGIN:VEVENT
DTSTART;VALUE=DATE:20310102
DTEND;VALUE=DATE:20310104
DTSTAMP:20260425T174042
CREATED:20260115T155240Z
LAST-MODIFIED:20260423T154010Z
UID:10037953-1925089200-1925175599@livemusicasheville.com
SUMMARY:Love What We Do .......... Buy Us A Beer!
DESCRIPTION:We hope you enjoy our guide to the Asheville area’s dynamic music scene. \nIf we somehow help to brighten up your day\, please consider a small donation to help support our efforts in providing the area’s most reliable local live music calendar. \nVenmo: click here  \nLast 4 digits – 3383 \nPayPal: click here \n 
URL:https://livemusicasheville.com/calendar/greetings-fellow-music-lovers-2-2/2031-01-02/
LOCATION:Asheville Area
CATEGORIES:Asheville Area
ATTACH;FMTTYPE=image/jpeg:https://livemusicasheville.com/wp-content/uploads/2019/01/alcohol-alcoholic-beverages-beer-1624263-e1776958791382.jpg
END:VEVENT
BEGIN:VEVENT
DTSTART;VALUE=DATE:20310104
DTEND;VALUE=DATE:20310106
DTSTAMP:20260425T174042
CREATED:20260115T155240Z
LAST-MODIFIED:20260423T154010Z
UID:10037954-1925262000-1925348399@livemusicasheville.com
SUMMARY:Love What We Do .......... Buy Us A Beer!
DESCRIPTION:We hope you enjoy our guide to the Asheville area’s dynamic music scene. \nIf we somehow help to brighten up your day\, please consider a small donation to help support our efforts in providing the area’s most reliable local live music calendar. \nVenmo: click here  \nLast 4 digits – 3383 \nPayPal: click here \n 
URL:https://livemusicasheville.com/calendar/greetings-fellow-music-lovers-2-2/2031-01-04/
LOCATION:Asheville Area
CATEGORIES:Asheville Area
ATTACH;FMTTYPE=image/jpeg:https://livemusicasheville.com/wp-content/uploads/2019/01/alcohol-alcoholic-beverages-beer-1624263-e1776958791382.jpg
END:VEVENT
BEGIN:VEVENT
DTSTART;VALUE=DATE:20310106
DTEND;VALUE=DATE:20310108
DTSTAMP:20260425T174042
CREATED:20260115T155240Z
LAST-MODIFIED:20260423T154010Z
UID:10057789-1925434800-1925521199@livemusicasheville.com
SUMMARY:Love What We Do .......... Buy Us A Beer!
DESCRIPTION:We hope you enjoy our guide to the Asheville area’s dynamic music scene. \nIf we somehow help to brighten up your day\, please consider a small donation to help support our efforts in providing the area’s most reliable local live music calendar. \nVenmo: click here  \nLast 4 digits – 3383 \nPayPal: click here \n 
URL:https://livemusicasheville.com/calendar/greetings-fellow-music-lovers-2-2/2031-01-06/
LOCATION:Asheville Area
CATEGORIES:Asheville Area
ATTACH;FMTTYPE=image/jpeg:https://livemusicasheville.com/wp-content/uploads/2019/01/alcohol-alcoholic-beverages-beer-1624263-e1776958791382.jpg
END:VEVENT
BEGIN:VEVENT
DTSTART;VALUE=DATE:20310109
DTEND;VALUE=DATE:20310111
DTSTAMP:20260425T174042
CREATED:20260115T155240Z
LAST-MODIFIED:20260423T154010Z
UID:10037955-1925694000-1925780399@livemusicasheville.com
SUMMARY:Love What We Do .......... Buy Us A Beer!
DESCRIPTION:We hope you enjoy our guide to the Asheville area’s dynamic music scene. \nIf we somehow help to brighten up your day\, please consider a small donation to help support our efforts in providing the area’s most reliable local live music calendar. \nVenmo: click here  \nLast 4 digits – 3383 \nPayPal: click here \n 
URL:https://livemusicasheville.com/calendar/greetings-fellow-music-lovers-2-2/2031-01-09/
LOCATION:Asheville Area
CATEGORIES:Asheville Area
ATTACH;FMTTYPE=image/jpeg:https://livemusicasheville.com/wp-content/uploads/2019/01/alcohol-alcoholic-beverages-beer-1624263-e1776958791382.jpg
END:VEVENT
BEGIN:VEVENT
DTSTART;VALUE=DATE:20310111
DTEND;VALUE=DATE:20310113
DTSTAMP:20260425T174042
CREATED:20260115T155240Z
LAST-MODIFIED:20260423T154010Z
UID:10037956-1925866800-1925953199@livemusicasheville.com
SUMMARY:Love What We Do .......... Buy Us A Beer!
DESCRIPTION:We hope you enjoy our guide to the Asheville area’s dynamic music scene. \nIf we somehow help to brighten up your day\, please consider a small donation to help support our efforts in providing the area’s most reliable local live music calendar. \nVenmo: click here  \nLast 4 digits – 3383 \nPayPal: click here \n 
URL:https://livemusicasheville.com/calendar/greetings-fellow-music-lovers-2-2/2031-01-11/
LOCATION:Asheville Area
CATEGORIES:Asheville Area
ATTACH;FMTTYPE=image/jpeg:https://livemusicasheville.com/wp-content/uploads/2019/01/alcohol-alcoholic-beverages-beer-1624263-e1776958791382.jpg
END:VEVENT
BEGIN:VEVENT
DTSTART;VALUE=DATE:20310113
DTEND;VALUE=DATE:20310115
DTSTAMP:20260425T174042
CREATED:20260115T155240Z
LAST-MODIFIED:20260423T154010Z
UID:10057790-1926039600-1926125999@livemusicasheville.com
SUMMARY:Love What We Do .......... Buy Us A Beer!
DESCRIPTION:We hope you enjoy our guide to the Asheville area’s dynamic music scene. \nIf we somehow help to brighten up your day\, please consider a small donation to help support our efforts in providing the area’s most reliable local live music calendar. \nVenmo: click here  \nLast 4 digits – 3383 \nPayPal: click here \n 
URL:https://livemusicasheville.com/calendar/greetings-fellow-music-lovers-2-2/2031-01-13/
LOCATION:Asheville Area
CATEGORIES:Asheville Area
ATTACH;FMTTYPE=image/jpeg:https://livemusicasheville.com/wp-content/uploads/2019/01/alcohol-alcoholic-beverages-beer-1624263-e1776958791382.jpg
END:VEVENT
BEGIN:VEVENT
DTSTART;VALUE=DATE:20310116
DTEND;VALUE=DATE:20310118
DTSTAMP:20260425T174042
CREATED:20260115T155240Z
LAST-MODIFIED:20260423T154010Z
UID:10046156-1926298800-1926385199@livemusicasheville.com
SUMMARY:Love What We Do .......... Buy Us A Beer!
DESCRIPTION:We hope you enjoy our guide to the Asheville area’s dynamic music scene. \nIf we somehow help to brighten up your day\, please consider a small donation to help support our efforts in providing the area’s most reliable local live music calendar. \nVenmo: click here  \nLast 4 digits – 3383 \nPayPal: click here \n 
URL:https://livemusicasheville.com/calendar/greetings-fellow-music-lovers-2-2/2031-01-16/
LOCATION:Asheville Area
CATEGORIES:Asheville Area
ATTACH;FMTTYPE=image/jpeg:https://livemusicasheville.com/wp-content/uploads/2019/01/alcohol-alcoholic-beverages-beer-1624263-e1776958791382.jpg
END:VEVENT
BEGIN:VEVENT
DTSTART;VALUE=DATE:20310118
DTEND;VALUE=DATE:20310120
DTSTAMP:20260425T174042
CREATED:20260115T155240Z
LAST-MODIFIED:20260423T154010Z
UID:10046157-1926471600-1926557999@livemusicasheville.com
SUMMARY:Love What We Do .......... Buy Us A Beer!
DESCRIPTION:We hope you enjoy our guide to the Asheville area’s dynamic music scene. \nIf we somehow help to brighten up your day\, please consider a small donation to help support our efforts in providing the area’s most reliable local live music calendar. \nVenmo: click here  \nLast 4 digits – 3383 \nPayPal: click here \n 
URL:https://livemusicasheville.com/calendar/greetings-fellow-music-lovers-2-2/2031-01-18/
LOCATION:Asheville Area
CATEGORIES:Asheville Area
ATTACH;FMTTYPE=image/jpeg:https://livemusicasheville.com/wp-content/uploads/2019/01/alcohol-alcoholic-beverages-beer-1624263-e1776958791382.jpg
END:VEVENT
BEGIN:VEVENT
DTSTART;VALUE=DATE:20310120
DTEND;VALUE=DATE:20310122
DTSTAMP:20260425T174042
CREATED:20260115T155240Z
LAST-MODIFIED:20260423T154010Z
UID:10057791-1926644400-1926730799@livemusicasheville.com
SUMMARY:Love What We Do .......... Buy Us A Beer!
DESCRIPTION:We hope you enjoy our guide to the Asheville area’s dynamic music scene. \nIf we somehow help to brighten up your day\, please consider a small donation to help support our efforts in providing the area’s most reliable local live music calendar. \nVenmo: click here  \nLast 4 digits – 3383 \nPayPal: click here \n 
URL:https://livemusicasheville.com/calendar/greetings-fellow-music-lovers-2-2/2031-01-20/
LOCATION:Asheville Area
CATEGORIES:Asheville Area
ATTACH;FMTTYPE=image/jpeg:https://livemusicasheville.com/wp-content/uploads/2019/01/alcohol-alcoholic-beverages-beer-1624263-e1776958791382.jpg
END:VEVENT
BEGIN:VEVENT
DTSTART;VALUE=DATE:20310123
DTEND;VALUE=DATE:20310125
DTSTAMP:20260425T174042
CREATED:20260115T155240Z
LAST-MODIFIED:20260423T154010Z
UID:10046158-1926903600-1926989999@livemusicasheville.com
SUMMARY:Love What We Do .......... Buy Us A Beer!
DESCRIPTION:We hope you enjoy our guide to the Asheville area’s dynamic music scene. \nIf we somehow help to brighten up your day\, please consider a small donation to help support our efforts in providing the area’s most reliable local live music calendar. \nVenmo: click here  \nLast 4 digits – 3383 \nPayPal: click here \n 
URL:https://livemusicasheville.com/calendar/greetings-fellow-music-lovers-2-2/2031-01-23/
LOCATION:Asheville Area
CATEGORIES:Asheville Area
ATTACH;FMTTYPE=image/jpeg:https://livemusicasheville.com/wp-content/uploads/2019/01/alcohol-alcoholic-beverages-beer-1624263-e1776958791382.jpg
END:VEVENT
BEGIN:VEVENT
DTSTART;VALUE=DATE:20310125
DTEND;VALUE=DATE:20310127
DTSTAMP:20260425T174042
CREATED:20260115T155240Z
LAST-MODIFIED:20260423T154010Z
UID:10046159-1927076400-1927162799@livemusicasheville.com
SUMMARY:Love What We Do .......... Buy Us A Beer!
DESCRIPTION:We hope you enjoy our guide to the Asheville area’s dynamic music scene. \nIf we somehow help to brighten up your day\, please consider a small donation to help support our efforts in providing the area’s most reliable local live music calendar. \nVenmo: click here  \nLast 4 digits – 3383 \nPayPal: click here \n 
URL:https://livemusicasheville.com/calendar/greetings-fellow-music-lovers-2-2/2031-01-25/
LOCATION:Asheville Area
CATEGORIES:Asheville Area
ATTACH;FMTTYPE=image/jpeg:https://livemusicasheville.com/wp-content/uploads/2019/01/alcohol-alcoholic-beverages-beer-1624263-e1776958791382.jpg
END:VEVENT
BEGIN:VEVENT
DTSTART;VALUE=DATE:20310127
DTEND;VALUE=DATE:20310129
DTSTAMP:20260425T174042
CREATED:20260115T155240Z
LAST-MODIFIED:20260423T154010Z
UID:10057792-1927249200-1927335599@livemusicasheville.com
SUMMARY:Love What We Do .......... Buy Us A Beer!
DESCRIPTION:We hope you enjoy our guide to the Asheville area’s dynamic music scene. \nIf we somehow help to brighten up your day\, please consider a small donation to help support our efforts in providing the area’s most reliable local live music calendar. \nVenmo: click here  \nLast 4 digits – 3383 \nPayPal: click here \n 
URL:https://livemusicasheville.com/calendar/greetings-fellow-music-lovers-2-2/2031-01-27/
LOCATION:Asheville Area
CATEGORIES:Asheville Area
ATTACH;FMTTYPE=image/jpeg:https://livemusicasheville.com/wp-content/uploads/2019/01/alcohol-alcoholic-beverages-beer-1624263-e1776958791382.jpg
END:VEVENT
BEGIN:VEVENT
DTSTART;VALUE=DATE:20310130
DTEND;VALUE=DATE:20310201
DTSTAMP:20260425T174042
CREATED:20260115T155240Z
LAST-MODIFIED:20260423T154010Z
UID:10046160-1927508400-1927594799@livemusicasheville.com
SUMMARY:Love What We Do .......... Buy Us A Beer!
DESCRIPTION:We hope you enjoy our guide to the Asheville area’s dynamic music scene. \nIf we somehow help to brighten up your day\, please consider a small donation to help support our efforts in providing the area’s most reliable local live music calendar. \nVenmo: click here  \nLast 4 digits – 3383 \nPayPal: click here \n 
URL:https://livemusicasheville.com/calendar/greetings-fellow-music-lovers-2-2/2031-01-30/
LOCATION:Asheville Area
CATEGORIES:Asheville Area
ATTACH;FMTTYPE=image/jpeg:https://livemusicasheville.com/wp-content/uploads/2019/01/alcohol-alcoholic-beverages-beer-1624263-e1776958791382.jpg
END:VEVENT
BEGIN:VEVENT
DTSTART;VALUE=DATE:20310201
DTEND;VALUE=DATE:20310203
DTSTAMP:20260425T174042
CREATED:20260115T155240Z
LAST-MODIFIED:20260423T154010Z
UID:10046161-1927681200-1927767599@livemusicasheville.com
SUMMARY:Love What We Do .......... Buy Us A Beer!
DESCRIPTION:We hope you enjoy our guide to the Asheville area’s dynamic music scene. \nIf we somehow help to brighten up your day\, please consider a small donation to help support our efforts in providing the area’s most reliable local live music calendar. \nVenmo: click here  \nLast 4 digits – 3383 \nPayPal: click here \n 
URL:https://livemusicasheville.com/calendar/greetings-fellow-music-lovers-2-2/2031-02-01/
LOCATION:Asheville Area
CATEGORIES:Asheville Area
ATTACH;FMTTYPE=image/jpeg:https://livemusicasheville.com/wp-content/uploads/2019/01/alcohol-alcoholic-beverages-beer-1624263-e1776958791382.jpg
END:VEVENT
BEGIN:VEVENT
DTSTART;VALUE=DATE:20310203
DTEND;VALUE=DATE:20310205
DTSTAMP:20260425T174042
CREATED:20260115T155240Z
LAST-MODIFIED:20260423T154010Z
UID:10057793-1927854000-1927940399@livemusicasheville.com
SUMMARY:Love What We Do .......... Buy Us A Beer!
DESCRIPTION:We hope you enjoy our guide to the Asheville area’s dynamic music scene. \nIf we somehow help to brighten up your day\, please consider a small donation to help support our efforts in providing the area’s most reliable local live music calendar. \nVenmo: click here  \nLast 4 digits – 3383 \nPayPal: click here \n 
URL:https://livemusicasheville.com/calendar/greetings-fellow-music-lovers-2-2/2031-02-03/
LOCATION:Asheville Area
CATEGORIES:Asheville Area
ATTACH;FMTTYPE=image/jpeg:https://livemusicasheville.com/wp-content/uploads/2019/01/alcohol-alcoholic-beverages-beer-1624263-e1776958791382.jpg
END:VEVENT
BEGIN:VEVENT
DTSTART;VALUE=DATE:20310206
DTEND;VALUE=DATE:20310208
DTSTAMP:20260425T174042
CREATED:20260115T155240Z
LAST-MODIFIED:20260423T154010Z
UID:10046162-1928113200-1928199599@livemusicasheville.com
SUMMARY:Love What We Do .......... Buy Us A Beer!
DESCRIPTION:We hope you enjoy our guide to the Asheville area’s dynamic music scene. \nIf we somehow help to brighten up your day\, please consider a small donation to help support our efforts in providing the area’s most reliable local live music calendar. \nVenmo: click here  \nLast 4 digits – 3383 \nPayPal: click here \n 
URL:https://livemusicasheville.com/calendar/greetings-fellow-music-lovers-2-2/2031-02-06/
LOCATION:Asheville Area
CATEGORIES:Asheville Area
ATTACH;FMTTYPE=image/jpeg:https://livemusicasheville.com/wp-content/uploads/2019/01/alcohol-alcoholic-beverages-beer-1624263-e1776958791382.jpg
END:VEVENT
BEGIN:VEVENT
DTSTART;VALUE=DATE:20310208
DTEND;VALUE=DATE:20310210
DTSTAMP:20260425T174042
CREATED:20260115T155240Z
LAST-MODIFIED:20260423T154010Z
UID:10046163-1928286000-1928372399@livemusicasheville.com
SUMMARY:Love What We Do .......... Buy Us A Beer!
DESCRIPTION:We hope you enjoy our guide to the Asheville area’s dynamic music scene. \nIf we somehow help to brighten up your day\, please consider a small donation to help support our efforts in providing the area’s most reliable local live music calendar. \nVenmo: click here  \nLast 4 digits – 3383 \nPayPal: click here \n 
URL:https://livemusicasheville.com/calendar/greetings-fellow-music-lovers-2-2/2031-02-08/
LOCATION:Asheville Area
CATEGORIES:Asheville Area
ATTACH;FMTTYPE=image/jpeg:https://livemusicasheville.com/wp-content/uploads/2019/01/alcohol-alcoholic-beverages-beer-1624263-e1776958791382.jpg
END:VEVENT
BEGIN:VEVENT
DTSTART;VALUE=DATE:20310210
DTEND;VALUE=DATE:20310212
DTSTAMP:20260425T174042
CREATED:20260115T155240Z
LAST-MODIFIED:20260423T154010Z
UID:10057794-1928458800-1928545199@livemusicasheville.com
SUMMARY:Love What We Do .......... Buy Us A Beer!
DESCRIPTION:We hope you enjoy our guide to the Asheville area’s dynamic music scene. \nIf we somehow help to brighten up your day\, please consider a small donation to help support our efforts in providing the area’s most reliable local live music calendar. \nVenmo: click here  \nLast 4 digits – 3383 \nPayPal: click here \n 
URL:https://livemusicasheville.com/calendar/greetings-fellow-music-lovers-2-2/2031-02-10/
LOCATION:Asheville Area
CATEGORIES:Asheville Area
ATTACH;FMTTYPE=image/jpeg:https://livemusicasheville.com/wp-content/uploads/2019/01/alcohol-alcoholic-beverages-beer-1624263-e1776958791382.jpg
END:VEVENT
BEGIN:VEVENT
DTSTART;VALUE=DATE:20310213
DTEND;VALUE=DATE:20310215
DTSTAMP:20260425T174042
CREATED:20260115T155240Z
LAST-MODIFIED:20260423T154010Z
UID:10046164-1928718000-1928804399@livemusicasheville.com
SUMMARY:Love What We Do .......... Buy Us A Beer!
DESCRIPTION:We hope you enjoy our guide to the Asheville area’s dynamic music scene. \nIf we somehow help to brighten up your day\, please consider a small donation to help support our efforts in providing the area’s most reliable local live music calendar. \nVenmo: click here  \nLast 4 digits – 3383 \nPayPal: click here \n 
URL:https://livemusicasheville.com/calendar/greetings-fellow-music-lovers-2-2/2031-02-13/
LOCATION:Asheville Area
CATEGORIES:Asheville Area
ATTACH;FMTTYPE=image/jpeg:https://livemusicasheville.com/wp-content/uploads/2019/01/alcohol-alcoholic-beverages-beer-1624263-e1776958791382.jpg
END:VEVENT
BEGIN:VEVENT
DTSTART;VALUE=DATE:20310215
DTEND;VALUE=DATE:20310217
DTSTAMP:20260425T174042
CREATED:20260115T155240Z
LAST-MODIFIED:20260423T154010Z
UID:10046165-1928890800-1928977199@livemusicasheville.com
SUMMARY:Love What We Do .......... Buy Us A Beer!
DESCRIPTION:We hope you enjoy our guide to the Asheville area’s dynamic music scene. \nIf we somehow help to brighten up your day\, please consider a small donation to help support our efforts in providing the area’s most reliable local live music calendar. \nVenmo: click here  \nLast 4 digits – 3383 \nPayPal: click here \n 
URL:https://livemusicasheville.com/calendar/greetings-fellow-music-lovers-2-2/2031-02-15/
LOCATION:Asheville Area
CATEGORIES:Asheville Area
ATTACH;FMTTYPE=image/jpeg:https://livemusicasheville.com/wp-content/uploads/2019/01/alcohol-alcoholic-beverages-beer-1624263-e1776958791382.jpg
END:VEVENT
BEGIN:VEVENT
DTSTART;VALUE=DATE:20310217
DTEND;VALUE=DATE:20310219
DTSTAMP:20260425T174042
CREATED:20260115T155240Z
LAST-MODIFIED:20260423T154010Z
UID:10057795-1929063600-1929149999@livemusicasheville.com
SUMMARY:Love What We Do .......... Buy Us A Beer!
DESCRIPTION:We hope you enjoy our guide to the Asheville area’s dynamic music scene. \nIf we somehow help to brighten up your day\, please consider a small donation to help support our efforts in providing the area’s most reliable local live music calendar. \nVenmo: click here  \nLast 4 digits – 3383 \nPayPal: click here \n 
URL:https://livemusicasheville.com/calendar/greetings-fellow-music-lovers-2-2/2031-02-17/
LOCATION:Asheville Area
CATEGORIES:Asheville Area
ATTACH;FMTTYPE=image/jpeg:https://livemusicasheville.com/wp-content/uploads/2019/01/alcohol-alcoholic-beverages-beer-1624263-e1776958791382.jpg
END:VEVENT
END:VCALENDAR