BEGIN:VCALENDAR
VERSION:2.0
PRODID:-//LiveMusicAsheville.com - ECPv6.15.20//NONSGML v1.0//EN
CALSCALE:GREGORIAN
METHOD:PUBLISH
X-ORIGINAL-URL:https://livemusicasheville.com
X-WR-CALDESC:Events for LiveMusicAsheville.com
REFRESH-INTERVAL;VALUE=DURATION:PT1H
X-Robots-Tag:noindex
X-PUBLISHED-TTL:PT1H
BEGIN:VTIMEZONE
TZID:America/New_York
BEGIN:DAYLIGHT
TZOFFSETFROM:-0500
TZOFFSETTO:-0400
TZNAME:EDT
DTSTART:20250309T070000
END:DAYLIGHT
BEGIN:STANDARD
TZOFFSETFROM:-0400
TZOFFSETTO:-0500
TZNAME:EST
DTSTART:20251102T060000
END:STANDARD
BEGIN:DAYLIGHT
TZOFFSETFROM:-0500
TZOFFSETTO:-0400
TZNAME:EDT
DTSTART:20260308T070000
END:DAYLIGHT
BEGIN:STANDARD
TZOFFSETFROM:-0400
TZOFFSETTO:-0500
TZNAME:EST
DTSTART:20261101T060000
END:STANDARD
BEGIN:DAYLIGHT
TZOFFSETFROM:-0500
TZOFFSETTO:-0400
TZNAME:EDT
DTSTART:20270314T070000
END:DAYLIGHT
BEGIN:STANDARD
TZOFFSETFROM:-0400
TZOFFSETTO:-0500
TZNAME:EST
DTSTART:20271107T060000
END:STANDARD
END:VTIMEZONE
BEGIN:VEVENT
DTSTART;TZID=America/New_York:20260213T190000
DTEND;TZID=America/New_York:20260213T223000
DTSTAMP:20260425T094623
CREATED:20251128T220413Z
LAST-MODIFIED:20260212T095440Z
UID:10026285-1771009200-1771021800@livemusicasheville.com
SUMMARY:The Russ Wilson Quartet - Songs of Love and Other Four Letter Words
DESCRIPTION:  \nWith 44 years as a professional musician\, Russ Wilson has done it all — jazz\, blues\, rock\, R&B\, Broadway pit work\, and symphonic music — but jazz has always been his first love. \nHe’s shared the stage with legends like Levon Helm\, Charlie Musselwhite\, Hubert Sumlin\, and Kim Wilson\, appeared on hundreds of recordings\, and released 11 albums as a bandleader. \nA drummer\, vocalist\, conductor\, and self-described amateur historian\, Russ also leads multiple ensembles and preserves jazz history through an archive of thousands of records and orchestrations. \nWe are so honored to host this legend! \n$15 at the door (all ticket proceeds are 100% passed to the band\, backed by a living wage guarantee from Hotel Eve) \nHotel Eve is your locally rooted\, speakeasy jazz club & cocktail bar\, hidden in the heart of Downtown Asheville. Mysteriously not a hotel…check in for spirits\, souls and jazz! We’re tucked away\, on purpose. You’ll find us behind the gate nestled between Virtue Boutique and Dane Wells Gallery at 56 N Lexington Avenue in downtown Asheville. Step through\, take a left into the courtyard\, check in for Spirits\, Souls & Jazz. We’ll be waiting on the other side. hotelevejazz.com \n 
URL:https://livemusicasheville.com/calendar/the-russ-wilson-quartet/
LOCATION:Hotel Eve Jazz\, 56 N Lexington Avenue\, Asheville\, NC\, 28801\, United States
CATEGORIES:Asheville Area,Live Music
GEO:35.5967716;-82.5530826
X-APPLE-STRUCTURED-LOCATION;VALUE=URI;X-ADDRESS=Hotel Eve Jazz 56 N Lexington Avenue Asheville NC 28801 United States;X-APPLE-RADIUS=500;X-TITLE=56 N Lexington Avenue:geo:-82.5530826,35.5967716
END:VEVENT
BEGIN:VEVENT
DTSTART;TZID=America/New_York:20260213T190000
DTEND;TZID=America/New_York:20260214T000000
DTSTAMP:20260425T094623
CREATED:20260211T112014Z
LAST-MODIFIED:20260211T112014Z
UID:10044395-1771009200-1771027200@livemusicasheville.com
SUMMARY:"XoXo Galentine's Slumber Party" w/DJ Neptune Spins
DESCRIPTION:Cupid’s got something special loaded in that arrow\, just for you! \nCalling all our gals and gal pals!\nOn Friday\, February 13th\, we’re donning our favorite silk pj sets\, breaking out the bubbles and throwing an all-out slumber party bash. And you’re invited. \nXOXO is an all-inclusive experience that’ll bring you back to the days of jumping on beds\, blasting the Spice Girls\, and writing your crushes’ names in your cootie catcher – but now with a hint of glam that we just couldn’t achieve with flat-ironed bangs. \nThrough the doors you’ll find your all-out sleepover dream:\n• fuzzy-rugged conversation pits\n• tarot + oracle card readings\n• a D.I.Y. nail bar\n• a snack buffet worthy of the title “Girl Dinner”\n• our favorite girly movies on the big screen\n…all set to the soundscape of DJ Neptune – Blending dreamy vibes and pillow-fight-worthy throwbacks \nOf course\, the offerings don’t stop there… we might reveal a few more of Cupid’s secrets along the way\, but you’ll have to show up and show out to see what’s waiting for you! \nXOXO Exclusive Pass click here! \n\n\n‘The Mule’ – Tasting Room \n\n\n\n\n\nSay hello to The Mule – a full-service bar/event space in the home of Devil’s Foot Beverage’s production facility. Draft soda\, beer\, & wine – as well as delicious cocktails & mocktails featuring Devil’s Foot craft sodas and the largest collection of NC-made spirits in Asheville – all at your fingertips just outside of Biltmore Village! Open now for all of your beverage & party needs! devilsfootbrew.com/the-mule
URL:https://livemusicasheville.com/calendar/xoxo-galentines-slumber-party-w-dj-neptune-spins/
LOCATION:The Mule at Devils Foot Beverages\, 131 Sweeten Creek Road\, Asheville\, NC\, 28803\, United States
CATEGORIES:Asheville Area,DJ/Electronic
GEO:35.5588369;-82.5218977
X-APPLE-STRUCTURED-LOCATION;VALUE=URI;X-ADDRESS=The Mule at Devils Foot Beverages 131 Sweeten Creek Road Asheville NC 28803 United States;X-APPLE-RADIUS=500;X-TITLE=131 Sweeten Creek Road:geo:-82.5218977,35.5588369
END:VEVENT
BEGIN:VEVENT
DTSTART;TZID=America/New_York:20260213T190000
DTEND;TZID=America/New_York:20260214T010000
DTSTAMP:20260425T094623
CREATED:20241225T141623Z
LAST-MODIFIED:20260416T110217Z
UID:10056327-1771009200-1771030800@livemusicasheville.com
SUMMARY:Friday Karaoke
DESCRIPTION:  \n7-10pm – Mal’s Bar Marshall (February 20) \n7-10pm- Noble Cider (April 10) \n8pm-12am – Silverados Black Mountain \n8-11pm – Dalton Distillery (April 17) \n8-11pm – T Birds Weaverville \n8:30-11pm – The Village Porch Woodfin (April 17) \n8pm-1am – Fleetwoods (Feb 27) \n9pm-12am – Brewskies Fairview   \n9pm-12am – Little Creek Tavern Fletcher  \n9pm-1am – Handlebar & Grill \n9pm- 1am – O’Henrys \n9:30pm-1:30am – The Crowbar Downtown \n10pm – 2am – Shakeys \nVerify time and KJ with The Venue. \n  \n  \n\n 
URL:https://livemusicasheville.com/calendar/friday-weekly-karaoke/2026-02-13/
LOCATION:Asheville Area
CATEGORIES:Asheville Area,Black Mountain,Fairview,Karaoke,Madison County,Weaverville
END:VEVENT
BEGIN:VEVENT
DTSTART;TZID=America/New_York:20260213T190000
DTEND;TZID=America/New_York:20260214T020000
DTSTAMP:20260425T094623
CREATED:20241225T123126Z
LAST-MODIFIED:20251122T132355Z
UID:10025528-1771009200-1771034400@livemusicasheville.com
SUMMARY:Dueling Piano Show
DESCRIPTION:
URL:https://livemusicasheville.com/calendar/dueling-piano-show/2026-02-13/
LOCATION:Off the Wagon
CATEGORIES:Asheville Area,Live Music
GEO:41.4302231;-81.3909542
END:VEVENT
BEGIN:VEVENT
DTSTART;TZID=America/New_York:20260213T193000
DTEND;TZID=America/New_York:20260213T213000
DTSTAMP:20260425T094623
CREATED:20250423T115938Z
LAST-MODIFIED:20260211T120023Z
UID:10013201-1771011000-1771018200@livemusicasheville.com
SUMMARY:Queen Bee & the Honeylovers
DESCRIPTION:
URL:https://livemusicasheville.com/calendar/queen-bee-the-honeylovers-2/
LOCATION:White Horse at The Monte Vista Black Mountain
CATEGORIES:Asheville Area,Black Mountain,Live Music
END:VEVENT
BEGIN:VEVENT
DTSTART;TZID=America/New_York:20260213T193000
DTEND;TZID=America/New_York:20260213T230000
DTSTAMP:20260425T094623
CREATED:20260107T160538Z
LAST-MODIFIED:20260107T160538Z
UID:10032146-1771011000-1771023600@livemusicasheville.com
SUMMARY:Billy Strings
DESCRIPTION:
URL:https://livemusicasheville.com/calendar/billy-strings/2026-02-13/
LOCATION:Harrah’s Cherokee Center – Asheville
CATEGORIES:Asheville Area,Live Music
GEO:35.5975104;-82.5460563
END:VEVENT
BEGIN:VEVENT
DTSTART;TZID=America/New_York:20260213T200000
DTEND;TZID=America/New_York:20260213T220000
DTSTAMP:20260425T094623
CREATED:20250212T152622Z
LAST-MODIFIED:20260401T141115Z
UID:10032016-1771012800-1771020000@livemusicasheville.com
SUMMARY:Will Hartz
DESCRIPTION:
URL:https://livemusicasheville.com/calendar/will-hartz-4/2026-02-13/
LOCATION:The Whale Outpost Haw Creek
CATEGORIES:Asheville Area,Live Music
GEO:35.5919991;-82.5054695
END:VEVENT
BEGIN:VEVENT
DTSTART;TZID=America/New_York:20260213T200000
DTEND;TZID=America/New_York:20260213T220000
DTSTAMP:20260425T094623
CREATED:20250528T183928Z
LAST-MODIFIED:20260211T174657Z
UID:10014929-1771012800-1771020000@livemusicasheville.com
SUMMARY:Ryan Furstenberg
DESCRIPTION:
URL:https://livemusicasheville.com/calendar/ryan-furstenberg-2/
LOCATION:Mudpuppies Arden
CATEGORIES:Asheville Area,Live Music,South Asheville/Arden/Fletcher
GEO:35.4440387;-82.5322387
END:VEVENT
BEGIN:VEVENT
DTSTART;TZID=America/New_York:20260213T200000
DTEND;TZID=America/New_York:20260213T220000
DTSTAMP:20260425T094623
CREATED:20260211T115050Z
LAST-MODIFIED:20260211T115050Z
UID:10044397-1771012800-1771020000@livemusicasheville.com
SUMMARY:Dar Williams
DESCRIPTION:
URL:https://livemusicasheville.com/calendar/dar-williams/
LOCATION:Wortham Center for the Performing Arts
CATEGORIES:Asheville Area,Live Music
GEO:35.5943091;-82.5509521
END:VEVENT
BEGIN:VEVENT
DTSTART;TZID=America/New_York:20260213T200000
DTEND;TZID=America/New_York:20260213T223000
DTSTAMP:20260425T094623
CREATED:20250226T213426Z
LAST-MODIFIED:20260211T140720Z
UID:10009154-1771012800-1771021800@livemusicasheville.com
SUMMARY:Bayou Diesel
DESCRIPTION:
URL:https://livemusicasheville.com/calendar/bayou-diesel-2/
LOCATION:Cork & Keg
CATEGORIES:Asheville Area,Live Music
END:VEVENT
BEGIN:VEVENT
DTSTART;TZID=America/New_York:20260213T200000
DTEND;TZID=America/New_York:20260213T230000
DTSTAMP:20260425T094623
CREATED:20250423T214502Z
LAST-MODIFIED:20260211T173417Z
UID:10013325-1771012800-1771023600@livemusicasheville.com
SUMMARY:Pierce Edens
DESCRIPTION:
URL:https://livemusicasheville.com/calendar/pierce-edens/
LOCATION:Eda’s Hide-a-Way Weaverville
CATEGORIES:Asheville Area,Live Music,Weaverville
GEO:35.6970547;-82.5606851
END:VEVENT
BEGIN:VEVENT
DTSTART;TZID=America/New_York:20260213T200000
DTEND;TZID=America/New_York:20260213T230000
DTSTAMP:20260425T094623
CREATED:20250711T192233Z
LAST-MODIFIED:20260116T152048Z
UID:10028211-1771012800-1771023600@livemusicasheville.com
SUMMARY:Commodore Fox Band
DESCRIPTION:
URL:https://livemusicasheville.com/calendar/commodore-fox-band-2/2026-02-13/
LOCATION:Wild Wing Cafe South
CATEGORIES:Live Music,South Asheville/Arden/Fletcher
END:VEVENT
BEGIN:VEVENT
DTSTART;TZID=America/New_York:20260213T200000
DTEND;TZID=America/New_York:20260213T230000
DTSTAMP:20260425T094623
CREATED:20251112T011931Z
LAST-MODIFIED:20260212T094740Z
UID:10024333-1771012800-1771023600@livemusicasheville.com
SUMMARY:Breakfast for Dinner
DESCRIPTION:Breakfast for Dinner is a collective of seasoned musicians reimagining iconic songs with a fresh blend of indi-soul and pop. Fronted by the dynamic vocals of Elise Eden\, alongside Tom Leiner (guitar/vocals)\, Rob Geisler (bass)\, George Scott (keys)\, and Mike Berlin (drums).\nKnown for creative mashups and rich\, soulful grooves\, Breakfast for Dinner brings energy\, artistry\, and a fresh perspective to every performance.\nBreakfastfordinnermusic.com\n$10 Cover \nThe West Asheville taproom hosts a wide variety of special and regular events\, from yoga to an electronic music & beer festival\, and everything in between. Check out our upcoming schedule: click here
URL:https://livemusicasheville.com/calendar/breakfast-for-dinner-3/
LOCATION:One World Brewing – West\, 520 Haywood Rd\, Asheville\, North Carolina\, 28806
CATEGORIES:Asheville Area,Live Music
GEO:35.5783642;-82.5848526
X-APPLE-STRUCTURED-LOCATION;VALUE=URI;X-ADDRESS=One World Brewing – West 520 Haywood Rd Asheville North Carolina 28806;X-APPLE-RADIUS=500;X-TITLE=520 Haywood Rd:geo:-82.5848526,35.5783642
END:VEVENT
BEGIN:VEVENT
DTSTART;TZID=America/New_York:20260213T200000
DTEND;TZID=America/New_York:20260213T230000
DTSTAMP:20260425T094623
CREATED:20260211T181938Z
LAST-MODIFIED:20260211T181938Z
UID:10044651-1771012800-1771023600@livemusicasheville.com
SUMMARY:American Aquarium w/ River Shook
DESCRIPTION:
URL:https://livemusicasheville.com/calendar/american-aquarium-w-river-shook/
LOCATION:The Grey Eagle\, 185 Clingman Ave\, Asheville\, NC\, United States
CATEGORIES:Asheville Area,Live Music
GEO:35.5870871;-82.5643936
X-APPLE-STRUCTURED-LOCATION;VALUE=URI;X-ADDRESS=The Grey Eagle 185 Clingman Ave Asheville NC United States;X-APPLE-RADIUS=500;X-TITLE=185 Clingman Ave:geo:-82.5643936,35.5870871
END:VEVENT
BEGIN:VEVENT
DTSTART;TZID=America/New_York:20260213T200000
DTEND;TZID=America/New_York:20260214T000000
DTSTAMP:20260425T094623
CREATED:20250911T002514Z
LAST-MODIFIED:20260212T152834Z
UID:10021041-1771012800-1771027200@livemusicasheville.com
SUMMARY:Indelible Sauce / Eaze Dogg / The Build / Rough Inbetweeners / Orb Weavers
DESCRIPTION:
URL:https://livemusicasheville.com/calendar/sludge-incorporated-cryss-indelible-sauce-eaze-dogg-eggshell-emily/
LOCATION:Sly Grog Lounge
CATEGORIES:Asheville Area,Live Music
GEO:35.5942606;-82.5628302
END:VEVENT
BEGIN:VEVENT
DTSTART;TZID=America/New_York:20260213T203000
DTEND;TZID=America/New_York:20260214T010000
DTSTAMP:20260425T094623
CREATED:20251224T142533Z
LAST-MODIFIED:20251224T142535Z
UID:10028268-1771014600-1771030800@livemusicasheville.com
SUMMARY:Elaine’s Dueling Piano Bar
DESCRIPTION:
URL:https://livemusicasheville.com/calendar/elaines-dueling-piano-bar-2/2026-02-13/
LOCATION:The Omni Grove Park Inn
CATEGORIES:Asheville Area,Live Music
GEO:35.6206376;-82.5422977
END:VEVENT
BEGIN:VEVENT
DTSTART;TZID=America/New_York:20260213T210000
DTEND;TZID=America/New_York:20260214T000000
DTSTAMP:20260425T094623
CREATED:20250523T144531Z
LAST-MODIFIED:20260208T021833Z
UID:10014755-1771016400-1771027200@livemusicasheville.com
SUMMARY:Westsound
DESCRIPTION:
URL:https://livemusicasheville.com/calendar/showcase-band/
LOCATION:The Social East Asheville
CATEGORIES:Asheville Area,Live Music
GEO:35.5878491;-82.4909537
END:VEVENT
BEGIN:VEVENT
DTSTART;TZID=America/New_York:20260213T210000
DTEND;TZID=America/New_York:20260214T010000
DTSTAMP:20260425T094623
CREATED:20260211T121408Z
LAST-MODIFIED:20260211T121408Z
UID:10044400-1771016400-1771030800@livemusicasheville.com
SUMMARY:Thelma and the Sleaze// Cam Girl // Puppy and the Dogs
DESCRIPTION:
URL:https://livemusicasheville.com/calendar/thelma-and-the-sleaze-cam-girl-puppy-and-the-dogs/
LOCATION:Fleetwood’s\, 496 Haywood Rd\, Asheville\, NC\, 28806\, United States
CATEGORIES:Asheville Area,Live Music
GEO:35.578126;-82.583757
X-APPLE-STRUCTURED-LOCATION;VALUE=URI;X-ADDRESS=Fleetwood’s 496 Haywood Rd Asheville NC 28806 United States;X-APPLE-RADIUS=500;X-TITLE=496 Haywood Rd:geo:-82.583757,35.578126
END:VEVENT
BEGIN:VEVENT
DTSTART;TZID=America/New_York:20260213T220000
DTEND;TZID=America/New_York:20260214T003000
DTSTAMP:20260425T094623
CREATED:20251105T135254Z
LAST-MODIFIED:20260131T173537Z
UID:10023948-1771020000-1771029000@livemusicasheville.com
SUMMARY:Rudy’s Bluegrass Revue
DESCRIPTION:
URL:https://livemusicasheville.com/calendar/rudys-bluegrass-revue-4/
LOCATION:Jack Of The Wood\, 95 Patton Ave\, asheville\, NC\, United States
CATEGORIES:Asheville Area,Live Music
GEO:35.5944492;-82.5558221
X-APPLE-STRUCTURED-LOCATION;VALUE=URI;X-ADDRESS=Jack Of The Wood 95 Patton Ave asheville NC United States;X-APPLE-RADIUS=500;X-TITLE=95 Patton Ave:geo:-82.5558221,35.5944492
END:VEVENT
BEGIN:VEVENT
DTSTART;TZID=America/New_York:20260213T220000
DTEND;TZID=America/New_York:20260214T003000
DTSTAMP:20260425T094623
CREATED:20260127T192532Z
LAST-MODIFIED:20260127T211539Z
UID:10041961-1771020000-1771029000@livemusicasheville.com
SUMMARY:Vince & Silas Herman and Friends
DESCRIPTION:
URL:https://livemusicasheville.com/calendar/vince-silas-herman-and-friends/2026-02-13/
LOCATION:Barley’s Downtown
CATEGORIES:Asheville Area,Live Music
END:VEVENT
BEGIN:VEVENT
DTSTART;TZID=America/New_York:20260213T220000
DTEND;TZID=America/New_York:20260214T010000
DTSTAMP:20260425T094623
CREATED:20250310T223641Z
LAST-MODIFIED:20260203T224801Z
UID:10009715-1771020000-1771030800@livemusicasheville.com
SUMMARY:Soul Nite with Nino The Gentleman & The Money Band
DESCRIPTION:Soul/Southern Soul Artist & Songwriter\, Producer\, Musician & Singer\, Antonio Judkins with The Money Band!!! \n10pm | $10 \nThe Double Crown – Great vibes\, great bourbon\, and great music! (21+ only\, dog friendly) A West Asheville institution\, the Double Crown hosts Western Wednesdays\, karaoke\, DJ’s and rousing Gospel & Soul night’s each month. It’s a great place for an intimate evening of dancing\, drinks and fun\, especially if you love a good dive bar.
URL:https://livemusicasheville.com/calendar/soul-nite-with-too-deep/
LOCATION:The Double Crown West Asheville\, 375 West Haywood Rd\, Asheville\, NC\, 28806
CATEGORIES:Asheville Area,Live Music
GEO:35.5780389;-82.5787972
X-APPLE-STRUCTURED-LOCATION;VALUE=URI;X-ADDRESS=The Double Crown West Asheville 375 West Haywood Rd Asheville NC 28806;X-APPLE-RADIUS=500;X-TITLE=375 West Haywood Rd:geo:-82.5787972,35.5780389
END:VEVENT
BEGIN:VEVENT
DTSTART;TZID=America/New_York:20260213T220000
DTEND;TZID=America/New_York:20260214T010000
DTSTAMP:20260425T094623
CREATED:20260131T221740Z
LAST-MODIFIED:20260131T221740Z
UID:10042250-1771020000-1771030800@livemusicasheville.com
SUMMARY:Radish
DESCRIPTION:
URL:https://livemusicasheville.com/calendar/radish/
LOCATION:The One Stop
CATEGORIES:Asheville Area,Live Music
END:VEVENT
BEGIN:VEVENT
DTSTART;TZID=America/New_York:20260213T230000
DTEND;TZID=America/New_York:20260214T013000
DTSTAMP:20260425T094623
CREATED:20260131T223217Z
LAST-MODIFIED:20260131T223217Z
UID:10042256-1771023600-1771032600@livemusicasheville.com
SUMMARY:Kyle Tuttle Band
DESCRIPTION:
URL:https://livemusicasheville.com/calendar/kyle-tuttle-band-2/
LOCATION:Revival\, 66 Asheland Avenue\, Asheville\, NC\, 28801\, United States
CATEGORIES:Asheville Area,Live Music
GEO:35.5917821;-82.555861
X-APPLE-STRUCTURED-LOCATION;VALUE=URI;X-ADDRESS=Revival 66 Asheland Avenue Asheville NC 28801 United States;X-APPLE-RADIUS=500;X-TITLE=66 Asheland Avenue:geo:-82.555861,35.5917821
END:VEVENT
BEGIN:VEVENT
DTSTART;TZID=America/New_York:20260213T230000
DTEND;TZID=America/New_York:20260214T020000
DTSTAMP:20260425T094623
CREATED:20250723T143635Z
LAST-MODIFIED:20260210T080532Z
UID:10018210-1771023600-1771034400@livemusicasheville.com
SUMMARY:Airshow
DESCRIPTION:
URL:https://livemusicasheville.com/calendar/airshow-2/
LOCATION:Third Room\, 46 Wall Street\, Asheville\, NC\, NC\, 28803\, United States
CATEGORIES:Asheville Area,Live Music
GEO:35.5943967;-82.5559625
X-APPLE-STRUCTURED-LOCATION;VALUE=URI;X-ADDRESS=Third Room 46 Wall Street Asheville NC NC 28803 United States;X-APPLE-RADIUS=500;X-TITLE=46 Wall Street:geo:-82.5559625,35.5943967
END:VEVENT
BEGIN:VEVENT
DTSTART;TZID=America/New_York:20260213T230000
DTEND;TZID=America/New_York:20260214T020000
DTSTAMP:20260425T094623
CREATED:20260131T213818Z
LAST-MODIFIED:20260205T023208Z
UID:10042232-1771023600-1771034400@livemusicasheville.com
SUMMARY:Osprey Orchestra- Billy Strings After Party
DESCRIPTION:Osprey Orchestra is a three piece band from Western North Carolina. Including instruments: guitar\, bass\, and mandolin. Creating sound scapes that embody bluegrass\, rock\, and hints of reggae in an improvisational format.\n\n$5 Cover\n\nWith two unique locations\, built inside buildings that were previously cast aside\, One World brews with the intention of fostering nourishing interaction and artistic cultural experiences. From live music to art shows\, “One World Brewing” is born from the magic that happens when the whole becomes greater than the sum of its parts. Our taprooms are intersections for people of all walks of life and different corners of the globe\, enjoying this time and place together.  Check out our upcoming schedule: click here
URL:https://livemusicasheville.com/calendar/osprey-orchestra/
LOCATION:One World Brewing Downtown\, 10 Patton Ave\, Asheville\, NC\, 28801
CATEGORIES:Asheville Area,Live Music
GEO:35.5947396;-82.5522724
X-APPLE-STRUCTURED-LOCATION;VALUE=URI;X-ADDRESS=One World Brewing Downtown 10 Patton Ave Asheville NC 28801;X-APPLE-RADIUS=500;X-TITLE=10 Patton Ave:geo:-82.5522724,35.5947396
END:VEVENT
BEGIN:VEVENT
DTSTART;TZID=America/New_York:20260213T230000
DTEND;TZID=America/New_York:20260214T020000
DTSTAMP:20260425T094623
CREATED:20260131T222028Z
LAST-MODIFIED:20260131T222028Z
UID:10042251-1771023600-1771034400@livemusicasheville.com
SUMMARY:Hustle Souls w/sg J Lloyd and Kyle Snuffer + Cactus Kate and the Pricks
DESCRIPTION:
URL:https://livemusicasheville.com/calendar/hustle-souls-w-sg-j-lloyd-and-kyle-snuffer-cactus-kate-and-the-pricks/
LOCATION:Asheville Music Hall\, 31 Patton Ave\, Asheville\, NC\, 28801\, United States
CATEGORIES:Asheville Area,Live Music
GEO:35.5949233;-82.5530398
X-APPLE-STRUCTURED-LOCATION;VALUE=URI;X-ADDRESS=Asheville Music Hall 31 Patton Ave Asheville NC 28801 United States;X-APPLE-RADIUS=500;X-TITLE=31 Patton Ave:geo:-82.5530398,35.5949233
END:VEVENT
BEGIN:VEVENT
DTSTART;TZID=America/New_York:20260213T233000
DTEND;TZID=America/New_York:20260214T020000
DTSTAMP:20260425T094623
CREATED:20260131T224933Z
LAST-MODIFIED:20260131T224933Z
UID:10042258-1771025400-1771034400@livemusicasheville.com
SUMMARY:SOLD OUT | Shadowgrass
DESCRIPTION:
URL:https://livemusicasheville.com/calendar/sold-out-shadowgrass/
LOCATION:The Orange Peel
CATEGORIES:Asheville Area,Live Music
GEO:35.5914061;-82.5510137
END:VEVENT
BEGIN:VEVENT
DTSTART;VALUE=DATE:20260214
DTEND;VALUE=DATE:20260216
DTSTAMP:20260425T094623
CREATED:20260115T155240Z
LAST-MODIFIED:20260423T154010Z
UID:10037449-1771038000-1771124399@livemusicasheville.com
SUMMARY:Love What We Do .......... Buy Us A Beer!
DESCRIPTION:We hope you enjoy our guide to the Asheville area’s dynamic music scene. \nIf we somehow help to brighten up your day\, please consider a small donation to help support our efforts in providing the area’s most reliable local live music calendar. \nVenmo: click here  \nLast 4 digits – 3383 \nPayPal: click here \n 
URL:https://livemusicasheville.com/calendar/greetings-fellow-music-lovers-2-2/2026-02-14/
LOCATION:Asheville Area
CATEGORIES:Asheville Area
ATTACH;FMTTYPE=image/jpeg:https://livemusicasheville.com/wp-content/uploads/2019/01/alcohol-alcoholic-beverages-beer-1624263-e1776958791382.jpg
END:VEVENT
BEGIN:VEVENT
DTSTART;VALUE=DATE:20260214
DTEND;VALUE=DATE:20260216
DTSTAMP:20260425T094623
CREATED:20260205T182856Z
LAST-MODIFIED:20260205T192833Z
UID:10043519-1771038000-1771124399@livemusicasheville.com
SUMMARY:COMING MEMORIAL DAY WEEKEND | Umphrey’s McGee
DESCRIPTION:Friday\, May 22nd & Saturday\, May 23rd\, 2026 | Pisgah Brewing Outdoor Stage | Doors open at 6:00PM\, music starts at 7:30PM \nFriday\, May 22nd Event Details and Tickets \nSaturday\, May 23rd Event Details and Tickets \nWith over 2\,800 live shows\, 15 studio albums\, and more than 27 years of musical evolution\, Umphrey’s McGee continues to defy classification and expectation. Drawing fans from around the globe and across musical boundaries\, the band has cultivated a devoted community rooted in spontaneity\, precision\, and connection. \nPioneers at the intersection of music and technology\, their live experience fuses cutting-edge production with fan-centric innovation\, creating a space where longtime followers and newcomers alike feel at home. Genre lines blur as progressive rock\, funk\, jazz\, metal\, electronic\, and beyond converge into something unmistakably Umphrey’s.\n\nMore than just a band\, Umphrey’s McGee is a living\, breathing organism — constantly evolving\, yet grounded in a singular mission: to create bold\, immersive\, and memorable musical experiences. \n  \nFounded in 2005\, Pisgah is known for producing some of the most sought after craft ales in Western North Carolina. Pisgah Brewing Company currently operates the new indoor taproom & deli\, with live music several days a week\, plus an open air outdoor bar in the summer and fall months. Check out our upcoming schedule at pisgahbrewing.com/events
URL:https://livemusicasheville.com/calendar/coming-memorial-day-weekend-umphreys-mcgee/2026-02-14/
LOCATION:Pisgah Brewing Company Black Mountain\, 2948 US-70\, Black Mountain\, NC\, 28711
CATEGORIES:Asheville Area,Black Mountain,Live Music
ATTACH;FMTTYPE=image/jpeg:https://livemusicasheville.com/wp-content/uploads/2026/02/627480039_1368427411978098_970304923746143494_n-e1770315646754.jpg
GEO:35.6068069;-82.3568213
X-APPLE-STRUCTURED-LOCATION;VALUE=URI;X-ADDRESS=Pisgah Brewing Company Black Mountain 2948 US-70 Black Mountain NC 28711;X-APPLE-RADIUS=500;X-TITLE=2948 US-70:geo:-82.3568213,35.6068069
END:VEVENT
BEGIN:VEVENT
DTSTART;TZID=America/New_York:20260214T110000
DTEND;TZID=America/New_York:20260215T010000
DTSTAMP:20260425T094623
CREATED:20241225T201123Z
LAST-MODIFIED:20260422T210726Z
UID:10053599-1771066800-1771117200@livemusicasheville.com
SUMMARY:Saturday Karaoke
DESCRIPTION:Ben’s Tune Up – 11am-2pm (1st & 3rd Saturdays) \nWagworld Pub – 6-9pm (April 25) \nLookout Brewing Black Mountain – 7-10pm (April 18) \nThe Whale South Slope – 7-10pm (April 18) \nIce Bar Arden – 8pm-12am (April 25) \nLiondog Lounge Weaverville – 8pm-12am (every other week) \nT Birds Weaverville – 8-11pm \nThe Burger Bar – 8pm-1am \nThe Social East Asheville – 9pm-1am \n  \n  \nPlease verify times and KJ with the venue.
URL:https://livemusicasheville.com/calendar/saturday-karaoke/2026-02-14/
CATEGORIES:Asheville Area,Karaoke
END:VEVENT
END:VCALENDAR