BEGIN:VCALENDAR
VERSION:2.0
PRODID:-//LiveMusicAsheville.com - ECPv6.15.20//NONSGML v1.0//EN
CALSCALE:GREGORIAN
METHOD:PUBLISH
X-WR-CALNAME:LiveMusicAsheville.com
X-ORIGINAL-URL:https://livemusicasheville.com
X-WR-CALDESC:Events for LiveMusicAsheville.com
REFRESH-INTERVAL;VALUE=DURATION:PT1H
X-Robots-Tag:noindex
X-PUBLISHED-TTL:PT1H
BEGIN:VTIMEZONE
TZID:America/New_York
BEGIN:DAYLIGHT
TZOFFSETFROM:-0500
TZOFFSETTO:-0400
TZNAME:EDT
DTSTART:20250309T070000
END:DAYLIGHT
BEGIN:STANDARD
TZOFFSETFROM:-0400
TZOFFSETTO:-0500
TZNAME:EST
DTSTART:20251102T060000
END:STANDARD
BEGIN:DAYLIGHT
TZOFFSETFROM:-0500
TZOFFSETTO:-0400
TZNAME:EDT
DTSTART:20260308T070000
END:DAYLIGHT
BEGIN:STANDARD
TZOFFSETFROM:-0400
TZOFFSETTO:-0500
TZNAME:EST
DTSTART:20261101T060000
END:STANDARD
BEGIN:DAYLIGHT
TZOFFSETFROM:-0500
TZOFFSETTO:-0400
TZNAME:EDT
DTSTART:20270314T070000
END:DAYLIGHT
BEGIN:STANDARD
TZOFFSETFROM:-0400
TZOFFSETTO:-0500
TZNAME:EST
DTSTART:20271107T060000
END:STANDARD
END:VTIMEZONE
BEGIN:VEVENT
DTSTART;TZID=America/New_York:20260101T180000
DTEND;TZID=America/New_York:20260101T210000
DTSTAMP:20260425T064003
CREATED:20251121T203137Z
LAST-MODIFIED:20260107T125034Z
UID:10024946-1767290400-1767301200@livemusicasheville.com
SUMMARY:BUTTS & BOOTS :: Line Dancing
DESCRIPTION:
URL:https://livemusicasheville.com/calendar/butts-boots-line-dancing-3/2026-01-01/
LOCATION:Banks Ave
CATEGORIES:Asheville Area,DJ/Electronic
GEO:35.5892908;-82.5536382
END:VEVENT
BEGIN:VEVENT
DTSTART;TZID=America/New_York:20260101T180000
DTEND;TZID=America/New_York:20260101T210000
DTSTAMP:20260425T064003
CREATED:20251121T203256Z
LAST-MODIFIED:20251203T113432Z
UID:10013118-1767290400-1767301200@livemusicasheville.com
SUMMARY:Jerry’s Dead Thursdays
DESCRIPTION:Jerry’s Dead from Asheville is a fast growing\, fan favorite\, tribute to the music of Jerry Garcia. Members include Lee Kram on drums and vocals\, Gus Vigo on keys and vocals\, Dan Pederson on bass and vocals and features Tim Marsh on guitar and lead vocals. Drawing from over a hundred and fifty songs from The Grateful Dead and Jerry Garcia Band catalog\, this quartet delivers with fervor and improvisational spirit intact. \nFrench Broad River Brewery is more than just a place to enjoy a drink—it’s a community hub where great beer\, delicious pizza\, live music\, and good times come together. Just minutes from the Biltmore Estate & Downtown\, our taproom is a gathering spot for locals and visitors alike. We regularly host live music and entertainment in our taproom\, making French Broad River Brewery a lively hub of local activity. From bluegrass to reggae\, there’s always something happening. Check out our Events Page to see what’s coming up next! \nNo brewery experience is complete without great food. That’s why we offer French Broad River Pizza\, serving up hot\, hand-tossed pizzas made to order. Whether you’re here for a quick slice or a full meal\, our pizza perfectly complements our craft beers and the lively atmosphere of our taproom. frenchbroadbrewery.com/pizza \n 
URL:https://livemusicasheville.com/calendar/jerrys-dead-2-2-2-2-2-2/2026-01-01/
LOCATION:French Broad River Brewery\, 101 Fairview Rd\, Asheville\, NC\, United States
CATEGORIES:Asheville Area,Live Music
ATTACH;FMTTYPE=image/jpeg:https://livemusicasheville.com/wp-content/uploads/2025/03/480733944_955764170010259_7959141011877987736_n-e1746972963507.jpg
GEO:35.5662722;-82.5374054
X-APPLE-STRUCTURED-LOCATION;VALUE=URI;X-ADDRESS=French Broad River Brewery 101 Fairview Rd Asheville NC United States;X-APPLE-RADIUS=500;X-TITLE=101 Fairview Rd:geo:-82.5374054,35.5662722
END:VEVENT
BEGIN:VEVENT
DTSTART;TZID=America/New_York:20260101T180000
DTEND;TZID=America/New_York:20260101T210000
DTSTAMP:20260425T064003
CREATED:20251211T185526Z
LAST-MODIFIED:20251211T185528Z
UID:10025465-1767290400-1767301200@livemusicasheville.com
SUMMARY:Aaron LaFalce
DESCRIPTION:
URL:https://livemusicasheville.com/calendar/aaron-lafalce-2-2-2/2026-01-01/
LOCATION:131 Main Biltmore Park
CATEGORIES:Live Music,South Asheville/Arden/Fletcher
END:VEVENT
BEGIN:VEVENT
DTSTART;TZID=America/New_York:20260101T180000
DTEND;TZID=America/New_York:20260101T220000
DTSTAMP:20260425T064003
CREATED:20251007T130234Z
LAST-MODIFIED:20251116T161904Z
UID:10024604-1767290400-1767304800@livemusicasheville.com
SUMMARY:Winter Lights
DESCRIPTION:We look forward to welcoming you back for another year of Asheville’s Brightest Holiday Tradition! Winter Lights is a spectacular open-air walk-through light show made from over one million lights! Located at the North Carolina Arboretum in Asheville\, North Carolina\, this year’s event features favorites like the famously tall 50-foot lighted tree and the Quilt Garden\, along with enchanting new details designed to delight and surprise. \nTroll sightings are anticipated at this year’s Winter Lights\, as six of Dambo’s Trolls will be experiencing the show for themselves. Meet them in the gardens at Winter Lights! \nWinter Lights features live entertainment nightly and food and beverages from the Bent Creek Bistro\, the Cocoa Shack and the Cocoa Cabin! Open nightly from 6:00 – 10:00 p.m. \nTickets on Sale Now! Event Details and Tickets \nFor more than 35 years…Cultivating Connections between People\, Plants and Places…amid a 434-acre public garden\, The North Carolina Arboretum is located within the Bent Creek Experimental Forest just south of Asheville and adjacent to the Blue Ridge Parkway at Milepost 393. Surrounded and crisscrossed by forested coves and meandering creeks in the botanically diverse Southern Appalachian Mountains\, The North Carolina Arboretum is set in one of the most beautiful natural settings in America. ncarboretum.org \n  \n 
URL:https://livemusicasheville.com/calendar/winter-lights-2/2026-01-01/
LOCATION:The North Carolina Arboretum
CATEGORIES:Asheville Area,Live Music
END:VEVENT
BEGIN:VEVENT
DTSTART;TZID=America/New_York:20260101T180000
DTEND;TZID=America/New_York:20260101T230000
DTSTAMP:20260425T064003
CREATED:20251121T202643Z
LAST-MODIFIED:20260423T165611Z
UID:10007400-1767290400-1767308400@livemusicasheville.com
SUMMARY:Thursday Open Mics / Jams
DESCRIPTION:Bluegrass Jam @ Zuma Coffee Marshall – 6-8pm (first & third Thursdays) \nTrue Home Open Mic Night @Flood Gallery Fine Art Center (new location) 6-8:30pm \nBlunt Pretzels Swannanoa – 6-9pm \n \nGarden Creek Foundation Community Barn Jam – 6-9pm (Third Thursdays) \nOld Time or Irish Session @Leveller Brewing Co Weaverville – 6-9pm (Old Time 1st & 3rd Thursdays\, Irish Session 2nd & 4th Thursdays) \nHi Wire South Slope – 6-9pm \nWheelhouse South Slope – 7-10pm (exclude April 23) \nPlant Bar South Slope – 7-9pm (1st & 3rd Thursdays) \nBens Tune Up – 8-11pm (open mic/decks) \n  \n  \n 
URL:https://livemusicasheville.com/calendar/thursday-open-mics-jams-2/2026-01-01/
LOCATION:Asheville Area
CATEGORIES:Asheville Area,DJ/Electronic,Open MIc/Jam
END:VEVENT
BEGIN:VEVENT
DTSTART;TZID=America/New_York:20260101T180000
DTEND;TZID=America/New_York:20260102T020000
DTSTAMP:20260425T064003
CREATED:20251121T203413Z
LAST-MODIFIED:20260408T094503Z
UID:10017500-1767290400-1767319200@livemusicasheville.com
SUMMARY:Thursday Weekly DJs
DESCRIPTION:Although we are primarily a Live Music Calendar\, we often come across Electronic & DJ events in the area and list them for you as we find out about them. Please verify the DJ\, times and cover charges with the venue. \nThe Mule at Devils Foot Beverages – 4-9pm (Starts April 23) \nEda Rhyne Distilling – 6-9pm \nPotential New Boyfriend – 7-10pm \nSticks on Broadway – 10pm -2am \nLazy Diamond – 10pm-2am \nThe Double Crown – 10pm-2am \nCheck with the for DJs and covers.
URL:https://livemusicasheville.com/calendar/thursday-weekly-djs-2/2026-01-01/
LOCATION:Asheville Area
CATEGORIES:Asheville Area,DJ/Electronic
END:VEVENT
BEGIN:VEVENT
DTSTART;TZID=America/New_York:20260101T190000
DTEND;TZID=America/New_York:20260101T210000
DTSTAMP:20260425T064003
CREATED:20251121T203926Z
LAST-MODIFIED:20251216T065445Z
UID:10003813-1767294000-1767301200@livemusicasheville.com
SUMMARY:Americano Sessions with Billy Presnell & Friends
DESCRIPTION:
URL:https://livemusicasheville.com/calendar/americano-sessions-with-billy-presnell-friends-2-2-2-2/2026-01-01/
LOCATION:Old Town District Black Mountain\, 110 Black Mountain Ave\, Black Mountain\, NC\, 28711\, United States
CATEGORIES:Black Mountain,Live Music
GEO:35.6144382;-82.320515
X-APPLE-STRUCTURED-LOCATION;VALUE=URI;X-ADDRESS=Old Town District Black Mountain 110 Black Mountain Ave Black Mountain NC 28711 United States;X-APPLE-RADIUS=500;X-TITLE=110 Black Mountain Ave:geo:-82.320515,35.6144382
END:VEVENT
BEGIN:VEVENT
DTSTART;TZID=America/New_York:20260101T190000
DTEND;TZID=America/New_York:20260101T210000
DTSTAMP:20260425T064003
CREATED:20251231T133744Z
LAST-MODIFIED:20260311T213218Z
UID:10049231-1767294000-1767301200@livemusicasheville.com
SUMMARY:Billy Owens and Friends
DESCRIPTION:
URL:https://livemusicasheville.com/calendar/billy-owens-and-friends-3-2-2/2026-01-01/
LOCATION:Blue Mountain Pizza Weaverville
CATEGORIES:Asheville Area,Live Music,Weaverville
GEO:35.698228;-82.560231
END:VEVENT
BEGIN:VEVENT
DTSTART;TZID=America/New_York:20260101T190000
DTEND;TZID=America/New_York:20260101T220000
DTSTAMP:20260425T064003
CREATED:20250122T134349Z
LAST-MODIFIED:20260305T174143Z
UID:10024107-1767294000-1767304800@livemusicasheville.com
SUMMARY:Asheville Beer Choir Sip-n-Sing
DESCRIPTION:
URL:https://livemusicasheville.com/calendar/asheville-beer-choir-sip-n-sing-2/2026-01-01/
LOCATION:Archetype Brewing\, 265 Haywood\, Asheville\, NC\, 28806\, United States
CATEGORIES:Asheville Area,Live Music,Open MIc/Jam
GEO:35.578181;-82.575074
X-APPLE-STRUCTURED-LOCATION;VALUE=URI;X-ADDRESS=Archetype Brewing 265 Haywood Asheville NC 28806 United States;X-APPLE-RADIUS=500;X-TITLE=265 Haywood:geo:-82.575074,35.578181
END:VEVENT
BEGIN:VEVENT
DTSTART;TZID=America/New_York:20260101T190000
DTEND;TZID=America/New_York:20260101T220000
DTSTAMP:20260425T064003
CREATED:20251125T223206Z
LAST-MODIFIED:20260214T085748Z
UID:10029779-1767294000-1767304800@livemusicasheville.com
SUMMARY:Sold Out | Live Jazz w/ Kass Blount & The Burners
DESCRIPTION:𝘒𝘢𝘴𝘴 𝘉𝘭𝘰𝘶𝘯𝘵 & 𝘛𝘩𝘦 𝘉𝘶𝘳𝘯𝘦𝘳𝘴 𝘪𝘨𝘯𝘪𝘵𝘦 𝘵𝘩𝘦 𝘴𝘵𝘢𝘨𝘦 𝘸𝘪𝘵𝘩 𝘢 𝘴𝘰𝘶𝘭𝘧𝘶𝘭 𝘧𝘪𝘳𝘦 – 𝘣𝘭𝘢𝘻𝘪𝘯𝘨 𝘸𝘪𝘵𝘩 𝘪𝘯𝘵𝘦𝘯𝘴𝘪𝘵𝘺 𝘢𝘯𝘥 𝘴𝘮𝘰𝘭𝘥𝘦𝘳𝘪𝘯𝘨 𝘸𝘪𝘵𝘩 𝘴𝘶𝘭𝘵𝘳𝘪𝘯𝘦𝘴𝘴. 𝘚𝘮𝘰𝘬𝘺\, 𝘷𝘦𝘭𝘷𝘦𝘵 𝘷𝘰𝘤𝘢𝘭𝘴\, 𝘳𝘪𝘤𝘩 𝘴𝘢𝘹𝘰𝘱𝘩𝘰𝘯𝘦\, 𝘢𝘯𝘥 𝘴𝘰𝘱𝘩𝘪𝘴𝘵𝘪𝘤𝘢𝘵𝘦𝘥 𝘨𝘳𝘰𝘰𝘷𝘦𝘴 𝘪𝘯𝘵𝘦𝘳𝘵𝘸𝘪𝘯𝘦 𝘪𝘯 𝘢 𝘥𝘺𝘯𝘢𝘮𝘪𝘤 𝘤𝘰𝘯𝘷𝘦𝘳𝘴𝘢𝘵𝘪𝘰𝘯 𝘥𝘢𝘯𝘤𝘪𝘯𝘨 𝘣𝘦𝘵𝘸𝘦𝘦𝘯 𝘥𝘢𝘳𝘪𝘯𝘨 𝘢𝘯𝘥 𝘱𝘭𝘢𝘺𝘧𝘶𝘭. 𝘞𝘪𝘵𝘩 𝘢 𝘤𝘢𝘴𝘵 𝘰𝘧 𝘈𝘴𝘩𝘦𝘷𝘪𝘭𝘭𝘦’𝘴 𝘧𝘪𝘯𝘦𝘴𝘵 𝘱𝘭𝘢𝘺𝘦𝘳𝘴 𝘢𝘯𝘥 𝘭𝘰𝘤𝘢𝘭 𝘭𝘦𝘨𝘦𝘯𝘥𝘴\, 𝘵𝘩𝘦 𝘲𝘶𝘪𝘯𝘵𝘦𝘵 𝘴𝘱𝘢𝘳𝘬𝘴 𝘯𝘦𝘸 𝘭𝘪𝘧𝘦 𝘪𝘯𝘵𝘰 𝘢𝘨𝘦-𝘰𝘭𝘥 𝘫𝘢𝘻𝘻 𝘤𝘭𝘢𝘴𝘴𝘪𝘤𝘴. \nKass Blount (vocals) \nDylan Hannan (sax\, flute) \nSteven Alvarez (guitar) \nDanny Iannucci (upright bass) \nRyan Ptasnik (drums) \n$15 at the door (all ticket proceeds are 100% passed to the band\, backed by a living wage guarantee from Hotel Eve) \n  \nHotel Eve is your locally rooted\, speakeasy jazz club & cocktail bar\, hidden in the heart of Downtown Asheville. Mysteriously not a hotel…check in for spirits\, souls and jazz! We’re tucked away\, on purpose. You’ll find us behind the gate nestled between Virtue Boutique and Dane Wells Gallery at 56 N Lexington Avenue in downtown Asheville. Step through\, take a left into the courtyard\, check in for Spirits\, Souls & Jazz. We’ll be waiting on the other side. hotelevejazz.com \n 
URL:https://livemusicasheville.com/calendar/live-jazz-w-kass-blount-the-burners/2026-01-01/
LOCATION:Hotel Eve Jazz\, 56 N Lexington Avenue\, Asheville\, NC\, 28801\, United States
CATEGORIES:Asheville Area,Live Music
GEO:35.5967716;-82.5530826
X-APPLE-STRUCTURED-LOCATION;VALUE=URI;X-ADDRESS=Hotel Eve Jazz 56 N Lexington Avenue Asheville NC 28801 United States;X-APPLE-RADIUS=500;X-TITLE=56 N Lexington Avenue:geo:-82.5530826,35.5967716
END:VEVENT
BEGIN:VEVENT
DTSTART;TZID=America/New_York:20260101T190000
DTEND;TZID=America/New_York:20260101T220000
DTSTAMP:20260425T064003
CREATED:20251222T160644Z
LAST-MODIFIED:20251222T160644Z
UID:10029206-1767294000-1767304800@livemusicasheville.com
SUMMARY:The B's Trio in The Great Hall
DESCRIPTION:
URL:https://livemusicasheville.com/calendar/the-bs-trio-in-the-great-hall-2/2026-01-01/
LOCATION:The Omni Grove Park Inn
CATEGORIES:Asheville Area,Live Music
GEO:35.6206376;-82.5422977
END:VEVENT
BEGIN:VEVENT
DTSTART;TZID=America/New_York:20260101T190000
DTEND;TZID=America/New_York:20260101T233000
DTSTAMP:20260425T064003
CREATED:20250322T150845Z
LAST-MODIFIED:20251214T215054Z
UID:10010521-1767294000-1767310200@livemusicasheville.com
SUMMARY:Save Our Website to Your Home Screen 📲
DESCRIPTION:As an interactive calendar\, we often add events to our calendar as we find out about them\, sometimes even from our phone while we are out supporting local live music. By adding our website\, LiveMusicAsheville.com to your home screen\, we will always be right at your fingertips. Here’s how:\n\n\n\n\niPhone (using Safari):\n\n\n\nOpen Safari and navigate to the website: you want to add as a shortcut. \n\n\n\n\n\n\n\n\nTap the Share button: (a square with an arrow pointing out of the top). \n\n\n\n\n\n\n\n\nScroll down and tap “Add to Home Screen” . \n\n\n\n\n\n\n\n\nChoose a name for the shortcut: and tap “Add”. \n\n\n\n\n\n\n\n\nThe shortcut will appear on your home screen as an icon. \n\n\n\n\n\n\n\n\n\n\n\nAndroid (using Chrome or other browsers):\n\n\n\nOpen Chrome (or your preferred browser) and navigate to the website: you want to add.\nTap the three-dot menu icon: (usually in the top right corner).\nSelect “Add to Home Screen” .\nCustomize the name of the shortcut: if desired\, and then tap “Add”.\nThe shortcut will appear on your home screen as an icon. 
URL:https://livemusicasheville.com/calendar/add-our-website-to-your-home-screen/2026-01-01/
CATEGORIES:Asheville Area
END:VEVENT
BEGIN:VEVENT
DTSTART;TZID=America/New_York:20260101T190000
DTEND;TZID=America/New_York:20260101T233000
DTSTAMP:20260425T064003
CREATED:20251203T134145Z
LAST-MODIFIED:20251203T134147Z
UID:10023303-1767294000-1767310200@livemusicasheville.com
SUMMARY:The Thursday Bluegrass Jam hosted by Drew Matulich
DESCRIPTION:Our amazing Thursday BlueGrass jam curated by the talented Drew Matulich! Don’t miss your chance to check out some of the best pickers from all over WNC! A real show-stopping performance only at Jack of the Wood! The Bluegrass Jam will start after the host band at 9:30 and go to 11:30pm. Pickers bring your instruments! Enjoy $1 OFF all our bourbons every Thursday \nJack Of The Wood is still a downtown hot spot for food\, brews and drink since 1997 and founders Joan and Joe Eckert who still own it\, have maintained the original lively English and Irish vibe. The old-time mountain and Irish music jams continue\, including a hot bluegrass jam Thursdays and brunch every Sunday. The venue extends a welcoming feeling to regulars and newcomers to this day. https://jackofthewood.com/
URL:https://livemusicasheville.com/calendar/the-thursday-bluegrass-jam-hosted-by-drew-matulich-2-2-2-2-2/2026-01-01/
LOCATION:Jack Of The Wood\, 95 Patton Ave\, asheville\, NC\, United States
CATEGORIES:Asheville Area,Live Music,Open MIc/Jam
ATTACH;FMTTYPE=image/jpeg:https://livemusicasheville.com/wp-content/uploads/2025/04/IMG_0947-e1750964014171.jpeg
GEO:35.5944492;-82.5558221
X-APPLE-STRUCTURED-LOCATION;VALUE=URI;X-ADDRESS=Jack Of The Wood 95 Patton Ave asheville NC United States;X-APPLE-RADIUS=500;X-TITLE=95 Patton Ave:geo:-82.5558221,35.5944492
END:VEVENT
BEGIN:VEVENT
DTSTART;TZID=America/New_York:20260101T190000
DTEND;TZID=America/New_York:20260102T020000
DTSTAMP:20260425T064003
CREATED:20251121T203604Z
LAST-MODIFIED:20260422T115043Z
UID:10033295-1767294000-1767319200@livemusicasheville.com
SUMMARY:Thursday Karaoke
DESCRIPTION:Please verify times and KJ with the venue! \n  \nTurgua Brewing Fairview – 6-8pm (April 16) \nAsheville Sports Club – 7-10pm \nThe Social East Asheville – 7-11pm \nDaddy Mac’s Downhome Dive – 8-11pm \nShiloh and Gaines – 8-11pm \nVOWL – 8-11pm  \nFleetwoods – 8pm-12am (April 23 indie/punk) \nStatic Age Loft 10pm-2am \nShakeys Dive Bar 9pm-2am
URL:https://livemusicasheville.com/calendar/thursday-weekly-karaoke-2/2026-01-01/
LOCATION:Asheville Area
CATEGORIES:Asheville Area,Karaoke,Madison County,South Asheville/Arden/Fletcher
END:VEVENT
BEGIN:VEVENT
DTSTART;TZID=America/New_York:20260101T203000
DTEND;TZID=America/New_York:20260102T000000
DTSTAMP:20260425T064003
CREATED:20251121T204451Z
LAST-MODIFIED:20251121T204452Z
UID:10025417-1767299400-1767312000@livemusicasheville.com
SUMMARY:Bachata Thursday
DESCRIPTION:
URL:https://livemusicasheville.com/calendar/bachata-thursday-2/2026-01-01/
LOCATION:Urban Orchard Cider Co
CATEGORIES:Asheville Area,DJ/Electronic
END:VEVENT
BEGIN:VEVENT
DTSTART;TZID=America/New_York:20260102T170000
DTEND;TZID=America/New_York:20260102T200000
DTSTAMP:20260425T064003
CREATED:20250903T162811Z
LAST-MODIFIED:20251230T185351Z
UID:10020620-1767373200-1767384000@livemusicasheville.com
SUMMARY:Patty M
DESCRIPTION:
URL:https://livemusicasheville.com/calendar/patty-m/
LOCATION:Peri Social House Black Mountain\, 406 W State\, Black Mountain\, NC
CATEGORIES:Asheville Area,Black Mountain,Live Music
GEO:35.6148509;-82.3247138
X-APPLE-STRUCTURED-LOCATION;VALUE=URI;X-ADDRESS=Peri Social House Black Mountain 406 W State Black Mountain NC;X-APPLE-RADIUS=500;X-TITLE=406 W State:geo:-82.3247138,35.6148509
END:VEVENT
BEGIN:VEVENT
DTSTART;TZID=America/New_York:20260102T173000
DTEND;TZID=America/New_York:20260102T193000
DTSTAMP:20260425T064003
CREATED:20250115T170305Z
LAST-MODIFIED:20251214T223120Z
UID:10006472-1767375000-1767382200@livemusicasheville.com
SUMMARY:Hank and Vollie
DESCRIPTION:
URL:https://livemusicasheville.com/calendar/hank-and-vollie/2026-01-02/
LOCATION:Battery Park Book Exchange & Champagne Bar
CATEGORIES:Asheville Area,Live Music
GEO:35.5951042;-82.556633
END:VEVENT
BEGIN:VEVENT
DTSTART;TZID=America/New_York:20260102T180000
DTEND;TZID=America/New_York:20260102T200000
DTSTAMP:20260425T064003
CREATED:20250805T183517Z
LAST-MODIFIED:20251231T120623Z
UID:10018539-1767376800-1767384000@livemusicasheville.com
SUMMARY:Friday Music Series featuring Alma Russ
DESCRIPTION:
URL:https://livemusicasheville.com/calendar/friday-music-series-featuring-alma-russ/
LOCATION:Lookout Brewing Company Black Mountain
CATEGORIES:Asheville Area,Black Mountain,Live Music
GEO:35.6193199;-82.3178787
END:VEVENT
BEGIN:VEVENT
DTSTART;TZID=America/New_York:20260102T180000
DTEND;TZID=America/New_York:20260102T200000
DTSTAMP:20260425T064003
CREATED:20250813T190102Z
LAST-MODIFIED:20251231T150153Z
UID:10019156-1767376800-1767384000@livemusicasheville.com
SUMMARY:Fairlight and the Magick
DESCRIPTION:
URL:https://livemusicasheville.com/calendar/fairlight-and-the-magick-4/
LOCATION:Highland Brewing
CATEGORIES:Asheville Area,Live Music
END:VEVENT
BEGIN:VEVENT
DTSTART;TZID=America/New_York:20260102T180000
DTEND;TZID=America/New_York:20260102T210000
DTSTAMP:20260425T064003
CREATED:20250306T144602Z
LAST-MODIFIED:20251231T115127Z
UID:10009548-1767376800-1767387600@livemusicasheville.com
SUMMARY:Rock While Rome Burns
DESCRIPTION:
URL:https://livemusicasheville.com/calendar/rock-while-rome-burns-w-sg-the-turntables/
LOCATION:River Arts District Brewing\, 13 Mystery St\, Asheville\, NC\, 28801\, United States
CATEGORIES:Asheville Area,Live Music
GEO:35.5846876;-82.5649928
X-APPLE-STRUCTURED-LOCATION;VALUE=URI;X-ADDRESS=River Arts District Brewing 13 Mystery St Asheville NC 28801 United States;X-APPLE-RADIUS=500;X-TITLE=13 Mystery St:geo:-82.5649928,35.5846876
END:VEVENT
BEGIN:VEVENT
DTSTART;TZID=America/New_York:20260102T180000
DTEND;TZID=America/New_York:20260102T210000
DTSTAMP:20260425T064003
CREATED:20260101T160608Z
LAST-MODIFIED:20260102T022417Z
UID:10030181-1767376800-1767387600@livemusicasheville.com
SUMMARY:Loose Roosters
DESCRIPTION:Boone band Loose Roosters formed in 2017 after the release of some original songs by front man Tim Jones (vocals\, guitar)\, Loose Roosters have been a high country staple ever since. The band blends Appalachian sensibilities with a modern Americana sound to craft songs that capture life in our time. Longtime collaborators Chris Capozzoli (guitar\, vocals)\, Dirk Brown (drums) and Ben McPherron (bass) round out the group. \n  \nFrench Broad River Brewery is more than just a place to enjoy a drink—it’s a community hub where great beer\, delicious pizza\, live music\, and good times come together. Just minutes from the Biltmore Estate & Downtown\, our taproom is a gathering spot for locals and visitors alike. We regularly host live music and entertainment in our taproom\, making French Broad River Brewery a lively hub of local activity. From bluegrass to reggae\, there’s always something happening. Check out our Events Page to see what’s coming up next! \nNo brewery experience is complete without great food. That’s why we offer French Broad River Pizza\, serving up hot\, hand-tossed pizzas made to order. Whether you’re here for a quick slice or a full meal\, our pizza perfectly complements our craft beers and the lively atmosphere of our taproom. frenchbroadbrewery.com/pizza
URL:https://livemusicasheville.com/calendar/loose-roosters/
LOCATION:French Broad River Brewery\, 101 Fairview Rd\, Asheville\, NC\, United States
CATEGORIES:Asheville Area,Live Music
ATTACH;FMTTYPE=image/jpeg:https://livemusicasheville.com/wp-content/uploads/2026/01/475842205_608661082026778_3262972662428973971_n-e1767283535714.jpg
GEO:35.5662722;-82.5374054
X-APPLE-STRUCTURED-LOCATION;VALUE=URI;X-ADDRESS=French Broad River Brewery 101 Fairview Rd Asheville NC United States;X-APPLE-RADIUS=500;X-TITLE=101 Fairview Rd:geo:-82.5374054,35.5662722
END:VEVENT
BEGIN:VEVENT
DTSTART;TZID=America/New_York:20260102T180000
DTEND;TZID=America/New_York:20260102T220000
DTSTAMP:20260425T064003
CREATED:20251007T130234Z
LAST-MODIFIED:20251116T161904Z
UID:10024605-1767376800-1767391200@livemusicasheville.com
SUMMARY:Winter Lights
DESCRIPTION:We look forward to welcoming you back for another year of Asheville’s Brightest Holiday Tradition! Winter Lights is a spectacular open-air walk-through light show made from over one million lights! Located at the North Carolina Arboretum in Asheville\, North Carolina\, this year’s event features favorites like the famously tall 50-foot lighted tree and the Quilt Garden\, along with enchanting new details designed to delight and surprise. \nTroll sightings are anticipated at this year’s Winter Lights\, as six of Dambo’s Trolls will be experiencing the show for themselves. Meet them in the gardens at Winter Lights! \nWinter Lights features live entertainment nightly and food and beverages from the Bent Creek Bistro\, the Cocoa Shack and the Cocoa Cabin! Open nightly from 6:00 – 10:00 p.m. \nTickets on Sale Now! Event Details and Tickets \nFor more than 35 years…Cultivating Connections between People\, Plants and Places…amid a 434-acre public garden\, The North Carolina Arboretum is located within the Bent Creek Experimental Forest just south of Asheville and adjacent to the Blue Ridge Parkway at Milepost 393. Surrounded and crisscrossed by forested coves and meandering creeks in the botanically diverse Southern Appalachian Mountains\, The North Carolina Arboretum is set in one of the most beautiful natural settings in America. ncarboretum.org \n  \n 
URL:https://livemusicasheville.com/calendar/winter-lights-2/2026-01-02/
LOCATION:The North Carolina Arboretum
CATEGORIES:Asheville Area,Live Music
END:VEVENT
BEGIN:VEVENT
DTSTART;TZID=America/New_York:20260102T180000
DTEND;TZID=America/New_York:20260102T230000
DTSTAMP:20260425T064003
CREATED:20250207T164158Z
LAST-MODIFIED:20260422T131528Z
UID:10026019-1767376800-1767394800@livemusicasheville.com
SUMMARY:Friday Open Mic/Jam
DESCRIPTION:Flora Asheville – 5:30-7:30pm (April 17) \nTurgua Brewing Fairview – 6-8pm (2nd & 4th Fridays) \nCoffee\, Art\, Music type Place – 6-8pm (First Fridays) \nWagWorld Pub Fletcher – 6:30-9:30pm \nElevated Kava Downtown – 8-11
URL:https://livemusicasheville.com/calendar/friday-open-mic-jam/2026-01-02/
LOCATION:Asheville Area
CATEGORIES:Asheville Area,Madison County,Open MIc/Jam,South Asheville/Arden/Fletcher
END:VEVENT
BEGIN:VEVENT
DTSTART;TZID=America/New_York:20260102T180000
DTEND;TZID=America/New_York:20260103T020000
DTSTAMP:20260425T064003
CREATED:20241225T134450Z
LAST-MODIFIED:20260415T173808Z
UID:10027295-1767376800-1767405600@livemusicasheville.com
SUMMARY:Friday Weekly DJ's
DESCRIPTION:Although we are primarily a Live Music Calendar\, we often come across Electronic & DJ events in the area and list them for you as we find out about them. Please verify the DJ\, times and cover charges with the venue. \nLA Pizza Party Rooftop – 6-9pm \nThe Radical – 6-11pm \nPotential New Boyfriend – 7:30-11pm \nCapella On 9 – 8-11pm \nBen’s Tune Up – 8-11pm \nAntidote – 9-11pm \nBanks Ave – 9-11:30pm \nVOWL – 9pm-1am \nDouble Crown – 9pm-2am \nHavana Miami – 9pm-2am \nStatic Age Loft – 9pm-2am \nWaterstreet – 9pm-2am \nLa Pizza Party – 10pm-2am \nThe Barksdale – 10pm-2am \nLazy Diamond – 10pm-2am \nSticks On Broadway – 10pm-2am \nStrange Magic Bar – 10pm-2am \nShakeys – 10pm-2am \n  \nVerify with the venue on times\, cover charges and tonight’s DJ.
URL:https://livemusicasheville.com/calendar/friday-weekly-dj-schedule/2026-01-02/
LOCATION:Asheville Area
CATEGORIES:Asheville Area,DJ/Electronic
END:VEVENT
BEGIN:VEVENT
DTSTART;TZID=America/New_York:20260102T183000
DTEND;TZID=America/New_York:20260102T213000
DTSTAMP:20260425T064003
CREATED:20251231T123652Z
LAST-MODIFIED:20251231T123652Z
UID:10029898-1767378600-1767389400@livemusicasheville.com
SUMMARY:Luke Deuce Band
DESCRIPTION:
URL:https://livemusicasheville.com/calendar/luke-deuce-band/
LOCATION:Mills River Brewing Co.\, 336 Banner Farm Rd\,\, Mills River\, NC\, 28759
CATEGORIES:Asheville Area,Live Music,Mills River
GEO:35.380515;-82.5654984
X-APPLE-STRUCTURED-LOCATION;VALUE=URI;X-ADDRESS=Mills River Brewing Co. 336 Banner Farm Rd Mills River NC 28759;X-APPLE-RADIUS=500;X-TITLE=336 Banner Farm Rd\,:geo:-82.5654984,35.380515
END:VEVENT
BEGIN:VEVENT
DTSTART;TZID=America/New_York:20260102T190000
DTEND;TZID=America/New_York:20260102T210000
DTSTAMP:20260425T064003
CREATED:20251029T132808Z
LAST-MODIFIED:20260415T133603Z
UID:10056838-1767380400-1767387600@livemusicasheville.com
SUMMARY:Grass Is Back!
DESCRIPTION:No Cover – Donations accepted!\n\n\n\n\nApril 17 – Lynn Goldsmith & The Jeter Mountain Band\nApril 24 – New Carolina Connection Band\nMay 1 – Harlan County Grass\nMay 8 – Mulley Holler Band\nMay 15- Travis Watts & Mountain Blessings\nMay 22 – Hit or Miss Bluegrass & Country Band
URL:https://livemusicasheville.com/calendar/grass-is-back-3/2026-01-02/
LOCATION:Feed and Seed Fletcher
CATEGORIES:Asheville Area,Live Music,South Asheville/Arden/Fletcher
END:VEVENT
BEGIN:VEVENT
DTSTART;TZID=America/New_York:20260102T190000
DTEND;TZID=America/New_York:20260102T210000
DTSTAMP:20260425T064003
CREATED:20251231T140726Z
LAST-MODIFIED:20251231T140726Z
UID:10029940-1767380400-1767387600@livemusicasheville.com
SUMMARY:John R. Miller
DESCRIPTION:
URL:https://livemusicasheville.com/calendar/john-r-miller-2/
LOCATION:AyurPrana Listening Room\, 312 Haywood Rd\, Asheville\, NC\, 28806
CATEGORIES:Asheville Area,Live Music
GEO:35.5775962;-82.5760261
X-APPLE-STRUCTURED-LOCATION;VALUE=URI;X-ADDRESS=AyurPrana Listening Room 312 Haywood Rd Asheville NC 28806;X-APPLE-RADIUS=500;X-TITLE=312 Haywood Rd:geo:-82.5760261,35.5775962
END:VEVENT
BEGIN:VEVENT
DTSTART;TZID=America/New_York:20260102T190000
DTEND;TZID=America/New_York:20260102T220000
DTSTAMP:20260425T064003
CREATED:20250618T113414Z
LAST-MODIFIED:20251231T113643Z
UID:10015962-1767380400-1767391200@livemusicasheville.com
SUMMARY:Sheepdog
DESCRIPTION:
URL:https://livemusicasheville.com/calendar/sheepdog/
LOCATION:One World Brewing Downtown\, 10 Patton Ave\, Asheville\, NC\, 28801
CATEGORIES:Asheville Area,Live Music
GEO:35.5947396;-82.5522724
X-APPLE-STRUCTURED-LOCATION;VALUE=URI;X-ADDRESS=One World Brewing Downtown 10 Patton Ave Asheville NC 28801;X-APPLE-RADIUS=500;X-TITLE=10 Patton Ave:geo:-82.5522724,35.5947396
END:VEVENT
BEGIN:VEVENT
DTSTART;TZID=America/New_York:20260102T190000
DTEND;TZID=America/New_York:20260102T220000
DTSTAMP:20260425T064003
CREATED:20251113T101742Z
LAST-MODIFIED:20260327T002508Z
UID:10052974-1767380400-1767391200@livemusicasheville.com
SUMMARY:Blues with Mr Jimmy
DESCRIPTION:
URL:https://livemusicasheville.com/calendar/blues-with-mr-jimmy-2-2-2/2026-01-02/
LOCATION:The Station Black Mountain
CATEGORIES:Asheville Area,Black Mountain,Live Music
END:VEVENT
BEGIN:VEVENT
DTSTART;TZID=America/New_York:20260102T190000
DTEND;TZID=America/New_York:20260102T220000
DTSTAMP:20260425T064003
CREATED:20251222T160644Z
LAST-MODIFIED:20251222T160644Z
UID:10029207-1767380400-1767391200@livemusicasheville.com
SUMMARY:The B's Trio in The Great Hall
DESCRIPTION:
URL:https://livemusicasheville.com/calendar/the-bs-trio-in-the-great-hall-2/2026-01-02/
LOCATION:The Omni Grove Park Inn
CATEGORIES:Asheville Area,Live Music
GEO:35.6206376;-82.5422977
END:VEVENT
END:VCALENDAR