BEGIN:VCALENDAR
VERSION:2.0
PRODID:-//LiveMusicAsheville.com - ECPv6.15.20//NONSGML v1.0//EN
CALSCALE:GREGORIAN
METHOD:PUBLISH
X-ORIGINAL-URL:https://livemusicasheville.com
X-WR-CALDESC:Events for LiveMusicAsheville.com
REFRESH-INTERVAL;VALUE=DURATION:PT1H
X-Robots-Tag:noindex
X-PUBLISHED-TTL:PT1H
BEGIN:VTIMEZONE
TZID:America/New_York
BEGIN:DAYLIGHT
TZOFFSETFROM:-0500
TZOFFSETTO:-0400
TZNAME:EDT
DTSTART:20240310T070000
END:DAYLIGHT
BEGIN:STANDARD
TZOFFSETFROM:-0400
TZOFFSETTO:-0500
TZNAME:EST
DTSTART:20241103T060000
END:STANDARD
BEGIN:DAYLIGHT
TZOFFSETFROM:-0500
TZOFFSETTO:-0400
TZNAME:EDT
DTSTART:20250309T070000
END:DAYLIGHT
BEGIN:STANDARD
TZOFFSETFROM:-0400
TZOFFSETTO:-0500
TZNAME:EST
DTSTART:20251102T060000
END:STANDARD
BEGIN:DAYLIGHT
TZOFFSETFROM:-0500
TZOFFSETTO:-0400
TZNAME:EDT
DTSTART:20260308T070000
END:DAYLIGHT
BEGIN:STANDARD
TZOFFSETFROM:-0400
TZOFFSETTO:-0500
TZNAME:EST
DTSTART:20261101T060000
END:STANDARD
END:VTIMEZONE
BEGIN:VEVENT
DTSTART;TZID=America/New_York:20251122T173000
DTEND;TZID=America/New_York:20251122T193000
DTSTAMP:20260423T033133
CREATED:20241224T203115Z
LAST-MODIFIED:20251223T200733Z
UID:10006519-1763832600-1763839800@livemusicasheville.com
SUMMARY:Gypsy Jazz with Dinah’s Daydream
DESCRIPTION:
URL:https://livemusicasheville.com/calendar/gypsy-jazz-with-dinahs-daydream/2025-11-22/
LOCATION:Battery Park Book Exchange & Champagne Bar
CATEGORIES:Asheville Area,Live Music
GEO:35.5951042;-82.556633
END:VEVENT
BEGIN:VEVENT
DTSTART;TZID=America/New_York:20251122T180000
DTEND;TZID=America/New_York:20251122T210000
DTSTAMP:20260423T033133
CREATED:20250726T161716Z
LAST-MODIFIED:20251219T203049Z
UID:10008772-1763834400-1763845200@livemusicasheville.com
SUMMARY:Mr Jimmy Blues
DESCRIPTION:
URL:https://livemusicasheville.com/calendar/mr-jimmy-blues-2-2-2/2025-11-22/
LOCATION:The Asheville Club
CATEGORIES:Asheville Area,Live Music
GEO:35.5952143;-82.554524
END:VEVENT
BEGIN:VEVENT
DTSTART;TZID=America/New_York:20251122T180000
DTEND;TZID=America/New_York:20251122T220000
DTSTAMP:20260423T033133
CREATED:20251007T130234Z
LAST-MODIFIED:20251116T161904Z
UID:10024564-1763834400-1763848800@livemusicasheville.com
SUMMARY:Winter Lights
DESCRIPTION:We look forward to welcoming you back for another year of Asheville’s Brightest Holiday Tradition! Winter Lights is a spectacular open-air walk-through light show made from over one million lights! Located at the North Carolina Arboretum in Asheville\, North Carolina\, this year’s event features favorites like the famously tall 50-foot lighted tree and the Quilt Garden\, along with enchanting new details designed to delight and surprise. \nTroll sightings are anticipated at this year’s Winter Lights\, as six of Dambo’s Trolls will be experiencing the show for themselves. Meet them in the gardens at Winter Lights! \nWinter Lights features live entertainment nightly and food and beverages from the Bent Creek Bistro\, the Cocoa Shack and the Cocoa Cabin! Open nightly from 6:00 – 10:00 p.m. \nTickets on Sale Now! Event Details and Tickets \nFor more than 35 years…Cultivating Connections between People\, Plants and Places…amid a 434-acre public garden\, The North Carolina Arboretum is located within the Bent Creek Experimental Forest just south of Asheville and adjacent to the Blue Ridge Parkway at Milepost 393. Surrounded and crisscrossed by forested coves and meandering creeks in the botanically diverse Southern Appalachian Mountains\, The North Carolina Arboretum is set in one of the most beautiful natural settings in America. ncarboretum.org \n  \n 
URL:https://livemusicasheville.com/calendar/winter-lights-2/2025-11-22/
LOCATION:The North Carolina Arboretum
CATEGORIES:Asheville Area,Live Music
END:VEVENT
BEGIN:VEVENT
DTSTART;TZID=America/New_York:20251122T180000
DTEND;TZID=America/New_York:20251122T230000
DTSTAMP:20260423T033133
CREATED:20250131T150536Z
LAST-MODIFIED:20251214T224624Z
UID:10007468-1763834400-1763852400@livemusicasheville.com
SUMMARY:The Depot Live Music Show
DESCRIPTION:The Original Marshall Depot washed away in the flood HELENE. Until the New Depot is up and running\, we will continue to have a live music show at the New Depot Twist Again Dance Barn at 439 Cody Road\, Marshall\, NC. A live music show featuring local bands\, dance\, cakewalk\, and fellowship. Admission is FREE\, and Donations are appreciated to help pay the light bill.
URL:https://livemusicasheville.com/calendar/the-depot-live-music-show/2025-11-22/
LOCATION:New Depot Twist Again Dance Barn\, 439 Cody Road\, Marshall\, NC
CATEGORIES:Live Music,Madison County
GEO:35.8317019;-82.6256424
X-APPLE-STRUCTURED-LOCATION;VALUE=URI;X-ADDRESS=New Depot Twist Again Dance Barn 439 Cody Road Marshall NC;X-APPLE-RADIUS=500;X-TITLE=439 Cody Road:geo:-82.6256424,35.8317019
END:VEVENT
BEGIN:VEVENT
DTSTART;TZID=America/New_York:20251122T180000
DTEND;TZID=America/New_York:20251123T020000
DTSTAMP:20260423T033133
CREATED:20241225T200257Z
LAST-MODIFIED:20260415T173722Z
UID:10004097-1763834400-1763863200@livemusicasheville.com
SUMMARY:Saturday Weekly DJ's
DESCRIPTION:Although we are primarily a Live Music Calendar\, we often come across Electronic & DJ events in the area and list them for you as we find out about them. Please verify the DJ\, times and cover charges with the venue. \nWaterstreet – 3-7pm \nLA Pizza Party Rooftop – 6-9pm \nThe Radical – 6-11pm \nPotential New Boyfriend – 7:30-11pm \nCapella On 9 – 8-11pm \nBen’s Tune Up – 8-11pm \nThe Tiki Easy Bar – 9pm-12am \nBanks Ave – 9-11:30pm \nHavana Miami – 9pm-2am \nStatic Age Loft – 9pm-2am \nWaterstreet – 9pm-2am \nNightshade – 9pm-1am \nVOWL – 9pm-1am \nLa Pizza Party South Slope – 10pm-2am \nFarməse – 10pm-1am \nThe Barksdale – 10pm-2am \nDouble Crown – 10pm-2am \nLazy Diamond – 10pm-2am \nStrange Magic Bar – 10pm-2am \nShakeys – 10pm-2am \nVerify with the venue on time\, cover charges and tonight’s DJ.
URL:https://livemusicasheville.com/calendar/saturday-weekly-dj-schedule/2025-11-22/
LOCATION:NC
CATEGORIES:Asheville Area,DJ/Electronic
END:VEVENT
BEGIN:VEVENT
DTSTART;TZID=America/New_York:20251122T183000
DTEND;TZID=America/New_York:20251122T203000
DTSTAMP:20260423T033133
CREATED:20250115T200429Z
LAST-MODIFIED:20251119T171828Z
UID:10006548-1763836200-1763843400@livemusicasheville.com
SUMMARY:Dustin Furlow
DESCRIPTION:
URL:https://livemusicasheville.com/calendar/dustin-furlow/
LOCATION:Blue Mountain Pizza Weaverville
CATEGORIES:Asheville Area,Live Music,Weaverville
GEO:35.698228;-82.560231
END:VEVENT
BEGIN:VEVENT
DTSTART;TZID=America/New_York:20251122T190000
DTEND;TZID=America/New_York:20251122T210000
DTSTAMP:20260423T033133
CREATED:20251105T113653Z
LAST-MODIFIED:20251105T113653Z
UID:10023789-1763838000-1763845200@livemusicasheville.com
SUMMARY:The Asheville Symphony Chorus | Fern Hill - ASC's Fall Concert
DESCRIPTION:Join the Asheville Symphony Chorus for our fall concert\, FERN HILL\, with special guests the Asheville Youth Chorale\, tenor Corey Hart\, and organist Tate Addis. FERN HILL celebrates the work of American composers\, with John Corigliano’s 20th-century masterpiece of the same taking center stage.\nWe hope to see you on November 22nd under the beautiful dome of First Baptist Church.\nEvent Details and Tickets
URL:https://livemusicasheville.com/calendar/the-asheville-symphony-chorus-fern-hill-ascs-fall-concert/
LOCATION:First Baptist Church of Asheville
GEO:35.5988729;-82.5474388
END:VEVENT
BEGIN:VEVENT
DTSTART;TZID=America/New_York:20251122T190000
DTEND;TZID=America/New_York:20251122T213000
DTSTAMP:20260423T033133
CREATED:20251119T143515Z
LAST-MODIFIED:20251119T143515Z
UID:10024807-1763838000-1763847000@livemusicasheville.com
SUMMARY:SOMA with Joseph Allred
DESCRIPTION:
URL:https://livemusicasheville.com/calendar/soma-with-joseph-allred/
LOCATION:AyurPrana Listening Room\, 312 Haywood Rd\, Asheville\, NC\, 28806
CATEGORIES:Asheville Area,Live Music
GEO:35.5775962;-82.5760261
X-APPLE-STRUCTURED-LOCATION;VALUE=URI;X-ADDRESS=AyurPrana Listening Room 312 Haywood Rd Asheville NC 28806;X-APPLE-RADIUS=500;X-TITLE=312 Haywood Rd:geo:-82.5760261,35.5775962
END:VEVENT
BEGIN:VEVENT
DTSTART;TZID=America/New_York:20251122T190000
DTEND;TZID=America/New_York:20251122T220000
DTSTAMP:20260423T033133
CREATED:20250111T093225Z
LAST-MODIFIED:20251202T222751Z
UID:10001928-1763838000-1763848800@livemusicasheville.com
SUMMARY:Country Music With a Little Bluegrass
DESCRIPTION:  \n 
URL:https://livemusicasheville.com/calendar/country-music-with-a-little-bluegrass-2/2025-11-22/
LOCATION:The Old Home Place Mills River
CATEGORIES:Live Music,Mills River
GEO:35.3884479;-82.566789
END:VEVENT
BEGIN:VEVENT
DTSTART;TZID=America/New_York:20251122T190000
DTEND;TZID=America/New_York:20251122T230000
DTSTAMP:20260423T033133
CREATED:20251112T120123Z
LAST-MODIFIED:20251112T120123Z
UID:10024406-1763838000-1763852400@livemusicasheville.com
SUMMARY:Ozdust Ballroom: A ‘Wicked’ Inspired Immersive Dance Party
DESCRIPTION:You Are Cordiafully Invited…Fellow Ozians\, please join us for this most celebracious occasion! Step onto the dance floor and into the world of Oz at our ‘Wicked’ Inspired immersive dance party w/DJ Ganymede. Photo Ops\, Drink Specials & More Surprises!\n*Attire most fantastical is required by decree of the Emerald City\n$5 at the door. 7pm\n  \n\n\n‘The Mule’ – Tasting Room \n\n\n\n\n\nSay hello to The Mule – a full-service bar/event space in the home of Devil’s Foot Beverage’s production facility. Draft soda\, beer\, & wine – as well as delicious cocktails & mocktails featuring Devil’s Foot craft sodas and the largest collection of NC-made spirits in Asheville – all at your fingertips just outside of Biltmore Village! Open now for all of your beverage & party needs! devilsfootbrew.com/the-mule
URL:https://livemusicasheville.com/calendar/ozdust-ballroom-a-wicked-inspired-immersive-dance-party/
LOCATION:The Mule at Devils Foot Beverages\, 131 Sweeten Creek Road\, Asheville\, NC\, 28803\, United States
CATEGORIES:Asheville Area,DJ/Electronic
GEO:35.5588369;-82.5218977
X-APPLE-STRUCTURED-LOCATION;VALUE=URI;X-ADDRESS=The Mule at Devils Foot Beverages 131 Sweeten Creek Road Asheville NC 28803 United States;X-APPLE-RADIUS=500;X-TITLE=131 Sweeten Creek Road:geo:-82.5218977,35.5588369
END:VEVENT
BEGIN:VEVENT
DTSTART;TZID=America/New_York:20251122T190000
DTEND;TZID=America/New_York:20251122T233000
DTSTAMP:20260423T033133
CREATED:20250322T150845Z
LAST-MODIFIED:20251214T215054Z
UID:10010498-1763838000-1763854200@livemusicasheville.com
SUMMARY:Save Our Website to Your Home Screen 📲
DESCRIPTION:As an interactive calendar\, we often add events to our calendar as we find out about them\, sometimes even from our phone while we are out supporting local live music. By adding our website\, LiveMusicAsheville.com to your home screen\, we will always be right at your fingertips. Here’s how:\n\n\n\n\niPhone (using Safari):\n\n\n\nOpen Safari and navigate to the website: you want to add as a shortcut. \n\n\n\n\n\n\n\n\nTap the Share button: (a square with an arrow pointing out of the top). \n\n\n\n\n\n\n\n\nScroll down and tap “Add to Home Screen” . \n\n\n\n\n\n\n\n\nChoose a name for the shortcut: and tap “Add”. \n\n\n\n\n\n\n\n\nThe shortcut will appear on your home screen as an icon. \n\n\n\n\n\n\n\n\n\n\n\nAndroid (using Chrome or other browsers):\n\n\n\nOpen Chrome (or your preferred browser) and navigate to the website: you want to add.\nTap the three-dot menu icon: (usually in the top right corner).\nSelect “Add to Home Screen” .\nCustomize the name of the shortcut: if desired\, and then tap “Add”.\nThe shortcut will appear on your home screen as an icon. 
URL:https://livemusicasheville.com/calendar/add-our-website-to-your-home-screen/2025-11-22/
LOCATION:NC
CATEGORIES:Asheville Area
END:VEVENT
BEGIN:VEVENT
DTSTART;TZID=America/New_York:20251122T190000
DTEND;TZID=America/New_York:20251123T020000
DTSTAMP:20260423T033133
CREATED:20241225T123126Z
LAST-MODIFIED:20251122T132355Z
UID:10000620-1763838000-1763863200@livemusicasheville.com
SUMMARY:Dueling Piano Show
DESCRIPTION:
URL:https://livemusicasheville.com/calendar/dueling-piano-show/2025-11-22/
LOCATION:Off the Wagon
CATEGORIES:Asheville Area,Live Music
GEO:41.4302231;-81.3909542
END:VEVENT
BEGIN:VEVENT
DTSTART;TZID=America/New_York:20251122T193000
DTEND;TZID=America/New_York:20251122T213000
DTSTAMP:20260423T033133
CREATED:20251119T124104Z
LAST-MODIFIED:20251119T124104Z
UID:10024794-1763839800-1763847000@livemusicasheville.com
SUMMARY:SOLD OUT | Kat Williams Tribute
DESCRIPTION:
URL:https://livemusicasheville.com/calendar/sold-out-kat-williams-tribute/
LOCATION:White Horse Black Mountain
CATEGORIES:Asheville Area,Black Mountain,Live Music
GEO:35.6178579;-82.3211924
END:VEVENT
BEGIN:VEVENT
DTSTART;TZID=America/New_York:20251122T193000
DTEND;TZID=America/New_York:20251122T220000
DTSTAMP:20260423T033133
CREATED:20250108T132723Z
LAST-MODIFIED:20251119T121044Z
UID:10005390-1763839800-1763848800@livemusicasheville.com
SUMMARY:Dirty Logic – A Steely Dan Tribute
DESCRIPTION:
URL:https://livemusicasheville.com/calendar/dirty-logic-a-steely-dan-tribute/
LOCATION:Wortham Center for the Performing Arts
CATEGORIES:Asheville Area,Live Music
GEO:35.5943091;-82.5509521
END:VEVENT
BEGIN:VEVENT
DTSTART;TZID=America/New_York:20251122T200000
DTEND;TZID=America/New_York:20251122T220000
DTSTAMP:20260423T033133
CREATED:20250925T174336Z
LAST-MODIFIED:20250925T174337Z
UID:10009856-1763841600-1763848800@livemusicasheville.com
SUMMARY:Will Hartz
DESCRIPTION:
URL:https://livemusicasheville.com/calendar/will-hartz-3-2-2-2/2025-11-22/
LOCATION:5 Walnut Wine Bar
CATEGORIES:Asheville Area,Live Music
GEO:35.596654;-82.5525389
END:VEVENT
BEGIN:VEVENT
DTSTART;TZID=America/New_York:20251122T200000
DTEND;TZID=America/New_York:20251122T230000
DTSTAMP:20260423T033133
CREATED:20251119T175801Z
LAST-MODIFIED:20251119T175801Z
UID:10024820-1763841600-1763852400@livemusicasheville.com
SUMMARY:Sapphire Collective
DESCRIPTION:
URL:https://livemusicasheville.com/calendar/sapphire-collective/
LOCATION:Capella on 9
CATEGORIES:Asheville Area,Live Music
GEO:35.5956494;-82.5518016
END:VEVENT
BEGIN:VEVENT
DTSTART;TZID=America/New_York:20251122T200000
DTEND;TZID=America/New_York:20251122T230000
DTSTAMP:20260423T033133
CREATED:20251119T190721Z
LAST-MODIFIED:20251119T190721Z
UID:10024829-1763841600-1763852400@livemusicasheville.com
SUMMARY:Elizabeth & Lefty and the Working Men
DESCRIPTION:
URL:https://livemusicasheville.com/calendar/elizabeth-lefty-and-the-working-men/
LOCATION:Eda’s Hide-a-Way Weaverville
CATEGORIES:Asheville Area,Live Music,Weaverville
GEO:35.6970547;-82.5606851
END:VEVENT
BEGIN:VEVENT
DTSTART;TZID=America/New_York:20251122T200000
DTEND;TZID=America/New_York:20251122T230000
DTSTAMP:20260423T033133
CREATED:20251119T194821Z
LAST-MODIFIED:20251119T194821Z
UID:10024837-1763841600-1763852400@livemusicasheville.com
SUMMARY:SOLD OUT | Watchhouse w/ Paper Wings
DESCRIPTION:
URL:https://livemusicasheville.com/calendar/sold-out-watchhouse-w-paper-wings/
LOCATION:The Orange Peel
CATEGORIES:Asheville Area,Live Music
GEO:35.5914061;-82.5510137
END:VEVENT
BEGIN:VEVENT
DTSTART;TZID=America/New_York:20251122T200000
DTEND;TZID=America/New_York:20251122T230000
DTSTAMP:20260423T033133
CREATED:20251119T195221Z
LAST-MODIFIED:20251119T195221Z
UID:10024839-1763841600-1763852400@livemusicasheville.com
SUMMARY:The Local Honeys w/ Abby Hamilton
DESCRIPTION:
URL:https://livemusicasheville.com/calendar/the-local-honeys-w-abby-hamilton/
LOCATION:The Grey Eagle\, 185 Clingman Ave\, Asheville\, NC\, United States
CATEGORIES:Asheville Area,Live Music
GEO:35.5870871;-82.5643936
X-APPLE-STRUCTURED-LOCATION;VALUE=URI;X-ADDRESS=The Grey Eagle 185 Clingman Ave Asheville NC United States;X-APPLE-RADIUS=500;X-TITLE=185 Clingman Ave:geo:-82.5643936,35.5870871
END:VEVENT
BEGIN:VEVENT
DTSTART;TZID=America/New_York:20251122T200000
DTEND;TZID=America/New_York:20251122T233000
DTSTAMP:20260423T033133
CREATED:20251119T192929Z
LAST-MODIFIED:20251119T193103Z
UID:10024833-1763841600-1763854200@livemusicasheville.com
SUMMARY:GZA - "Liquid Swords" w/ The Phunky Nomads + Skyzoo & Landon Wordswell
DESCRIPTION:SOLD OUT
URL:https://livemusicasheville.com/calendar/gza-liquid-swords-w-live-backing-band-the-phunky-nomads-skyzoo-landon-wordswell/2025-11-22/
LOCATION:Eulogy\, 10 Buxton Ave\, Asheville\, NC\, 28801
CATEGORIES:Asheville Area,DJ/Electronic,Live Music
GEO:35.5883468;-82.5539256
X-APPLE-STRUCTURED-LOCATION;VALUE=URI;X-ADDRESS=Eulogy 10 Buxton Ave Asheville NC 28801;X-APPLE-RADIUS=500;X-TITLE=10 Buxton Ave:geo:-82.5539256,35.5883468
END:VEVENT
BEGIN:VEVENT
DTSTART;TZID=America/New_York:20251122T203000
DTEND;TZID=America/New_York:20251122T233000
DTSTAMP:20260423T033133
CREATED:20250402T104751Z
LAST-MODIFIED:20251119T115459Z
UID:10011708-1763843400-1763854200@livemusicasheville.com
SUMMARY:Lillie Syracuse Band
DESCRIPTION:
URL:https://livemusicasheville.com/calendar/lillie-syracuse-band-2/
LOCATION:Jack Of The Wood\, 95 Patton Ave\, asheville\, NC\, United States
CATEGORIES:Asheville Area,Live Music
GEO:35.5944492;-82.5558221
X-APPLE-STRUCTURED-LOCATION;VALUE=URI;X-ADDRESS=Jack Of The Wood 95 Patton Ave asheville NC United States;X-APPLE-RADIUS=500;X-TITLE=95 Patton Ave:geo:-82.5558221,35.5944492
END:VEVENT
BEGIN:VEVENT
DTSTART;TZID=America/New_York:20251122T203000
DTEND;TZID=America/New_York:20251123T010000
DTSTAMP:20260423T033133
CREATED:20241225T140756Z
LAST-MODIFIED:20251214T224332Z
UID:10001521-1763843400-1763859600@livemusicasheville.com
SUMMARY:Elaine’s Dueling Piano Bar
DESCRIPTION:
URL:https://livemusicasheville.com/calendar/elaines-dueling-piano-bar/2025-11-22/
LOCATION:The Omni Grove Park Inn
CATEGORIES:Asheville Area,Live Music
GEO:35.6206376;-82.5422977
END:VEVENT
BEGIN:VEVENT
DTSTART;TZID=America/New_York:20251122T210000
DTEND;TZID=America/New_York:20251122T210000
DTSTAMP:20260423T033133
CREATED:20251119T170618Z
LAST-MODIFIED:20251119T170650Z
UID:10024817-1763845200-1763845200@livemusicasheville.com
SUMMARY:Space Bacon w/ Cozm & Nova
DESCRIPTION:
URL:https://livemusicasheville.com/calendar/space-bacon-w-cozm-nova/
LOCATION:Third Room\, 46 Wall Street\, Asheville\, NC\, NC\, 28803\, United States
CATEGORIES:Asheville Area,DJ/Electronic,Live Music
GEO:35.5943967;-82.5559625
X-APPLE-STRUCTURED-LOCATION;VALUE=URI;X-ADDRESS=Third Room 46 Wall Street Asheville NC NC 28803 United States;X-APPLE-RADIUS=500;X-TITLE=46 Wall Street:geo:-82.5559625,35.5943967
END:VEVENT
BEGIN:VEVENT
DTSTART;TZID=America/New_York:20251122T210000
DTEND;TZID=America/New_York:20251123T000000
DTSTAMP:20260423T033133
CREATED:20251119T175427Z
LAST-MODIFIED:20251119T175427Z
UID:10024819-1763845200-1763856000@livemusicasheville.com
SUMMARY:Jump Blues w/ Virginia and The Slims
DESCRIPTION:
URL:https://livemusicasheville.com/calendar/jump-blues-w-virginia-and-the-slims/
LOCATION:One World Brewing – West\, 520 Haywood Rd\, Asheville\, North Carolina\, 28806
CATEGORIES:Asheville Area,Live Music
GEO:35.5783642;-82.5848526
X-APPLE-STRUCTURED-LOCATION;VALUE=URI;X-ADDRESS=One World Brewing – West 520 Haywood Rd Asheville North Carolina 28806;X-APPLE-RADIUS=500;X-TITLE=520 Haywood Rd:geo:-82.5848526,35.5783642
END:VEVENT
BEGIN:VEVENT
DTSTART;TZID=America/New_York:20251122T210000
DTEND;TZID=America/New_York:20251123T010000
DTSTAMP:20260423T033133
CREATED:20251119T134354Z
LAST-MODIFIED:20251119T134354Z
UID:10024799-1763845200-1763859600@livemusicasheville.com
SUMMARY:Pink Eye //The Long Distance Relationship /// Father Is Lost
DESCRIPTION:
URL:https://livemusicasheville.com/calendar/pink-eye-the-long-distance-relationship-father-is-lost/
LOCATION:Fleetwood’s\, 496 Haywood Rd\, Asheville\, NC\, 28806\, United States
CATEGORIES:Asheville Area,Live Music
GEO:35.578126;-82.583757
X-APPLE-STRUCTURED-LOCATION;VALUE=URI;X-ADDRESS=Fleetwood’s 496 Haywood Rd Asheville NC 28806 United States;X-APPLE-RADIUS=500;X-TITLE=496 Haywood Rd:geo:-82.583757,35.578126
END:VEVENT
BEGIN:VEVENT
DTSTART;TZID=America/New_York:20251122T210000
DTEND;TZID=America/New_York:20251123T010000
DTSTAMP:20260423T033133
CREATED:20251119T180351Z
LAST-MODIFIED:20251119T180351Z
UID:10024821-1763845200-1763859600@livemusicasheville.com
SUMMARY:Tómarúm / Dessiderium / Hellir
DESCRIPTION:
URL:https://livemusicasheville.com/calendar/tomarum-dessiderium-hellir/
LOCATION:Static Age Records
CATEGORIES:Asheville Area,Live Music
GEO:35.5985631;-82.5538043
END:VEVENT
BEGIN:VEVENT
DTSTART;TZID=America/New_York:20251122T210000
DTEND;TZID=America/New_York:20251123T010000
DTSTAMP:20260423T033133
CREATED:20251119T222644Z
LAST-MODIFIED:20251119T222644Z
UID:10024854-1763845200-1763859600@livemusicasheville.com
SUMMARY:KillerAntz // SUPAHEAT// Mortimer
DESCRIPTION:
URL:https://livemusicasheville.com/calendar/killerantz-supaheat-mortimer/
LOCATION:27 Club Asheville
CATEGORIES:Asheville Area,Live Music
GEO:35.5933012;-82.5592961
END:VEVENT
BEGIN:VEVENT
DTSTART;VALUE=DATE:20251123
DTEND;VALUE=DATE:20251125
DTSTAMP:20260423T033133
CREATED:20250125T140528Z
LAST-MODIFIED:20251210T122935Z
UID:10017428-1763866800-1763953199@livemusicasheville.com
SUMMARY:Love What We Do?
DESCRIPTION:We hope you enjoy our guide to the Asheville area’s dynamic music scene. \nIf we somehow help to brighten up your day\, please consider a $5 donation to help support our efforts in providing the area’s most reliable local live music calendar. \nVenmo: click here  \nLast 4 digits – 3383 \nPayPal: click here \n 
URL:https://livemusicasheville.com/calendar/greetings-fellow-music-lovers-2/2025-11-23/
LOCATION:Asheville Area
CATEGORIES:Asheville Area
END:VEVENT
BEGIN:VEVENT
DTSTART;TZID=America/New_York:20251123T110000
DTEND;TZID=America/New_York:20251124T020000
DTSTAMP:20260423T033133
CREATED:20241225T203202Z
LAST-MODIFIED:20260415T173939Z
UID:10017875-1763895600-1763949600@livemusicasheville.com
SUMMARY:Sunday Weekly DJ Events
DESCRIPTION:Bens Tune Up – 11am-3pm \nWaterstreet – 3-7pm \nLA Pizza Party Rooftop – 6-9pm \nVOWL – 7-11pm \nCheck with the venue for the DJ and cover charges.
URL:https://livemusicasheville.com/calendar/sunday-weekly-dj/2025-11-23/
LOCATION:Asheville Area
CATEGORIES:Asheville Area,DJ/Electronic
END:VEVENT
BEGIN:VEVENT
DTSTART;TZID=America/New_York:20251123T120000
DTEND;TZID=America/New_York:20251123T140000
DTSTAMP:20260423T033133
CREATED:20241225T201729Z
LAST-MODIFIED:20250914T152731Z
UID:10021161-1763899200-1763906400@livemusicasheville.com
SUMMARY:Adam Rose Jazz Duo
DESCRIPTION:
URL:https://livemusicasheville.com/calendar/adam-rose-jazz-duo/2025-11-23/
LOCATION:Battery Park Book Exchange & Champagne Bar
CATEGORIES:Asheville Area,Live Music
GEO:35.5951042;-82.556633
END:VEVENT
END:VCALENDAR