BEGIN:VCALENDAR
VERSION:2.0
PRODID:-//LiveMusicAsheville.com - ECPv6.15.20//NONSGML v1.0//EN
CALSCALE:GREGORIAN
METHOD:PUBLISH
X-WR-CALNAME:LiveMusicAsheville.com
X-ORIGINAL-URL:https://livemusicasheville.com
X-WR-CALDESC:Events for LiveMusicAsheville.com
REFRESH-INTERVAL;VALUE=DURATION:PT1H
X-Robots-Tag:noindex
X-PUBLISHED-TTL:PT1H
BEGIN:VTIMEZONE
TZID:America/New_York
BEGIN:DAYLIGHT
TZOFFSETFROM:-0500
TZOFFSETTO:-0400
TZNAME:EDT
DTSTART:20240310T070000
END:DAYLIGHT
BEGIN:STANDARD
TZOFFSETFROM:-0400
TZOFFSETTO:-0500
TZNAME:EST
DTSTART:20241103T060000
END:STANDARD
BEGIN:DAYLIGHT
TZOFFSETFROM:-0500
TZOFFSETTO:-0400
TZNAME:EDT
DTSTART:20250309T070000
END:DAYLIGHT
BEGIN:STANDARD
TZOFFSETFROM:-0400
TZOFFSETTO:-0500
TZNAME:EST
DTSTART:20251102T060000
END:STANDARD
BEGIN:DAYLIGHT
TZOFFSETFROM:-0500
TZOFFSETTO:-0400
TZNAME:EDT
DTSTART:20260308T070000
END:DAYLIGHT
BEGIN:STANDARD
TZOFFSETFROM:-0400
TZOFFSETTO:-0500
TZNAME:EST
DTSTART:20261101T060000
END:STANDARD
END:VTIMEZONE
BEGIN:VEVENT
DTSTART;TZID=America/New_York:20251109T160000
DTEND;TZID=America/New_York:20251110T020000
DTSTAMP:20260425T225722
CREATED:20241225T203811Z
LAST-MODIFIED:20260104T123715Z
UID:10010185-1762704000-1762740000@livemusicasheville.com
SUMMARY:Sunday Karaoke
DESCRIPTION:T Birds Weaverville – 4-8pm \nBush Farmhouse Black Mountain – 6-9pm (January 4 & 18) \nThe Draftsman – 8-11pm \nBanks Ave – 9pm-12am \nThe Social East Asheville – 9pm-12am \nThe Double Crown – 10pm-2am \nPlease verify with the venue on times and KJ. \n 
URL:https://livemusicasheville.com/calendar/sunday-karaoke/2025-11-09/
LOCATION:Asheville Area
CATEGORIES:Asheville Area,Black Mountain,Karaoke,South Asheville/Arden/Fletcher,Weaverville
END:VEVENT
BEGIN:VEVENT
DTSTART;TZID=America/New_York:20251109T170000
DTEND;TZID=America/New_York:20251109T190000
DTSTAMP:20260425T225722
CREATED:20251105T134848Z
LAST-MODIFIED:20251105T134848Z
UID:10023947-1762707600-1762714800@livemusicasheville.com
SUMMARY:Singer Songwriter Sundays with Mike Hollon
DESCRIPTION:
URL:https://livemusicasheville.com/calendar/singer-songwriter-sundays-with-mike-hollon/
LOCATION:Lookout Brewing Company Black Mountain
CATEGORIES:Asheville Area,Black Mountain,Live Music
GEO:35.6193199;-82.3178787
END:VEVENT
BEGIN:VEVENT
DTSTART;TZID=America/New_York:20251109T180000
DTEND;TZID=America/New_York:20251109T203000
DTSTAMP:20260425T225722
CREATED:20251105T223418Z
LAST-MODIFIED:20251105T223418Z
UID:10024004-1762711200-1762720200@livemusicasheville.com
SUMMARY:Christopher Paul Stelling and Mike Savino (Tall Tall Trees)
DESCRIPTION:
URL:https://livemusicasheville.com/calendar/christopher-paul-stelling-and-mike-savino-tall-tall-trees/
LOCATION:Christmas Farm Leicester
CATEGORIES:Asheville Area,Live Music
END:VEVENT
BEGIN:VEVENT
DTSTART;TZID=America/New_York:20251109T183000
DTEND;TZID=America/New_York:20251109T203000
DTSTAMP:20260425T225722
CREATED:20250306T171807Z
LAST-MODIFIED:20250907T221607Z
UID:10020894-1762713000-1762720200@livemusicasheville.com
SUMMARY:Leo Johnson/Phil Alley guitar duo
DESCRIPTION:
URL:https://livemusicasheville.com/calendar/liliana-hudgens/2025-11-09/
LOCATION:The Lobster Trap
CATEGORIES:Asheville Area,Live Music
GEO:33.3427223;-118.3257271
END:VEVENT
BEGIN:VEVENT
DTSTART;TZID=America/New_York:20251109T190000
DTEND;TZID=America/New_York:20251109T210000
DTSTAMP:20260425T225722
CREATED:20251107T140514Z
LAST-MODIFIED:20251107T140622Z
UID:10024123-1762714800-1762722000@livemusicasheville.com
SUMMARY:2nd Anniversary Celebration ft. The Future 26’s
DESCRIPTION:
URL:https://livemusicasheville.com/calendar/2nd-anniversary-ft-future-26/
LOCATION:Diatribe Brewing West Asheville
CATEGORIES:Asheville Area,Live Music
END:VEVENT
BEGIN:VEVENT
DTSTART;TZID=America/New_York:20251109T190000
DTEND;TZID=America/New_York:20251109T233000
DTSTAMP:20260425T225722
CREATED:20250322T150845Z
LAST-MODIFIED:20251214T215054Z
UID:10010491-1762714800-1762731000@livemusicasheville.com
SUMMARY:Save Our Website to Your Home Screen 📲
DESCRIPTION:As an interactive calendar\, we often add events to our calendar as we find out about them\, sometimes even from our phone while we are out supporting local live music. By adding our website\, LiveMusicAsheville.com to your home screen\, we will always be right at your fingertips. Here’s how:\n\n\n\n\niPhone (using Safari):\n\n\n\nOpen Safari and navigate to the website: you want to add as a shortcut. \n\n\n\n\n\n\n\n\nTap the Share button: (a square with an arrow pointing out of the top). \n\n\n\n\n\n\n\n\nScroll down and tap “Add to Home Screen” . \n\n\n\n\n\n\n\n\nChoose a name for the shortcut: and tap “Add”. \n\n\n\n\n\n\n\n\nThe shortcut will appear on your home screen as an icon. \n\n\n\n\n\n\n\n\n\n\n\nAndroid (using Chrome or other browsers):\n\n\n\nOpen Chrome (or your preferred browser) and navigate to the website: you want to add.\nTap the three-dot menu icon: (usually in the top right corner).\nSelect “Add to Home Screen” .\nCustomize the name of the shortcut: if desired\, and then tap “Add”.\nThe shortcut will appear on your home screen as an icon. 
URL:https://livemusicasheville.com/calendar/add-our-website-to-your-home-screen/2025-11-09/
CATEGORIES:Asheville Area
END:VEVENT
BEGIN:VEVENT
DTSTART;TZID=America/New_York:20251109T193000
DTEND;TZID=America/New_York:20251109T213000
DTSTAMP:20260425T225722
CREATED:20251105T133715Z
LAST-MODIFIED:20251105T133715Z
UID:10023905-1762716600-1762723800@livemusicasheville.com
SUMMARY:ANZA (Anna & Anzi Rivers) w/ Choloman
DESCRIPTION:
URL:https://livemusicasheville.com/calendar/anza-anna-anzi-rivers-w-choloman/
LOCATION:White Horse Black Mountain
CATEGORIES:Asheville Area,Black Mountain,Live Music
GEO:35.6178579;-82.3211924
END:VEVENT
BEGIN:VEVENT
DTSTART;TZID=America/New_York:20251109T200000
DTEND;TZID=America/New_York:20251109T230000
DTSTAMP:20260425T225722
CREATED:20251104T153551Z
LAST-MODIFIED:20251107T202055Z
UID:10023506-1762718400-1762729200@livemusicasheville.com
SUMMARY:Daniel Mayfield / Claire Whall / Palefire Palace / JoJo Harnish
DESCRIPTION:$5 suggested
URL:https://livemusicasheville.com/calendar/daniel-mayfield-claire-whall-palefire-palace/
LOCATION:The Double Crown West Asheville\, 375 West Haywood Rd\, Asheville\, NC\, 28806
CATEGORIES:Asheville Area,Live Music
GEO:35.5780389;-82.5787972
X-APPLE-STRUCTURED-LOCATION;VALUE=URI;X-ADDRESS=The Double Crown West Asheville 375 West Haywood Rd Asheville NC 28806;X-APPLE-RADIUS=500;X-TITLE=375 West Haywood Rd:geo:-82.5787972,35.5780389
END:VEVENT
BEGIN:VEVENT
DTSTART;TZID=America/New_York:20251109T200000
DTEND;TZID=America/New_York:20251109T230000
DTSTAMP:20260425T225722
CREATED:20251105T211403Z
LAST-MODIFIED:20251105T211403Z
UID:10023982-1762718400-1762729200@livemusicasheville.com
SUMMARY:SOLD OUT | Geese
DESCRIPTION:
URL:https://livemusicasheville.com/calendar/sold-out-geese/
LOCATION:The Grey Eagle\, 185 Clingman Ave\, Asheville\, NC\, United States
CATEGORIES:Asheville Area,Live Music
GEO:35.5870871;-82.5643936
X-APPLE-STRUCTURED-LOCATION;VALUE=URI;X-ADDRESS=The Grey Eagle 185 Clingman Ave Asheville NC United States;X-APPLE-RADIUS=500;X-TITLE=185 Clingman Ave:geo:-82.5643936,35.5870871
END:VEVENT
BEGIN:VEVENT
DTSTART;TZID=America/New_York:20251109T200000
DTEND;TZID=America/New_York:20251109T230000
DTSTAMP:20260425T225722
CREATED:20251105T213644Z
LAST-MODIFIED:20251105T213644Z
UID:10023997-1762718400-1762729200@livemusicasheville.com
SUMMARY:Mo Lowda & the Humble w/ French Cassettes
DESCRIPTION:
URL:https://livemusicasheville.com/calendar/mo-lowda-the-humble-w-french-cassettes/
LOCATION:Asheville Music Hall\, 31 Patton Ave\, Asheville\, NC\, 28801\, United States
CATEGORIES:Asheville Area,Live Music
GEO:35.5949233;-82.5530398
X-APPLE-STRUCTURED-LOCATION;VALUE=URI;X-ADDRESS=Asheville Music Hall 31 Patton Ave Asheville NC 28801 United States;X-APPLE-RADIUS=500;X-TITLE=31 Patton Ave:geo:-82.5530398,35.5949233
END:VEVENT
BEGIN:VEVENT
DTSTART;TZID=America/New_York:20251109T200000
DTEND;TZID=America/New_York:20251109T233000
DTSTAMP:20260425T225722
CREATED:20251108T144945Z
LAST-MODIFIED:20251108T144945Z
UID:10024196-1762718400-1762731000@livemusicasheville.com
SUMMARY:White Beast (RVA)\, Kalgon\, Hempire
DESCRIPTION:
URL:https://livemusicasheville.com/calendar/white-beast-rva-kalgon-hempire/
LOCATION:The Odd
CATEGORIES:Asheville Area,Live Music
END:VEVENT
BEGIN:VEVENT
DTSTART;TZID=America/New_York:20251109T203000
DTEND;TZID=America/New_York:20251109T233000
DTSTAMP:20260425T225722
CREATED:20251105T185226Z
LAST-MODIFIED:20251105T185226Z
UID:10023965-1762720200-1762731000@livemusicasheville.com
SUMMARY:Diuretic / Falling Behind / Tracheal Shave
DESCRIPTION:
URL:https://livemusicasheville.com/calendar/diuretic-falling-behind-tracheal-shave/
LOCATION:Static Age Records
CATEGORIES:Asheville Area,Live Music
GEO:35.5985631;-82.5538043
END:VEVENT
BEGIN:VEVENT
DTSTART;TZID=America/New_York:20251109T210000
DTEND;TZID=America/New_York:20251110T000000
DTSTAMP:20260425T225722
CREATED:20250903T200545Z
LAST-MODIFIED:20250921T205026Z
UID:10021506-1762722000-1762732800@livemusicasheville.com
SUMMARY:Shakedown Sunday
DESCRIPTION:
URL:https://livemusicasheville.com/calendar/shakedown-sunday-2-2-2-2/2025-11-09/
LOCATION:The One Stop
CATEGORIES:Asheville Area,Live Music,Open MIc/Jam
END:VEVENT
BEGIN:VEVENT
DTSTART;VALUE=DATE:20251110
DTEND;VALUE=DATE:20251112
DTSTAMP:20260425T225722
CREATED:20250121T072030Z
LAST-MODIFIED:20251210T122902Z
UID:10020172-1762743600-1762829999@livemusicasheville.com
SUMMARY:Support Your Local Music Calendar
DESCRIPTION:We hope you enjoy our guide to the Asheville area’s dynamic music scene. \nIf we somehow help to brighten up your day\, please consider a $5 donation to help support our efforts in providing the area’s most complete local live music calendar. \nVenmo: click here  \nLast 4 digits – 3383 \nPayPal: click here \n \n 
URL:https://livemusicasheville.com/calendar/support-your-local-music-calendar-2/2025-11-10/
CATEGORIES:Asheville Area
END:VEVENT
BEGIN:VEVENT
DTSTART;VALUE=DATE:20251110
DTEND;VALUE=DATE:20251112
DTSTAMP:20260425T225722
CREATED:20251103T165029Z
LAST-MODIFIED:20251103T165029Z
UID:10023489-1762743600-1762829999@livemusicasheville.com
SUMMARY:COMING Saturday\, November 22 | New Dawn Starkestra
DESCRIPTION:Doors: 7pm | Show: 8pm | Tickets: Early Bird – $12 | Day of Show – $15 Event Details and Tickets \nNew Dawn Starkestra is a new collaboration between four heavyweights of the Western North Carolina music scene: vocalist and songwriter Rebekah Todd\, guitarist Isaac Hadden\, bassist Quinn Sternberg\, and drummer Jeff Sipe\, a veteran of the jam and jazz worlds known for his work with Aquarium Rescue Unit and beyond. Together\, they’ve formed something that feels less like a supergroup and more like a conversation — one that’s unfolding live\, night after night. \nFounded in 2005\, Pisgah is known for producing some of the most sought after craft ales in Western North Carolina. Pisgah Brewing Company currently operates the new indoor taproom & deli\, with live music several days a week\, plus an open air outdoor bar in the summer and fall months. Check out our upcoming schedule at pisgahbrewing.com/events
URL:https://livemusicasheville.com/calendar/coming-saturday-november-22-new-dawn-starkestra/2025-11-10/
LOCATION:Pisgah Brewing Company Black Mountain\, 2948 US-70\, Black Mountain\, NC\, 28711
CATEGORIES:Asheville Area,Black Mountain,Live Music
GEO:35.6068069;-82.3568213
X-APPLE-STRUCTURED-LOCATION;VALUE=URI;X-ADDRESS=Pisgah Brewing Company Black Mountain 2948 US-70 Black Mountain NC 28711;X-APPLE-RADIUS=500;X-TITLE=2948 US-70:geo:-82.3568213,35.6068069
END:VEVENT
BEGIN:VEVENT
DTSTART;TZID=America/New_York:20251110T170000
DTEND;TZID=America/New_York:20251110T190000
DTSTAMP:20260425T225722
CREATED:20250212T175544Z
LAST-MODIFIED:20251105T160002Z
UID:10008227-1762794000-1762801200@livemusicasheville.com
SUMMARY:Industry Night & Live Music: ANDREW SCOTCHIE
DESCRIPTION:“Born and raised in Asheville\, Andrew Scotchie is everything rock-n-roll was meant to be: sweaty\, soul-stirring\, a little dangerous\, and absolutely alive.” \nFor Industry Night\, every Monday from 5pm-7pm\, the ULEAF stage will feature musicians from around Western North Carolina. True to the LEAF mission\, the stage will host a global sound with influences from around the world and from a variety of genres. Every show is FREE to attend. \nIf you would like to help further the LEAF mission you are welcome to make a donation to their Artist Relief Fund either on their website or in person at the show.
URL:https://livemusicasheville.com/calendar/isaac-hadden/
LOCATION:Oak and Grist Distilling Company Black Mountain
CATEGORIES:Asheville Area,Black Mountain,Live Music
END:VEVENT
BEGIN:VEVENT
DTSTART;TZID=America/New_York:20251110T170000
DTEND;TZID=America/New_York:20251110T223000
DTSTAMP:20260425T225722
CREATED:20241226T131145Z
LAST-MODIFIED:20251125T183520Z
UID:10002617-1762794000-1762813800@livemusicasheville.com
SUMMARY:Monday Open Mics/Jams
DESCRIPTION:Musicians In The Round @Urban Orchard South Slope – 6-8:30pm (5:30 sign up) \nOld Time Jam @Dirty Jack’s – 5:30-9pm \nBlue Mountain Pizza Weaverville – 6-9pm (last Thursday of the month excluding December) \nMarshall Bluegrass Jam – 7-9pm (American Legion\, Marshall) \nHaywood Country Club – 7-10:30pm \nOne World Brewing Downtown – 7:30-10:30pm \n  \n\n 
URL:https://livemusicasheville.com/calendar/monday-open-mics-jams/2025-11-10/
CATEGORIES:Asheville Area,Open MIc/Jam
END:VEVENT
BEGIN:VEVENT
DTSTART;TZID=America/New_York:20251110T180000
DTEND;TZID=America/New_York:20251110T200000
DTSTAMP:20260425T225722
CREATED:20241227T125610Z
LAST-MODIFIED:20251013T130625Z
UID:10003989-1762797600-1762804800@livemusicasheville.com
SUMMARY:Guitar League Asheville Meetup
DESCRIPTION:
URL:https://livemusicasheville.com/calendar/guitar-league-asheville-meetup/2025-11-10/
LOCATION:Groce United Methodist Church
CATEGORIES:Asheville Area,Live Music,Open MIc/Jam
GEO:35.5898617;-82.5005192
END:VEVENT
BEGIN:VEVENT
DTSTART;TZID=America/New_York:20251110T180000
DTEND;TZID=America/New_York:20251111T020000
DTSTAMP:20260425T225722
CREATED:20241226T132023Z
LAST-MODIFIED:20260308T081314Z
UID:10019256-1762797600-1762826400@livemusicasheville.com
SUMMARY:Monday Weekly DJs
DESCRIPTION:Although we are primarily a Live Music Calendar\, we often come across Electronic & DJ events in the area and list them for you as we find out about them. Please verify the DJ\, times and cover charges with the venue. \nAntidote – 6-9pm \nCoffee Art Music Type Place (CAMP) – 7-9pm (swing) \nLazy Diamond- 10pm-2am \nCheck with the venue on tonight’s djs and cover charges.
URL:https://livemusicasheville.com/calendar/monday-djs/2025-11-10/
LOCATION:Asheville Area
CATEGORIES:Asheville Area,DJ/Electronic
END:VEVENT
BEGIN:VEVENT
DTSTART;TZID=America/New_York:20251110T190000
DTEND;TZID=America/New_York:20251110T210000
DTSTAMP:20260425T225722
CREATED:20250702T121700Z
LAST-MODIFIED:20260304T145213Z
UID:10003040-1762801200-1762808400@livemusicasheville.com
SUMMARY:Blues with Mr Jimmy & Friends
DESCRIPTION:
URL:https://livemusicasheville.com/calendar/blues-with-mr-jimmy-friends-2/2025-11-10/
LOCATION:The Joint Next Door Fairview
CATEGORIES:Asheville Area,Fairview,Live Music
GEO:35.5251372;-82.424797
END:VEVENT
BEGIN:VEVENT
DTSTART;TZID=America/New_York:20251110T190000
DTEND;TZID=America/New_York:20251110T210000
DTSTAMP:20260425T225722
CREATED:20251028T153644Z
LAST-MODIFIED:20251229T173034Z
UID:10023077-1762801200-1762808400@livemusicasheville.com
SUMMARY:Live Brazilian Roda
DESCRIPTION:Mondays at Archetype are always FUN. Rotating between Singles Game Night and Brazilian Roda\, there’s always something to enjoy alongside your cold cold beer\, cocktail\, cider\, wine selection or N/A. \n\n\n\nAn urban musical event that grew out of the traditional Samba de Roda\, becoming a symbol of Brazilian identity in cities like Rio de Janeiro.\n\n\n\n\n\n\nMusicians and singers gather in a circle to play instruments such as the pandeiro\, cavaquinho\, and tantan.\n\n\n\n\n\n\nIt is a communal and inclusive event where everyone joins in singing\, clapping\, and dancing to the music.\n\n\n\n\n\n\nIt embodies the spirit of Brazilian culture\, with no barrier between performers and the audience. \n\n\n\n  \n\n\nA BEVERAGE FOR EVERY TYPE \n\n\n\n\n\nAn array of beverage options makes Archetype an approachable taproom for everyone – from handmade cocktails to carefully curated wines\, rotating house-made hard seltzers\, plenty of non-alcoholic and gluten free beers\, ciders\, local sodas\, seltzer waters\, regular and CBD kombucha\, and of course\, Archetype’s own award winning beers. Plus\, thanks to our amazing Beacham’s Curve courtyard\, you can order and enjoy food brought right to your table. The sun drenched plant-filled taproom is cozy\, modern\, and equipped with board games\, coloring sheets\, Nintendo\, a jukebox box\, couches\, covered patios and a rooftop deck. We’re just up the hill from RAD – with plenty of parking! archetypebrewing.com \n\n\n\n 
URL:https://livemusicasheville.com/calendar/live-brazilian-roda/2025-11-10/
LOCATION:Archetype Brewing\, 265 Haywood\, Asheville\, NC\, 28806\, United States
CATEGORIES:Asheville Area,Live Music,Open MIc/Jam
GEO:35.578181;-82.575074
X-APPLE-STRUCTURED-LOCATION;VALUE=URI;X-ADDRESS=Archetype Brewing 265 Haywood Asheville NC 28806 United States;X-APPLE-RADIUS=500;X-TITLE=265 Haywood:geo:-82.575074,35.578181
END:VEVENT
BEGIN:VEVENT
DTSTART;TZID=America/New_York:20251110T190000
DTEND;TZID=America/New_York:20251110T210000
DTSTAMP:20260425T225722
CREATED:20251105T133846Z
LAST-MODIFIED:20251105T133846Z
UID:10023906-1762801200-1762808400@livemusicasheville.com
SUMMARY:Carolina Celtic presents Clive Carroll
DESCRIPTION:
URL:https://livemusicasheville.com/calendar/carolina-celtic-presents-clive-carroll/
LOCATION:White Horse Black Mountain
CATEGORIES:Asheville Area,Black Mountain,Live Music
GEO:35.6178579;-82.3211924
END:VEVENT
BEGIN:VEVENT
DTSTART;TZID=America/New_York:20251110T190000
DTEND;TZID=America/New_York:20251110T213000
DTSTAMP:20260425T225722
CREATED:20251105T204902Z
LAST-MODIFIED:20251105T204902Z
UID:10023974-1762801200-1762810200@livemusicasheville.com
SUMMARY:Jonny Fritz with Eric Slick
DESCRIPTION:
URL:https://livemusicasheville.com/calendar/jonny-fritz-with-eric-slick/
LOCATION:AyurPrana Listening Room\, 312 Haywood Rd\, Asheville\, NC\, 28806
CATEGORIES:Asheville Area,Live Music
GEO:35.5775962;-82.5760261
X-APPLE-STRUCTURED-LOCATION;VALUE=URI;X-ADDRESS=AyurPrana Listening Room 312 Haywood Rd Asheville NC 28806;X-APPLE-RADIUS=500;X-TITLE=312 Haywood Rd:geo:-82.5760261,35.5775962
END:VEVENT
BEGIN:VEVENT
DTSTART;TZID=America/New_York:20251110T190000
DTEND;TZID=America/New_York:20251110T220000
DTSTAMP:20260425T225722
CREATED:20241226T133711Z
LAST-MODIFIED:20251207T083441Z
UID:10002829-1762801200-1762812000@livemusicasheville.com
SUMMARY:Asheville Monday Night Contra Dance
DESCRIPTION:
URL:https://livemusicasheville.com/calendar/asheville-monday-night-contra-dance-2/2025-11-10/
LOCATION:The Ivy Building at AB Tech
CATEGORIES:Asheville Area,Live Music
GEO:35.6104607;-82.5676894
END:VEVENT
BEGIN:VEVENT
DTSTART;TZID=America/New_York:20251110T190000
DTEND;TZID=America/New_York:20251110T220000
DTSTAMP:20260425T225722
CREATED:20251105T222809Z
LAST-MODIFIED:20251105T223634Z
UID:10024005-1762801200-1762812000@livemusicasheville.com
SUMMARY:Solo Piano in The Great Hall w/ Jamar A. Woods
DESCRIPTION:
URL:https://livemusicasheville.com/calendar/solo-piano-in-the-great-hall-w-jamar-a-woods-2-2/2025-11-10/
LOCATION:The Omni Grove Park Inn
CATEGORIES:Asheville Area,Live Music
GEO:35.6206376;-82.5422977
END:VEVENT
BEGIN:VEVENT
DTSTART;TZID=America/New_York:20251110T190000
DTEND;TZID=America/New_York:20251111T020000
DTSTAMP:20260425T225722
CREATED:20241226T131635Z
LAST-MODIFIED:20260309T201711Z
UID:10002776-1762801200-1762826400@livemusicasheville.com
SUMMARY:Monday Karaoke
DESCRIPTION:The Social East Asheville – 7-11pm \nBen’s TuneUp – 7-10pm \nEda’a Hideaway Weaverville – 7-10pm \nIce Bar Arden – 8-11pm (March 2) \n27 Club – 9pm-2am \nFleetwood’s – 9pm-12am (7pm start on 2/2) \nDaytrip – 9pm – (verify with the venue) \nThe Double Crown – Country Karaoke- 10pm-2am \nBe sure to check times and KJ with the venue. \n 
URL:https://livemusicasheville.com/calendar/monday-karaoke/2025-11-10/
CATEGORIES:Asheville Area,Karaoke
END:VEVENT
BEGIN:VEVENT
DTSTART;TZID=America/New_York:20251110T200000
DTEND;TZID=America/New_York:20251110T220000
DTSTAMP:20260425T225722
CREATED:20251105T123358Z
LAST-MODIFIED:20251105T123432Z
UID:10023845-1762804800-1762812000@livemusicasheville.com
SUMMARY:Mike Barnes' Blue Modal Shift
DESCRIPTION:
URL:https://livemusicasheville.com/calendar/blue-modal-shift/
LOCATION:5 Walnut Wine Bar
CATEGORIES:Asheville Area,Live Music
GEO:35.596654;-82.5525389
END:VEVENT
BEGIN:VEVENT
DTSTART;TZID=America/New_York:20251110T200000
DTEND;TZID=America/New_York:20251110T223000
DTSTAMP:20260425T225722
CREATED:20251105T211458Z
LAST-MODIFIED:20251105T211535Z
UID:10023983-1762804800-1762813800@livemusicasheville.com
SUMMARY:William Elliott Whitmore w/ Dylan Walshe
DESCRIPTION:
URL:https://livemusicasheville.com/calendar/william-elliott-whitmore/
LOCATION:The Grey Eagle\, 185 Clingman Ave\, Asheville\, NC\, United States
CATEGORIES:Asheville Area,Live Music
GEO:35.5870871;-82.5643936
X-APPLE-STRUCTURED-LOCATION;VALUE=URI;X-ADDRESS=The Grey Eagle 185 Clingman Ave Asheville NC United States;X-APPLE-RADIUS=500;X-TITLE=185 Clingman Ave:geo:-82.5643936,35.5870871
END:VEVENT
BEGIN:VEVENT
DTSTART;VALUE=DATE:20251111
DTEND;VALUE=DATE:20251113
DTSTAMP:20260425T225722
CREATED:20250125T140528Z
LAST-MODIFIED:20251210T122935Z
UID:10017421-1762830000-1762916399@livemusicasheville.com
SUMMARY:Love What We Do?
DESCRIPTION:We hope you enjoy our guide to the Asheville area’s dynamic music scene. \nIf we somehow help to brighten up your day\, please consider a $5 donation to help support our efforts in providing the area’s most reliable local live music calendar. \nVenmo: click here  \nLast 4 digits – 3383 \nPayPal: click here \n 
URL:https://livemusicasheville.com/calendar/greetings-fellow-music-lovers-2/2025-11-11/
LOCATION:Asheville Area
CATEGORIES:Asheville Area
END:VEVENT
BEGIN:VEVENT
DTSTART;VALUE=DATE:20251111
DTEND;VALUE=DATE:20251113
DTSTAMP:20260425T225722
CREATED:20251107T203016Z
LAST-MODIFIED:20251110T133951Z
UID:10023039-1762830000-1762916399@livemusicasheville.com
SUMMARY:COMING THURSDAY | The Altons & Thee Sinseers
DESCRIPTION:Thursday\, November 13 | 6 PM DOORS | 7PM SHOW | From $29.15 Event Details and Tickets \nJoin us in the Sierra Nevada High Gravity Room for an evening of Soul ft. Thee Sinseers and The Altons! \nEmerging from Southeast Los Angeles\, The Altons have become a fixture in the burgeoning West Coast souldies scene.  They are a soul rock group with a twist of Latin inspired flavors and rhythms. Their music is driven by intense grooves from the rhythm section that will bring you to your feet\, while soulful leads inspire lovers to dance a little closer. When they take control of any stage you can always expect a fun and energetic time. \nStraight out of East L.A. and led by Latinx singer-songwriter Joseph Quiñones\, Thee Sinseers feature a full rhythm and brass section\, and are part of a new generation of bands that are inspired by the interrelated lowrider and soul music scenes that began within the Chicano communities of Los Angeles in the 1950s. \n  \nSierra Nevada Brewing Co. is one of America’s premier craft breweries\, highly regarded for using only the finest quality ingredients.  Sierra Nevada has set the standard for craft brewers worldwide with innovations in the brewhouse as well as advances in sustainability. The view from our tree-lined brewery is something special no matter the season. Tour the brewhouse\, feast in the Taproom or soak in the sun on our Back Porch with a beer\, including the legendary Pale Ale and a snack. For our upcoming event line-up click here! \n 
URL:https://livemusicasheville.com/calendar/coming-november-13-the-altons-thee-sinseers-2/
LOCATION:Sierra Nevada Mills River\, 100 Sierra Nevada Way\, Mills River\, NC\, 28732
CATEGORIES:Asheville Area,Live Music,Mills River
GEO:35.4308568;-82.5535594
X-APPLE-STRUCTURED-LOCATION;VALUE=URI;X-ADDRESS=Sierra Nevada Mills River 100 Sierra Nevada Way Mills River NC 28732;X-APPLE-RADIUS=500;X-TITLE=100 Sierra Nevada Way:geo:-82.5535594,35.4308568
END:VEVENT
END:VCALENDAR