BEGIN:VCALENDAR
VERSION:2.0
PRODID:-//LiveMusicAsheville.com - ECPv6.15.20//NONSGML v1.0//EN
CALSCALE:GREGORIAN
METHOD:PUBLISH
X-WR-CALNAME:LiveMusicAsheville.com
X-ORIGINAL-URL:https://livemusicasheville.com
X-WR-CALDESC:Events for LiveMusicAsheville.com
REFRESH-INTERVAL;VALUE=DURATION:PT1H
X-Robots-Tag:noindex
X-PUBLISHED-TTL:PT1H
BEGIN:VTIMEZONE
TZID:America/New_York
BEGIN:DAYLIGHT
TZOFFSETFROM:-0500
TZOFFSETTO:-0400
TZNAME:EDT
DTSTART:20240310T070000
END:DAYLIGHT
BEGIN:STANDARD
TZOFFSETFROM:-0400
TZOFFSETTO:-0500
TZNAME:EST
DTSTART:20241103T060000
END:STANDARD
BEGIN:DAYLIGHT
TZOFFSETFROM:-0500
TZOFFSETTO:-0400
TZNAME:EDT
DTSTART:20250309T070000
END:DAYLIGHT
BEGIN:STANDARD
TZOFFSETFROM:-0400
TZOFFSETTO:-0500
TZNAME:EST
DTSTART:20251102T060000
END:STANDARD
BEGIN:DAYLIGHT
TZOFFSETFROM:-0500
TZOFFSETTO:-0400
TZNAME:EDT
DTSTART:20260308T070000
END:DAYLIGHT
BEGIN:STANDARD
TZOFFSETFROM:-0400
TZOFFSETTO:-0500
TZNAME:EST
DTSTART:20261101T060000
END:STANDARD
END:VTIMEZONE
BEGIN:VEVENT
DTSTART;TZID=America/New_York:20251128T180000
DTEND;TZID=America/New_York:20251128T220000
DTSTAMP:20260425T064029
CREATED:20251007T130234Z
LAST-MODIFIED:20251116T161904Z
UID:10024570-1764352800-1764367200@livemusicasheville.com
SUMMARY:Winter Lights
DESCRIPTION:We look forward to welcoming you back for another year of Asheville’s Brightest Holiday Tradition! Winter Lights is a spectacular open-air walk-through light show made from over one million lights! Located at the North Carolina Arboretum in Asheville\, North Carolina\, this year’s event features favorites like the famously tall 50-foot lighted tree and the Quilt Garden\, along with enchanting new details designed to delight and surprise. \nTroll sightings are anticipated at this year’s Winter Lights\, as six of Dambo’s Trolls will be experiencing the show for themselves. Meet them in the gardens at Winter Lights! \nWinter Lights features live entertainment nightly and food and beverages from the Bent Creek Bistro\, the Cocoa Shack and the Cocoa Cabin! Open nightly from 6:00 – 10:00 p.m. \nTickets on Sale Now! Event Details and Tickets \nFor more than 35 years…Cultivating Connections between People\, Plants and Places…amid a 434-acre public garden\, The North Carolina Arboretum is located within the Bent Creek Experimental Forest just south of Asheville and adjacent to the Blue Ridge Parkway at Milepost 393. Surrounded and crisscrossed by forested coves and meandering creeks in the botanically diverse Southern Appalachian Mountains\, The North Carolina Arboretum is set in one of the most beautiful natural settings in America. ncarboretum.org \n  \n 
URL:https://livemusicasheville.com/calendar/winter-lights-2/2025-11-28/
LOCATION:The North Carolina Arboretum
CATEGORIES:Asheville Area,Live Music
END:VEVENT
BEGIN:VEVENT
DTSTART;TZID=America/New_York:20251128T180000
DTEND;TZID=America/New_York:20251128T230000
DTSTAMP:20260425T064029
CREATED:20250207T164158Z
LAST-MODIFIED:20260422T131528Z
UID:10026014-1764352800-1764370800@livemusicasheville.com
SUMMARY:Friday Open Mic/Jam
DESCRIPTION:Flora Asheville – 5:30-7:30pm (April 17) \nTurgua Brewing Fairview – 6-8pm (2nd & 4th Fridays) \nCoffee\, Art\, Music type Place – 6-8pm (First Fridays) \nWagWorld Pub Fletcher – 6:30-9:30pm \nElevated Kava Downtown – 8-11
URL:https://livemusicasheville.com/calendar/friday-open-mic-jam/2025-11-28/
LOCATION:Asheville Area
CATEGORIES:Asheville Area,Madison County,Open MIc/Jam,South Asheville/Arden/Fletcher
END:VEVENT
BEGIN:VEVENT
DTSTART;TZID=America/New_York:20251128T180000
DTEND;TZID=America/New_York:20251129T020000
DTSTAMP:20260425T064029
CREATED:20241225T134450Z
LAST-MODIFIED:20260415T173808Z
UID:10021399-1764352800-1764381600@livemusicasheville.com
SUMMARY:Friday Weekly DJ's
DESCRIPTION:Although we are primarily a Live Music Calendar\, we often come across Electronic & DJ events in the area and list them for you as we find out about them. Please verify the DJ\, times and cover charges with the venue. \nLA Pizza Party Rooftop – 6-9pm \nThe Radical – 6-11pm \nPotential New Boyfriend – 7:30-11pm \nCapella On 9 – 8-11pm \nBen’s Tune Up – 8-11pm \nAntidote – 9-11pm \nBanks Ave – 9-11:30pm \nVOWL – 9pm-1am \nDouble Crown – 9pm-2am \nHavana Miami – 9pm-2am \nStatic Age Loft – 9pm-2am \nWaterstreet – 9pm-2am \nLa Pizza Party – 10pm-2am \nThe Barksdale – 10pm-2am \nLazy Diamond – 10pm-2am \nSticks On Broadway – 10pm-2am \nStrange Magic Bar – 10pm-2am \nShakeys – 10pm-2am \n  \nVerify with the venue on times\, cover charges and tonight’s DJ.
URL:https://livemusicasheville.com/calendar/friday-weekly-dj-schedule/2025-11-28/
LOCATION:Asheville Area
CATEGORIES:Asheville Area,DJ/Electronic
END:VEVENT
BEGIN:VEVENT
DTSTART;TZID=America/New_York:20251128T190000
DTEND;TZID=America/New_York:20251128T210000
DTSTAMP:20260425T064029
CREATED:20250422T143503Z
LAST-MODIFIED:20251126T185238Z
UID:10013011-1764356400-1764363600@livemusicasheville.com
SUMMARY:Sun Goblin
DESCRIPTION:
URL:https://livemusicasheville.com/calendar/sun-goblin/
LOCATION:Highland Brewing
CATEGORIES:Asheville Area,Live Music
END:VEVENT
BEGIN:VEVENT
DTSTART;TZID=America/New_York:20251128T190000
DTEND;TZID=America/New_York:20251128T210000
DTSTAMP:20260425T064029
CREATED:20251029T132808Z
LAST-MODIFIED:20260415T133603Z
UID:10023143-1764356400-1764363600@livemusicasheville.com
SUMMARY:Grass Is Back!
DESCRIPTION:No Cover – Donations accepted!\n\n\n\n\nApril 17 – Lynn Goldsmith & The Jeter Mountain Band\nApril 24 – New Carolina Connection Band\nMay 1 – Harlan County Grass\nMay 8 – Mulley Holler Band\nMay 15- Travis Watts & Mountain Blessings\nMay 22 – Hit or Miss Bluegrass & Country Band
URL:https://livemusicasheville.com/calendar/grass-is-back-3/2025-11-28/
LOCATION:Feed and Seed Fletcher
CATEGORIES:Asheville Area,Live Music,South Asheville/Arden/Fletcher
END:VEVENT
BEGIN:VEVENT
DTSTART;TZID=America/New_York:20251128T190000
DTEND;TZID=America/New_York:20251128T220000
DTSTAMP:20260425T064029
CREATED:20251113T101742Z
LAST-MODIFIED:20260327T002508Z
UID:10052969-1764356400-1764367200@livemusicasheville.com
SUMMARY:Blues with Mr Jimmy
DESCRIPTION:
URL:https://livemusicasheville.com/calendar/blues-with-mr-jimmy-2-2-2/2025-11-28/
LOCATION:The Station Black Mountain
CATEGORIES:Asheville Area,Black Mountain,Live Music
END:VEVENT
BEGIN:VEVENT
DTSTART;TZID=America/New_York:20251128T190000
DTEND;TZID=America/New_York:20251128T220000
DTSTAMP:20260425T064029
CREATED:20251126T114657Z
LAST-MODIFIED:20251126T114657Z
UID:10025893-1764356400-1764367200@livemusicasheville.com
SUMMARY:Wilson Morris
DESCRIPTION:
URL:https://livemusicasheville.com/calendar/wilson-morris/
LOCATION:One World Brewing Downtown\, 10 Patton Ave\, Asheville\, NC\, 28801
CATEGORIES:Asheville Area,Live Music
GEO:35.5947396;-82.5522724
X-APPLE-STRUCTURED-LOCATION;VALUE=URI;X-ADDRESS=One World Brewing Downtown 10 Patton Ave Asheville NC 28801;X-APPLE-RADIUS=500;X-TITLE=10 Patton Ave:geo:-82.5522724,35.5947396
END:VEVENT
BEGIN:VEVENT
DTSTART;TZID=America/New_York:20251128T190000
DTEND;TZID=America/New_York:20251128T220000
DTSTAMP:20260425T064029
CREATED:20251126T182242Z
LAST-MODIFIED:20251126T182242Z
UID:10025953-1764356400-1764367200@livemusicasheville.com
SUMMARY:David Wilcox Annual Thanksgiving Homecoming Concert
DESCRIPTION:
URL:https://livemusicasheville.com/calendar/david-wilcox-annual-thanksgiving-homecoming-concert/
LOCATION:The Grey Eagle\, 185 Clingman Ave\, Asheville\, NC\, United States
CATEGORIES:Asheville Area,Live Music
GEO:35.5870871;-82.5643936
X-APPLE-STRUCTURED-LOCATION;VALUE=URI;X-ADDRESS=The Grey Eagle 185 Clingman Ave Asheville NC United States;X-APPLE-RADIUS=500;X-TITLE=185 Clingman Ave:geo:-82.5643936,35.5870871
END:VEVENT
BEGIN:VEVENT
DTSTART;TZID=America/New_York:20251128T190000
DTEND;TZID=America/New_York:20251129T010000
DTSTAMP:20260425T064029
CREATED:20241225T141623Z
LAST-MODIFIED:20260416T110217Z
UID:10056316-1764356400-1764378000@livemusicasheville.com
SUMMARY:Friday Karaoke
DESCRIPTION:  \n7-10pm – Mal’s Bar Marshall (February 20) \n7-10pm- Noble Cider (April 10) \n8pm-12am – Silverados Black Mountain \n8-11pm – Dalton Distillery (April 17) \n8-11pm – T Birds Weaverville \n8:30-11pm – The Village Porch Woodfin (April 17) \n8pm-1am – Fleetwoods (Feb 27) \n9pm-12am – Brewskies Fairview   \n9pm-12am – Little Creek Tavern Fletcher  \n9pm-1am – Handlebar & Grill \n9pm- 1am – O’Henrys \n9:30pm-1:30am – The Crowbar Downtown \n10pm – 2am – Shakeys \nVerify time and KJ with The Venue. \n  \n  \n\n 
URL:https://livemusicasheville.com/calendar/friday-weekly-karaoke/2025-11-28/
LOCATION:Asheville Area
CATEGORIES:Asheville Area,Black Mountain,Fairview,Karaoke,Madison County,Weaverville
END:VEVENT
BEGIN:VEVENT
DTSTART;TZID=America/New_York:20251128T190000
DTEND;TZID=America/New_York:20251129T020000
DTSTAMP:20260425T064029
CREATED:20241225T123126Z
LAST-MODIFIED:20251122T132355Z
UID:10000621-1764356400-1764381600@livemusicasheville.com
SUMMARY:Dueling Piano Show
DESCRIPTION:
URL:https://livemusicasheville.com/calendar/dueling-piano-show/2025-11-28/
LOCATION:Off the Wagon
CATEGORIES:Asheville Area,Live Music
GEO:41.4302231;-81.3909542
END:VEVENT
BEGIN:VEVENT
DTSTART;TZID=America/New_York:20251128T193000
DTEND;TZID=America/New_York:20251128T213000
DTSTAMP:20260425T064029
CREATED:20250611T131114Z
LAST-MODIFIED:20251126T115519Z
UID:10015748-1764358200-1764365400@livemusicasheville.com
SUMMARY:Alan Mearns Classical Guitar
DESCRIPTION:
URL:https://livemusicasheville.com/calendar/alan-mearns-classical-guitar/
LOCATION:White Horse Black Mountain
CATEGORIES:Asheville Area,Black Mountain,Live Music
GEO:35.6178579;-82.3211924
END:VEVENT
BEGIN:VEVENT
DTSTART;TZID=America/New_York:20251128T200000
DTEND;TZID=America/New_York:20251128T220000
DTSTAMP:20260425T064029
CREATED:20251022T125252Z
LAST-MODIFIED:20251126T170955Z
UID:10022898-1764360000-1764367200@livemusicasheville.com
SUMMARY:Myron Hyman plays The Dead
DESCRIPTION:
URL:https://livemusicasheville.com/calendar/myron-hyman-plays-the-dead/
LOCATION:Mudpuppies Arden
CATEGORIES:Asheville Area,Live Music
GEO:35.4440387;-82.5322387
END:VEVENT
BEGIN:VEVENT
DTSTART;TZID=America/New_York:20251128T200000
DTEND;TZID=America/New_York:20251128T220000
DTSTAMP:20260425T064029
CREATED:20251126T114215Z
LAST-MODIFIED:20251126T114215Z
UID:10025891-1764360000-1764367200@livemusicasheville.com
SUMMARY:The Artimus Pyle Band
DESCRIPTION:
URL:https://livemusicasheville.com/calendar/the-artimus-pyle-band/
LOCATION:Wortham Center for the Performing Arts
CATEGORIES:Asheville Area,Live Music
GEO:35.5943091;-82.5509521
END:VEVENT
BEGIN:VEVENT
DTSTART;TZID=America/New_York:20251128T200000
DTEND;TZID=America/New_York:20251128T230000
DTSTAMP:20260425T064029
CREATED:20250711T192233Z
LAST-MODIFIED:20260116T152048Z
UID:10028200-1764360000-1764370800@livemusicasheville.com
SUMMARY:Commodore Fox Band
DESCRIPTION:
URL:https://livemusicasheville.com/calendar/commodore-fox-band-2/2025-11-28/
LOCATION:Wild Wing Cafe South
CATEGORIES:Live Music,South Asheville/Arden/Fletcher
END:VEVENT
BEGIN:VEVENT
DTSTART;TZID=America/New_York:20251128T200000
DTEND;TZID=America/New_York:20251128T230000
DTSTAMP:20260425T064029
CREATED:20251119T165018Z
LAST-MODIFIED:20251121T201859Z
UID:10024813-1764360000-1764370800@livemusicasheville.com
SUMMARY:Jernigan\, Lane\, and Jones
DESCRIPTION:
URL:https://livemusicasheville.com/calendar/jernigan-lane-and-jones/
LOCATION:Sovereign Kava
CATEGORIES:Asheville Area,Live Music
GEO:35.5854657;-82.5513352
END:VEVENT
BEGIN:VEVENT
DTSTART;TZID=America/New_York:20251128T200000
DTEND;TZID=America/New_York:20251128T230000
DTSTAMP:20260425T064029
CREATED:20251120T212647Z
LAST-MODIFIED:20251120T212649Z
UID:10024876-1764360000-1764370800@livemusicasheville.com
SUMMARY:Rock n Roll Rewind Show LIVE
DESCRIPTION:November 28\, 2025 8:00 PM | Doors Open: 7:00 PM | $21.40 adv. Event Details and Tickets \nThis is Rock N Roll Rewind’s THIRD ANNUAL BLACK FRIDAY show at the Orange Peel and is once again benefiting Back Yard Bo Pro’s\nNohungrypeople.org.\n\nThey are also collecting toys that evening for Craggy Mountain Line’s Jingle bell Trolley Toy Ride\n\nRock N Roll Rewind is a powerhouse collaboration of talented musicians based in Asheville\, North Carolina. Founded in 2023 by national recording artist and session drummer Mike Hunnicutt\, the band is made up of seasoned professionals who have shared the stage with legendary acts including Kid Rock\, Sevendust\, Creed\, Godsmack\, Hootie & the Blowfish\, Warrant\, Jackyl\, Warren Haynes & Gov’t Mule\, Drivin N Cryin\, Sponge\, The Wallflowers\, Artimus Pyle (drummer – Lynyrd Skynyrd)\, Suicidal Tendencies\, Monster Magnet\, 38 Special\, and Corrosion of Conformity—just to name a few.\n\nStep back into the glamorous days of Aqua Net\, leather jackets\, and spandex as Rock N Roll Rewind brings you the biggest anthems from the ’70s through the ’90s. With soaring guitar riffs\, driving bass lines\, thunderous drums\, powerhouse vocals\, and rich harmonies\, every performance is an electrifying trip down memory lane. Get ready for a high-energy\, nostalgic rock experience you won’t forget!
URL:https://livemusicasheville.com/calendar/rock-n-roll-rewind-show-live/
LOCATION:The Orange Peel
CATEGORIES:Asheville Area,Live Music
GEO:35.5914061;-82.5510137
END:VEVENT
BEGIN:VEVENT
DTSTART;TZID=America/New_York:20251128T200000
DTEND;TZID=America/New_York:20251128T230000
DTSTAMP:20260425T064029
CREATED:20251126T163311Z
LAST-MODIFIED:20251126T163623Z
UID:10025947-1764360000-1764370800@livemusicasheville.com
SUMMARY:15th Annual Byrds of a Feather Graham Parsons/ Gene Clark Tribute
DESCRIPTION:
URL:https://livemusicasheville.com/calendar/15th-annual-byrds-of-a-feather-graham-parsons-gene-clark-tribute/
LOCATION:Eda’s Hide-a-Way Weaverville
CATEGORIES:Asheville Area,Live Music,Weaverville
GEO:35.6970547;-82.5606851
END:VEVENT
BEGIN:VEVENT
DTSTART;TZID=America/New_York:20251128T203000
DTEND;TZID=America/New_York:20251129T010000
DTSTAMP:20260425T064029
CREATED:20241225T140756Z
LAST-MODIFIED:20251214T224332Z
UID:10001522-1764361800-1764378000@livemusicasheville.com
SUMMARY:Elaine’s Dueling Piano Bar
DESCRIPTION:
URL:https://livemusicasheville.com/calendar/elaines-dueling-piano-bar/2025-11-28/
LOCATION:The Omni Grove Park Inn
CATEGORIES:Asheville Area,Live Music
GEO:35.6206376;-82.5422977
END:VEVENT
BEGIN:VEVENT
DTSTART;TZID=America/New_York:20251128T210000
DTEND;TZID=America/New_York:20251129T000000
DTSTAMP:20260425T064029
CREATED:20251126T184208Z
LAST-MODIFIED:20251126T184208Z
UID:10025959-1764363600-1764374400@livemusicasheville.com
SUMMARY:Frute with Buddhagraph Spaceship
DESCRIPTION:
URL:https://livemusicasheville.com/calendar/frute-with-buddhagraph-spaceship/
LOCATION:Asheville Music Hall\, 31 Patton Ave\, Asheville\, NC\, 28801\, United States
CATEGORIES:Asheville Area,Live Music
GEO:35.5949233;-82.5530398
X-APPLE-STRUCTURED-LOCATION;VALUE=URI;X-ADDRESS=Asheville Music Hall 31 Patton Ave Asheville NC 28801 United States;X-APPLE-RADIUS=500;X-TITLE=31 Patton Ave:geo:-82.5530398,35.5949233
END:VEVENT
BEGIN:VEVENT
DTSTART;TZID=America/New_York:20251128T210000
DTEND;TZID=America/New_York:20251129T000000
DTSTAMP:20260425T064029
CREATED:20251128T212804Z
LAST-MODIFIED:20251128T212804Z
UID:10026284-1764363600-1764374400@livemusicasheville.com
SUMMARY:Kyle Travers w/ Marcus White
DESCRIPTION:
URL:https://livemusicasheville.com/calendar/kyle-travers-w-marcus-white/
LOCATION:Town Pump Tavern Black Mountain
CATEGORIES:Asheville Area,Black Mountain,Live Music
GEO:35.6162458;-82.320259
END:VEVENT
BEGIN:VEVENT
DTSTART;TZID=America/New_York:20251128T210000
DTEND;TZID=America/New_York:20251129T010000
DTSTAMP:20260425T064029
CREATED:20251126T125831Z
LAST-MODIFIED:20251126T125831Z
UID:10025899-1764363600-1764378000@livemusicasheville.com
SUMMARY:77 Lies // Tiny Tvs // Holley 750
DESCRIPTION:
URL:https://livemusicasheville.com/calendar/77-lies-tiny-tvs-holley-750/
LOCATION:Fleetwood’s\, 496 Haywood Rd\, Asheville\, NC\, 28806\, United States
CATEGORIES:Asheville Area,Live Music
GEO:35.578126;-82.583757
X-APPLE-STRUCTURED-LOCATION;VALUE=URI;X-ADDRESS=Fleetwood’s 496 Haywood Rd Asheville NC 28806 United States;X-APPLE-RADIUS=500;X-TITLE=496 Haywood Rd:geo:-82.583757,35.578126
END:VEVENT
BEGIN:VEVENT
DTSTART;TZID=America/New_York:20251128T220000
DTEND;TZID=America/New_York:20251129T010000
DTSTAMP:20260425T064029
CREATED:20251120T162219Z
LAST-MODIFIED:20251127T071522Z
UID:10024872-1764367200-1764378000@livemusicasheville.com
SUMMARY:The Cool Yule Club: Meschiya Lake's Paradigm Shifters
DESCRIPTION:Slip into the glow of The Cool Yule Club for a night where Christmas cool meets vintage swagger. Meschiya Lake’s Paradigm Shifters roll in with a cocktail of country grit\, jazz spirit\, and just enough holiday sparkle to make the tinsel shake.\nMeschiya’s unmistakable voice fills the Palm Room in that warm\, 60s lounge haze\, spinning out classics with personality\, originals with punch\, and a few festive surprises tucked between the twang.\nWhether you’re settling in with a cocktail or letting your boots find the beat\, this set keeps the season merry\, bright\, and just a little wild.\n\n\n$10 covers both the Showroom and Palm Room music.\n  \n\n  \nFitz\, she’s the party. Wolfe\, he’s the epicure. 2 levels\, 3 vibes. 🎶 Live Music |🍸Sips & Noms 🥪 | 🕹️ Artcade | 🗝️Speakeasy | Private Events \nFitz and the Wolfe is a cocktail and music venue shaped by the spirit of improvisation\, storytelling\, and the kind of nights that feel too good to end. Here\, every night brings a new soundtrack. Jazz\, swing\, honky-tonk\, and sometimes things a little more esoteric—if it moves people\, we book it. The music fills the space like a second heartbeat\, sometimes rowdy\, sometimes intimate\, always memorable. It’s not background noise. It’s the reason you’re here. fitzandthewolfe.com
URL:https://livemusicasheville.com/calendar/the-cool-yule-club-meschiya-lakes-paradigm-shifters/
LOCATION:Fitz and the Wolfe\, 1 Battery Park Ave\, Asheville\, NC\, 28801\, United States
CATEGORIES:Asheville Area,Live Music
GEO:35.5954515;-82.5548502
X-APPLE-STRUCTURED-LOCATION;VALUE=URI;X-ADDRESS=Fitz and the Wolfe 1 Battery Park Ave Asheville NC 28801 United States;X-APPLE-RADIUS=500;X-TITLE=1 Battery Park Ave:geo:-82.5548502,35.5954515
END:VEVENT
BEGIN:VEVENT
DTSTART;TZID=America/New_York:20251128T220000
DTEND;TZID=America/New_York:20251129T010000
DTSTAMP:20260425T064029
CREATED:20251126T184322Z
LAST-MODIFIED:20251126T184322Z
UID:10025960-1764367200-1764378000@livemusicasheville.com
SUMMARY:Allegheny Mountain Boys
DESCRIPTION:
URL:https://livemusicasheville.com/calendar/allegheny-mountain-boys/2025-11-28/
LOCATION:The One Stop
CATEGORIES:Asheville Area,Live Music
END:VEVENT
BEGIN:VEVENT
DTSTART;VALUE=DATE:20251129
DTEND;VALUE=DATE:20251201
DTSTAMP:20260425T064029
CREATED:20250121T072030Z
LAST-MODIFIED:20251210T122902Z
UID:10020180-1764385200-1764471599@livemusicasheville.com
SUMMARY:Support Your Local Music Calendar
DESCRIPTION:We hope you enjoy our guide to the Asheville area’s dynamic music scene. \nIf we somehow help to brighten up your day\, please consider a $5 donation to help support our efforts in providing the area’s most complete local live music calendar. \nVenmo: click here  \nLast 4 digits – 3383 \nPayPal: click here \n \n 
URL:https://livemusicasheville.com/calendar/support-your-local-music-calendar-2/2025-11-29/
CATEGORIES:Asheville Area
END:VEVENT
BEGIN:VEVENT
DTSTART;TZID=America/New_York:20251129T090000
DTEND;TZID=America/New_York:20251129T120000
DTSTAMP:20260425T064029
CREATED:20250624T130511Z
LAST-MODIFIED:20251128T233215Z
UID:10016177-1764406800-1764417600@livemusicasheville.com
SUMMARY:Asheville Junction Duo
DESCRIPTION:
URL:https://livemusicasheville.com/calendar/asheville-junction-duo-on-the-patio/
LOCATION:Asheville City Market
CATEGORIES:Asheville Area,Live Music
GEO:35.5975664;-82.5512582
END:VEVENT
BEGIN:VEVENT
DTSTART;TZID=America/New_York:20251129T110000
DTEND;TZID=America/New_York:20251130T010000
DTSTAMP:20260425T064029
CREATED:20241225T201123Z
LAST-MODIFIED:20260422T210726Z
UID:10053588-1764414000-1764464400@livemusicasheville.com
SUMMARY:Saturday Karaoke
DESCRIPTION:Ben’s Tune Up – 11am-2pm (1st & 3rd Saturdays) \nWagworld Pub – 6-9pm (April 25) \nLookout Brewing Black Mountain – 7-10pm (April 18) \nThe Whale South Slope – 7-10pm (April 18) \nIce Bar Arden – 8pm-12am (April 25) \nLiondog Lounge Weaverville – 8pm-12am (every other week) \nT Birds Weaverville – 8-11pm \nThe Burger Bar – 8pm-1am \nThe Social East Asheville – 9pm-1am \n  \n  \nPlease verify times and KJ with the venue.
URL:https://livemusicasheville.com/calendar/saturday-karaoke/2025-11-29/
CATEGORIES:Asheville Area,Karaoke
END:VEVENT
BEGIN:VEVENT
DTSTART;TZID=America/New_York:20251129T120000
DTEND;TZID=America/New_York:20251129T140000
DTSTAMP:20260425T064029
CREATED:20250608T131127Z
LAST-MODIFIED:20251105T112914Z
UID:10023739-1764417600-1764424800@livemusicasheville.com
SUMMARY:Yala Cultural Tour w/ Adama Dembele
DESCRIPTION:Visit LEAF Global Arts every Saturday for an in-house cultural exchange with Adama Dembele. Experience the Ivory Coast with our Culture Keeper from the House of Djembe.\nYala Culture Tour includes drumming\, dancing\, and stories from Ivory Coast. Drums are provided! Families are welcome.
URL:https://livemusicasheville.com/calendar/yala-cultural-tour-w-adama-dembele-3/2025-11-29/
LOCATION:LEAF Global Arts\, 19 Eagle St\, Asheville\, NC\, 28801
CATEGORIES:Asheville Area,Live Music
GEO:35.5938244;-82.5505196
X-APPLE-STRUCTURED-LOCATION;VALUE=URI;X-ADDRESS=LEAF Global Arts 19 Eagle St Asheville NC 28801;X-APPLE-RADIUS=500;X-TITLE=19 Eagle St:geo:-82.5505196,35.5938244
END:VEVENT
BEGIN:VEVENT
DTSTART;TZID=America/New_York:20251129T130000
DTEND;TZID=America/New_York:20251129T160000
DTSTAMP:20260425T064029
CREATED:20250827T165707Z
LAST-MODIFIED:20251125T225317Z
UID:10020320-1764421200-1764432000@livemusicasheville.com
SUMMARY:Miller & Reeves
DESCRIPTION:
URL:https://livemusicasheville.com/calendar/miller-reeves/
LOCATION:Shamrock Irons Irish Pub\, 4 College St\, Asheville\, NC\, 28801\, United States
CATEGORIES:Asheville Area,Live Music
GEO:35.9844236;-80.0221361
X-APPLE-STRUCTURED-LOCATION;VALUE=URI;X-ADDRESS=Shamrock Irons Irish Pub 4 College St Asheville NC 28801 United States;X-APPLE-RADIUS=500;X-TITLE=4 College St:geo:-80.0221361,35.9844236
END:VEVENT
BEGIN:VEVENT
DTSTART;TZID=America/New_York:20251129T140000
DTEND;TZID=America/New_York:20251129T170000
DTSTAMP:20260425T064029
CREATED:20250111T085919Z
LAST-MODIFIED:20251126T131243Z
UID:10005827-1764424800-1764435600@livemusicasheville.com
SUMMARY:Finkelstein 3
DESCRIPTION:
URL:https://livemusicasheville.com/calendar/finklestein-3/
LOCATION:Mills River Brewing Co.\, 336 Banner Farm Rd\,\, Mills River\, NC\, 28759
CATEGORIES:Asheville Area,Live Music,Mills River
GEO:35.380515;-82.5654984
X-APPLE-STRUCTURED-LOCATION;VALUE=URI;X-ADDRESS=Mills River Brewing Co. 336 Banner Farm Rd Mills River NC 28759;X-APPLE-RADIUS=500;X-TITLE=336 Banner Farm Rd\,:geo:-82.5654984,35.380515
END:VEVENT
BEGIN:VEVENT
DTSTART;TZID=America/New_York:20251129T140000
DTEND;TZID=America/New_York:20251129T170000
DTSTAMP:20260425T064029
CREATED:20250122T154132Z
LAST-MODIFIED:20251126T134142Z
UID:10006844-1764424800-1764435600@livemusicasheville.com
SUMMARY:Kevin Dolan & Paul Koptak
DESCRIPTION:
URL:https://livemusicasheville.com/calendar/kevin-dolan-paul-koptak-live/
LOCATION:Souther Williams Vineyard Fletcher
CATEGORIES:Asheville Area,Live Music,South Asheville/Arden/Fletcher
GEO:35.4412197;-82.4387393
END:VEVENT
END:VCALENDAR