BEGIN:VCALENDAR
VERSION:2.0
PRODID:-//LiveMusicAsheville.com - ECPv6.15.20//NONSGML v1.0//EN
CALSCALE:GREGORIAN
METHOD:PUBLISH
X-ORIGINAL-URL:https://livemusicasheville.com
X-WR-CALDESC:Events for LiveMusicAsheville.com
REFRESH-INTERVAL;VALUE=DURATION:PT1H
X-Robots-Tag:noindex
X-PUBLISHED-TTL:PT1H
BEGIN:VTIMEZONE
TZID:America/New_York
BEGIN:DAYLIGHT
TZOFFSETFROM:-0500
TZOFFSETTO:-0400
TZNAME:EDT
DTSTART:20250309T070000
END:DAYLIGHT
BEGIN:STANDARD
TZOFFSETFROM:-0400
TZOFFSETTO:-0500
TZNAME:EST
DTSTART:20251102T060000
END:STANDARD
BEGIN:DAYLIGHT
TZOFFSETFROM:-0500
TZOFFSETTO:-0400
TZNAME:EDT
DTSTART:20260308T070000
END:DAYLIGHT
BEGIN:STANDARD
TZOFFSETFROM:-0400
TZOFFSETTO:-0500
TZNAME:EST
DTSTART:20261101T060000
END:STANDARD
BEGIN:DAYLIGHT
TZOFFSETFROM:-0500
TZOFFSETTO:-0400
TZNAME:EDT
DTSTART:20270314T070000
END:DAYLIGHT
BEGIN:STANDARD
TZOFFSETFROM:-0400
TZOFFSETTO:-0500
TZNAME:EST
DTSTART:20271107T060000
END:STANDARD
END:VTIMEZONE
BEGIN:VEVENT
DTSTART;TZID=America/New_York:20260126T183000
DTEND;TZID=America/New_York:20260126T203000
DTSTAMP:20260425T220620
CREATED:20241225T121235Z
LAST-MODIFIED:20260121T160736Z
UID:10004831-1769452200-1769459400@livemusicasheville.com
SUMMARY:Sage Christie
DESCRIPTION:
URL:https://livemusicasheville.com/calendar/sage-christie/
LOCATION:Blue Mountain Pizza Weaverville
CATEGORIES:Asheville Area,Live Music,Weaverville
GEO:35.698228;-82.560231
END:VEVENT
BEGIN:VEVENT
DTSTART;TZID=America/New_York:20260126T190000
DTEND;TZID=America/New_York:20260126T210000
DTSTAMP:20260425T220620
CREATED:20250702T121700Z
LAST-MODIFIED:20260304T145213Z
UID:10028511-1769454000-1769461200@livemusicasheville.com
SUMMARY:Blues with Mr Jimmy & Friends
DESCRIPTION:
URL:https://livemusicasheville.com/calendar/blues-with-mr-jimmy-friends-2/2026-01-26/
LOCATION:The Joint Next Door Fairview
CATEGORIES:Asheville Area,Fairview,Live Music
GEO:35.5251372;-82.424797
END:VEVENT
BEGIN:VEVENT
DTSTART;TZID=America/New_York:20260126T190000
DTEND;TZID=America/New_York:20260127T020000
DTSTAMP:20260425T220620
CREATED:20241226T131635Z
LAST-MODIFIED:20260309T201711Z
UID:10024689-1769454000-1769479200@livemusicasheville.com
SUMMARY:Monday Karaoke
DESCRIPTION:The Social East Asheville – 7-11pm \nBen’s TuneUp – 7-10pm \nEda’a Hideaway Weaverville – 7-10pm \nIce Bar Arden – 8-11pm (March 2) \n27 Club – 9pm-2am \nFleetwood’s – 9pm-12am (7pm start on 2/2) \nDaytrip – 9pm – (verify with the venue) \nThe Double Crown – Country Karaoke- 10pm-2am \nBe sure to check times and KJ with the venue. \n 
URL:https://livemusicasheville.com/calendar/monday-karaoke/2026-01-26/
LOCATION:NC
CATEGORIES:Asheville Area,Karaoke
END:VEVENT
BEGIN:VEVENT
DTSTART;TZID=America/New_York:20260126T200000
DTEND;TZID=America/New_York:20260126T230000
DTSTAMP:20260425T220620
CREATED:20260121T183038Z
LAST-MODIFIED:20260121T183038Z
UID:10040078-1769457600-1769468400@livemusicasheville.com
SUMMARY:Jon Spencer w/ Werewolf Hours
DESCRIPTION:
URL:https://livemusicasheville.com/calendar/jon-spencer-w-werewolf-hours/
LOCATION:The Grey Eagle\, 185 Clingman Ave\, Asheville\, NC\, United States
CATEGORIES:Asheville Area,Live Music
GEO:35.5870871;-82.5643936
X-APPLE-STRUCTURED-LOCATION;VALUE=URI;X-ADDRESS=The Grey Eagle 185 Clingman Ave Asheville NC United States;X-APPLE-RADIUS=500;X-TITLE=185 Clingman Ave:geo:-82.5643936,35.5870871
END:VEVENT
BEGIN:VEVENT
DTSTART;TZID=America/New_York:20260126T203000
DTEND;TZID=America/New_York:20260126T233000
DTSTAMP:20260425T220620
CREATED:20260121T162650Z
LAST-MODIFIED:20260121T162650Z
UID:10039802-1769459400-1769470200@livemusicasheville.com
SUMMARY:O.I.L. / Slug Hole / tba
DESCRIPTION:
URL:https://livemusicasheville.com/calendar/o-i-l-slug-hole-tba/
LOCATION:Static Age Records
CATEGORIES:Asheville Area,Live Music
GEO:35.5985631;-82.5538043
END:VEVENT
BEGIN:VEVENT
DTSTART;TZID=America/New_York:20260127T153000
DTEND;TZID=America/New_York:20260127T233000
DTSTAMP:20260425T220620
CREATED:20241226T154009Z
LAST-MODIFIED:20260421T161506Z
UID:10027669-1769527800-1769556600@livemusicasheville.com
SUMMARY:Tuesday Open Mics/Jams
DESCRIPTION:Irish Session @ Diatribe Brewing – 4-6pm \nModerate Old Time Jam @ Cork & Keg – 5-6:30pm (1st & 3rd Tuesdays) \nNoble Cider – 5-8pm \nAcoustic Jam @ Turgua Brewing Fairview – 5:30-7pm (1st Tuesday-Old Time\, 2nd Tuesday-Irish Session\, 3rd Tuesday-Americana\, 4th Tuesday-Gypsy Jazz) (December 30-Irish Session) \nOpen Mic with Mike & Pat @ Sweeten Creek Brewing – 6-8:30pm (open bluegrass jam Feb 10) \nBluegrass Jam with Alex Bazemore @ Eda’s Hideaway Weaverville – 6:30-10pm \nScratch Ankle Fillin’ Station Candler – 7-9pm \nBeans & Tunes Old Time Jam w/ Banjo Mitch @Mals Bar Marshall – 7-9pm \nMudpuppies – 7-10pm \nEarly Tuesday Jam @ The One Stop – 7-10pm  \nOpen Mic w/Hamza @ The Social East Asheville – 7-11pm \nThe Open Jam with The Lactones @ Sovereign Kava – 8-11pm  \nWeaverville Open Mic @ Vintage Kava Weaverville – 9-11:30pm \n\n 
URL:https://livemusicasheville.com/calendar/tuesday-open-mics-jams/2026-01-27/
LOCATION:Asheville Area
CATEGORIES:Asheville Area,Black Mountain,Fairview,Open MIc/Jam,Weaverville
ATTACH;FMTTYPE=image/jpeg:https://livemusicasheville.com/wp-content/uploads/2024/12/IMG_9400-e1743027161179.jpeg
END:VEVENT
BEGIN:VEVENT
DTSTART;TZID=America/New_York:20260127T170000
DTEND;TZID=America/New_York:20260128T010000
DTSTAMP:20260425T220620
CREATED:20250114T165902Z
LAST-MODIFIED:20260422T152410Z
UID:10052371-1769533200-1769562000@livemusicasheville.com
SUMMARY:Tuesday Karaoke
DESCRIPTION:Sierra Nevada Mills River – 5-9pm (April 28) \nWild Wing Cafe – 8-11pm \nThe One Stop – 10pm-1am \n 
URL:https://livemusicasheville.com/calendar/tuesday-karaoke/2026-01-27/
LOCATION:Asheville Area
CATEGORIES:Asheville Area,Karaoke
END:VEVENT
BEGIN:VEVENT
DTSTART;TZID=America/New_York:20260127T180000
DTEND;TZID=America/New_York:20260127T200000
DTSTAMP:20260425T220620
CREATED:20251209T161037Z
LAST-MODIFIED:20251209T161039Z
UID:10015930-1769536800-1769544000@livemusicasheville.com
SUMMARY:Tuesdays w/ Ashley Heath
DESCRIPTION:
URL:https://livemusicasheville.com/calendar/ashley-heath-7-2/2026-01-27/
LOCATION:The Bush Farmhouse Black Mountain
CATEGORIES:Asheville Area,Black Mountain,Live Music
GEO:35.6171865;-82.3170606
END:VEVENT
BEGIN:VEVENT
DTSTART;TZID=America/New_York:20260127T180000
DTEND;TZID=America/New_York:20260127T210000
DTSTAMP:20260425T220620
CREATED:20260121T165659Z
LAST-MODIFIED:20260127T110620Z
UID:10040068-1769536800-1769547600@livemusicasheville.com
SUMMARY:Sleep Number + Jed Willis
DESCRIPTION:
URL:https://livemusicasheville.com/calendar/mark-hosler-sleep-number-ft-jed-powers-mikey-powers-string-ensemble/
LOCATION:Revolve Gallery
CATEGORIES:Asheville Area,DJ/Electronic,Live Music
END:VEVENT
BEGIN:VEVENT
DTSTART;TZID=America/New_York:20260127T183000
DTEND;TZID=America/New_York:20260127T203000
DTSTAMP:20260425T220620
CREATED:20250115T200558Z
LAST-MODIFIED:20260121T160823Z
UID:10006550-1769538600-1769545800@livemusicasheville.com
SUMMARY:David Matters
DESCRIPTION:
URL:https://livemusicasheville.com/calendar/david-matters/
LOCATION:Blue Mountain Pizza Weaverville
CATEGORIES:Asheville Area,Live Music,Weaverville
GEO:35.698228;-82.560231
END:VEVENT
BEGIN:VEVENT
DTSTART;TZID=America/New_York:20260127T183000
DTEND;TZID=America/New_York:20260127T210000
DTSTAMP:20260425T220620
CREATED:20241226T154248Z
LAST-MODIFIED:20251214T220310Z
UID:10027770-1769538600-1769547600@livemusicasheville.com
SUMMARY:Mountain Shag Club
DESCRIPTION:
URL:https://livemusicasheville.com/calendar/mountain-shag-club/2026-01-27/
LOCATION:Chophouse Restaurant at the 4 Points Hotel by Sheraton
CATEGORIES:Asheville Area,DJ/Electronic
END:VEVENT
BEGIN:VEVENT
DTSTART;TZID=America/New_York:20260127T190000
DTEND;TZID=America/New_York:20260127T210000
DTSTAMP:20260425T220620
CREATED:20260106T011704Z
LAST-MODIFIED:20260128T180840Z
UID:10031998-1769540400-1769547600@livemusicasheville.com
SUMMARY:Daniel Shearin
DESCRIPTION:
URL:https://livemusicasheville.com/calendar/asheville-recovery-celebration-w-daniel-shearin-friends-2-2-2/2026-01-27/
LOCATION:Moxy Asheville\, 61 Biltmore Avenue\, Asheville\, NC
CATEGORIES:Asheville Area,Live Music
GEO:35.5927169;-82.5514897
X-APPLE-STRUCTURED-LOCATION;VALUE=URI;X-ADDRESS=Moxy Asheville 61 Biltmore Avenue Asheville NC;X-APPLE-RADIUS=500;X-TITLE=61 Biltmore Avenue:geo:-82.5514897,35.5927169
END:VEVENT
BEGIN:VEVENT
DTSTART;TZID=America/New_York:20260127T190000
DTEND;TZID=America/New_York:20260127T220000
DTSTAMP:20260425T220620
CREATED:20251215T134720Z
LAST-MODIFIED:20260121T214638Z
UID:10028560-1769540400-1769551200@livemusicasheville.com
SUMMARY:Free Jazz Tuesday w/ The Zack Page Euphemism
DESCRIPTION:“We don’t say what we mean. We play what we imply. And we’ve been inverting the natural order since… right about now.” ~ Zack Page (Probably) \nIn the chrome-plated lounges of tomorrow’s yesterday\, where neon hums at 440Hz and the cocktails pour themselves\, four sonic cosmonauts have breached the atmospheric ceiling of conventional groove. \nKEITH DAVIS mans the control panel of 88 ivory switches\, routing harmonic frequencies through dimensions yet unnamed. His fingers decode the melodic algorithms that keep this vessel from spinning into the void. \nPETER DIMERY pilots the tenor saxophone—that brass telescope trained on distant nebulae of blue and bebop. His transmissions cut through static like a laser through lunar dust. \nRYAN PTASNIK operates the propulsion system: four limbs in perpetual conversation with physics itself\, generating the thrust that bends time signatures into submission. \nAnd at the helm—against all laws of gravitational hierarchy—ZACK PAGE has ascended from the engine room to the captain’s chair. The low-frequency specialist. The foundation man. Now calling the shots from the bottom of the sonic spectrum while somehow… on top. \nIt’s unnatural. It’s unprecedented. It absolutely works. \n\nZack Page – Acoustic & Electric Bass\nPeter Dimery – Tenor Sax\nRyan Ptasnik – Drums\nKeith Davis – Keys\n\n\n\n\n\n\n\nEvery Monday and Tuesday\, Little Jumbo brings live jazz to your ears. littlejumbobar.com \n“Simply put\, Little Jumbo should be at the top of your list of places for cocktails in Asheville. The drinks and service are both top-notch\, and the atmosphere is reminiscent of a relaxed speakeasy\, without a trace of the pretention that can sometimes be found in such places.” ~ The SmokyMountains.com Local Expert Team
URL:https://livemusicasheville.com/calendar/free-jazz-tuesday-w-danny-iannucci-quartet/
LOCATION:Little Jumbo\, 241 Broadway St\, Asheville\, NC\, 28801
CATEGORIES:Asheville Area,Live Music
GEO:35.6024336;-82.5568463
X-APPLE-STRUCTURED-LOCATION;VALUE=URI;X-ADDRESS=Little Jumbo 241 Broadway St Asheville NC 28801;X-APPLE-RADIUS=500;X-TITLE=241 Broadway St:geo:-82.5568463,35.6024336
END:VEVENT
BEGIN:VEVENT
DTSTART;TZID=America/New_York:20260127T190000
DTEND;TZID=America/New_York:20260127T220000
DTSTAMP:20260425T220620
CREATED:20251223T195329Z
LAST-MODIFIED:20251223T195330Z
UID:10026733-1769540400-1769551200@livemusicasheville.com
SUMMARY:Songs From The Road Band - Tuesday Residency
DESCRIPTION:Join the band with special guests and special sets every Tuesday in December and January 7-10pm! \nSongs From The Road Band is a dynamic bluegrass ensemble known for their compelling blend of Americana\, roots\, and folk music. Comprised of talented musicians who have individually made their mark in the acoustic music scene\, the band came together to create a powerful collective sound. The are celebrated for their intricate harmonies\, masterful instrumentation\, and engaging live performances. Their discography features a rich tapestry of original songs and innovative covers\, showcasing their ability to balance tradition with modern influences. Songs From The Road Band continues to capture the hearts of audiences with their authentic storytelling and vibrant energy\, making them a beloved staple in the contemporary bluegrass community. Band members are Mark Schimick (mandolin)\, Charles Humphrey III (bass)\, Sam Wharton (guitar)\, James Schlender (fiddle)\, and Gabe Epstein (banjo). songsfromtheroadband.com\n​\n$10 cover \nThe West Asheville taproom hosts a wide variety of special and regular events\, from yoga to an electronic music & beer festival\, and everything in between. Check out our upcoming schedule: click here
URL:https://livemusicasheville.com/calendar/songs-from-the-road-band-2-2/2026-01-27/
LOCATION:One World Brewing – West\, 520 Haywood Rd\, Asheville\, North Carolina\, 28806
CATEGORIES:Asheville Area,Live Music
GEO:35.5783642;-82.5848526
X-APPLE-STRUCTURED-LOCATION;VALUE=URI;X-ADDRESS=One World Brewing – West 520 Haywood Rd Asheville North Carolina 28806;X-APPLE-RADIUS=500;X-TITLE=520 Haywood Rd:geo:-82.5848526,35.5783642
END:VEVENT
BEGIN:VEVENT
DTSTART;TZID=America/New_York:20260127T190000
DTEND;TZID=America/New_York:20260127T233000
DTSTAMP:20260425T220620
CREATED:20250322T150845Z
LAST-MODIFIED:20251214T215054Z
UID:10010536-1769540400-1769556600@livemusicasheville.com
SUMMARY:Save Our Website to Your Home Screen 📲
DESCRIPTION:As an interactive calendar\, we often add events to our calendar as we find out about them\, sometimes even from our phone while we are out supporting local live music. By adding our website\, LiveMusicAsheville.com to your home screen\, we will always be right at your fingertips. Here’s how:\n\n\n\n\niPhone (using Safari):\n\n\n\nOpen Safari and navigate to the website: you want to add as a shortcut. \n\n\n\n\n\n\n\n\nTap the Share button: (a square with an arrow pointing out of the top). \n\n\n\n\n\n\n\n\nScroll down and tap “Add to Home Screen” . \n\n\n\n\n\n\n\n\nChoose a name for the shortcut: and tap “Add”. \n\n\n\n\n\n\n\n\nThe shortcut will appear on your home screen as an icon. \n\n\n\n\n\n\n\n\n\n\n\nAndroid (using Chrome or other browsers):\n\n\n\nOpen Chrome (or your preferred browser) and navigate to the website: you want to add.\nTap the three-dot menu icon: (usually in the top right corner).\nSelect “Add to Home Screen” .\nCustomize the name of the shortcut: if desired\, and then tap “Add”.\nThe shortcut will appear on your home screen as an icon. 
URL:https://livemusicasheville.com/calendar/add-our-website-to-your-home-screen/2026-01-27/
LOCATION:NC
CATEGORIES:Asheville Area
END:VEVENT
BEGIN:VEVENT
DTSTART;TZID=America/New_York:20260127T190000
DTEND;TZID=America/New_York:20260128T020000
DTSTAMP:20260425T220620
CREATED:20241226T144543Z
LAST-MODIFIED:20260224T090529Z
UID:10046522-1769540400-1769565600@livemusicasheville.com
SUMMARY:Tuesday Weekly DJ Schedule
DESCRIPTION:Although we are primarily a Live Music Calendar\, we often come across Electronic & DJ events in the area and list them for you as we find out about them. Please verify the DJ\, times and cover charges with the venue. \nPotential New Boyfriend – 7-11pm \nThird Room (open decks) – 8pm-12am \nThe Double Crown – 10pm-2am \nLazy Diamond – 10pm-2am \nShakeys – 10pm-2am
URL:https://livemusicasheville.com/calendar/tuesday-weekly-dj-schedule/2026-01-27/
LOCATION:NC
CATEGORIES:Asheville Area,DJ/Electronic
END:VEVENT
BEGIN:VEVENT
DTSTART;TZID=America/New_York:20260127T200000
DTEND;TZID=America/New_York:20260127T220000
DTSTAMP:20260425T220620
CREATED:20251023T142458Z
LAST-MODIFIED:20260406T181605Z
UID:10054846-1769544000-1769551200@livemusicasheville.com
SUMMARY:Hot Jazz w/ The John Henrys
DESCRIPTION:
URL:https://livemusicasheville.com/calendar/hot-jazz-w-the-john-henrys-2-2/2026-01-27/
LOCATION:5 Walnut Wine Bar
CATEGORIES:Asheville Area,Live Music
GEO:35.596654;-82.5525389
END:VEVENT
BEGIN:VEVENT
DTSTART;TZID=America/New_York:20260127T213000
DTEND;TZID=America/New_York:20260127T233000
DTSTAMP:20260425T220620
CREATED:20250306T145855Z
LAST-MODIFIED:20251214T220551Z
UID:10008659-1769549400-1769556600@livemusicasheville.com
SUMMARY:Feature Your Event Here
DESCRIPTION:Our Featured Listings really STAND OUT among the dozens on events on the calendar every day creating a better opportunity for a successful event.
URL:https://livemusicasheville.com/calendar/feature-your-event-here-2-2/2026-01-27/
LOCATION:NC
CATEGORIES:Asheville Area,Black Mountain,Fairview,Live Music,Madison County,Mills River,South Asheville/Arden/Fletcher,Weaverville
ATTACH;FMTTYPE=image/jpeg:https://livemusicasheville.com/wp-content/uploads/2025/01/IMG_8324-e1737476634895.jpeg
END:VEVENT
BEGIN:VEVENT
DTSTART;VALUE=DATE:20260128
DTEND;VALUE=DATE:20260130
DTSTAMP:20260425T220620
CREATED:20250309T145031Z
LAST-MODIFIED:20260310T140019Z
UID:10009682-1769569200-1769655599@livemusicasheville.com
SUMMARY:Ask About Our Featured Listings
DESCRIPTION:Established in February 2019\, LiveMusicAsheville.com now reaches thousands of people every week actively searching for live music in the Asheville area. Roughly 60% of our traffic comes from Google Search as we dominate the top of the results for queries such as “Asheville live music” & “live music Asheville”. Meanwhile our direct traffic is experiencing explosive growth\, proving more locals are now using us as their go-to music calendar. \nOur free listings include just the basics of Who’s Playin’ Where & When. We offer Descriptive Listings at just $5 per event to help you guide viewers to your event. These listings include up to 30 words but do not include links.  \nOur Featured Listings really stand out among the dozens of events on the calendar every day. While we update every Wednesday for the following Friday thru Thursday\, these Featured Listings are published much sooner and include your picture or poster\, a description of the event and the venue\, website/ticket links and a Google map. We also share these events on our social media stories to help further promote your show. \n 
URL:https://livemusicasheville.com/calendar/ask-about-our-featured-listings/2026-01-28/
LOCATION:LiveMusicAsheville.com\, ASHEVILLE\, NC\, 28803\, United States
CATEGORIES:Asheville Area,Black Mountain,Fairview,Live Music,Madison County,Mills River,South Asheville/Arden/Fletcher,Weaverville
ATTACH;FMTTYPE=image/jpeg:https://livemusicasheville.com/wp-content/uploads/2026/02/IMG_4145-e1770855289327.jpeg
ORGANIZER;CN="LiveMusicAsheville.com":MAILTO:livemusicasheville@gmail.com
GEO:35.5671423;-82.5437614
END:VEVENT
BEGIN:VEVENT
DTSTART;VALUE=DATE:20260128
DTEND;VALUE=DATE:20260130
DTSTAMP:20260425T220620
CREATED:20260115T155437Z
LAST-MODIFIED:20260416T121636Z
UID:10038402-1769569200-1769655599@livemusicasheville.com
SUMMARY:Support Your Local Music Calendar
DESCRIPTION:We hope you enjoy our guide to the Asheville area’s dynamic music scene. \nIf we somehow help to brighten up your day\, please consider a small donation to help support our efforts in providing the area’s most complete local live music calendar. \nVenmo: click here  \nLast 4 digits – 3383 \nPayPal: click here \n \n 
URL:https://livemusicasheville.com/calendar/support-your-local-music-calendar-2-2/2026-01-28/
LOCATION:NC
CATEGORIES:Asheville Area
END:VEVENT
BEGIN:VEVENT
DTSTART;TZID=America/New_York:20260128T160000
DTEND;TZID=America/New_York:20260128T230000
DTSTAMP:20260425T220620
CREATED:20241226T150904Z
LAST-MODIFIED:20260420T201126Z
UID:10027046-1769616000-1769641200@livemusicasheville.com
SUMMARY:Wednesday Open Mics/Jams
DESCRIPTION:Bluegrass/Old Time Jam @ Riverside Rhapsody Brewing – 5-8pm  \nBlunt Pretzels Swannanoa – 5-8pm \nElkhorn  Canna Co – 6-9pm (Feb 25) \nOpen Mic @ Twin Leaf Brewery – 6-8pm \nOpen Mic @ Auction House Fletcher (first Wednesdays) 6-9pm \nOpen Mic @ Camden’s Coffee House Mars Hill – 6:30-8:30pm \nOpen Mic @ Papertown Billiards Canton – 7-9pm \nWhite Horse Black Mountain – 7-9:30pm (2nd & 4th Wednesdays) \nOpen Jam w/ Hamza @ Silverados Black Mountain – 7-10pm \nOpen Mic & Decks @ Sly Grog Lounge -7-11pm \nJam Night @ Elevated Kava Lounge – 8-11pm  \nAll Genre Open Mic @ Sovereign Kava – 8:30-11pm \n 
URL:https://livemusicasheville.com/calendar/wednesday-open-mics-jams/2026-01-28/
LOCATION:Asheville Area
CATEGORIES:Asheville Area,Black Mountain,Open MIc/Jam
ATTACH;FMTTYPE=image/jpeg:https://livemusicasheville.com/wp-content/uploads/2024/12/IMG_9400-e1743027161179.jpeg
END:VEVENT
BEGIN:VEVENT
DTSTART;TZID=America/New_York:20260128T170000
DTEND;TZID=America/New_York:20260128T210000
DTSTAMP:20260425T220620
CREATED:20241226T150016Z
LAST-MODIFIED:20260211T135450Z
UID:10026994-1769619600-1769634000@livemusicasheville.com
SUMMARY:Jack’s Old-Time Jam
DESCRIPTION:Grab some dinner and a pint while enjoying our long-running Old-Time Jam! Featuring many talented musicians from the local WNC area\, our traditional Appalachian mountain music jam runs from 5-9pm every Wednesday night at Jack of the Wood! \nJack Of The Wood is still a downtown hot spot for food\, brews and drink since 1997 and founders Joan and Joe Eckert who still own it\, have maintained the original lively English and Irish vibe. The old-time mountain and Irish music jams continue\, including a hot bluegrass jam Thursdays and brunch every Sunday. The venue extends a welcoming feeling to regulars and newcomers to this day. https://jackofthewood.com/
URL:https://livemusicasheville.com/calendar/jacks-old-time-jam/2026-01-28/
LOCATION:Jack Of The Wood\, 95 Patton Ave\, asheville\, NC\, United States
CATEGORIES:Asheville Area,Live Music,Open MIc/Jam
ATTACH;FMTTYPE=image/jpeg:https://livemusicasheville.com/wp-content/uploads/2024/12/IMG_8922-e1741818303811.jpeg
GEO:35.5944492;-82.5558221
X-APPLE-STRUCTURED-LOCATION;VALUE=URI;X-ADDRESS=Jack Of The Wood 95 Patton Ave asheville NC United States;X-APPLE-RADIUS=500;X-TITLE=95 Patton Ave:geo:-82.5558221,35.5944492
END:VEVENT
BEGIN:VEVENT
DTSTART;TZID=America/New_York:20260128T180000
DTEND;TZID=America/New_York:20260128T200000
DTSTAMP:20260425T220620
CREATED:20250602T201723Z
LAST-MODIFIED:20260114T215511Z
UID:10036400-1769623200-1769630400@livemusicasheville.com
SUMMARY:Guitar & Vocal Jazz w/ Linda Mitchell
DESCRIPTION:
URL:https://livemusicasheville.com/calendar/guitar-vocal-jazz-w-linda-mitchell/2026-01-28/
LOCATION:The Bush Farmhouse Black Mountain
CATEGORIES:Asheville Area,Black Mountain,Live Music
GEO:35.6171865;-82.3170606
END:VEVENT
BEGIN:VEVENT
DTSTART;TZID=America/New_York:20260128T180000
DTEND;TZID=America/New_York:20260128T200000
DTSTAMP:20260425T220620
CREATED:20251216T152124Z
LAST-MODIFIED:20251216T152124Z
UID:10028870-1769623200-1769630400@livemusicasheville.com
SUMMARY:Phantom Clutch
DESCRIPTION:Bar: 4PM | Deli: 4PM | Music: 6PM \nThe name Phantom Clutch may not ring a bell on the local music scene yet\, but you’ve probably seen one or more members of the band in other groups. Singer/guitarist Ryan Furstenberg can usually be spotted fronting The Moon & You with his wife\, Melissa Hyman. Bassist Andrew Platt and dobro player Jackson Dulaney are regularly found playing with Chris Jamison. \n  \nFounded in 2005\, Pisgah is known for producing some of the most sought after craft ales in Western North Carolina. Pisgah Brewing Company currently operates the new indoor taproom & deli\, with live music several days a week\, plus an open air outdoor bar in the summer and fall months. Check out our upcoming schedule at pisgahbrewing.com/events
URL:https://livemusicasheville.com/calendar/phantom-clutch/
LOCATION:Pisgah Brewing Company Black Mountain\, 2948 US-70\, Black Mountain\, NC\, 28711
CATEGORIES:Asheville Area,Black Mountain,Live Music
ATTACH;FMTTYPE=image/jpeg:https://livemusicasheville.com/wp-content/uploads/2025/12/589363511_1312178394269667_7486302626121733917_n-e1765898477896.jpg
GEO:35.6068069;-82.3568213
X-APPLE-STRUCTURED-LOCATION;VALUE=URI;X-ADDRESS=Pisgah Brewing Company Black Mountain 2948 US-70 Black Mountain NC 28711;X-APPLE-RADIUS=500;X-TITLE=2948 US-70:geo:-82.3568213,35.6068069
END:VEVENT
BEGIN:VEVENT
DTSTART;TZID=America/New_York:20260128T180000
DTEND;TZID=America/New_York:20260128T200000
DTSTAMP:20260425T220620
CREATED:20260107T185729Z
LAST-MODIFIED:20260401T151556Z
UID:10023691-1769623200-1769630400@livemusicasheville.com
SUMMARY:Well Crafted Music Series with Matt Smith
DESCRIPTION:  \n4/1- Amanda Anne Platt\n4/8- A. Lee Edwards w Zack Page\n4/15- Datrian Johnson w Duane Simpson\, Tony Black and Mike Rhodes\n4/22- Silas Hamilton w Zach Smith and Evan Martin\n4/29- Lyndsay Pruett w Rick Cooper and Zach Smith \nCheck with the venue for Matt’s upcoming guest(s).
URL:https://livemusicasheville.com/calendar/well-crafted-wednesday-with-matt-smith-2-2-2-2-2-2/2026-01-28/
LOCATION:Highland Brewing
CATEGORIES:Asheville Area,Live Music
END:VEVENT
BEGIN:VEVENT
DTSTART;TZID=America/New_York:20260128T180000
DTEND;TZID=America/New_York:20260128T210000
DTSTAMP:20260425T220620
CREATED:20260114T160602Z
LAST-MODIFIED:20260114T160604Z
UID:10022404-1769623200-1769634000@livemusicasheville.com
SUMMARY:Country Line Dance Lessons and Dancing
DESCRIPTION:
URL:https://livemusicasheville.com/calendar/country-line-dance-lessons-and-dancing-2/2026-01-28/
LOCATION:Eda’s Hide-a-Way Weaverville
CATEGORIES:Asheville Area,DJ/Electronic,Weaverville
GEO:35.6970547;-82.5606851
END:VEVENT
BEGIN:VEVENT
DTSTART;TZID=America/New_York:20260128T190000
DTEND;TZID=America/New_York:20260128T210000
DTSTAMP:20260425T220620
CREATED:20260121T130334Z
LAST-MODIFIED:20260121T130335Z
UID:10030084-1769626800-1769634000@livemusicasheville.com
SUMMARY:Bam-A Lam with Jason Krekel & Craig Kellberg
DESCRIPTION:
URL:https://livemusicasheville.com/calendar/bam-a-lam-with-jason-krekel-craig-kellberg-2-2-2-2-2/
LOCATION:5 Walnut Wine Bar
CATEGORIES:Asheville Area,Live Music
GEO:35.596654;-82.5525389
END:VEVENT
BEGIN:VEVENT
DTSTART;TZID=America/New_York:20260128T190000
DTEND;TZID=America/New_York:20260128T220000
DTSTAMP:20260425T220620
CREATED:20250902T235040Z
LAST-MODIFIED:20260219T020732Z
UID:10045620-1769626800-1769637600@livemusicasheville.com
SUMMARY:Swing Asheville Dance and Lesson
DESCRIPTION:We have moved our Wednesday night location to Coffee Art Music type Place (CAMP) at 1 Kenilworth Knolls #1\, Asheville\, NC 28805!!!\nJoin us for our weekly dance series Wednesday night at Coffee Art Music type Place!\n\n\n\nA lesson is included with your $10 entry. ($5 for students with i.d.)
URL:https://livemusicasheville.com/calendar/swing-asheville-dance-and-lesson-2-2-3/2026-01-28/
LOCATION:Coffee Art Music type Place\, 1 Kenilworth Knolls Suite 1\, Asheville\, NC\,
CATEGORIES:Asheville Area,DJ/Electronic
GEO:35.5895785;-82.5285828
X-APPLE-STRUCTURED-LOCATION;VALUE=URI;X-ADDRESS=Coffee Art Music type Place 1 Kenilworth Knolls Suite 1 Asheville NC;X-APPLE-RADIUS=500;X-TITLE=1 Kenilworth Knolls Suite 1\, Asheville\, NC\,:geo:-82.5285828,35.5895785
END:VEVENT
BEGIN:VEVENT
DTSTART;TZID=America/New_York:20260128T190000
DTEND;TZID=America/New_York:20260128T220000
DTSTAMP:20260425T220620
CREATED:20251022T142317Z
LAST-MODIFIED:20260115T141826Z
UID:10022954-1769626800-1769637600@livemusicasheville.com
SUMMARY:Swing Asheville Live! With Mary Kay and the Moonlighters
DESCRIPTION:
URL:https://livemusicasheville.com/calendar/swing-ashevilles-halloween-dance-w-mary-kay-and-the-moonlighters/
LOCATION:Warren Wilson College Swannanoa\, 701 Warren Wilson Road\, Swannanoa\, NC
CATEGORIES:Asheville Area,Black Mountain,Live Music
GEO:35.611126;-82.4422791
X-APPLE-STRUCTURED-LOCATION;VALUE=URI;X-ADDRESS=Warren Wilson College Swannanoa 701 Warren Wilson Road Swannanoa NC;X-APPLE-RADIUS=500;X-TITLE=701 Warren Wilson Road:geo:-82.4422791,35.611126
END:VEVENT
BEGIN:VEVENT
DTSTART;TZID=America/New_York:20260128T190000
DTEND;TZID=America/New_York:20260128T220000
DTSTAMP:20260425T220620
CREATED:20251222T160644Z
LAST-MODIFIED:20251222T160644Z
UID:10029217-1769626800-1769637600@livemusicasheville.com
SUMMARY:The B's Trio in The Great Hall
DESCRIPTION:
URL:https://livemusicasheville.com/calendar/the-bs-trio-in-the-great-hall-2/2026-01-28/
LOCATION:The Omni Grove Park Inn
CATEGORIES:Asheville Area,Live Music
GEO:35.6206376;-82.5422977
END:VEVENT
END:VCALENDAR