BEGIN:VCALENDAR
VERSION:2.0
PRODID:-//LiveMusicAsheville.com - ECPv6.15.20//NONSGML v1.0//EN
CALSCALE:GREGORIAN
METHOD:PUBLISH
X-ORIGINAL-URL:https://livemusicasheville.com
X-WR-CALDESC:Events for LiveMusicAsheville.com
REFRESH-INTERVAL;VALUE=DURATION:PT1H
X-Robots-Tag:noindex
X-PUBLISHED-TTL:PT1H
BEGIN:VTIMEZONE
TZID:America/New_York
BEGIN:DAYLIGHT
TZOFFSETFROM:-0500
TZOFFSETTO:-0400
TZNAME:EDT
DTSTART:20250309T070000
END:DAYLIGHT
BEGIN:STANDARD
TZOFFSETFROM:-0400
TZOFFSETTO:-0500
TZNAME:EST
DTSTART:20251102T060000
END:STANDARD
BEGIN:DAYLIGHT
TZOFFSETFROM:-0500
TZOFFSETTO:-0400
TZNAME:EDT
DTSTART:20260308T070000
END:DAYLIGHT
BEGIN:STANDARD
TZOFFSETFROM:-0400
TZOFFSETTO:-0500
TZNAME:EST
DTSTART:20261101T060000
END:STANDARD
BEGIN:DAYLIGHT
TZOFFSETFROM:-0500
TZOFFSETTO:-0400
TZNAME:EDT
DTSTART:20270314T070000
END:DAYLIGHT
BEGIN:STANDARD
TZOFFSETFROM:-0400
TZOFFSETTO:-0500
TZNAME:EST
DTSTART:20271107T060000
END:STANDARD
END:VTIMEZONE
BEGIN:VEVENT
DTSTART;TZID=America/New_York:20260116T180000
DTEND;TZID=America/New_York:20260116T230000
DTSTAMP:20260425T201200
CREATED:20250207T164158Z
LAST-MODIFIED:20260422T131528Z
UID:10026021-1768586400-1768604400@livemusicasheville.com
SUMMARY:Friday Open Mic/Jam
DESCRIPTION:Flora Asheville – 5:30-7:30pm (April 17) \nTurgua Brewing Fairview – 6-8pm (2nd & 4th Fridays) \nCoffee\, Art\, Music type Place – 6-8pm (First Fridays) \nWagWorld Pub Fletcher – 6:30-9:30pm \nElevated Kava Downtown – 8-11
URL:https://livemusicasheville.com/calendar/friday-open-mic-jam/2026-01-16/
LOCATION:Asheville Area
CATEGORIES:Asheville Area,Madison County,Open MIc/Jam,South Asheville/Arden/Fletcher
END:VEVENT
BEGIN:VEVENT
DTSTART;TZID=America/New_York:20260116T180000
DTEND;TZID=America/New_York:20260117T020000
DTSTAMP:20260425T201200
CREATED:20241225T134450Z
LAST-MODIFIED:20260415T173808Z
UID:10027297-1768586400-1768615200@livemusicasheville.com
SUMMARY:Friday Weekly DJ's
DESCRIPTION:Although we are primarily a Live Music Calendar\, we often come across Electronic & DJ events in the area and list them for you as we find out about them. Please verify the DJ\, times and cover charges with the venue. \nLA Pizza Party Rooftop – 6-9pm \nThe Radical – 6-11pm \nPotential New Boyfriend – 7:30-11pm \nCapella On 9 – 8-11pm \nBen’s Tune Up – 8-11pm \nAntidote – 9-11pm \nBanks Ave – 9-11:30pm \nVOWL – 9pm-1am \nDouble Crown – 9pm-2am \nHavana Miami – 9pm-2am \nStatic Age Loft – 9pm-2am \nWaterstreet – 9pm-2am \nLa Pizza Party – 10pm-2am \nThe Barksdale – 10pm-2am \nLazy Diamond – 10pm-2am \nSticks On Broadway – 10pm-2am \nStrange Magic Bar – 10pm-2am \nShakeys – 10pm-2am \n  \nVerify with the venue on times\, cover charges and tonight’s DJ.
URL:https://livemusicasheville.com/calendar/friday-weekly-dj-schedule/2026-01-16/
LOCATION:Asheville Area
CATEGORIES:Asheville Area,DJ/Electronic
END:VEVENT
BEGIN:VEVENT
DTSTART;TZID=America/New_York:20260116T183000
DTEND;TZID=America/New_York:20260116T213000
DTSTAMP:20260425T201200
CREATED:20250101T165612Z
LAST-MODIFIED:20260114T125450Z
UID:10004755-1768588200-1768599000@livemusicasheville.com
SUMMARY:Prime Country
DESCRIPTION:
URL:https://livemusicasheville.com/calendar/prime-country/
LOCATION:Mills River Brewing Co.\, 336 Banner Farm Rd\,\, Mills River\, NC\, 28759
CATEGORIES:Asheville Area,Live Music,Mills River
GEO:35.380515;-82.5654984
X-APPLE-STRUCTURED-LOCATION;VALUE=URI;X-ADDRESS=Mills River Brewing Co. 336 Banner Farm Rd Mills River NC 28759;X-APPLE-RADIUS=500;X-TITLE=336 Banner Farm Rd\,:geo:-82.5654984,35.380515
END:VEVENT
BEGIN:VEVENT
DTSTART;TZID=America/New_York:20260116T190000
DTEND;TZID=America/New_York:20260116T210000
DTSTAMP:20260425T201200
CREATED:20251029T132808Z
LAST-MODIFIED:20260415T133603Z
UID:10056840-1768590000-1768597200@livemusicasheville.com
SUMMARY:Grass Is Back!
DESCRIPTION:No Cover – Donations accepted!\n\n\n\n\nApril 17 – Lynn Goldsmith & The Jeter Mountain Band\nApril 24 – New Carolina Connection Band\nMay 1 – Harlan County Grass\nMay 8 – Mulley Holler Band\nMay 15- Travis Watts & Mountain Blessings\nMay 22 – Hit or Miss Bluegrass & Country Band
URL:https://livemusicasheville.com/calendar/grass-is-back-3/2026-01-16/
LOCATION:Feed and Seed Fletcher
CATEGORIES:Asheville Area,Live Music,South Asheville/Arden/Fletcher
END:VEVENT
BEGIN:VEVENT
DTSTART;TZID=America/New_York:20260116T190000
DTEND;TZID=America/New_York:20260116T220000
DTSTAMP:20260425T201200
CREATED:20250414T184015Z
LAST-MODIFIED:20260110T151945Z
UID:10034738-1768590000-1768600800@livemusicasheville.com
SUMMARY:Blaze the City Acoustic
DESCRIPTION:
URL:https://livemusicasheville.com/calendar/blaze-the-city-acoustic-2/2026-01-16/
LOCATION:WXYZ Lounge at Aloft Asheville Downtown
CATEGORIES:Asheville Area,Live Music
GEO:35.5929089;-82.5513369
END:VEVENT
BEGIN:VEVENT
DTSTART;TZID=America/New_York:20260116T190000
DTEND;TZID=America/New_York:20260116T220000
DTSTAMP:20260425T201200
CREATED:20251105T190238Z
LAST-MODIFIED:20260114T115342Z
UID:10023969-1768590000-1768600800@livemusicasheville.com
SUMMARY:Jake Burns & Bryce Robertson
DESCRIPTION:
URL:https://livemusicasheville.com/calendar/jake-burns-bryce-robertson/
LOCATION:One World Brewing Downtown\, 10 Patton Ave\, Asheville\, NC\, 28801
CATEGORIES:Asheville Area,Live Music
GEO:35.5947396;-82.5522724
X-APPLE-STRUCTURED-LOCATION;VALUE=URI;X-ADDRESS=One World Brewing Downtown 10 Patton Ave Asheville NC 28801;X-APPLE-RADIUS=500;X-TITLE=10 Patton Ave:geo:-82.5522724,35.5947396
END:VEVENT
BEGIN:VEVENT
DTSTART;TZID=America/New_York:20260116T190000
DTEND;TZID=America/New_York:20260116T220000
DTSTAMP:20260425T201200
CREATED:20251113T101742Z
LAST-MODIFIED:20260327T002508Z
UID:10052976-1768590000-1768600800@livemusicasheville.com
SUMMARY:Blues with Mr Jimmy
DESCRIPTION:
URL:https://livemusicasheville.com/calendar/blues-with-mr-jimmy-2-2-2/2026-01-16/
LOCATION:The Station Black Mountain
CATEGORIES:Asheville Area,Black Mountain,Live Music
END:VEVENT
BEGIN:VEVENT
DTSTART;TZID=America/New_York:20260116T190000
DTEND;TZID=America/New_York:20260116T220000
DTSTAMP:20260425T201200
CREATED:20251217T155427Z
LAST-MODIFIED:20260114T190618Z
UID:10028951-1768590000-1768600800@livemusicasheville.com
SUMMARY:Second Chance Music
DESCRIPTION:
URL:https://livemusicasheville.com/calendar/second-chance-music/
LOCATION:Papertown Billiards Canton
CATEGORIES:Asheville Area,Canton/Candler,Live Music
END:VEVENT
BEGIN:VEVENT
DTSTART;TZID=America/New_York:20260116T190000
DTEND;TZID=America/New_York:20260116T220000
DTSTAMP:20260425T201200
CREATED:20251222T160644Z
LAST-MODIFIED:20251222T160644Z
UID:10029213-1768590000-1768600800@livemusicasheville.com
SUMMARY:The B's Trio in The Great Hall
DESCRIPTION:
URL:https://livemusicasheville.com/calendar/the-bs-trio-in-the-great-hall-2/2026-01-16/
LOCATION:The Omni Grove Park Inn
CATEGORIES:Asheville Area,Live Music
GEO:35.6206376;-82.5422977
END:VEVENT
BEGIN:VEVENT
DTSTART;TZID=America/New_York:20260116T190000
DTEND;TZID=America/New_York:20260116T220000
DTSTAMP:20260425T201200
CREATED:20260114T145209Z
LAST-MODIFIED:20260114T145209Z
UID:10035874-1768590000-1768600800@livemusicasheville.com
SUMMARY:Ray DeSilvis & The Groove Investigators
DESCRIPTION:
URL:https://livemusicasheville.com/calendar/ray-desilvis-the-groove-investigators/
LOCATION:The Joint Next Door Fairview
CATEGORIES:Asheville Area,Fairview,Live Music
GEO:35.5251372;-82.424797
END:VEVENT
BEGIN:VEVENT
DTSTART;TZID=America/New_York:20260116T190000
DTEND;TZID=America/New_York:20260117T010000
DTSTAMP:20260425T201200
CREATED:20241225T141623Z
LAST-MODIFIED:20260416T110217Z
UID:10056323-1768590000-1768611600@livemusicasheville.com
SUMMARY:Friday Karaoke
DESCRIPTION:  \n7-10pm – Mal’s Bar Marshall (February 20) \n7-10pm- Noble Cider (April 10) \n8pm-12am – Silverados Black Mountain \n8-11pm – Dalton Distillery (April 17) \n8-11pm – T Birds Weaverville \n8:30-11pm – The Village Porch Woodfin (April 17) \n8pm-1am – Fleetwoods (Feb 27) \n9pm-12am – Brewskies Fairview   \n9pm-12am – Little Creek Tavern Fletcher  \n9pm-1am – Handlebar & Grill \n9pm- 1am – O’Henrys \n9:30pm-1:30am – The Crowbar Downtown \n10pm – 2am – Shakeys \nVerify time and KJ with The Venue. \n  \n  \n\n 
URL:https://livemusicasheville.com/calendar/friday-weekly-karaoke/2026-01-16/
LOCATION:Asheville Area
CATEGORIES:Asheville Area,Black Mountain,Fairview,Karaoke,Madison County,Weaverville
END:VEVENT
BEGIN:VEVENT
DTSTART;TZID=America/New_York:20260116T190000
DTEND;TZID=America/New_York:20260117T020000
DTSTAMP:20260425T201200
CREATED:20241225T123126Z
LAST-MODIFIED:20251122T132355Z
UID:10025520-1768590000-1768615200@livemusicasheville.com
SUMMARY:Dueling Piano Show
DESCRIPTION:
URL:https://livemusicasheville.com/calendar/dueling-piano-show/2026-01-16/
LOCATION:Off the Wagon
CATEGORIES:Asheville Area,Live Music
GEO:41.4302231;-81.3909542
END:VEVENT
BEGIN:VEVENT
DTSTART;TZID=America/New_York:20260116T193000
DTEND;TZID=America/New_York:20260116T213000
DTSTAMP:20260425T201200
CREATED:20250312T160943Z
LAST-MODIFIED:20260115T143023Z
UID:10009877-1768591800-1768599000@livemusicasheville.com
SUMMARY:My Magnificent Nemesis and Aileen Pearlman
DESCRIPTION:My Magnificent Nemesis is an Asheville-based progressive cinematic pop rock band with a jazzy edge\, led by composer/drummer\, James Kylen alongside Chuck Lichtenberger (keys)\, Jonathan Pearlman (guitar)\, Ryan Kijanka(bass)\, and Alex Travers (violin). Known for their high-powered musicianship and playful stage vibe\, their sets showcase the band’s imaginative original music\, shifting between driving rock\, quirky and silly moments\, sweet melodic sections\, and sweeping cinematic feels—so you never quite know what’s coming next\, but it’s always exciting and engaging. Cleverly placed covers keep audiences invested and guessing\, reimagining everything from Led Zeppelin and The Beatles\, to Coltrane and Chick Corea\, to modern pop favorites like Katy Perry and more. \nAileen Pearlman\, also known as “Big Al” Pearlman\, is an active singer-songwriter and vocalist in the Asheville\, NC music scene. She is known for her soulful vocal style and is a fixture in local live music events. She will be opening the show with a 30 minute set. \nAt White Horse Black Mountain\, we want everyone to access the healing power of music! Perhaps you can only afford a few dollars\, or maybe you have resources to cover the cost for others. Donate What You Can! The suggested price per ticket is $20 Event Details and Tickets
URL:https://livemusicasheville.com/calendar/goodgoat-w-my-magnificent-nemesis/
LOCATION:White Horse Black Mountain
CATEGORIES:Asheville Area,Black Mountain,Live Music
GEO:35.6178579;-82.3211924
END:VEVENT
BEGIN:VEVENT
DTSTART;TZID=America/New_York:20260116T200000
DTEND;TZID=America/New_York:20260116T220000
DTSTAMP:20260425T201200
CREATED:20250212T152622Z
LAST-MODIFIED:20260401T141115Z
UID:10032012-1768593600-1768600800@livemusicasheville.com
SUMMARY:Will Hartz
DESCRIPTION:
URL:https://livemusicasheville.com/calendar/will-hartz-4/2026-01-16/
LOCATION:The Whale Outpost Haw Creek
CATEGORIES:Asheville Area,Live Music
GEO:35.5919991;-82.5054695
END:VEVENT
BEGIN:VEVENT
DTSTART;TZID=America/New_York:20260116T200000
DTEND;TZID=America/New_York:20260116T220000
DTSTAMP:20260425T201200
CREATED:20260113T141101Z
LAST-MODIFIED:20260113T141101Z
UID:10035196-1768593600-1768600800@livemusicasheville.com
SUMMARY:The Slocan Ramblers
DESCRIPTION:
URL:https://livemusicasheville.com/calendar/the-slocan-ramblers/
LOCATION:Wortham Center for the Performing Arts
CATEGORIES:Asheville Area,Live Music
GEO:35.5943091;-82.5509521
END:VEVENT
BEGIN:VEVENT
DTSTART;TZID=America/New_York:20260116T200000
DTEND;TZID=America/New_York:20260116T223000
DTSTAMP:20260425T201200
CREATED:20241227T122035Z
LAST-MODIFIED:20260114T135343Z
UID:10003972-1768593600-1768602600@livemusicasheville.com
SUMMARY:The Uptown Hillbillies
DESCRIPTION:
URL:https://livemusicasheville.com/calendar/the-uptown-hillbillies/
LOCATION:Cork & Keg
CATEGORIES:Asheville Area,Live Music
END:VEVENT
BEGIN:VEVENT
DTSTART;TZID=America/New_York:20260116T200000
DTEND;TZID=America/New_York:20260116T230000
DTSTAMP:20260425T201200
CREATED:20250711T192233Z
LAST-MODIFIED:20260116T152048Z
UID:10028207-1768593600-1768604400@livemusicasheville.com
SUMMARY:Commodore Fox Band
DESCRIPTION:
URL:https://livemusicasheville.com/calendar/commodore-fox-band-2/2026-01-16/
LOCATION:Wild Wing Cafe South
CATEGORIES:Live Music,South Asheville/Arden/Fletcher
END:VEVENT
BEGIN:VEVENT
DTSTART;TZID=America/New_York:20260116T200000
DTEND;TZID=America/New_York:20260116T230000
DTSTAMP:20260425T201200
CREATED:20251021T171800Z
LAST-MODIFIED:20260115T074440Z
UID:10022879-1768593600-1768604400@livemusicasheville.com
SUMMARY:Reggie Headen & Nighttime Noon
DESCRIPTION:REGGIE HEADEN AND NIGHTTIME NOON forge soul\, rock\, and punk into fearless collision. The lyrics cut deep—exploring invisibility\, hypocrisy\, rage\, and the raw truth of being an outsider. Rooted in The Stooges’ primal danger and the uncompromising spirit of PJ Harvey\, Thin Lizzy\, and Grace Jones\, they invite you into the disruption you’ve been craving.\n\nThis is an invitation for your whole humanity to be fully realized. Joy\, anguish\, grief\, and love—all have their place. Here\, darkness transmutes into essence. This is your evolution.\n\nNighttime Noon—where opposites don’t just coexist\, they combust. Theatre meets punk meets jazz\, creating heat where there should only be contradiction.\n\nVocals: Reggie HeadenGuitar: Andy BurnsBass: Quinn SternbergDrums: Josey Esposito\n\n$10 Cover\n\n\nThe West Asheville taproom hosts a wide variety of special and regular events\, from yoga to an electronic music & beer festival\, and everything in between. Check out our upcoming schedule: click here
URL:https://livemusicasheville.com/calendar/reggie-headen-nighttime-noon-2/
LOCATION:One World Brewing – West\, 520 Haywood Rd\, Asheville\, North Carolina\, 28806
CATEGORIES:Asheville Area,Live Music
GEO:35.5783642;-82.5848526
X-APPLE-STRUCTURED-LOCATION;VALUE=URI;X-ADDRESS=One World Brewing – West 520 Haywood Rd Asheville North Carolina 28806;X-APPLE-RADIUS=500;X-TITLE=520 Haywood Rd:geo:-82.5848526,35.5783642
END:VEVENT
BEGIN:VEVENT
DTSTART;TZID=America/New_York:20260116T200000
DTEND;TZID=America/New_York:20260116T230000
DTSTAMP:20260425T201200
CREATED:20251203T115807Z
LAST-MODIFIED:20260114T114218Z
UID:10026437-1768593600-1768604400@livemusicasheville.com
SUMMARY:Moon Hunter
DESCRIPTION:
URL:https://livemusicasheville.com/calendar/moon-hunter/
LOCATION:Shamrock Irons Irish Pub\, 4 College St\, Asheville\, NC\, 28801\, United States
CATEGORIES:Asheville Area,Live Music
GEO:35.9844236;-80.0221361
X-APPLE-STRUCTURED-LOCATION;VALUE=URI;X-ADDRESS=Shamrock Irons Irish Pub 4 College St Asheville NC 28801 United States;X-APPLE-RADIUS=500;X-TITLE=4 College St:geo:-80.0221361,35.9844236
END:VEVENT
BEGIN:VEVENT
DTSTART;TZID=America/New_York:20260116T200000
DTEND;TZID=America/New_York:20260116T230000
DTSTAMP:20260425T201200
CREATED:20251216T145619Z
LAST-MODIFIED:20251216T145619Z
UID:10028864-1768593600-1768604400@livemusicasheville.com
SUMMARY:Andrew Scotchie’s Always Sunny B-Day Bash w/sg Florencia and the Feeling
DESCRIPTION:Friday January 16\, 2026 // Doors: 7:00pm // Show: 8:00pm // from $12.81 Event Details and Tickets \nAsheville dynamo Andrew Scotchie brings his epic birthday bash to the Pisgah Brewing Taproom January 16th! This year’s theme is the hit TV show It’s Always Sunny in Philadelphia! \nWhat to expect:\n-only 100 tickets available so get them while you can!\n-Andrew Scotchie full electric band with special guests Florencia and the Feeling.\n-Performing fan favorite songs from the TV show.\n-Costume prizes.\n-Rum ham birthday toast.\n-Sunny inspired snacks and decor. \nFounded in 2005\, Pisgah is known for producing some of the most sought after craft ales in Western North Carolina. Pisgah Brewing Company currently operates the new indoor taproom & deli\, with live music several days a week\, plus an open air outdoor bar in the summer and fall months. Check out our upcoming schedule at pisgahbrewing.com/events
URL:https://livemusicasheville.com/calendar/andrew-scotchies-always-sunny-b-day-bash-w-sg-florencia-and-the-feeling/
LOCATION:Pisgah Brewing Company Black Mountain\, 2948 US-70\, Black Mountain\, NC\, 28711
CATEGORIES:Asheville Area,Black Mountain,Live Music
GEO:35.6068069;-82.3568213
X-APPLE-STRUCTURED-LOCATION;VALUE=URI;X-ADDRESS=Pisgah Brewing Company Black Mountain 2948 US-70 Black Mountain NC 28711;X-APPLE-RADIUS=500;X-TITLE=2948 US-70:geo:-82.3568213,35.6068069
END:VEVENT
BEGIN:VEVENT
DTSTART;TZID=America/New_York:20260116T200000
DTEND;TZID=America/New_York:20260116T230000
DTSTAMP:20260425T201200
CREATED:20260108T191315Z
LAST-MODIFIED:20260115T134930Z
UID:10033948-1768593600-1768604400@livemusicasheville.com
SUMMARY:Wrong Way Trio | The Showroom
DESCRIPTION:The Wrong Way Trio rolls into the Showroom with a high-energy tribute to Sublime\, pulling together reggae\, ska\, rock\, and a healthy dose of 90s nostalgia. It’s loose\, loud\, and built for a crowd that likes their classics served a little sideways.\nMade up of three seasoned musicians out of Charlotte\, NC\, the Trio puts their own spin on familiar songs without losing what made them great in the first place. Expect tight playing\, plenty of bounce\, and a set that doesn’t take itself too seriously. If you know the words\, you’re probably going to sing along.\n  \n$10 covers both the Showroom and Palm Room music. \nFitz\, she’s the party. Wolfe\, he’s the epicure. 2 levels\, 3 vibes. 🎶 Live Music |🍸Sips & Noms 🥪 | 🕹️ Artcade | 🗝️Speakeasy | Private Events \nFitz and the Wolfe is a cocktail and music venue shaped by the spirit of improvisation\, storytelling\, and the kind of nights that feel too good to end. Here\, every night brings a new soundtrack. Jazz\, swing\, honky-tonk\, and sometimes things a little more esoteric—if it moves people\, we book it. The music fills the space like a second heartbeat\, sometimes rowdy\, sometimes intimate\, always memorable. It’s not background noise. It’s the reason you’re here. fitzandthewolfe.com
URL:https://livemusicasheville.com/calendar/wrong-way-trio-the-showroom/
LOCATION:Fitz and the Wolfe\, 1 Battery Park Ave\, Asheville\, NC\, 28801\, United States
CATEGORIES:Asheville Area,Live Music
GEO:35.5954515;-82.5548502
X-APPLE-STRUCTURED-LOCATION;VALUE=URI;X-ADDRESS=Fitz and the Wolfe 1 Battery Park Ave Asheville NC 28801 United States;X-APPLE-RADIUS=500;X-TITLE=1 Battery Park Ave:geo:-82.5548502,35.5954515
END:VEVENT
BEGIN:VEVENT
DTSTART;TZID=America/New_York:20260116T200000
DTEND;TZID=America/New_York:20260116T230000
DTSTAMP:20260425T201200
CREATED:20260110T192530Z
LAST-MODIFIED:20260115T155755Z
UID:10034744-1768593600-1768604400@livemusicasheville.com
SUMMARY:Tony Black Trio w/ Jeff Sipe & Mike Barnes
DESCRIPTION:Tony Black is a bassist\, multi-instrumentalist\, composer\, and producer based in Waynesville\, North Carolina. He curates this ensemble of jazz musicians with a shared focus on jazz as an improvisational art form and vehicle for higher expression. \nWhile widely recognized for his work in successful rock projects\, including the Marshall Tucker Band\, Tony has maintained a deep and enduring relationship with jazz throughout his career. From 1998–2000\, he performed with EYEDENTITY\, an innovative jazz project that at various times featured legendary Brazilian jazz artists Flora Purimand Airto Moreira\, alongside Motown studio icon Wah Wah Watson. \nIn the Asheville area\, Tony has performed jazz with notable musicians including Mike Barnes\, Alan Hall\, Jeff Sipe\, Mike Rhodes\, and Jason DeCristofaro\, among many others. Grounded in tradition and driven by exploration\, Tony’s work honors the spirit of jazz while pushing toward new expressive possibilities \n$15 at the door (all ticket proceeds are 100% passed to the band\, backed by a living wage guarantee from Hotel Eve) \nHotel Eve is your locally rooted\, speakeasy jazz club & cocktail bar\, hidden in the heart of Downtown Asheville. Mysteriously not a hotel…check in for spirits\, souls and jazz! We’re tucked away\, on purpose. You’ll find us behind the gate nestled between Virtue Boutique and Dane Wells Gallery at 56 N Lexington Avenue in downtown Asheville. Step through\, take a left into the courtyard\, check in for Spirits\, Souls & Jazz. We’ll be waiting on the other side. hotelevejazz.com \n 
URL:https://livemusicasheville.com/calendar/tony-black-trio/
LOCATION:Hotel Eve Jazz\, 56 N Lexington Avenue\, Asheville\, NC\, 28801\, United States
CATEGORIES:Asheville Area,Live Music
GEO:35.5967716;-82.5530826
X-APPLE-STRUCTURED-LOCATION;VALUE=URI;X-ADDRESS=Hotel Eve Jazz 56 N Lexington Avenue Asheville NC 28801 United States;X-APPLE-RADIUS=500;X-TITLE=56 N Lexington Avenue:geo:-82.5530826,35.5967716
END:VEVENT
BEGIN:VEVENT
DTSTART;TZID=America/New_York:20260116T200000
DTEND;TZID=America/New_York:20260116T230000
DTSTAMP:20260425T201200
CREATED:20260114T180550Z
LAST-MODIFIED:20260114T180550Z
UID:10036123-1768593600-1768604400@livemusicasheville.com
SUMMARY:The Broken Hearts: Tribute to Tom Petty & The Heartbreakers
DESCRIPTION:
URL:https://livemusicasheville.com/calendar/the-broken-hearts-tribute-to-tom-petty-the-heartbreakers/
LOCATION:The Orange Peel
CATEGORIES:Asheville Area,Live Music
GEO:35.5914061;-82.5510137
END:VEVENT
BEGIN:VEVENT
DTSTART;TZID=America/New_York:20260116T200000
DTEND;TZID=America/New_York:20260116T230000
DTSTAMP:20260425T201200
CREATED:20260114T181018Z
LAST-MODIFIED:20260114T181018Z
UID:10036125-1768593600-1768604400@livemusicasheville.com
SUMMARY:Fred Eaglesmith
DESCRIPTION:
URL:https://livemusicasheville.com/calendar/fred-eaglesmith/
LOCATION:The Grey Eagle\, 185 Clingman Ave\, Asheville\, NC\, United States
CATEGORIES:Asheville Area,Live Music
GEO:35.5870871;-82.5643936
X-APPLE-STRUCTURED-LOCATION;VALUE=URI;X-ADDRESS=The Grey Eagle 185 Clingman Ave Asheville NC United States;X-APPLE-RADIUS=500;X-TITLE=185 Clingman Ave:geo:-82.5643936,35.5870871
END:VEVENT
BEGIN:VEVENT
DTSTART;TZID=America/New_York:20260116T203000
DTEND;TZID=America/New_York:20260116T233000
DTSTAMP:20260425T201200
CREATED:20250129T182120Z
LAST-MODIFIED:20260114T133630Z
UID:10007276-1768595400-1768606200@livemusicasheville.com
SUMMARY:Ramona & The Holy Smokes
DESCRIPTION:
URL:https://livemusicasheville.com/calendar/ramona-the-holy-smokes/
LOCATION:Crow and Quill
CATEGORIES:Asheville Area,Live Music
GEO:35.5984495;-82.5537921
END:VEVENT
BEGIN:VEVENT
DTSTART;TZID=America/New_York:20260116T203000
DTEND;TZID=America/New_York:20260116T233000
DTSTAMP:20260425T201200
CREATED:20250423T213947Z
LAST-MODIFIED:20260113T143604Z
UID:10013324-1768595400-1768606200@livemusicasheville.com
SUMMARY:Menacing Americana w/ Drunken Prayer
DESCRIPTION:
URL:https://livemusicasheville.com/calendar/drunken-prayer/
LOCATION:Jack Of The Wood\, 95 Patton Ave\, asheville\, NC\, United States
CATEGORIES:Asheville Area,Live Music
GEO:35.5944492;-82.5558221
X-APPLE-STRUCTURED-LOCATION;VALUE=URI;X-ADDRESS=Jack Of The Wood 95 Patton Ave asheville NC United States;X-APPLE-RADIUS=500;X-TITLE=95 Patton Ave:geo:-82.5558221,35.5944492
END:VEVENT
BEGIN:VEVENT
DTSTART;TZID=America/New_York:20260116T203000
DTEND;TZID=America/New_York:20260117T010000
DTSTAMP:20260425T201200
CREATED:20251224T142533Z
LAST-MODIFIED:20251224T142535Z
UID:10028260-1768595400-1768611600@livemusicasheville.com
SUMMARY:Elaine’s Dueling Piano Bar
DESCRIPTION:
URL:https://livemusicasheville.com/calendar/elaines-dueling-piano-bar-2/2026-01-16/
LOCATION:The Omni Grove Park Inn
CATEGORIES:Asheville Area,Live Music
GEO:35.6206376;-82.5422977
END:VEVENT
BEGIN:VEVENT
DTSTART;TZID=America/New_York:20260116T210000
DTEND;TZID=America/New_York:20260117T000000
DTSTAMP:20260425T201200
CREATED:20250507T121223Z
LAST-MODIFIED:20260115T153655Z
UID:10013866-1768597200-1768608000@livemusicasheville.com
SUMMARY:Carolina Drifters
DESCRIPTION:
URL:https://livemusicasheville.com/calendar/carolina-drifters/
LOCATION:Town Pump Tavern Black Mountain
CATEGORIES:Asheville Area,Black Mountain,Live Music
GEO:35.6162458;-82.320259
END:VEVENT
BEGIN:VEVENT
DTSTART;TZID=America/New_York:20260116T210000
DTEND;TZID=America/New_York:20260117T010000
DTSTAMP:20260425T201200
CREATED:20260114T122521Z
LAST-MODIFIED:20260114T122521Z
UID:10035447-1768597200-1768611600@livemusicasheville.com
SUMMARY:Small Doses // Drowning Leo // Night Beers // Vulture Twin
DESCRIPTION:
URL:https://livemusicasheville.com/calendar/small-doses-drowning-leo-night-beers-vulture-twin/
LOCATION:Fleetwood’s\, 496 Haywood Rd\, Asheville\, NC\, 28806\, United States
CATEGORIES:Asheville Area,Live Music
GEO:35.578126;-82.583757
X-APPLE-STRUCTURED-LOCATION;VALUE=URI;X-ADDRESS=Fleetwood’s 496 Haywood Rd Asheville NC 28806 United States;X-APPLE-RADIUS=500;X-TITLE=496 Haywood Rd:geo:-82.583757,35.578126
END:VEVENT
BEGIN:VEVENT
DTSTART;TZID=America/New_York:20260116T210000
DTEND;TZID=America/New_York:20260117T010000
DTSTAMP:20260425T201200
CREATED:20260114T161310Z
LAST-MODIFIED:20260114T161310Z
UID:10036112-1768597200-1768611600@livemusicasheville.com
SUMMARY:Cold Choir - Idol Talk - Neckroft/DJ
DESCRIPTION:
URL:https://livemusicasheville.com/calendar/cold-choir-idol-talk-neckroft-dj/
LOCATION:Static Age Records
CATEGORIES:Asheville Area,DJ/Electronic,Live Music
GEO:35.5985631;-82.5538043
END:VEVENT
END:VCALENDAR