BEGIN:VCALENDAR
VERSION:2.0
PRODID:-//LiveMusicAsheville.com - ECPv6.15.20//NONSGML v1.0//EN
CALSCALE:GREGORIAN
METHOD:PUBLISH
X-ORIGINAL-URL:https://livemusicasheville.com
X-WR-CALDESC:Events for LiveMusicAsheville.com
REFRESH-INTERVAL;VALUE=DURATION:PT1H
X-Robots-Tag:noindex
X-PUBLISHED-TTL:PT1H
BEGIN:VTIMEZONE
TZID:America/New_York
BEGIN:DAYLIGHT
TZOFFSETFROM:-0500
TZOFFSETTO:-0400
TZNAME:EDT
DTSTART:20240310T070000
END:DAYLIGHT
BEGIN:STANDARD
TZOFFSETFROM:-0400
TZOFFSETTO:-0500
TZNAME:EST
DTSTART:20241103T060000
END:STANDARD
BEGIN:DAYLIGHT
TZOFFSETFROM:-0500
TZOFFSETTO:-0400
TZNAME:EDT
DTSTART:20250309T070000
END:DAYLIGHT
BEGIN:STANDARD
TZOFFSETFROM:-0400
TZOFFSETTO:-0500
TZNAME:EST
DTSTART:20251102T060000
END:STANDARD
BEGIN:DAYLIGHT
TZOFFSETFROM:-0500
TZOFFSETTO:-0400
TZNAME:EDT
DTSTART:20260308T070000
END:DAYLIGHT
BEGIN:STANDARD
TZOFFSETFROM:-0400
TZOFFSETTO:-0500
TZNAME:EST
DTSTART:20261101T060000
END:STANDARD
END:VTIMEZONE
BEGIN:VEVENT
DTSTART;TZID=America/New_York:20251214T143000
DTEND;TZID=America/New_York:20251214T163000
DTSTAMP:20260424T054802
CREATED:20250112T160044Z
LAST-MODIFIED:20250601T210834Z
UID:10002302-1765722600-1765729800@livemusicasheville.com
SUMMARY:Sunday Jazz Jam
DESCRIPTION:
URL:https://livemusicasheville.com/calendar/sunday-jazz-jam-2/2025-12-14/
LOCATION:Ginger’s Revenge
CATEGORIES:Asheville Area,Live Music,Open MIc/Jam
END:VEVENT
BEGIN:VEVENT
DTSTART;TZID=America/New_York:20251214T143000
DTEND;TZID=America/New_York:20251214T170000
DTSTAMP:20260424T054802
CREATED:20251211T162856Z
LAST-MODIFIED:20251211T162856Z
UID:10027291-1765722600-1765731600@livemusicasheville.com
SUMMARY:South Slope Carol Crawl
DESCRIPTION:Let’s spread some holiday cheer as we jump from pub to pub down the South Slope of Asheville.\n– Park in the Keller-Williams Parking deck (2:30)– Don’t have to be a good singer\, just a loud and fun one!
URL:https://livemusicasheville.com/calendar/south-slope-carol-crawl/
LOCATION:Asheville’s South Slope\, 75 Coxe Ave\, Asheville\, NC\, 28801
CATEGORIES:Asheville Area,Live Music,Open MIc/Jam
GEO:35.5920902;-82.55537
X-APPLE-STRUCTURED-LOCATION;VALUE=URI;X-ADDRESS=Asheville’s South Slope 75 Coxe Ave Asheville NC 28801;X-APPLE-RADIUS=500;X-TITLE=75 Coxe Ave:geo:-82.55537,35.5920902
END:VEVENT
BEGIN:VEVENT
DTSTART;TZID=America/New_York:20251214T150000
DTEND;TZID=America/New_York:20251214T163000
DTSTAMP:20260424T054802
CREATED:20250306T141738Z
LAST-MODIFIED:20251128T151727Z
UID:10009543-1765724400-1765729800@livemusicasheville.com
SUMMARY:Smoky Mountain Brass Band Christmas Concert
DESCRIPTION:Come enjoy a donation based Christmas concert of traditional and popular music in the British-style brass band tradition.
URL:https://livemusicasheville.com/calendar/smoky-mountain-brass-band-2/
LOCATION:St. James Episcopal Church\, Black Mountain\, NC
CATEGORIES:Asheville Area,Black Mountain,Live Music
END:VEVENT
BEGIN:VEVENT
DTSTART;TZID=America/New_York:20251214T150000
DTEND;TZID=America/New_York:20251214T170000
DTSTAMP:20260424T054802
CREATED:20250910T202409Z
LAST-MODIFIED:20250910T202411Z
UID:10002408-1765724400-1765731600@livemusicasheville.com
SUMMARY:Vintage Swing w/ Parker’s Back
DESCRIPTION:
URL:https://livemusicasheville.com/calendar/vintage-swing-w-parkers-back-2/2025-12-14/
LOCATION:Battery Park Book Exchange & Champagne Bar
CATEGORIES:Asheville Area,Live Music
GEO:35.5951042;-82.556633
END:VEVENT
BEGIN:VEVENT
DTSTART;TZID=America/New_York:20251214T150000
DTEND;TZID=America/New_York:20251214T180000
DTSTAMP:20260424T054802
CREATED:20241225T202243Z
LAST-MODIFIED:20250528T165144Z
UID:10002355-1765724400-1765735200@livemusicasheville.com
SUMMARY:Iggy Radio
DESCRIPTION:
URL:https://livemusicasheville.com/calendar/iggy-radio/2025-12-14/
LOCATION:Asheville Yacht Club
CATEGORIES:Asheville Area,Live Music
GEO:35.5944176;-82.5554715
END:VEVENT
BEGIN:VEVENT
DTSTART;TZID=America/New_York:20251214T150000
DTEND;TZID=America/New_York:20251214T180000
DTSTAMP:20260424T054802
CREATED:20251019T134327Z
LAST-MODIFIED:20251221T024501Z
UID:10013169-1765724400-1765735200@livemusicasheville.com
SUMMARY:Reggae Sunday w/ CHALWA
DESCRIPTION:This 8-member Mountain Reggae powerhouse packs it full of roots meditations and high grade jams that awaken your spirit and soul! Chalwa’s high energy shows are one of a kind\, featuring smooth vocals\, percussion\, bass\, lead guitar\, keys and saxophone. Their extensive collection of original music is interlaced with music from some of the Greats including\, Bob Marley\, Peter Tosh\, Burning Spear\, Bunny Wailer and even Jerry Garcia and the Grateful Dead. \nFrench Broad River Brewery is more than just a place to enjoy a drink—it’s a community hub where great beer\, delicious pizza\, live music\, and good times come together. Just minutes from the Biltmore Estate & Downtown\, our taproom is a gathering spot for locals and visitors alike. We regularly host live music and entertainment in our taproom\, making French Broad River Brewery a lively hub of local activity. From bluegrass to reggae\, there’s always something happening. Check out our Events Page to see what’s coming up next! \nNo brewery experience is complete without great food. That’s why we offer French Broad River Pizza\, serving up hot\, hand-tossed pizzas made to order. Whether you’re here for a quick slice or a full meal\, our pizza perfectly complements our craft beers and the lively atmosphere of our taproom. frenchbroadbrewery.com/pizza \n 
URL:https://livemusicasheville.com/calendar/chalwa-returns-2-2/2025-12-14/
LOCATION:French Broad River Brewery\, 101 Fairview Rd\, Asheville\, NC\, United States
CATEGORIES:Asheville Area,Live Music
ATTACH;FMTTYPE=image/png:https://livemusicasheville.com/wp-content/uploads/2025/10/Screenshot-2025-12-20-214144-e1766285002169.png
GEO:35.5662722;-82.5374054
X-APPLE-STRUCTURED-LOCATION;VALUE=URI;X-ADDRESS=French Broad River Brewery 101 Fairview Rd Asheville NC United States;X-APPLE-RADIUS=500;X-TITLE=101 Fairview Rd:geo:-82.5374054,35.5662722
END:VEVENT
BEGIN:VEVENT
DTSTART;TZID=America/New_York:20251214T150000
DTEND;TZID=America/New_York:20251214T193000
DTSTAMP:20260424T054802
CREATED:20251006T015201Z
LAST-MODIFIED:20251201T170250Z
UID:10021245-1765724400-1765740600@livemusicasheville.com
SUMMARY:Asheville Guitar Bar "on the road" presents: The Sunday Jam
DESCRIPTION:
URL:https://livemusicasheville.com/calendar/asheville-guitar-bar-on-the-road-presents-the-sunday-jam-2-2/2025-12-14/
LOCATION:Terra Nova Beer Company Asheville
CATEGORIES:Asheville Area,Live Music,Open MIc/Jam
END:VEVENT
BEGIN:VEVENT
DTSTART;TZID=America/New_York:20251214T153000
DTEND;TZID=America/New_York:20251214T170000
DTSTAMP:20260424T054802
CREATED:20251214T012241Z
LAST-MODIFIED:20251214T012241Z
UID:10027401-1765726200-1765731600@livemusicasheville.com
SUMMARY:Asheville Community Band "Sounds Of The Season"
DESCRIPTION:Celebrate the season with your Asheville Community Band! Donation proceeds and ticket sales directly benefit our community through scholarships that support music education. This program is sure to be a great way for the whole family to spend a Sunday afternoon.
URL:https://livemusicasheville.com/calendar/asheville-community-band-sounds-of-the-season/
LOCATION:Auditorium at Asheville High School
CATEGORIES:Asheville Area,Live Music
END:VEVENT
BEGIN:VEVENT
DTSTART;TZID=America/New_York:20251214T153000
DTEND;TZID=America/New_York:20251214T173000
DTSTAMP:20260424T054802
CREATED:20250713T144135Z
LAST-MODIFIED:20251012T113307Z
UID:10022658-1765726200-1765733400@livemusicasheville.com
SUMMARY:Second Sundays Celtic Music w/ Nora Garver & Friends
DESCRIPTION:
URL:https://livemusicasheville.com/calendar/second-sundays-celtic-music-w-nora-garver-friends-2/2025-12-14/
LOCATION:Archetype Brewing\, 265 Haywood\, Asheville\, NC\, 28806\, United States
CATEGORIES:Asheville Area,Live Music
GEO:35.578181;-82.575074
X-APPLE-STRUCTURED-LOCATION;VALUE=URI;X-ADDRESS=Archetype Brewing 265 Haywood Asheville NC 28806 United States;X-APPLE-RADIUS=500;X-TITLE=265 Haywood:geo:-82.575074,35.578181
END:VEVENT
BEGIN:VEVENT
DTSTART;TZID=America/New_York:20251214T153000
DTEND;TZID=America/New_York:20251214T181500
DTSTAMP:20260424T054802
CREATED:20250112T152942Z
LAST-MODIFIED:20260107T163109Z
UID:10027199-1765726200-1765736100@livemusicasheville.com
SUMMARY:Sunday Afternoon English Country Dance
DESCRIPTION:
URL:https://livemusicasheville.com/calendar/sunday-afternoon-english-country-dance/
LOCATION:Harvest House Community Center\, 205 Kenilworth Rd\, Asheville\, NC\, 28803
CATEGORIES:Asheville Area,Live Music
GEO:35.5789284;-82.5379256
X-APPLE-STRUCTURED-LOCATION;VALUE=URI;X-ADDRESS=Harvest House Community Center 205 Kenilworth Rd Asheville NC 28803;X-APPLE-RADIUS=500;X-TITLE=205 Kenilworth Rd:geo:-82.5379256,35.5789284
END:VEVENT
BEGIN:VEVENT
DTSTART;TZID=America/New_York:20251214T153000
DTEND;TZID=America/New_York:20251214T200000
DTSTAMP:20260424T054802
CREATED:20250209T143153Z
LAST-MODIFIED:20250929T004024Z
UID:10001770-1765726200-1765742400@livemusicasheville.com
SUMMARY:Jack’s Traditional Irish/Celtic Jam Session
DESCRIPTION:Stop in for the pub’s long running Traditional Irish Session each Sunday afternoon beginning around 3:30pm. Many talented local musicians come from WNC to jam away into the night – all on our pub stage! Sunday is a perfect day to enjoy a pint or afternoon Irish coffee! Slaínte! \nJack Of The Wood is still a downtown hot spot for food\, brews and drink since 1997 and founders Joan and Joe Eckert who still own it\, have maintained the original lively English and Irish vibe. The old-time mountain and Irish music jams continue\, including a hot bluegrass jam Thursdays and brunch every Sunday. The venue extends a welcoming feeling to regulars and newcomers to this day. https://jackofthewood.com/
URL:https://livemusicasheville.com/calendar/jacks-traditional-irish-celtic-jam-session-2/2025-12-14/
LOCATION:Jack Of The Wood\, 95 Patton Ave\, asheville\, NC\, United States
CATEGORIES:Asheville Area,Live Music,Open MIc/Jam
ATTACH;FMTTYPE=image/jpeg:https://livemusicasheville.com/wp-content/uploads/2025/02/520234226_634124486372464_8974916319488110849_n-e1754135686660.jpg
GEO:35.5944492;-82.5558221
X-APPLE-STRUCTURED-LOCATION;VALUE=URI;X-ADDRESS=Jack Of The Wood 95 Patton Ave asheville NC United States;X-APPLE-RADIUS=500;X-TITLE=95 Patton Ave:geo:-82.5558221,35.5944492
END:VEVENT
BEGIN:VEVENT
DTSTART;TZID=America/New_York:20251214T160000
DTEND;TZID=America/New_York:20251214T190000
DTSTAMP:20260424T054802
CREATED:20250910T114037Z
LAST-MODIFIED:20260107T124932Z
UID:10031560-1765728000-1765738800@livemusicasheville.com
SUMMARY:Line Dancing with Steppin' Out
DESCRIPTION:
URL:https://livemusicasheville.com/calendar/line-dancing-with-steppin-out/2025-12-14/
LOCATION:The Event Center at Hi Wire Biltmore Village
CATEGORIES:Asheville Area,DJ/Electronic
END:VEVENT
BEGIN:VEVENT
DTSTART;TZID=America/New_York:20251214T160000
DTEND;TZID=America/New_York:20251215T020000
DTSTAMP:20260424T054802
CREATED:20241225T203811Z
LAST-MODIFIED:20260104T123715Z
UID:10010190-1765728000-1765764000@livemusicasheville.com
SUMMARY:Sunday Karaoke
DESCRIPTION:T Birds Weaverville – 4-8pm \nBush Farmhouse Black Mountain – 6-9pm (January 4 & 18) \nThe Draftsman – 8-11pm \nBanks Ave – 9pm-12am \nThe Social East Asheville – 9pm-12am \nThe Double Crown – 10pm-2am \nPlease verify with the venue on times and KJ. \n 
URL:https://livemusicasheville.com/calendar/sunday-karaoke/2025-12-14/
LOCATION:Asheville Area
CATEGORIES:Asheville Area,Black Mountain,Karaoke,South Asheville/Arden/Fletcher,Weaverville
END:VEVENT
BEGIN:VEVENT
DTSTART;TZID=America/New_York:20251214T163000
DTEND;TZID=America/New_York:20251214T193000
DTSTAMP:20260424T054802
CREATED:20250903T135708Z
LAST-MODIFIED:20250903T135708Z
UID:10020559-1765729800-1765740600@livemusicasheville.com
SUMMARY:Sunday Bluegrass & Jam On The River
DESCRIPTION:A rotating local host band will play from 4:30 to 5:30\, and then an open bluegrass jam from 5:30 to 7:30.
URL:https://livemusicasheville.com/calendar/sunday-bluegrass-jam-on-the-river/2025-12-14/
LOCATION:Zillicoah Beer Company
CATEGORIES:Asheville Area,Live Music,Open MIc/Jam
END:VEVENT
BEGIN:VEVENT
DTSTART;TZID=America/New_York:20251214T170000
DTEND;TZID=America/New_York:20251214T190000
DTSTAMP:20260424T054802
CREATED:20251210T144408Z
LAST-MODIFIED:20251210T144408Z
UID:10027157-1765731600-1765738800@livemusicasheville.com
SUMMARY:Singer Songwriter Sunday with Drew Holgate
DESCRIPTION:
URL:https://livemusicasheville.com/calendar/singer-songwriter-sunday-with-drew-holgate/
LOCATION:Lookout Brewing Company Black Mountain
CATEGORIES:Asheville Area,Black Mountain,Live Music
GEO:35.6193199;-82.3178787
END:VEVENT
BEGIN:VEVENT
DTSTART;TZID=America/New_York:20251214T180000
DTEND;TZID=America/New_York:20251214T210000
DTSTAMP:20260424T054802
CREATED:20250514T121653Z
LAST-MODIFIED:20251210T143622Z
UID:10014257-1765735200-1765746000@livemusicasheville.com
SUMMARY:Rock Academy
DESCRIPTION:Rock Academy is a Year-Round Rock Band Performance Program that take our bands out of the classrooms and into Asheville’s music scene. Students learn to perform a wide variety of musical styles and songs of various genres including blues\, classic rock\, hard rock\, punk\, surf\, americana and more. Our music students grow into skilled musicians and take their band “on the road” to play in front of live audiences at some of the top venues in the area.
URL:https://livemusicasheville.com/calendar/rock-academy/
LOCATION:White Horse Black Mountain
CATEGORIES:Asheville Area,Black Mountain,Live Music
GEO:35.6178579;-82.3211924
END:VEVENT
BEGIN:VEVENT
DTSTART;TZID=America/New_York:20251214T180000
DTEND;TZID=America/New_York:20251214T220000
DTSTAMP:20260424T054802
CREATED:20251007T130234Z
LAST-MODIFIED:20251116T161904Z
UID:10024586-1765735200-1765749600@livemusicasheville.com
SUMMARY:Winter Lights
DESCRIPTION:We look forward to welcoming you back for another year of Asheville’s Brightest Holiday Tradition! Winter Lights is a spectacular open-air walk-through light show made from over one million lights! Located at the North Carolina Arboretum in Asheville\, North Carolina\, this year’s event features favorites like the famously tall 50-foot lighted tree and the Quilt Garden\, along with enchanting new details designed to delight and surprise. \nTroll sightings are anticipated at this year’s Winter Lights\, as six of Dambo’s Trolls will be experiencing the show for themselves. Meet them in the gardens at Winter Lights! \nWinter Lights features live entertainment nightly and food and beverages from the Bent Creek Bistro\, the Cocoa Shack and the Cocoa Cabin! Open nightly from 6:00 – 10:00 p.m. \nTickets on Sale Now! Event Details and Tickets \nFor more than 35 years…Cultivating Connections between People\, Plants and Places…amid a 434-acre public garden\, The North Carolina Arboretum is located within the Bent Creek Experimental Forest just south of Asheville and adjacent to the Blue Ridge Parkway at Milepost 393. Surrounded and crisscrossed by forested coves and meandering creeks in the botanically diverse Southern Appalachian Mountains\, The North Carolina Arboretum is set in one of the most beautiful natural settings in America. ncarboretum.org \n  \n 
URL:https://livemusicasheville.com/calendar/winter-lights-2/2025-12-14/
LOCATION:The North Carolina Arboretum
CATEGORIES:Asheville Area,Live Music
END:VEVENT
BEGIN:VEVENT
DTSTART;TZID=America/New_York:20251214T180000
DTEND;TZID=America/New_York:20251214T220000
DTSTAMP:20260424T054802
CREATED:20251211T162352Z
LAST-MODIFIED:20251211T162352Z
UID:10027290-1765735200-1765749600@livemusicasheville.com
SUMMARY:Tim Fagan Memorial Gathering ft. The Lactones
DESCRIPTION:We will be hosting a memorial gathering at Sovereign Kava\, 268 Biltmore Ave\, on Sunday\, December 14\, starting at 6 PM\, for family\, friends\, and anyone who knew Timmy and would like to remember him with us. Please feel free to bring food\, flowers\, photos\, or just yourself \nMusic will be provided by Lactones. Some food and light refreshments will be provided as well. Potluck dishes also welcome.
URL:https://livemusicasheville.com/calendar/tim-fagan-memorial-gathering-ft-the-lactones/
LOCATION:Sovereign Kava
CATEGORIES:Asheville Area,Live Music
GEO:35.5854657;-82.5513352
END:VEVENT
BEGIN:VEVENT
DTSTART;TZID=America/New_York:20251214T183000
DTEND;TZID=America/New_York:20251214T203000
DTSTAMP:20260424T054802
CREATED:20250306T171807Z
LAST-MODIFIED:20250907T221607Z
UID:10020899-1765737000-1765744200@livemusicasheville.com
SUMMARY:Leo Johnson/Phil Alley guitar duo
DESCRIPTION:
URL:https://livemusicasheville.com/calendar/liliana-hudgens/2025-12-14/
LOCATION:The Lobster Trap
CATEGORIES:Asheville Area,Live Music
GEO:33.3427223;-118.3257271
END:VEVENT
BEGIN:VEVENT
DTSTART;TZID=America/New_York:20251214T190000
DTEND;TZID=America/New_York:20251214T220000
DTSTAMP:20260424T054802
CREATED:20251209T215445Z
LAST-MODIFIED:20251209T215447Z
UID:10014411-1765738800-1765749600@livemusicasheville.com
SUMMARY:One Love Sundays w/ Big Blue Reggae
DESCRIPTION:Close your weekend off with good vibes. One Love Sundays with rotating reggae bands each Sunday.\n\n\nBands include:\nDub Kartel – East coast reggae collective delivering classic dub rhythms. The real rockers from Asheville\, NCStrong Fire – Traditional Ska\, Rocksteady and early Reggae\nTuff Sol – slinging some reggae goodness\nBig Blue Reggae\n$5-$10 sliding scale\n\nThe West Asheville taproom hosts a wide variety of special and regular events\, from yoga to an electronic music & beer festival\, and everything in between. Check out our upcoming schedule: click here
URL:https://livemusicasheville.com/calendar/one-love-sunday-w-dub-kartel-5/
LOCATION:One World Brewing – West\, 520 Haywood Rd\, Asheville\, North Carolina\, 28806
CATEGORIES:Asheville Area,Live Music
GEO:35.5783642;-82.5848526
X-APPLE-STRUCTURED-LOCATION;VALUE=URI;X-ADDRESS=One World Brewing – West 520 Haywood Rd Asheville North Carolina 28806;X-APPLE-RADIUS=500;X-TITLE=520 Haywood Rd:geo:-82.5848526,35.5783642
END:VEVENT
BEGIN:VEVENT
DTSTART;TZID=America/New_York:20251214T190000
DTEND;TZID=America/New_York:20251214T233000
DTSTAMP:20260424T054802
CREATED:20250322T150845Z
LAST-MODIFIED:20251214T215054Z
UID:10010511-1765738800-1765755000@livemusicasheville.com
SUMMARY:Save Our Website to Your Home Screen 📲
DESCRIPTION:As an interactive calendar\, we often add events to our calendar as we find out about them\, sometimes even from our phone while we are out supporting local live music. By adding our website\, LiveMusicAsheville.com to your home screen\, we will always be right at your fingertips. Here’s how:\n\n\n\n\niPhone (using Safari):\n\n\n\nOpen Safari and navigate to the website: you want to add as a shortcut. \n\n\n\n\n\n\n\n\nTap the Share button: (a square with an arrow pointing out of the top). \n\n\n\n\n\n\n\n\nScroll down and tap “Add to Home Screen” . \n\n\n\n\n\n\n\n\nChoose a name for the shortcut: and tap “Add”. \n\n\n\n\n\n\n\n\nThe shortcut will appear on your home screen as an icon. \n\n\n\n\n\n\n\n\n\n\n\nAndroid (using Chrome or other browsers):\n\n\n\nOpen Chrome (or your preferred browser) and navigate to the website: you want to add.\nTap the three-dot menu icon: (usually in the top right corner).\nSelect “Add to Home Screen” .\nCustomize the name of the shortcut: if desired\, and then tap “Add”.\nThe shortcut will appear on your home screen as an icon. 
URL:https://livemusicasheville.com/calendar/add-our-website-to-your-home-screen/2025-12-14/
LOCATION:NC
CATEGORIES:Asheville Area
END:VEVENT
BEGIN:VEVENT
DTSTART;TZID=America/New_York:20251214T193000
DTEND;TZID=America/New_York:20251214T220000
DTSTAMP:20260424T054802
CREATED:20251210T212433Z
LAST-MODIFIED:20251210T212433Z
UID:10027272-1765740600-1765749600@livemusicasheville.com
SUMMARY:Russ Wilson's Have Yourself a Swingin’ Little Christmas
DESCRIPTION:
URL:https://livemusicasheville.com/calendar/russ-wilsons-have-yourself-a-swingin-little-christmas/
LOCATION:Highland Brewing Event Center
CATEGORIES:Asheville Area,Live Music
END:VEVENT
BEGIN:VEVENT
DTSTART;TZID=America/New_York:20251214T200000
DTEND;TZID=America/New_York:20251214T230000
DTSTAMP:20260424T054802
CREATED:20251210T205815Z
LAST-MODIFIED:20251210T205815Z
UID:10027266-1765742400-1765753200@livemusicasheville.com
SUMMARY:The Secret Sisters
DESCRIPTION:
URL:https://livemusicasheville.com/calendar/the-secret-sisters/
LOCATION:The Grey Eagle\, 185 Clingman Ave\, Asheville\, NC\, United States
CATEGORIES:Asheville Area,Live Music
GEO:35.5870871;-82.5643936
X-APPLE-STRUCTURED-LOCATION;VALUE=URI;X-ADDRESS=The Grey Eagle 185 Clingman Ave Asheville NC United States;X-APPLE-RADIUS=500;X-TITLE=185 Clingman Ave:geo:-82.5643936,35.5870871
END:VEVENT
BEGIN:VEVENT
DTSTART;TZID=America/New_York:20251214T200000
DTEND;TZID=America/New_York:20251215T020000
DTSTAMP:20260424T054802
CREATED:20251126T223442Z
LAST-MODIFIED:20251216T131059Z
UID:10026034-1765742400-1765764000@livemusicasheville.com
SUMMARY:All Request Piano Show
DESCRIPTION:
URL:https://livemusicasheville.com/calendar/all-request-piano-show-3/2025-12-14/
LOCATION:Off the Wagon
CATEGORIES:Asheville Area,Live Music
GEO:41.4302231;-81.3909542
END:VEVENT
BEGIN:VEVENT
DTSTART;TZID=America/New_York:20251214T203000
DTEND;TZID=America/New_York:20251214T233000
DTSTAMP:20260424T054802
CREATED:20251210T190607Z
LAST-MODIFIED:20251210T190607Z
UID:10027190-1765744200-1765755000@livemusicasheville.com
SUMMARY:Laney Barnett / Evan Veasey / Griffin Duffey
DESCRIPTION:
URL:https://livemusicasheville.com/calendar/laney-barnett-evan-veasey-griffin-duffey/
LOCATION:Static Age Records
CATEGORIES:Asheville Area,Live Music
GEO:35.5985631;-82.5538043
END:VEVENT
BEGIN:VEVENT
DTSTART;TZID=America/New_York:20251214T210000
DTEND;TZID=America/New_York:20251215T000000
DTSTAMP:20260424T054802
CREATED:20250903T200545Z
LAST-MODIFIED:20250921T205026Z
UID:10021511-1765746000-1765756800@livemusicasheville.com
SUMMARY:Shakedown Sunday
DESCRIPTION:
URL:https://livemusicasheville.com/calendar/shakedown-sunday-2-2-2-2/2025-12-14/
LOCATION:The One Stop
CATEGORIES:Asheville Area,Live Music,Open MIc/Jam
END:VEVENT
BEGIN:VEVENT
DTSTART;VALUE=DATE:20251215
DTEND;VALUE=DATE:20251217
DTSTAMP:20260424T054802
CREATED:20250121T072030Z
LAST-MODIFIED:20251210T122902Z
UID:10020187-1765767600-1765853999@livemusicasheville.com
SUMMARY:Support Your Local Music Calendar
DESCRIPTION:We hope you enjoy our guide to the Asheville area’s dynamic music scene. \nIf we somehow help to brighten up your day\, please consider a $5 donation to help support our efforts in providing the area’s most complete local live music calendar. \nVenmo: click here  \nLast 4 digits – 3383 \nPayPal: click here \n \n 
URL:https://livemusicasheville.com/calendar/support-your-local-music-calendar-2/2025-12-15/
LOCATION:NC
CATEGORIES:Asheville Area
END:VEVENT
BEGIN:VEVENT
DTSTART;TZID=America/New_York:20251215T130000
DTEND;TZID=America/New_York:20251215T150000
DTSTAMP:20260424T054802
CREATED:20251212T201152Z
LAST-MODIFIED:20251223T021621Z
UID:10027346-1765803600-1765810800@livemusicasheville.com
SUMMARY:Chaplin Classics with Jay Brown
DESCRIPTION:
URL:https://livemusicasheville.com/calendar/chaplin-classics-with-jay-brown/2025-12-15/
LOCATION:White Horse Black Mountain
CATEGORIES:Asheville Area,Black Mountain,Live Music
GEO:35.6178579;-82.3211924
END:VEVENT
BEGIN:VEVENT
DTSTART;TZID=America/New_York:20251215T173000
DTEND;TZID=America/New_York:20251215T193000
DTSTAMP:20260424T054802
CREATED:20250505T155415Z
LAST-MODIFIED:20251210T200930Z
UID:10013002-1765819800-1765827000@livemusicasheville.com
SUMMARY:2 Guys with Guitars - Bob Disney & Bob Jackson
DESCRIPTION:
URL:https://livemusicasheville.com/calendar/2-guys-with-guitars-bob-disney-bob-jackson-2-2/
LOCATION:Turgua Brewing Fairview
CATEGORIES:Asheville Area,Fairview,Live Music
GEO:35.5129836;-82.4095217
END:VEVENT
BEGIN:VEVENT
DTSTART;TZID=America/New_York:20251215T180000
DTEND;TZID=America/New_York:20251215T220000
DTSTAMP:20260424T054802
CREATED:20251007T130234Z
LAST-MODIFIED:20251116T161904Z
UID:10024587-1765821600-1765836000@livemusicasheville.com
SUMMARY:Winter Lights
DESCRIPTION:We look forward to welcoming you back for another year of Asheville’s Brightest Holiday Tradition! Winter Lights is a spectacular open-air walk-through light show made from over one million lights! Located at the North Carolina Arboretum in Asheville\, North Carolina\, this year’s event features favorites like the famously tall 50-foot lighted tree and the Quilt Garden\, along with enchanting new details designed to delight and surprise. \nTroll sightings are anticipated at this year’s Winter Lights\, as six of Dambo’s Trolls will be experiencing the show for themselves. Meet them in the gardens at Winter Lights! \nWinter Lights features live entertainment nightly and food and beverages from the Bent Creek Bistro\, the Cocoa Shack and the Cocoa Cabin! Open nightly from 6:00 – 10:00 p.m. \nTickets on Sale Now! Event Details and Tickets \nFor more than 35 years…Cultivating Connections between People\, Plants and Places…amid a 434-acre public garden\, The North Carolina Arboretum is located within the Bent Creek Experimental Forest just south of Asheville and adjacent to the Blue Ridge Parkway at Milepost 393. Surrounded and crisscrossed by forested coves and meandering creeks in the botanically diverse Southern Appalachian Mountains\, The North Carolina Arboretum is set in one of the most beautiful natural settings in America. ncarboretum.org \n  \n 
URL:https://livemusicasheville.com/calendar/winter-lights-2/2025-12-15/
LOCATION:The North Carolina Arboretum
CATEGORIES:Asheville Area,Live Music
END:VEVENT
END:VCALENDAR