BEGIN:VCALENDAR
VERSION:2.0
PRODID:-//LiveMusicAsheville.com - ECPv6.15.20//NONSGML v1.0//EN
CALSCALE:GREGORIAN
METHOD:PUBLISH
X-WR-CALNAME:LiveMusicAsheville.com
X-ORIGINAL-URL:https://livemusicasheville.com
X-WR-CALDESC:Events for LiveMusicAsheville.com
REFRESH-INTERVAL;VALUE=DURATION:PT1H
X-Robots-Tag:noindex
X-PUBLISHED-TTL:PT1H
BEGIN:VTIMEZONE
TZID:America/New_York
BEGIN:DAYLIGHT
TZOFFSETFROM:-0500
TZOFFSETTO:-0400
TZNAME:EDT
DTSTART:20250309T070000
END:DAYLIGHT
BEGIN:STANDARD
TZOFFSETFROM:-0400
TZOFFSETTO:-0500
TZNAME:EST
DTSTART:20251102T060000
END:STANDARD
BEGIN:DAYLIGHT
TZOFFSETFROM:-0500
TZOFFSETTO:-0400
TZNAME:EDT
DTSTART:20260308T070000
END:DAYLIGHT
BEGIN:STANDARD
TZOFFSETFROM:-0400
TZOFFSETTO:-0500
TZNAME:EST
DTSTART:20261101T060000
END:STANDARD
BEGIN:DAYLIGHT
TZOFFSETFROM:-0500
TZOFFSETTO:-0400
TZNAME:EDT
DTSTART:20270314T070000
END:DAYLIGHT
BEGIN:STANDARD
TZOFFSETFROM:-0400
TZOFFSETTO:-0500
TZNAME:EST
DTSTART:20271107T060000
END:STANDARD
END:VTIMEZONE
BEGIN:VEVENT
DTSTART;TZID=America/New_York:20260102T180000
DTEND;TZID=America/New_York:20260102T230000
DTSTAMP:20260425T112613
CREATED:20250207T164158Z
LAST-MODIFIED:20260422T131528Z
UID:10026019-1767376800-1767394800@livemusicasheville.com
SUMMARY:Friday Open Mic/Jam
DESCRIPTION:Flora Asheville – 5:30-7:30pm (April 17) \nTurgua Brewing Fairview – 6-8pm (2nd & 4th Fridays) \nCoffee\, Art\, Music type Place – 6-8pm (First Fridays) \nWagWorld Pub Fletcher – 6:30-9:30pm \nElevated Kava Downtown – 8-11
URL:https://livemusicasheville.com/calendar/friday-open-mic-jam/2026-01-02/
LOCATION:Asheville Area
CATEGORIES:Asheville Area,Madison County,Open MIc/Jam,South Asheville/Arden/Fletcher
END:VEVENT
BEGIN:VEVENT
DTSTART;TZID=America/New_York:20260102T180000
DTEND;TZID=America/New_York:20260103T020000
DTSTAMP:20260425T112613
CREATED:20241225T134450Z
LAST-MODIFIED:20260415T173808Z
UID:10027295-1767376800-1767405600@livemusicasheville.com
SUMMARY:Friday Weekly DJ's
DESCRIPTION:Although we are primarily a Live Music Calendar\, we often come across Electronic & DJ events in the area and list them for you as we find out about them. Please verify the DJ\, times and cover charges with the venue. \nLA Pizza Party Rooftop – 6-9pm \nThe Radical – 6-11pm \nPotential New Boyfriend – 7:30-11pm \nCapella On 9 – 8-11pm \nBen’s Tune Up – 8-11pm \nAntidote – 9-11pm \nBanks Ave – 9-11:30pm \nVOWL – 9pm-1am \nDouble Crown – 9pm-2am \nHavana Miami – 9pm-2am \nStatic Age Loft – 9pm-2am \nWaterstreet – 9pm-2am \nLa Pizza Party – 10pm-2am \nThe Barksdale – 10pm-2am \nLazy Diamond – 10pm-2am \nSticks On Broadway – 10pm-2am \nStrange Magic Bar – 10pm-2am \nShakeys – 10pm-2am \n  \nVerify with the venue on times\, cover charges and tonight’s DJ.
URL:https://livemusicasheville.com/calendar/friday-weekly-dj-schedule/2026-01-02/
LOCATION:Asheville Area
CATEGORIES:Asheville Area,DJ/Electronic
END:VEVENT
BEGIN:VEVENT
DTSTART;TZID=America/New_York:20260102T183000
DTEND;TZID=America/New_York:20260102T213000
DTSTAMP:20260425T112613
CREATED:20251231T123652Z
LAST-MODIFIED:20251231T123652Z
UID:10029898-1767378600-1767389400@livemusicasheville.com
SUMMARY:Luke Deuce Band
DESCRIPTION:
URL:https://livemusicasheville.com/calendar/luke-deuce-band/
LOCATION:Mills River Brewing Co.\, 336 Banner Farm Rd\,\, Mills River\, NC\, 28759
CATEGORIES:Asheville Area,Live Music,Mills River
GEO:35.380515;-82.5654984
X-APPLE-STRUCTURED-LOCATION;VALUE=URI;X-ADDRESS=Mills River Brewing Co. 336 Banner Farm Rd Mills River NC 28759;X-APPLE-RADIUS=500;X-TITLE=336 Banner Farm Rd\,:geo:-82.5654984,35.380515
END:VEVENT
BEGIN:VEVENT
DTSTART;TZID=America/New_York:20260102T190000
DTEND;TZID=America/New_York:20260102T210000
DTSTAMP:20260425T112613
CREATED:20251029T132808Z
LAST-MODIFIED:20260415T133603Z
UID:10056838-1767380400-1767387600@livemusicasheville.com
SUMMARY:Grass Is Back!
DESCRIPTION:No Cover – Donations accepted!\n\n\n\n\nApril 17 – Lynn Goldsmith & The Jeter Mountain Band\nApril 24 – New Carolina Connection Band\nMay 1 – Harlan County Grass\nMay 8 – Mulley Holler Band\nMay 15- Travis Watts & Mountain Blessings\nMay 22 – Hit or Miss Bluegrass & Country Band
URL:https://livemusicasheville.com/calendar/grass-is-back-3/2026-01-02/
LOCATION:Feed and Seed Fletcher
CATEGORIES:Asheville Area,Live Music,South Asheville/Arden/Fletcher
END:VEVENT
BEGIN:VEVENT
DTSTART;TZID=America/New_York:20260102T190000
DTEND;TZID=America/New_York:20260102T210000
DTSTAMP:20260425T112613
CREATED:20251231T140726Z
LAST-MODIFIED:20251231T140726Z
UID:10029940-1767380400-1767387600@livemusicasheville.com
SUMMARY:John R. Miller
DESCRIPTION:
URL:https://livemusicasheville.com/calendar/john-r-miller-2/
LOCATION:AyurPrana Listening Room\, 312 Haywood Rd\, Asheville\, NC\, 28806
CATEGORIES:Asheville Area,Live Music
GEO:35.5775962;-82.5760261
X-APPLE-STRUCTURED-LOCATION;VALUE=URI;X-ADDRESS=AyurPrana Listening Room 312 Haywood Rd Asheville NC 28806;X-APPLE-RADIUS=500;X-TITLE=312 Haywood Rd:geo:-82.5760261,35.5775962
END:VEVENT
BEGIN:VEVENT
DTSTART;TZID=America/New_York:20260102T190000
DTEND;TZID=America/New_York:20260102T220000
DTSTAMP:20260425T112613
CREATED:20250618T113414Z
LAST-MODIFIED:20251231T113643Z
UID:10015962-1767380400-1767391200@livemusicasheville.com
SUMMARY:Sheepdog
DESCRIPTION:
URL:https://livemusicasheville.com/calendar/sheepdog/
LOCATION:One World Brewing Downtown\, 10 Patton Ave\, Asheville\, NC\, 28801
CATEGORIES:Asheville Area,Live Music
GEO:35.5947396;-82.5522724
X-APPLE-STRUCTURED-LOCATION;VALUE=URI;X-ADDRESS=One World Brewing Downtown 10 Patton Ave Asheville NC 28801;X-APPLE-RADIUS=500;X-TITLE=10 Patton Ave:geo:-82.5522724,35.5947396
END:VEVENT
BEGIN:VEVENT
DTSTART;TZID=America/New_York:20260102T190000
DTEND;TZID=America/New_York:20260102T220000
DTSTAMP:20260425T112613
CREATED:20251113T101742Z
LAST-MODIFIED:20260327T002508Z
UID:10052974-1767380400-1767391200@livemusicasheville.com
SUMMARY:Blues with Mr Jimmy
DESCRIPTION:
URL:https://livemusicasheville.com/calendar/blues-with-mr-jimmy-2-2-2/2026-01-02/
LOCATION:The Station Black Mountain
CATEGORIES:Asheville Area,Black Mountain,Live Music
END:VEVENT
BEGIN:VEVENT
DTSTART;TZID=America/New_York:20260102T190000
DTEND;TZID=America/New_York:20260102T220000
DTSTAMP:20260425T112613
CREATED:20251222T160644Z
LAST-MODIFIED:20251222T160644Z
UID:10029207-1767380400-1767391200@livemusicasheville.com
SUMMARY:The B's Trio in The Great Hall
DESCRIPTION:
URL:https://livemusicasheville.com/calendar/the-bs-trio-in-the-great-hall-2/2026-01-02/
LOCATION:The Omni Grove Park Inn
CATEGORIES:Asheville Area,Live Music
GEO:35.6206376;-82.5422977
END:VEVENT
BEGIN:VEVENT
DTSTART;TZID=America/New_York:20260102T190000
DTEND;TZID=America/New_York:20260102T220000
DTSTAMP:20260425T112613
CREATED:20251231T143625Z
LAST-MODIFIED:20251231T143625Z
UID:10029962-1767380400-1767391200@livemusicasheville.com
SUMMARY:Coyote Rodeo with The Miller Sisters
DESCRIPTION:
URL:https://livemusicasheville.com/calendar/coyote-rodeo-with-the-miller-sisters/
LOCATION:The Grey Eagle\, 185 Clingman Ave\, Asheville\, NC\, United States
CATEGORIES:Asheville Area,Live Music
GEO:35.5870871;-82.5643936
X-APPLE-STRUCTURED-LOCATION;VALUE=URI;X-ADDRESS=The Grey Eagle 185 Clingman Ave Asheville NC United States;X-APPLE-RADIUS=500;X-TITLE=185 Clingman Ave:geo:-82.5643936,35.5870871
END:VEVENT
BEGIN:VEVENT
DTSTART;TZID=America/New_York:20260102T190000
DTEND;TZID=America/New_York:20260103T010000
DTSTAMP:20260425T112613
CREATED:20241225T141623Z
LAST-MODIFIED:20260416T110217Z
UID:10056321-1767380400-1767402000@livemusicasheville.com
SUMMARY:Friday Karaoke
DESCRIPTION:  \n7-10pm – Mal’s Bar Marshall (February 20) \n7-10pm- Noble Cider (April 10) \n8pm-12am – Silverados Black Mountain \n8-11pm – Dalton Distillery (April 17) \n8-11pm – T Birds Weaverville \n8:30-11pm – The Village Porch Woodfin (April 17) \n8pm-1am – Fleetwoods (Feb 27) \n9pm-12am – Brewskies Fairview   \n9pm-12am – Little Creek Tavern Fletcher  \n9pm-1am – Handlebar & Grill \n9pm- 1am – O’Henrys \n9:30pm-1:30am – The Crowbar Downtown \n10pm – 2am – Shakeys \nVerify time and KJ with The Venue. \n  \n  \n\n 
URL:https://livemusicasheville.com/calendar/friday-weekly-karaoke/2026-01-02/
LOCATION:Asheville Area
CATEGORIES:Asheville Area,Black Mountain,Fairview,Karaoke,Madison County,Weaverville
END:VEVENT
BEGIN:VEVENT
DTSTART;TZID=America/New_York:20260102T190000
DTEND;TZID=America/New_York:20260103T020000
DTSTAMP:20260425T112613
CREATED:20241225T123126Z
LAST-MODIFIED:20251122T132355Z
UID:10025516-1767380400-1767405600@livemusicasheville.com
SUMMARY:Dueling Piano Show
DESCRIPTION:
URL:https://livemusicasheville.com/calendar/dueling-piano-show/2026-01-02/
LOCATION:Off the Wagon
CATEGORIES:Asheville Area,Live Music
GEO:41.4302231;-81.3909542
END:VEVENT
BEGIN:VEVENT
DTSTART;TZID=America/New_York:20260102T193000
DTEND;TZID=America/New_York:20260102T213000
DTSTAMP:20260425T112613
CREATED:20251222T220720Z
LAST-MODIFIED:20251222T220722Z
UID:10029418-1767382200-1767389400@livemusicasheville.com
SUMMARY:Old Friends: Jonathan Pearlman\, Peggy Ratusz & James Kylen celebrate the music of Simon & Garfunkel!
DESCRIPTION:Take a trip back in time with composer\, musician\, band leader\, singer and producer\, Jonathan Pearlman (My Magnificent Nemesis\, Alien Music Club)\, Blues Chanteuse Peggy Ratusz (Daddy LongLegs Blues Band\, Love is a Rose Celebration of Linda Ronstadt\, Love Bubble) and multi-instrumentalist\, James Kylen (My Magnificent Nemesis\, Here Comes the Sun: A celebration of the Beatles) as they celebrate the enduring magic of Simon & Garfunkel. \n  \nAt White Horse Black Mountain\, we believe music is meant to be shared by all. Some households may only be able to give a little\, while others may be able to give more to pay it forward and support neighbors. Each event includes a “suggested price” that reflects the normal cost of the show\, but no matter what you contribute\, you’re helping keep the music alive for our whole community.
URL:https://livemusicasheville.com/calendar/old-friends-jonathan-pearlman-peggy-ratusz-james-kylen-celebrate-the-music-of-simon-garfunkel/
LOCATION:White Horse Black Mountain
CATEGORIES:Asheville Area,Black Mountain,Live Music
GEO:35.6178579;-82.3211924
END:VEVENT
BEGIN:VEVENT
DTSTART;TZID=America/New_York:20260102T200000
DTEND;TZID=America/New_York:20260102T220000
DTSTAMP:20260425T112613
CREATED:20250212T152622Z
LAST-MODIFIED:20260401T141115Z
UID:10029537-1767384000-1767391200@livemusicasheville.com
SUMMARY:Will Hartz
DESCRIPTION:
URL:https://livemusicasheville.com/calendar/will-hartz-4/2026-01-02/
LOCATION:The Whale Outpost Haw Creek
CATEGORIES:Asheville Area,Live Music
GEO:35.5919991;-82.5054695
END:VEVENT
BEGIN:VEVENT
DTSTART;TZID=America/New_York:20260102T200000
DTEND;TZID=America/New_York:20260102T220000
DTSTAMP:20260425T112613
CREATED:20250930T021901Z
LAST-MODIFIED:20251231T142103Z
UID:10020459-1767384000-1767391200@livemusicasheville.com
SUMMARY:Live Jukebox with Mike Weaver
DESCRIPTION:
URL:https://livemusicasheville.com/calendar/live-jukebox-with-mike-weaver-2-2-2/
LOCATION:Mudpuppies Arden
CATEGORIES:Asheville Area,Live Music,South Asheville/Arden/Fletcher
GEO:35.4440387;-82.5322387
END:VEVENT
BEGIN:VEVENT
DTSTART;TZID=America/New_York:20260102T200000
DTEND;TZID=America/New_York:20260102T230000
DTSTAMP:20260425T112613
CREATED:20250711T192233Z
LAST-MODIFIED:20260116T152048Z
UID:10028205-1767384000-1767394800@livemusicasheville.com
SUMMARY:Commodore Fox Band
DESCRIPTION:
URL:https://livemusicasheville.com/calendar/commodore-fox-band-2/2026-01-02/
LOCATION:Wild Wing Cafe South
CATEGORIES:Live Music,South Asheville/Arden/Fletcher
END:VEVENT
BEGIN:VEVENT
DTSTART;TZID=America/New_York:20260102T200000
DTEND;TZID=America/New_York:20260102T230000
DTSTAMP:20260425T112613
CREATED:20251231T114220Z
LAST-MODIFIED:20251231T114220Z
UID:10029790-1767384000-1767394800@livemusicasheville.com
SUMMARY:Mill Train
DESCRIPTION:
URL:https://livemusicasheville.com/calendar/mill-train/
LOCATION:One World Brewing – West\, 520 Haywood Rd\, Asheville\, North Carolina\, 28806
CATEGORIES:Asheville Area,Live Music
GEO:35.5783642;-82.5848526
X-APPLE-STRUCTURED-LOCATION;VALUE=URI;X-ADDRESS=One World Brewing – West 520 Haywood Rd Asheville North Carolina 28806;X-APPLE-RADIUS=500;X-TITLE=520 Haywood Rd:geo:-82.5848526,35.5783642
END:VEVENT
BEGIN:VEVENT
DTSTART;TZID=America/New_York:20260102T203000
DTEND;TZID=America/New_York:20260103T010000
DTSTAMP:20260425T112613
CREATED:20251224T142533Z
LAST-MODIFIED:20251224T142535Z
UID:10028256-1767385800-1767402000@livemusicasheville.com
SUMMARY:Elaine’s Dueling Piano Bar
DESCRIPTION:
URL:https://livemusicasheville.com/calendar/elaines-dueling-piano-bar-2/2026-01-02/
LOCATION:The Omni Grove Park Inn
CATEGORIES:Asheville Area,Live Music
GEO:35.6206376;-82.5422977
END:VEVENT
BEGIN:VEVENT
DTSTART;TZID=America/New_York:20260102T210000
DTEND;TZID=America/New_York:20260103T000000
DTSTAMP:20260425T112613
CREATED:20251116T171606Z
LAST-MODIFIED:20260103T013650Z
UID:10024609-1767387600-1767398400@livemusicasheville.com
SUMMARY:TeaPot Trio   | The Palm Room
DESCRIPTION:TeaPot Trio  hits the Palm Room with a straight-ahead organ trio led by local musician Josh Blake. No gimmicks. Just tight jazz\, deep grooves\, and plenty of room to stretch out.\nThe Palm Room stays low-lit and locked in\, the band stays loose\, and the night goes exactly where it’s supposed to. Settle in\, grab a drink\, and let the music handle the rest.\n\n\n\nFitz\, she’s the party. Wolfe\, he’s the epicure. 2 levels\, 3 vibes. 🎶 Live Music |🍸Sips & Noms 🥪 | 🕹️ Artcade | 🗝️Speakeasy | Private Events \nFitz and the Wolfe is a cocktail and music venue shaped by the spirit of improvisation\, storytelling\, and the kind of nights that feel too good to end. Here\, every night brings a new soundtrack. Jazz\, swing\, honky-tonk\, and sometimes things a little more esoteric—if it moves people\, we book it. The music fills the space like a second heartbeat\, sometimes rowdy\, sometimes intimate\, always memorable. It’s not background noise. It’s the reason you’re here. fitzandthewolfe.com
URL:https://livemusicasheville.com/calendar/jbot-josh-blakes-organ-trio-the-palm-room/
LOCATION:Fitz and the Wolfe\, 1 Battery Park Ave\, Asheville\, NC\, 28801\, United States
CATEGORIES:Asheville Area,Live Music
GEO:35.5954515;-82.5548502
X-APPLE-STRUCTURED-LOCATION;VALUE=URI;X-ADDRESS=Fitz and the Wolfe 1 Battery Park Ave Asheville NC 28801 United States;X-APPLE-RADIUS=500;X-TITLE=1 Battery Park Ave:geo:-82.5548502,35.5954515
END:VEVENT
BEGIN:VEVENT
DTSTART;TZID=America/New_York:20260102T210000
DTEND;TZID=America/New_York:20260103T010000
DTSTAMP:20260425T112613
CREATED:20251231T122445Z
LAST-MODIFIED:20251231T122601Z
UID:10029792-1767387600-1767402000@livemusicasheville.com
SUMMARY:Balloon Stampede // Tanner York // Muscadine
DESCRIPTION:
URL:https://livemusicasheville.com/calendar/balloon-stampede-tanner-york-muscadine/
LOCATION:Fleetwood’s\, 496 Haywood Rd\, Asheville\, NC\, 28806\, United States
CATEGORIES:Asheville Area,Live Music
GEO:35.578126;-82.583757
X-APPLE-STRUCTURED-LOCATION;VALUE=URI;X-ADDRESS=Fleetwood’s 496 Haywood Rd Asheville NC 28806 United States;X-APPLE-RADIUS=500;X-TITLE=496 Haywood Rd:geo:-82.583757,35.578126
END:VEVENT
BEGIN:VEVENT
DTSTART;TZID=America/New_York:20260103T110000
DTEND;TZID=America/New_York:20260104T010000
DTSTAMP:20260425T112613
CREATED:20241225T201123Z
LAST-MODIFIED:20260422T210726Z
UID:10053593-1767438000-1767488400@livemusicasheville.com
SUMMARY:Saturday Karaoke
DESCRIPTION:Ben’s Tune Up – 11am-2pm (1st & 3rd Saturdays) \nWagworld Pub – 6-9pm (April 25) \nLookout Brewing Black Mountain – 7-10pm (April 18) \nThe Whale South Slope – 7-10pm (April 18) \nIce Bar Arden – 8pm-12am (April 25) \nLiondog Lounge Weaverville – 8pm-12am (every other week) \nT Birds Weaverville – 8-11pm \nThe Burger Bar – 8pm-1am \nThe Social East Asheville – 9pm-1am \n  \n  \nPlease verify times and KJ with the venue.
URL:https://livemusicasheville.com/calendar/saturday-karaoke/2026-01-03/
CATEGORIES:Asheville Area,Karaoke
END:VEVENT
BEGIN:VEVENT
DTSTART;TZID=America/New_York:20260103T120000
DTEND;TZID=America/New_York:20260103T140000
DTSTAMP:20260425T112613
CREATED:20251206T071330Z
LAST-MODIFIED:20251206T071331Z
UID:10023744-1767441600-1767448800@livemusicasheville.com
SUMMARY:Yala Cultural Tour w/ Adama Dembele
DESCRIPTION:Visit LEAF Global Arts every Saturday for an in-house cultural exchange with Adama Dembele. Experience the Ivory Coast with our Culture Keeper from the House of Djembe.\nYala Culture Tour includes drumming\, dancing\, and stories from Ivory Coast. Drums are provided! Families are welcome.
URL:https://livemusicasheville.com/calendar/yala-cultural-tour-w-adama-dembele-3-2/2026-01-03/
LOCATION:LEAF Global Arts\, 19 Eagle St\, Asheville\, NC\, 28801
CATEGORIES:Asheville Area,Live Music
GEO:35.5938244;-82.5505196
X-APPLE-STRUCTURED-LOCATION;VALUE=URI;X-ADDRESS=LEAF Global Arts 19 Eagle St Asheville NC 28801;X-APPLE-RADIUS=500;X-TITLE=19 Eagle St:geo:-82.5505196,35.5938244
END:VEVENT
BEGIN:VEVENT
DTSTART;TZID=America/New_York:20260103T140000
DTEND;TZID=America/New_York:20260103T210000
DTSTAMP:20260425T112613
CREATED:20251215T222438Z
LAST-MODIFIED:20251215T222520Z
UID:10028789-1767448800-1767474000@livemusicasheville.com
SUMMARY:Love Won: A Benefit for Jamaica
DESCRIPTION:LIVE MUSIC BY:Dirty Dead\, Petah Iah & The Mind Renewers\, The Sunsippers w/ Heavy Lifter Horns\, Al Al & Associates\, Tuff Sol\, Alex Ball & Friends\, Ima Tim Robinson\, Shuffler Sound System w/ MC Survivor Slim\nFOOD BY:Charley King’s Authentic Jamaican Food\nLOCAL ART RAFFLE BY:Honey Creek Pottery\, Paint by Chelsea\, Ken Ramsey Dyes\nThere will be a $10 cover at the door\, all proceeds collected will be donated to the Grassroots Aid Partnership’s Hurricane Melissa Relief for Jamaica.\n  \nFounded in 2005\, Pisgah is known for producing some of the most sought after craft ales in Western North Carolina. Pisgah Brewing Company currently operates the new indoor taproom & deli\, with live music several days a week\, plus an open air outdoor bar in the summer and fall months. Check out our upcoming schedule at pisgahbrewing.com/events
URL:https://livemusicasheville.com/calendar/love-won-a-benefit-for-jamaica/
LOCATION:Pisgah Brewing Company Black Mountain\, 2948 US-70\, Black Mountain\, NC\, 28711
CATEGORIES:Asheville Area,Black Mountain,DJ/Electronic,Live Music
GEO:35.6068069;-82.3568213
X-APPLE-STRUCTURED-LOCATION;VALUE=URI;X-ADDRESS=Pisgah Brewing Company Black Mountain 2948 US-70 Black Mountain NC 28711;X-APPLE-RADIUS=500;X-TITLE=2948 US-70:geo:-82.3568213,35.6068069
END:VEVENT
BEGIN:VEVENT
DTSTART;TZID=America/New_York:20260103T160000
DTEND;TZID=America/New_York:20260103T180000
DTSTAMP:20260425T112613
CREATED:20260103T041027Z
LAST-MODIFIED:20260103T041028Z
UID:10001639-1767456000-1767463200@livemusicasheville.com
SUMMARY:Nobody’s Darling String Band
DESCRIPTION:Nobody’s Darling String Band is a group of five ladies who are seasoned Old Time musicians\, that play lively Mountain Music every Saturday from 4 to 6 at Jack of the Wood. A fiddle\, guitars\, standup bass and banjo uke round out this engaging and energetic group\, playing in the traditional style of Appalachian roots music. \nJack Of The Wood is still a downtown hot spot for food\, brews and drink since 1997 and founders Joan and Joe Eckert who still own it\, have maintained the original lively English and Irish vibe. The old-time mountain and Irish music jams continue\, including a hot bluegrass jam Thursdays and brunch every Sunday. The venue extends a welcoming feeling to regulars and newcomers to this day. https://jackofthewood.com/
URL:https://livemusicasheville.com/calendar/nobodys-darling-string-band-2/
LOCATION:Jack Of The Wood\, 95 Patton Ave\, asheville\, NC\, United States
CATEGORIES:Asheville Area,Live Music
ATTACH;FMTTYPE=image/jpeg:https://livemusicasheville.com/wp-content/uploads/2024/12/523978150_1214912560437765_7917422461527545901_n-e1754135504539.jpg
GEO:35.5944492;-82.5558221
X-APPLE-STRUCTURED-LOCATION;VALUE=URI;X-ADDRESS=Jack Of The Wood 95 Patton Ave asheville NC United States;X-APPLE-RADIUS=500;X-TITLE=95 Patton Ave:geo:-82.5558221,35.5944492
END:VEVENT
BEGIN:VEVENT
DTSTART;TZID=America/New_York:20260103T170000
DTEND;TZID=America/New_York:20260103T190000
DTSTAMP:20260425T112613
CREATED:20251001T110818Z
LAST-MODIFIED:20260123T211240Z
UID:10021696-1767459600-1767466800@livemusicasheville.com
SUMMARY:Jack Miller & Rick Callahan
DESCRIPTION:
URL:https://livemusicasheville.com/calendar/jack-miller-rick-callahan-3/
LOCATION:Sweeten Creek Brewing
CATEGORIES:Asheville Area,Live Music
GEO:35.5425588;-82.5221629
END:VEVENT
BEGIN:VEVENT
DTSTART;TZID=America/New_York:20260103T170000
DTEND;TZID=America/New_York:20260103T200000
DTSTAMP:20260425T112613
CREATED:20251231T150241Z
LAST-MODIFIED:20251231T150241Z
UID:10029967-1767459600-1767470400@livemusicasheville.com
SUMMARY:The Highway Companions
DESCRIPTION:
URL:https://livemusicasheville.com/calendar/the-highway-companions/
LOCATION:Highland Brewing
CATEGORIES:Asheville Area,Live Music
END:VEVENT
BEGIN:VEVENT
DTSTART;TZID=America/New_York:20260103T173000
DTEND;TZID=America/New_York:20260103T193000
DTSTAMP:20260425T112613
CREATED:20241224T203115Z
LAST-MODIFIED:20251223T200733Z
UID:10006525-1767461400-1767468600@livemusicasheville.com
SUMMARY:Gypsy Jazz with Dinah’s Daydream
DESCRIPTION:
URL:https://livemusicasheville.com/calendar/gypsy-jazz-with-dinahs-daydream/2026-01-03/
LOCATION:Battery Park Book Exchange & Champagne Bar
CATEGORIES:Asheville Area,Live Music
GEO:35.5951042;-82.556633
END:VEVENT
BEGIN:VEVENT
DTSTART;TZID=America/New_York:20260103T180000
DTEND;TZID=America/New_York:20260103T200000
DTSTAMP:20260425T112613
CREATED:20251203T141139Z
LAST-MODIFIED:20260227T165245Z
UID:10026463-1767463200-1767470400@livemusicasheville.com
SUMMARY:Tim McWilliams
DESCRIPTION:
URL:https://livemusicasheville.com/calendar/tim-mcwilliams/
LOCATION:Sweeten Creek Brewing
CATEGORIES:Asheville Area,Live Music
GEO:35.5425588;-82.5221629
END:VEVENT
BEGIN:VEVENT
DTSTART;TZID=America/New_York:20260103T180000
DTEND;TZID=America/New_York:20260103T210000
DTSTAMP:20260425T112613
CREATED:20250726T161716Z
LAST-MODIFIED:20251219T203049Z
UID:10008778-1767463200-1767474000@livemusicasheville.com
SUMMARY:Mr Jimmy Blues
DESCRIPTION:
URL:https://livemusicasheville.com/calendar/mr-jimmy-blues-2-2-2/2026-01-03/
LOCATION:The Asheville Club
CATEGORIES:Asheville Area,Live Music
GEO:35.5952143;-82.554524
END:VEVENT
BEGIN:VEVENT
DTSTART;TZID=America/New_York:20260103T180000
DTEND;TZID=America/New_York:20260103T210000
DTSTAMP:20260425T112613
CREATED:20251203T194006Z
LAST-MODIFIED:20251230T143048Z
UID:10026608-1767463200-1767474000@livemusicasheville.com
SUMMARY:Quinn Sternberg’s Mind Beach
DESCRIPTION:Join Mind Beach for their French Broadway Brewing premiere. The night will feature all original music by Quinn Sternberg with Jacob Rodriguez on sax\, Alex Taub on keyboard\, and Joe Enright on drums.\n6:00-9:00\, no cover charge\n\n\nFrench Broad River Brewery is more than just a place to enjoy a drink—it’s a community hub where great beer\, delicious pizza\, live music\, and good times come together. Just minutes from the Biltmore Estate & Downtown\, our taproom is a gathering spot for locals and visitors alike. We regularly host live music and entertainment in our taproom\, making French Broad River Brewery a lively hub of local activity. From bluegrass to reggae\, there’s always something happening. Check out our Events Page to see what’s coming up next! \nNo brewery experience is complete without great food. That’s why we offer French Broad River Pizza\, serving up hot\, hand-tossed pizzas made to order. Whether you’re here for a quick slice or a full meal\, our pizza perfectly complements our craft beers and the lively atmosphere of our taproom. frenchbroadbrewery.com/pizza
URL:https://livemusicasheville.com/calendar/quinn-sternbergs-mind-beach/
LOCATION:French Broad River Brewery\, 101 Fairview Rd\, Asheville\, NC\, United States
CATEGORIES:Asheville Area,Live Music
GEO:35.5662722;-82.5374054
X-APPLE-STRUCTURED-LOCATION;VALUE=URI;X-ADDRESS=French Broad River Brewery 101 Fairview Rd Asheville NC United States;X-APPLE-RADIUS=500;X-TITLE=101 Fairview Rd:geo:-82.5374054,35.5662722
END:VEVENT
BEGIN:VEVENT
DTSTART;TZID=America/New_York:20260103T180000
DTEND;TZID=America/New_York:20260103T220000
DTSTAMP:20260425T112613
CREATED:20251007T130234Z
LAST-MODIFIED:20251116T161904Z
UID:10024606-1767463200-1767477600@livemusicasheville.com
SUMMARY:Winter Lights
DESCRIPTION:We look forward to welcoming you back for another year of Asheville’s Brightest Holiday Tradition! Winter Lights is a spectacular open-air walk-through light show made from over one million lights! Located at the North Carolina Arboretum in Asheville\, North Carolina\, this year’s event features favorites like the famously tall 50-foot lighted tree and the Quilt Garden\, along with enchanting new details designed to delight and surprise. \nTroll sightings are anticipated at this year’s Winter Lights\, as six of Dambo’s Trolls will be experiencing the show for themselves. Meet them in the gardens at Winter Lights! \nWinter Lights features live entertainment nightly and food and beverages from the Bent Creek Bistro\, the Cocoa Shack and the Cocoa Cabin! Open nightly from 6:00 – 10:00 p.m. \nTickets on Sale Now! Event Details and Tickets \nFor more than 35 years…Cultivating Connections between People\, Plants and Places…amid a 434-acre public garden\, The North Carolina Arboretum is located within the Bent Creek Experimental Forest just south of Asheville and adjacent to the Blue Ridge Parkway at Milepost 393. Surrounded and crisscrossed by forested coves and meandering creeks in the botanically diverse Southern Appalachian Mountains\, The North Carolina Arboretum is set in one of the most beautiful natural settings in America. ncarboretum.org \n  \n 
URL:https://livemusicasheville.com/calendar/winter-lights-2/2026-01-03/
LOCATION:The North Carolina Arboretum
CATEGORIES:Asheville Area,Live Music
END:VEVENT
END:VCALENDAR