BEGIN:VCALENDAR
VERSION:2.0
PRODID:-//LiveMusicAsheville.com - ECPv6.15.20//NONSGML v1.0//EN
CALSCALE:GREGORIAN
METHOD:PUBLISH
X-WR-CALNAME:LiveMusicAsheville.com
X-ORIGINAL-URL:https://livemusicasheville.com
X-WR-CALDESC:Events for LiveMusicAsheville.com
REFRESH-INTERVAL;VALUE=DURATION:PT1H
X-Robots-Tag:noindex
X-PUBLISHED-TTL:PT1H
BEGIN:VTIMEZONE
TZID:America/New_York
BEGIN:DAYLIGHT
TZOFFSETFROM:-0500
TZOFFSETTO:-0400
TZNAME:EDT
DTSTART:20240310T070000
END:DAYLIGHT
BEGIN:STANDARD
TZOFFSETFROM:-0400
TZOFFSETTO:-0500
TZNAME:EST
DTSTART:20241103T060000
END:STANDARD
BEGIN:DAYLIGHT
TZOFFSETFROM:-0500
TZOFFSETTO:-0400
TZNAME:EDT
DTSTART:20250309T070000
END:DAYLIGHT
BEGIN:STANDARD
TZOFFSETFROM:-0400
TZOFFSETTO:-0500
TZNAME:EST
DTSTART:20251102T060000
END:STANDARD
BEGIN:DAYLIGHT
TZOFFSETFROM:-0500
TZOFFSETTO:-0400
TZNAME:EDT
DTSTART:20260308T070000
END:DAYLIGHT
BEGIN:STANDARD
TZOFFSETFROM:-0400
TZOFFSETTO:-0500
TZNAME:EST
DTSTART:20261101T060000
END:STANDARD
END:VTIMEZONE
BEGIN:VEVENT
DTSTART;TZID=America/New_York:20251226T190000
DTEND;TZID=America/New_York:20251226T220000
DTSTAMP:20260425T112614
CREATED:20251222T160644Z
LAST-MODIFIED:20251222T160644Z
UID:10029205-1766775600-1766786400@livemusicasheville.com
SUMMARY:The B's Trio in The Great Hall
DESCRIPTION:
URL:https://livemusicasheville.com/calendar/the-bs-trio-in-the-great-hall-2/2025-12-26/
LOCATION:The Omni Grove Park Inn
CATEGORIES:Asheville Area,Live Music
GEO:35.6206376;-82.5422977
END:VEVENT
BEGIN:VEVENT
DTSTART;TZID=America/New_York:20251226T190000
DTEND;TZID=America/New_York:20251227T010000
DTSTAMP:20260425T112614
CREATED:20241225T141623Z
LAST-MODIFIED:20260416T110217Z
UID:10056320-1766775600-1766797200@livemusicasheville.com
SUMMARY:Friday Karaoke
DESCRIPTION:  \n7-10pm – Mal’s Bar Marshall (February 20) \n7-10pm- Noble Cider (April 10) \n8pm-12am – Silverados Black Mountain \n8-11pm – Dalton Distillery (April 17) \n8-11pm – T Birds Weaverville \n8:30-11pm – The Village Porch Woodfin (April 17) \n8pm-1am – Fleetwoods (Feb 27) \n9pm-12am – Brewskies Fairview   \n9pm-12am – Little Creek Tavern Fletcher  \n9pm-1am – Handlebar & Grill \n9pm- 1am – O’Henrys \n9:30pm-1:30am – The Crowbar Downtown \n10pm – 2am – Shakeys \nVerify time and KJ with The Venue. \n  \n  \n\n 
URL:https://livemusicasheville.com/calendar/friday-weekly-karaoke/2025-12-26/
LOCATION:Asheville Area
CATEGORIES:Asheville Area,Black Mountain,Fairview,Karaoke,Madison County,Weaverville
END:VEVENT
BEGIN:VEVENT
DTSTART;TZID=America/New_York:20251226T190000
DTEND;TZID=America/New_York:20251227T020000
DTSTAMP:20260425T112614
CREATED:20241225T123126Z
LAST-MODIFIED:20251122T132355Z
UID:10000629-1766775600-1766800800@livemusicasheville.com
SUMMARY:Dueling Piano Show
DESCRIPTION:
URL:https://livemusicasheville.com/calendar/dueling-piano-show/2025-12-26/
LOCATION:Off the Wagon
CATEGORIES:Asheville Area,Live Music
GEO:41.4302231;-81.3909542
END:VEVENT
BEGIN:VEVENT
DTSTART;TZID=America/New_York:20251226T193000
DTEND;TZID=America/New_York:20251226T213000
DTSTAMP:20260425T112614
CREATED:20251223T123052Z
LAST-MODIFIED:20251223T123052Z
UID:10029524-1766777400-1766784600@livemusicasheville.com
SUMMARY:Unwrap the Funk w/ Anne Combs & Company Funk
DESCRIPTION:
URL:https://livemusicasheville.com/calendar/unwrap-the-funk-w-anne-combs-company-funk/
LOCATION:White Horse Black Mountain
CATEGORIES:Asheville Area,Black Mountain,Live Music
GEO:35.6178579;-82.3211924
END:VEVENT
BEGIN:VEVENT
DTSTART;TZID=America/New_York:20251226T200000
DTEND;TZID=America/New_York:20251226T220000
DTSTAMP:20260425T112614
CREATED:20250212T152622Z
LAST-MODIFIED:20260401T141115Z
UID:10026295-1766779200-1766786400@livemusicasheville.com
SUMMARY:Will Hartz
DESCRIPTION:
URL:https://livemusicasheville.com/calendar/will-hartz-4/2025-12-26/
LOCATION:The Whale Outpost Haw Creek
CATEGORIES:Asheville Area,Live Music
GEO:35.5919991;-82.5054695
END:VEVENT
BEGIN:VEVENT
DTSTART;TZID=America/New_York:20251226T200000
DTEND;TZID=America/New_York:20251226T230000
DTSTAMP:20260425T112614
CREATED:20250711T192233Z
LAST-MODIFIED:20260116T152048Z
UID:10028204-1766779200-1766790000@livemusicasheville.com
SUMMARY:Commodore Fox Band
DESCRIPTION:
URL:https://livemusicasheville.com/calendar/commodore-fox-band-2/2025-12-26/
LOCATION:Wild Wing Cafe South
CATEGORIES:Live Music,South Asheville/Arden/Fletcher
END:VEVENT
BEGIN:VEVENT
DTSTART;TZID=America/New_York:20251226T200000
DTEND;TZID=America/New_York:20251226T230000
DTSTAMP:20260425T112614
CREATED:20251209T145134Z
LAST-MODIFIED:20251218T071243Z
UID:10026988-1766779200-1766790000@livemusicasheville.com
SUMMARY:Brad Walker Quartet ft. Zack Page\, Alex Taub\, & Al Sergel
DESCRIPTION:Brad Walker is among the most active and sought-after performers in New Orleans\, celebrated for his soaring\, energetic\, and deeply tasteful saxophone work. Widely recognized for his high-profile performances on Saturday Night Live\, the Grammy Awards\, and The Tonight Show with Sturgill Simpson\, Walker has also established himself as a compelling artist and bandleader in his own right. \nWith over a decade of music-making in the Crescent City\, Walker has released seven full-length albums under his own name. His 2014 debut\, Quintet\, earned a 4-star review from DownBeat Magazine\, and his work has been praised by Rolling Stone\, NPR\, Relix\, Variety\, The Times-Picayune\, OffBeat Magazine\, and Gambit Weekly\, among others. \nWalker is a multiple-time nominee for New Orleans’ most prestigious music honors\, including OffBeat Magazine’s Best of the Beat Awards and the Big Easy Awards. In 2020\, he received nominations for Best Contemporary Jazz Artist and Best Record (Live at Snug Harbor)\, alongside internationally recognized artists such as Nicholas Payton\, Jon Batiste\, and Terence Blanchard. Additional nominations followed in 2021 for Best Saxophonist\, Best Contemporary Jazz Artist\, and Best Contemporary Jazz Album (The Dockside Sessions). \nSince 2009\, Walker has performed and recorded with an extraordinary range of artists\, including Anders Osborne\, Bernard Purdie\, Peter Erskine\, George Porter Jr.\, Ivan Neville and Dumpstaphunk\, Zigaboo Modeliste\, Rickie Lee Jones\, Valerie June\, Better Than Ezra\, and U2 (with Hal Willner). He has also led horn sections for Blues Award-winner Ana Popovic and OffBeat Award-winning artists Eric Lindell\, Johnny Sketch and the Dirty Notes\, Honey Island Swamp Band\, and Colin Lake. \nSince 2016\, Walker has been a frequent collaborator with New Orleans native PJ Morton\, recording on multiple Grammy Award-winning and nominated albums and appearing on national broadcasts including The Today Show\, Jimmy Kimmel Live\, and BET Gospel Super Bowl. Grounded in New Orleans tradition while pushing contemporary jazz forward\, Brad Walker brings both world-class credentials and undeniable energy to every performance.\n$10 at the door (all ticket proceeds are 100% passed to the band\, backed by a living wage guarantee from Hotel Eve) \nHotel Eve is your locally rooted\, speakeasy jazz club & cocktail bar\, hidden in the heart of Downtown Asheville. Mysteriously not a hotel…check in for spirits\, souls and jazz! We’re tucked away\, on purpose. You’ll find us behind the gate nestled between Virtue Boutique and Dane Wells Gallery at 56 N Lexington Avenue in downtown Asheville. Step through\, take a left into the courtyard\, check in for Spirits\, Souls & Jazz. We’ll be waiting on the other side. hotelevejazz.com \n 
URL:https://livemusicasheville.com/calendar/brad-walker-quartet/
LOCATION:Hotel Eve Jazz\, 56 N Lexington Avenue\, Asheville\, NC\, 28801\, United States
CATEGORIES:Asheville Area,Live Music
GEO:35.5967716;-82.5530826
X-APPLE-STRUCTURED-LOCATION;VALUE=URI;X-ADDRESS=Hotel Eve Jazz 56 N Lexington Avenue Asheville NC 28801 United States;X-APPLE-RADIUS=500;X-TITLE=56 N Lexington Avenue:geo:-82.5530826,35.5967716
END:VEVENT
BEGIN:VEVENT
DTSTART;TZID=America/New_York:20251226T200000
DTEND;TZID=America/New_York:20251226T230000
DTSTAMP:20260425T112614
CREATED:20251223T172051Z
LAST-MODIFIED:20251223T172051Z
UID:10029551-1766779200-1766790000@livemusicasheville.com
SUMMARY:Tell Me Lies – The Fleetwood Mac Experience w/ Julianna Jade
DESCRIPTION:
URL:https://livemusicasheville.com/calendar/tell-me-lies-the-fleetwood-mac-experience-w-julianna-jade/
LOCATION:The Grey Eagle\, 185 Clingman Ave\, Asheville\, NC\, United States
CATEGORIES:Asheville Area,Live Music
GEO:35.5870871;-82.5643936
X-APPLE-STRUCTURED-LOCATION;VALUE=URI;X-ADDRESS=The Grey Eagle 185 Clingman Ave Asheville NC United States;X-APPLE-RADIUS=500;X-TITLE=185 Clingman Ave:geo:-82.5643936,35.5870871
END:VEVENT
BEGIN:VEVENT
DTSTART;TZID=America/New_York:20251226T203000
DTEND;TZID=America/New_York:20251227T010000
DTSTAMP:20260425T112614
CREATED:20251224T142533Z
LAST-MODIFIED:20251224T142535Z
UID:10001530-1766781000-1766797200@livemusicasheville.com
SUMMARY:Elaine’s Dueling Piano Bar
DESCRIPTION:
URL:https://livemusicasheville.com/calendar/elaines-dueling-piano-bar-2/2025-12-26/
LOCATION:The Omni Grove Park Inn
CATEGORIES:Asheville Area,Live Music
GEO:35.6206376;-82.5422977
END:VEVENT
BEGIN:VEVENT
DTSTART;TZID=America/New_York:20251226T210000
DTEND;TZID=America/New_York:20251227T000000
DTSTAMP:20260425T112614
CREATED:20250528T144548Z
LAST-MODIFIED:20251226T174127Z
UID:10014859-1766782800-1766793600@livemusicasheville.com
SUMMARY:Hip Hop Showcase
DESCRIPTION:
URL:https://livemusicasheville.com/calendar/hip-hop-heatwave/
LOCATION:The Social East Asheville
CATEGORIES:Asheville Area,DJ/Electronic,Live Music
GEO:35.5878491;-82.4909537
END:VEVENT
BEGIN:VEVENT
DTSTART;TZID=America/New_York:20251226T210000
DTEND;TZID=America/New_York:20251227T000000
DTSTAMP:20260425T112614
CREATED:20251223T120202Z
LAST-MODIFIED:20251226T142155Z
UID:10029458-1766782800-1766793600@livemusicasheville.com
SUMMARY:Funkgettaboutit! w/ Loulou And The Lightning
DESCRIPTION:
URL:https://livemusicasheville.com/calendar/loulou-and-the-lightning/
LOCATION:Shamrock Irons Irish Pub\, 4 College St\, Asheville\, NC\, 28801\, United States
CATEGORIES:Asheville Area,Live Music
GEO:35.9844236;-80.0221361
X-APPLE-STRUCTURED-LOCATION;VALUE=URI;X-ADDRESS=Shamrock Irons Irish Pub 4 College St Asheville NC 28801 United States;X-APPLE-RADIUS=500;X-TITLE=4 College St:geo:-80.0221361,35.9844236
END:VEVENT
BEGIN:VEVENT
DTSTART;TZID=America/New_York:20251226T210000
DTEND;TZID=America/New_York:20251227T000000
DTSTAMP:20260425T112614
CREATED:20251223T122609Z
LAST-MODIFIED:20251223T201641Z
UID:10029523-1766782800-1766793600@livemusicasheville.com
SUMMARY:Rahm Squad Holiday Hang
DESCRIPTION:All Star Band of musicians from many of our favorite local bands come together for Rahm Squad’s holiday hang!\nRahm Squad includes:\nRahm MandelkornLogan JayneJosh ClarkMarcus WhiteTyler HousholderBen Colvin\nSpecial Guests are CaroMia & Josh Phillips\n$10 Cover\nOutside food\, holiday leftovers welcome!\n\n\nThe West Asheville taproom hosts a wide variety of special and regular events\, from yoga to an electronic music & beer festival\, and everything in between. Check out our upcoming schedule: click here
URL:https://livemusicasheville.com/calendar/rahm-squad-holiday-hang/
LOCATION:One World Brewing – West\, 520 Haywood Rd\, Asheville\, North Carolina\, 28806
CATEGORIES:Asheville Area,Live Music
GEO:35.5783642;-82.5848526
X-APPLE-STRUCTURED-LOCATION;VALUE=URI;X-ADDRESS=One World Brewing – West 520 Haywood Rd Asheville North Carolina 28806;X-APPLE-RADIUS=500;X-TITLE=520 Haywood Rd:geo:-82.5848526,35.5783642
END:VEVENT
BEGIN:VEVENT
DTSTART;TZID=America/New_York:20251226T210000
DTEND;TZID=America/New_York:20251227T000000
DTSTAMP:20260425T112614
CREATED:20251223T143707Z
LAST-MODIFIED:20251223T143707Z
UID:10029536-1766782800-1766793600@livemusicasheville.com
SUMMARY:Ween-Bath
DESCRIPTION:
URL:https://livemusicasheville.com/calendar/ween-bath/
LOCATION:Third Room\, 46 Wall Street\, Asheville\, NC\, NC\, 28803\, United States
CATEGORIES:Asheville Area,Live Music
GEO:35.5943967;-82.5559625
X-APPLE-STRUCTURED-LOCATION;VALUE=URI;X-ADDRESS=Third Room 46 Wall Street Asheville NC NC 28803 United States;X-APPLE-RADIUS=500;X-TITLE=46 Wall Street:geo:-82.5559625,35.5943967
END:VEVENT
BEGIN:VEVENT
DTSTART;TZID=America/New_York:20251226T210000
DTEND;TZID=America/New_York:20251227T000000
DTSTAMP:20260425T112614
CREATED:20251223T172556Z
LAST-MODIFIED:20251223T172556Z
UID:10029554-1766782800-1766793600@livemusicasheville.com
SUMMARY:Cosmic Charlie
DESCRIPTION:
URL:https://livemusicasheville.com/calendar/cosmic-charlie-2/
LOCATION:Asheville Music Hall\, 31 Patton Ave\, Asheville\, NC\, 28801\, United States
CATEGORIES:Asheville Area,Live Music
GEO:35.5949233;-82.5530398
X-APPLE-STRUCTURED-LOCATION;VALUE=URI;X-ADDRESS=Asheville Music Hall 31 Patton Ave Asheville NC 28801 United States;X-APPLE-RADIUS=500;X-TITLE=31 Patton Ave:geo:-82.5530398,35.5949233
END:VEVENT
BEGIN:VEVENT
DTSTART;TZID=America/New_York:20251226T220000
DTEND;TZID=America/New_York:20251227T010000
DTSTAMP:20260425T112614
CREATED:20251223T172726Z
LAST-MODIFIED:20251223T172726Z
UID:10029555-1766786400-1766797200@livemusicasheville.com
SUMMARY:Falcon 5
DESCRIPTION:
URL:https://livemusicasheville.com/calendar/falcon-5/
LOCATION:The One Stop
CATEGORIES:Asheville Area,Live Music
END:VEVENT
BEGIN:VEVENT
DTSTART;TZID=America/New_York:20251226T223000
DTEND;TZID=America/New_York:20251227T013000
DTSTAMP:20260425T112614
CREATED:20251201T224519Z
LAST-MODIFIED:20251220T183636Z
UID:10026307-1766788200-1766799000@livemusicasheville.com
SUMMARY:The Cool Yule Club: Honky Tonk Nights
DESCRIPTION:Step into THE COOL YULE CLUB\, a 70s Christmas pop-up experience inside Fitz & The Wolfe’s Palm Room. Every Friday + Saturday we flip the room into two distinct throwback nights within one very groovy decade experience.. \n• A retro Honky Tonk listening room 🤠✨\n• A vintage Jazz Club night 🎷🌟 \n\n\n\nExpect warm tinsel lit twang\, mellow energy\, and classic country storytelling in a cozy sit-and-listen setting. Think Merle Haggard\, Loretta Lynn\, Buck Owen’s\, Dolly Parton and more.. \nHONKY TONK Lineup: \nDec 26 – Chris Vita Band \n\n\n$10 covers both the Showroom and Palm Room music.\n  \n\n  \nFitz\, she’s the party. Wolfe\, he’s the epicure. 2 levels\, 3 vibes. 🎶 Live Music |🍸Sips & Noms 🥪 | 🕹️ Artcade | 🗝️Speakeasy | Private Events \nFitz and the Wolfe is a cocktail and music venue shaped by the spirit of improvisation\, storytelling\, and the kind of nights that feel too good to end. Here\, every night brings a new soundtrack. Jazz\, swing\, honky-tonk\, and sometimes things a little more esoteric—if it moves people\, we book it. The music fills the space like a second heartbeat\, sometimes rowdy\, sometimes intimate\, always memorable. It’s not background noise. It’s the reason you’re here. fitzandthewolfe.com
URL:https://livemusicasheville.com/calendar/the-cool-yule-club-honky-tonk-nights/2025-12-26/
LOCATION:Fitz and the Wolfe\, 1 Battery Park Ave\, Asheville\, NC\, 28801\, United States
CATEGORIES:Asheville Area,Live Music
GEO:35.5954515;-82.5548502
X-APPLE-STRUCTURED-LOCATION;VALUE=URI;X-ADDRESS=Fitz and the Wolfe 1 Battery Park Ave Asheville NC 28801 United States;X-APPLE-RADIUS=500;X-TITLE=1 Battery Park Ave:geo:-82.5548502,35.5954515
END:VEVENT
BEGIN:VEVENT
DTSTART;TZID=America/New_York:20251227T110000
DTEND;TZID=America/New_York:20251228T010000
DTSTAMP:20260425T112614
CREATED:20241225T201123Z
LAST-MODIFIED:20260422T210726Z
UID:10053592-1766833200-1766883600@livemusicasheville.com
SUMMARY:Saturday Karaoke
DESCRIPTION:Ben’s Tune Up – 11am-2pm (1st & 3rd Saturdays) \nWagworld Pub – 6-9pm (April 25) \nLookout Brewing Black Mountain – 7-10pm (April 18) \nThe Whale South Slope – 7-10pm (April 18) \nIce Bar Arden – 8pm-12am (April 25) \nLiondog Lounge Weaverville – 8pm-12am (every other week) \nT Birds Weaverville – 8-11pm \nThe Burger Bar – 8pm-1am \nThe Social East Asheville – 9pm-1am \n  \n  \nPlease verify times and KJ with the venue.
URL:https://livemusicasheville.com/calendar/saturday-karaoke/2025-12-27/
CATEGORIES:Asheville Area,Karaoke
END:VEVENT
BEGIN:VEVENT
DTSTART;TZID=America/New_York:20251227T120000
DTEND;TZID=America/New_York:20251227T140000
DTSTAMP:20260425T112614
CREATED:20251206T071330Z
LAST-MODIFIED:20251206T071331Z
UID:10023743-1766836800-1766844000@livemusicasheville.com
SUMMARY:Yala Cultural Tour w/ Adama Dembele
DESCRIPTION:Visit LEAF Global Arts every Saturday for an in-house cultural exchange with Adama Dembele. Experience the Ivory Coast with our Culture Keeper from the House of Djembe.\nYala Culture Tour includes drumming\, dancing\, and stories from Ivory Coast. Drums are provided! Families are welcome.
URL:https://livemusicasheville.com/calendar/yala-cultural-tour-w-adama-dembele-3-2/2025-12-27/
LOCATION:LEAF Global Arts\, 19 Eagle St\, Asheville\, NC\, 28801
CATEGORIES:Asheville Area,Live Music
GEO:35.5938244;-82.5505196
X-APPLE-STRUCTURED-LOCATION;VALUE=URI;X-ADDRESS=LEAF Global Arts 19 Eagle St Asheville NC 28801;X-APPLE-RADIUS=500;X-TITLE=19 Eagle St:geo:-82.5505196,35.5938244
END:VEVENT
BEGIN:VEVENT
DTSTART;TZID=America/New_York:20251227T140000
DTEND;TZID=America/New_York:20251227T170000
DTSTAMP:20260425T112614
CREATED:20251216T154727Z
LAST-MODIFIED:20251216T154727Z
UID:10028873-1766844000-1766854800@livemusicasheville.com
SUMMARY:Aubrey Eisenman & The Clydes
DESCRIPTION:
URL:https://livemusicasheville.com/calendar/aubrey-eisenman-the-clydes/
LOCATION:Sierra Nevada Mills River\, 100 Sierra Nevada Way\, Mills River\, NC\, 28732
CATEGORIES:Asheville Area,Live Music,Mills River
GEO:35.4308568;-82.5535594
X-APPLE-STRUCTURED-LOCATION;VALUE=URI;X-ADDRESS=Sierra Nevada Mills River 100 Sierra Nevada Way Mills River NC 28732;X-APPLE-RADIUS=500;X-TITLE=100 Sierra Nevada Way:geo:-82.5535594,35.4308568
END:VEVENT
BEGIN:VEVENT
DTSTART;TZID=America/New_York:20251227T160000
DTEND;TZID=America/New_York:20251227T190000
DTSTAMP:20260425T112614
CREATED:20250225T160149Z
LAST-MODIFIED:20251221T083300Z
UID:10009006-1766851200-1766862000@livemusicasheville.com
SUMMARY:Reggae Saturday w/ Chalwa
DESCRIPTION:ChalwaSat\, Dec 27 at 4 PM | Free ShowPisgah Brewing Company Taproom Stage \nChalwa is an original Mountain Reggae band out of Asheville\, NC that represents a community giving thanks for life\, one love and the continual growth of Music\, Mind and Soul. Mountain Music\, Reggae\, Dub\, Roots Reggae. Sharing a connection with the Blue Mountains of Jamaica\, Chalwa draws from the ancient roots of the Appalachia to grow and spread their musical mediation and positive vibrations. Their high energy shows are one of a kind and always get the diverse crowd dancing and groovin’ to the message. \nFounded in 2005\, Pisgah is known for producing some of the most sought after craft ales in Western North Carolina. Pisgah Brewing Company currently operates an indoor taproom and an open air outdoor bar in the summer and fall months with live music several days a week. Check out our upcoming schedule at pisgahbrewing.com/events
URL:https://livemusicasheville.com/calendar/chalwa/
LOCATION:Pisgah Brewing Company Black Mountain\, 2948 US-70\, Black Mountain\, NC\, 28711
CATEGORIES:Asheville Area,Black Mountain,Live Music
ATTACH;FMTTYPE=image/jpeg:https://livemusicasheville.com/wp-content/uploads/2025/02/IMG_3605-e1766305968536.jpeg
GEO:35.6068069;-82.3568213
X-APPLE-STRUCTURED-LOCATION;VALUE=URI;X-ADDRESS=Pisgah Brewing Company Black Mountain 2948 US-70 Black Mountain NC 28711;X-APPLE-RADIUS=500;X-TITLE=2948 US-70:geo:-82.3568213,35.6068069
END:VEVENT
BEGIN:VEVENT
DTSTART;TZID=America/New_York:20251227T170000
DTEND;TZID=America/New_York:20251227T200000
DTSTAMP:20260425T112614
CREATED:20241227T134718Z
LAST-MODIFIED:20251223T145225Z
UID:10003993-1766854800-1766865600@livemusicasheville.com
SUMMARY:Gabrielknowseverything
DESCRIPTION:
URL:https://livemusicasheville.com/calendar/gabrielknowseverything/
LOCATION:Auction House Food Hall Fletcher
CATEGORIES:Asheville Area,Live Music,South Asheville/Arden/Fletcher
GEO:35.4306652;-82.5019658
END:VEVENT
BEGIN:VEVENT
DTSTART;TZID=America/New_York:20251227T170000
DTEND;TZID=America/New_York:20251227T200000
DTSTAMP:20260425T112614
CREATED:20260114T183936Z
LAST-MODIFIED:20260122T201816Z
UID:10036133-1766854800-1766865600@livemusicasheville.com
SUMMARY:Carrie Morrison duo
DESCRIPTION:
URL:https://livemusicasheville.com/calendar/carrie-morrison/
LOCATION:Auction House Food Hall Fletcher
CATEGORIES:Asheville Area,Live Music,South Asheville/Arden/Fletcher
GEO:35.4306652;-82.5019658
END:VEVENT
BEGIN:VEVENT
DTSTART;TZID=America/New_York:20251227T173000
DTEND;TZID=America/New_York:20251227T193000
DTSTAMP:20260425T112614
CREATED:20241224T203115Z
LAST-MODIFIED:20251223T200733Z
UID:10006524-1766856600-1766863800@livemusicasheville.com
SUMMARY:Gypsy Jazz with Dinah’s Daydream
DESCRIPTION:
URL:https://livemusicasheville.com/calendar/gypsy-jazz-with-dinahs-daydream/2025-12-27/
LOCATION:Battery Park Book Exchange & Champagne Bar
CATEGORIES:Asheville Area,Live Music
GEO:35.5951042;-82.556633
END:VEVENT
BEGIN:VEVENT
DTSTART;TZID=America/New_York:20251227T180000
DTEND;TZID=America/New_York:20251227T210000
DTSTAMP:20260425T112614
CREATED:20250702T190423Z
LAST-MODIFIED:20251223T174323Z
UID:10016721-1766858400-1766869200@livemusicasheville.com
SUMMARY:Queen Bee and the Honeylovers
DESCRIPTION:
URL:https://livemusicasheville.com/calendar/queen-bee-and-the-honeylovers/
LOCATION:Highland Brewing
CATEGORIES:Asheville Area,Live Music
END:VEVENT
BEGIN:VEVENT
DTSTART;TZID=America/New_York:20251227T180000
DTEND;TZID=America/New_York:20251227T210000
DTSTAMP:20260425T112614
CREATED:20250726T161716Z
LAST-MODIFIED:20251219T203049Z
UID:10008777-1766858400-1766869200@livemusicasheville.com
SUMMARY:Mr Jimmy Blues
DESCRIPTION:
URL:https://livemusicasheville.com/calendar/mr-jimmy-blues-2-2-2/2025-12-27/
LOCATION:The Asheville Club
CATEGORIES:Asheville Area,Live Music
GEO:35.5952143;-82.554524
END:VEVENT
BEGIN:VEVENT
DTSTART;TZID=America/New_York:20251227T180000
DTEND;TZID=America/New_York:20251227T220000
DTSTAMP:20260425T112614
CREATED:20251007T130234Z
LAST-MODIFIED:20251116T161904Z
UID:10024599-1766858400-1766872800@livemusicasheville.com
SUMMARY:Winter Lights
DESCRIPTION:We look forward to welcoming you back for another year of Asheville’s Brightest Holiday Tradition! Winter Lights is a spectacular open-air walk-through light show made from over one million lights! Located at the North Carolina Arboretum in Asheville\, North Carolina\, this year’s event features favorites like the famously tall 50-foot lighted tree and the Quilt Garden\, along with enchanting new details designed to delight and surprise. \nTroll sightings are anticipated at this year’s Winter Lights\, as six of Dambo’s Trolls will be experiencing the show for themselves. Meet them in the gardens at Winter Lights! \nWinter Lights features live entertainment nightly and food and beverages from the Bent Creek Bistro\, the Cocoa Shack and the Cocoa Cabin! Open nightly from 6:00 – 10:00 p.m. \nTickets on Sale Now! Event Details and Tickets \nFor more than 35 years…Cultivating Connections between People\, Plants and Places…amid a 434-acre public garden\, The North Carolina Arboretum is located within the Bent Creek Experimental Forest just south of Asheville and adjacent to the Blue Ridge Parkway at Milepost 393. Surrounded and crisscrossed by forested coves and meandering creeks in the botanically diverse Southern Appalachian Mountains\, The North Carolina Arboretum is set in one of the most beautiful natural settings in America. ncarboretum.org \n  \n 
URL:https://livemusicasheville.com/calendar/winter-lights-2/2025-12-27/
LOCATION:The North Carolina Arboretum
CATEGORIES:Asheville Area,Live Music
END:VEVENT
BEGIN:VEVENT
DTSTART;TZID=America/New_York:20251227T180000
DTEND;TZID=America/New_York:20251227T230000
DTSTAMP:20260425T112614
CREATED:20250131T150536Z
LAST-MODIFIED:20251214T224624Z
UID:10007473-1766858400-1766876400@livemusicasheville.com
SUMMARY:The Depot Live Music Show
DESCRIPTION:The Original Marshall Depot washed away in the flood HELENE. Until the New Depot is up and running\, we will continue to have a live music show at the New Depot Twist Again Dance Barn at 439 Cody Road\, Marshall\, NC. A live music show featuring local bands\, dance\, cakewalk\, and fellowship. Admission is FREE\, and Donations are appreciated to help pay the light bill.
URL:https://livemusicasheville.com/calendar/the-depot-live-music-show/2025-12-27/
LOCATION:New Depot Twist Again Dance Barn\, 439 Cody Road\, Marshall\, NC
CATEGORIES:Live Music,Madison County
GEO:35.8317019;-82.6256424
X-APPLE-STRUCTURED-LOCATION;VALUE=URI;X-ADDRESS=New Depot Twist Again Dance Barn 439 Cody Road Marshall NC;X-APPLE-RADIUS=500;X-TITLE=439 Cody Road:geo:-82.6256424,35.8317019
END:VEVENT
BEGIN:VEVENT
DTSTART;TZID=America/New_York:20251227T180000
DTEND;TZID=America/New_York:20251228T020000
DTSTAMP:20260425T112614
CREATED:20241225T200257Z
LAST-MODIFIED:20260415T173722Z
UID:10004102-1766858400-1766887200@livemusicasheville.com
SUMMARY:Saturday Weekly DJ's
DESCRIPTION:Although we are primarily a Live Music Calendar\, we often come across Electronic & DJ events in the area and list them for you as we find out about them. Please verify the DJ\, times and cover charges with the venue. \nWaterstreet – 3-7pm \nLA Pizza Party Rooftop – 6-9pm \nThe Radical – 6-11pm \nPotential New Boyfriend – 7:30-11pm \nCapella On 9 – 8-11pm \nBen’s Tune Up – 8-11pm \nThe Tiki Easy Bar – 9pm-12am \nBanks Ave – 9-11:30pm \nHavana Miami – 9pm-2am \nStatic Age Loft – 9pm-2am \nWaterstreet – 9pm-2am \nNightshade – 9pm-1am \nVOWL – 9pm-1am \nLa Pizza Party South Slope – 10pm-2am \nFarməse – 10pm-1am \nThe Barksdale – 10pm-2am \nDouble Crown – 10pm-2am \nLazy Diamond – 10pm-2am \nStrange Magic Bar – 10pm-2am \nShakeys – 10pm-2am \nVerify with the venue on time\, cover charges and tonight’s DJ.
URL:https://livemusicasheville.com/calendar/saturday-weekly-dj-schedule/2025-12-27/
CATEGORIES:Asheville Area,DJ/Electronic
END:VEVENT
BEGIN:VEVENT
DTSTART;TZID=America/New_York:20251227T190000
DTEND;TZID=America/New_York:20251227T210000
DTSTAMP:20260425T112614
CREATED:20251126T181412Z
LAST-MODIFIED:20260106T172318Z
UID:10030396-1766862000-1766869200@livemusicasheville.com
SUMMARY:Will Hartz
DESCRIPTION:
URL:https://livemusicasheville.com/calendar/will-hartz-3-2-2-2-2/2025-12-27/
LOCATION:5 Walnut Wine Bar
CATEGORIES:Asheville Area,Live Music
GEO:35.596654;-82.5525389
END:VEVENT
BEGIN:VEVENT
DTSTART;TZID=America/New_York:20251227T190000
DTEND;TZID=America/New_York:20251227T220000
DTSTAMP:20260425T112614
CREATED:20250219T131202Z
LAST-MODIFIED:20251223T122103Z
UID:10008787-1766862000-1766872800@livemusicasheville.com
SUMMARY:Hannah Ramsey
DESCRIPTION:
URL:https://livemusicasheville.com/calendar/vice-versa/
LOCATION:One World Brewing Downtown\, 10 Patton Ave\, Asheville\, NC\, 28801
CATEGORIES:Asheville Area,Live Music
GEO:35.5947396;-82.5522724
X-APPLE-STRUCTURED-LOCATION;VALUE=URI;X-ADDRESS=One World Brewing Downtown 10 Patton Ave Asheville NC 28801;X-APPLE-RADIUS=500;X-TITLE=10 Patton Ave:geo:-82.5522724,35.5947396
END:VEVENT
END:VCALENDAR