BEGIN:VCALENDAR
VERSION:2.0
PRODID:-//LiveMusicAsheville.com - ECPv6.15.20//NONSGML v1.0//EN
CALSCALE:GREGORIAN
METHOD:PUBLISH
X-WR-CALNAME:LiveMusicAsheville.com
X-ORIGINAL-URL:https://livemusicasheville.com
X-WR-CALDESC:Events for LiveMusicAsheville.com
REFRESH-INTERVAL;VALUE=DURATION:PT1H
X-Robots-Tag:noindex
X-PUBLISHED-TTL:PT1H
BEGIN:VTIMEZONE
TZID:America/New_York
BEGIN:DAYLIGHT
TZOFFSETFROM:-0500
TZOFFSETTO:-0400
TZNAME:EDT
DTSTART:20250309T070000
END:DAYLIGHT
BEGIN:STANDARD
TZOFFSETFROM:-0400
TZOFFSETTO:-0500
TZNAME:EST
DTSTART:20251102T060000
END:STANDARD
BEGIN:DAYLIGHT
TZOFFSETFROM:-0500
TZOFFSETTO:-0400
TZNAME:EDT
DTSTART:20260308T070000
END:DAYLIGHT
BEGIN:STANDARD
TZOFFSETFROM:-0400
TZOFFSETTO:-0500
TZNAME:EST
DTSTART:20261101T060000
END:STANDARD
BEGIN:DAYLIGHT
TZOFFSETFROM:-0500
TZOFFSETTO:-0400
TZNAME:EDT
DTSTART:20270314T070000
END:DAYLIGHT
BEGIN:STANDARD
TZOFFSETFROM:-0400
TZOFFSETTO:-0500
TZNAME:EST
DTSTART:20271107T060000
END:STANDARD
END:VTIMEZONE
BEGIN:VEVENT
DTSTART;TZID=America/New_York:20260430T180000
DTEND;TZID=America/New_York:20260430T210000
DTSTAMP:20260424T194430
CREATED:20251121T203256Z
LAST-MODIFIED:20251203T113432Z
UID:10013135-1777572000-1777582800@livemusicasheville.com
SUMMARY:Jerry’s Dead Thursdays
DESCRIPTION:Jerry’s Dead from Asheville is a fast growing\, fan favorite\, tribute to the music of Jerry Garcia. Members include Lee Kram on drums and vocals\, Gus Vigo on keys and vocals\, Dan Pederson on bass and vocals and features Tim Marsh on guitar and lead vocals. Drawing from over a hundred and fifty songs from The Grateful Dead and Jerry Garcia Band catalog\, this quartet delivers with fervor and improvisational spirit intact. \nFrench Broad River Brewery is more than just a place to enjoy a drink—it’s a community hub where great beer\, delicious pizza\, live music\, and good times come together. Just minutes from the Biltmore Estate & Downtown\, our taproom is a gathering spot for locals and visitors alike. We regularly host live music and entertainment in our taproom\, making French Broad River Brewery a lively hub of local activity. From bluegrass to reggae\, there’s always something happening. Check out our Events Page to see what’s coming up next! \nNo brewery experience is complete without great food. That’s why we offer French Broad River Pizza\, serving up hot\, hand-tossed pizzas made to order. Whether you’re here for a quick slice or a full meal\, our pizza perfectly complements our craft beers and the lively atmosphere of our taproom. frenchbroadbrewery.com/pizza \n 
URL:https://livemusicasheville.com/calendar/jerrys-dead-2-2-2-2-2-2/2026-04-30/
LOCATION:French Broad River Brewery\, 101 Fairview Rd\, Asheville\, NC\, United States
CATEGORIES:Asheville Area,Live Music
ATTACH;FMTTYPE=image/jpeg:https://livemusicasheville.com/wp-content/uploads/2025/03/480733944_955764170010259_7959141011877987736_n-e1746972963507.jpg
GEO:35.5662722;-82.5374054
X-APPLE-STRUCTURED-LOCATION;VALUE=URI;X-ADDRESS=French Broad River Brewery 101 Fairview Rd Asheville NC United States;X-APPLE-RADIUS=500;X-TITLE=101 Fairview Rd:geo:-82.5374054,35.5662722
END:VEVENT
BEGIN:VEVENT
DTSTART;TZID=America/New_York:20260430T180000
DTEND;TZID=America/New_York:20260430T210000
DTSTAMP:20260424T194430
CREATED:20251121T203137Z
LAST-MODIFIED:20260107T125034Z
UID:10024963-1777572000-1777582800@livemusicasheville.com
SUMMARY:BUTTS & BOOTS :: Line Dancing
DESCRIPTION:
URL:https://livemusicasheville.com/calendar/butts-boots-line-dancing-3/2026-04-30/
LOCATION:Banks Ave
CATEGORIES:Asheville Area,DJ/Electronic
GEO:35.5892908;-82.5536382
END:VEVENT
BEGIN:VEVENT
DTSTART;TZID=America/New_York:20260430T180000
DTEND;TZID=America/New_York:20260430T200000
DTSTAMP:20260424T194430
CREATED:20260218T222138Z
LAST-MODIFIED:20260218T222139Z
UID:10045494-1777572000-1777579200@livemusicasheville.com
SUMMARY:Albi Podrizki
DESCRIPTION:
URL:https://livemusicasheville.com/calendar/albi-podrizki-3-2-2/2026-04-30/
LOCATION:Filo Post 70 East Asheville
CATEGORIES:Asheville Area,Live Music
END:VEVENT
BEGIN:VEVENT
DTSTART;TZID=America/New_York:20260430T180000
DTEND;TZID=America/New_York:20260430T200000
DTSTAMP:20260424T194430
CREATED:20250813T181949Z
LAST-MODIFIED:20260422T192149Z
UID:10019144-1777572000-1777579200@livemusicasheville.com
SUMMARY:Taylor Hollingsworth
DESCRIPTION:
URL:https://livemusicasheville.com/calendar/taylor-hollingsworth/
LOCATION:Zadies Market at The Old Marshall Jail Hotel
CATEGORIES:Asheville Area,Live Music,Madison County
END:VEVENT
BEGIN:VEVENT
DTSTART;TZID=America/New_York:20260430T173000
DTEND;TZID=America/New_York:20260430T193000
DTSTAMP:20260424T194430
CREATED:20250521T174737Z
LAST-MODIFIED:20260422T160736Z
UID:10014646-1777570200-1777577400@livemusicasheville.com
SUMMARY:Ashley Heath
DESCRIPTION:
URL:https://livemusicasheville.com/calendar/ashley-heath-4/
LOCATION:12 Bones Brewing
CATEGORIES:Asheville Area,Live Music,South Asheville/Arden/Fletcher
END:VEVENT
BEGIN:VEVENT
DTSTART;TZID=America/New_York:20260430T170000
DTEND;TZID=America/New_York:20260430T200000
DTSTAMP:20260424T194430
CREATED:20250416T134644Z
LAST-MODIFIED:20260422T130947Z
UID:10012609-1777568400-1777579200@livemusicasheville.com
SUMMARY:Owen Walsh
DESCRIPTION:
URL:https://livemusicasheville.com/calendar/new-beer-thursday-w-owen-walsh/
LOCATION:Wicked Weed Brewpub
CATEGORIES:Asheville Area,Live Music
GEO:35.591694;-82.5510325
END:VEVENT
BEGIN:VEVENT
DTSTART;TZID=America/New_York:20260430T170000
DTEND;TZID=America/New_York:20260430T190000
DTSTAMP:20260424T194430
CREATED:20260314T125134Z
LAST-MODIFIED:20260314T125135Z
UID:10045635-1777568400-1777575600@livemusicasheville.com
SUMMARY:The Candleers
DESCRIPTION:
URL:https://livemusicasheville.com/calendar/the-candleers-2-2-3-2/2026-04-30/
LOCATION:Twin Willows Mars Hill
CATEGORIES:Asheville Area,Live Music,Madison County
END:VEVENT
BEGIN:VEVENT
DTSTART;TZID=America/New_York:20260430T163000
DTEND;TZID=America/New_York:20260430T183000
DTSTAMP:20260424T194430
CREATED:20250817T131328Z
LAST-MODIFIED:20260423T150226Z
UID:10058943-1777566600-1777573800@livemusicasheville.com
SUMMARY:Ethan Winograd Jazz Guitar
DESCRIPTION:
URL:https://livemusicasheville.com/calendar/ethan-winograd/2026-04-30/
LOCATION:Riverside Rhapsody Brewing Woodfin
CATEGORIES:Asheville Area,Live Music
GEO:35.6253887;-82.5796059
END:VEVENT
BEGIN:VEVENT
DTSTART;TZID=America/New_York:20260430T160000
DTEND;TZID=America/New_York:20260430T210000
DTSTAMP:20260424T194430
CREATED:20260415T095936Z
LAST-MODIFIED:20260415T095937Z
UID:10056755-1777564800-1777582800@livemusicasheville.com
SUMMARY:Golden Hour: Thursdays at The Mule
DESCRIPTION:This is what we mean by “Keep It Fresh. Drink It In.”.  Thursdays April through August\, we’re settin’ the almost-weekend vibes on our patio with a live DJ\, local beverage partners\, and interactive experiences. Each month will highlight a different local craft beverage brand\, and they’ll be here offering samples and giveaways! You’ll also have the opportunity to sink into an interactive craft experience\, take advantage of our rotating Build Your Own bar\, and shake off the day to the different sounds of our rotating DJ lineup. \nThis is free to attend\, and sure to be your Thursday go-to for Spring & Summer.
URL:https://livemusicasheville.com/calendar/golden-hour-thursdays-at-the-mule-2/2026-04-30/
LOCATION:The Mule at Devils Foot Beverages\, 131 Sweeten Creek Road\, Asheville\, NC\, 28803\, United States
CATEGORIES:Asheville Area,DJ/Electronic
ATTACH;FMTTYPE=image/png:https://livemusicasheville.com/wp-content/uploads/2026/04/Screenshot-2026-04-15-054852-e1776247079732.png
GEO:35.5588369;-82.5218977
X-APPLE-STRUCTURED-LOCATION;VALUE=URI;X-ADDRESS=The Mule at Devils Foot Beverages 131 Sweeten Creek Road Asheville NC 28803 United States;X-APPLE-RADIUS=500;X-TITLE=131 Sweeten Creek Road:geo:-82.5218977,35.5588369
END:VEVENT
BEGIN:VEVENT
DTSTART;TZID=America/New_York:20260430T090000
DTEND;TZID=America/New_York:20260430T103000
DTSTAMP:20260424T194430
CREATED:20260324T145424Z
LAST-MODIFIED:20260409T212604Z
UID:10051131-1777539600-1777545000@livemusicasheville.com
SUMMARY:Live Music Yoga with Seán Johnson ft. Chris Rosser
DESCRIPTION:
URL:https://livemusicasheville.com/calendar/live-music-yoga-with-sean-johnson-ft-chris-rosser/2026-04-30/
LOCATION:AyurPrana Listening Room\, 312 Haywood Rd\, Asheville\, NC\, 28806
CATEGORIES:Asheville Area,Live Music
GEO:35.5775962;-82.5760261
X-APPLE-STRUCTURED-LOCATION;VALUE=URI;X-ADDRESS=AyurPrana Listening Room 312 Haywood Rd Asheville NC 28806;X-APPLE-RADIUS=500;X-TITLE=312 Haywood Rd:geo:-82.5760261,35.5775962
END:VEVENT
BEGIN:VEVENT
DTSTART;VALUE=DATE:20260430
DTEND;VALUE=DATE:20260502
DTSTAMP:20260424T194430
CREATED:20260115T155240Z
LAST-MODIFIED:20260423T154010Z
UID:10037470-1777518000-1777604399@livemusicasheville.com
SUMMARY:Love What We Do .......... Buy Us A Beer!
DESCRIPTION:We hope you enjoy our guide to the Asheville area’s dynamic music scene. \nIf we somehow help to brighten up your day\, please consider a small donation to help support our efforts in providing the area’s most reliable local live music calendar. \nVenmo: click here  \nLast 4 digits – 3383 \nPayPal: click here \n 
URL:https://livemusicasheville.com/calendar/greetings-fellow-music-lovers-2-2/2026-04-30/
LOCATION:Asheville Area
CATEGORIES:Asheville Area
ATTACH;FMTTYPE=image/jpeg:https://livemusicasheville.com/wp-content/uploads/2019/01/alcohol-alcoholic-beverages-beer-1624263-e1776958791382.jpg
END:VEVENT
BEGIN:VEVENT
DTSTART;TZID=America/New_York:20260429T210000
DTEND;TZID=America/New_York:20260430T000000
DTSTAMP:20260424T194430
CREATED:20260331T144309Z
LAST-MODIFIED:20260415T100406Z
UID:10030326-1777496400-1777507200@livemusicasheville.com
SUMMARY:Western Wednesdays Asheville
DESCRIPTION:Western Wednesdays Asheville | Est. 2017 – Every Wednesday | The Double Crown – Asheville\, NC\n\nDon’t miss the best Honky Tonk in Asheville!\n**DOORS AT 8PM – $10 0ne Band | $15 Two Bands ** \n  \nThe Double Crown – Great vibes\, great bourbon\, and great music! (21+ only\, dog friendly) A West Asheville institution\, the Double Crown hosts Western Wednesdays\, karaoke\, DJ’s and rousing Gospel & Soul night’s each month. It’s a great place for an intimate evening of dancing\, drinks and fun\, especially if you love a good dive bar.
URL:https://livemusicasheville.com/calendar/western-wednesdays-asheville-w-rob-leines-2-2-2-2/2026-04-29/
LOCATION:The Double Crown West Asheville\, 375 West Haywood Rd\, Asheville\, NC\, 28806
CATEGORIES:Asheville Area,Live Music
ATTACH;FMTTYPE=image/png:https://livemusicasheville.com/wp-content/uploads/2026/03/Screenshot-2026-03-27-055357-e1774605327488.png
GEO:35.5780389;-82.5787972
X-APPLE-STRUCTURED-LOCATION;VALUE=URI;X-ADDRESS=The Double Crown West Asheville 375 West Haywood Rd Asheville NC 28806;X-APPLE-RADIUS=500;X-TITLE=375 West Haywood Rd:geo:-82.5787972,35.5780389
END:VEVENT
BEGIN:VEVENT
DTSTART;TZID=America/New_York:20260429T210000
DTEND;TZID=America/New_York:20260429T233000
DTSTAMP:20260424T194430
CREATED:20260422T155622Z
LAST-MODIFIED:20260422T155622Z
UID:10058436-1777496400-1777505400@livemusicasheville.com
SUMMARY:More Wednesday DJ/ Electronic
DESCRIPTION:Although we are primarily a Live Music Calendar\, we often come across Electronic & DJ events in the area and list them as we find out about them. Please verify the DJ\, times and cover charges with the venue. \n27 Club – 9pm-1am \n  \nCheck with the venue on DJs and cover charge.
URL:https://livemusicasheville.com/calendar/more-wednesday-dj-electronic-2/
LOCATION:Asheville Area
CATEGORIES:Asheville Area,DJ/Electronic,Weaverville
END:VEVENT
BEGIN:VEVENT
DTSTART;TZID=America/New_York:20260429T200000
DTEND;TZID=America/New_York:20260430T020000
DTSTAMP:20260424T194430
CREATED:20260208T155221Z
LAST-MODIFIED:20260208T155221Z
UID:10043626-1777492800-1777514400@livemusicasheville.com
SUMMARY:All Request Piano Show
DESCRIPTION:
URL:https://livemusicasheville.com/calendar/all-request-piano-show-2/2026-04-29/
LOCATION:Off the Wagon
CATEGORIES:Asheville Area,Live Music
GEO:41.4302231;-81.3909542
END:VEVENT
BEGIN:VEVENT
DTSTART;TZID=America/New_York:20260429T200000
DTEND;TZID=America/New_York:20260430T020000
DTSTAMP:20260424T194430
CREATED:20251223T121045Z
LAST-MODIFIED:20260407T133820Z
UID:10029486-1777492800-1777514400@livemusicasheville.com
SUMMARY:Wednesday Karaoke
DESCRIPTION:Kootie Lounge Asheville at Haikuavl – 7-9pm (1st\, 2nd & 4th Wednesdays) \nPeri Social House Black Mountain – 7-9pm (April 1) \nThe Social East Asheville – 8-11pm \nOHenrys – 8-11:30pm \nSticks on Broadway – 8-11pm (March 4) \nFleetwoods – PSK – 9pm-1am (March 18) \nThe Lazy Diamond – 10pm-2am \n The Odd – 9pm-1am (exclude 4/8 & 4/29) \nPlease verify times and KJ with the venue. \n  \n\n 
URL:https://livemusicasheville.com/calendar/wednesday-karaoke-2/2026-04-29/
LOCATION:Asheville Area
CATEGORIES:Asheville Area,Black Mountain,Karaoke,Mills River
END:VEVENT
BEGIN:VEVENT
DTSTART;TZID=America/New_York:20260429T200000
DTEND;TZID=America/New_York:20260430T020000
DTSTAMP:20260424T194430
CREATED:20251222T163440Z
LAST-MODIFIED:20260408T184720Z
UID:10027955-1777492800-1777514400@livemusicasheville.com
SUMMARY:Wednesday Weekly DJs
DESCRIPTION:Although we are primarily a Live Music Calendar\, we often come across Electronic & DJ events in the area and list them for you as we find out about them. Please verify the DJ\, times and cover charges with the venue. \nOne World Brewing West – 8pm-12am (Latin dance) \nThe One Stop -9pm-12am (until 5/27) \nShakeys Dive Bar – 10pm-2am \nVerify with the venue for the DJs and cover charges. \n 
URL:https://livemusicasheville.com/calendar/wednesday-weekely-djs-2/2026-04-29/
LOCATION:Asheville Area
CATEGORIES:Asheville Area,DJ/Electronic
END:VEVENT
BEGIN:VEVENT
DTSTART;TZID=America/New_York:20260429T200000
DTEND;TZID=America/New_York:20260430T000000
DTSTAMP:20260424T194430
CREATED:20260422T115911Z
LAST-MODIFIED:20260422T115911Z
UID:10058416-1777492800-1777507200@livemusicasheville.com
SUMMARY:Heavy Temple w/ WAXED. Loud\, Immersive & Unapologetically Heavy
DESCRIPTION:
URL:https://livemusicasheville.com/calendar/heavy-temple-w-waxed-loud-immersive-unapologetically-heavy/
LOCATION:The Odd
CATEGORIES:Asheville Area,Live Music
END:VEVENT
BEGIN:VEVENT
DTSTART;TZID=America/New_York:20260429T200000
DTEND;TZID=America/New_York:20260430T000000
DTSTAMP:20260424T194430
CREATED:20260324T165603Z
LAST-MODIFIED:20260324T165604Z
UID:10024030-1777492800-1777507200@livemusicasheville.com
SUMMARY:Latin Night Wednesdays
DESCRIPTION:
URL:https://livemusicasheville.com/calendar/latin-night-wednesdays-2-2-2-2-2/2026-04-29/
LOCATION:One World Brewing – West\, 520 Haywood Rd\, Asheville\, North Carolina\, 28806
CATEGORIES:Asheville Area,DJ/Electronic
GEO:35.5783642;-82.5848526
X-APPLE-STRUCTURED-LOCATION;VALUE=URI;X-ADDRESS=One World Brewing – West 520 Haywood Rd Asheville North Carolina 28806;X-APPLE-RADIUS=500;X-TITLE=520 Haywood Rd:geo:-82.5848526,35.5783642
END:VEVENT
BEGIN:VEVENT
DTSTART;TZID=America/New_York:20260429T200000
DTEND;TZID=America/New_York:20260429T230000
DTSTAMP:20260424T194430
CREATED:20260422T193837Z
LAST-MODIFIED:20260422T193837Z
UID:10058468-1777492800-1777503600@livemusicasheville.com
SUMMARY:Boogarins w/ DOOM GONG + Silver Doors
DESCRIPTION:
URL:https://livemusicasheville.com/calendar/boogarins-w-doom-gong-silver-doors/
LOCATION:The Grey Eagle\, 185 Clingman Ave\, Asheville\, NC\, United States
CATEGORIES:Asheville Area,Live Music
GEO:35.5870871;-82.5643936
X-APPLE-STRUCTURED-LOCATION;VALUE=URI;X-ADDRESS=The Grey Eagle 185 Clingman Ave Asheville NC United States;X-APPLE-RADIUS=500;X-TITLE=185 Clingman Ave:geo:-82.5643936,35.5870871
END:VEVENT
BEGIN:VEVENT
DTSTART;TZID=America/New_York:20260429T200000
DTEND;TZID=America/New_York:20260429T220000
DTSTAMP:20260424T194430
CREATED:20260326T085550Z
LAST-MODIFIED:20260326T085551Z
UID:10052677-1777492800-1777500000@livemusicasheville.com
SUMMARY:Bam-A Lam with Jason Krekel & Craig Kellberg
DESCRIPTION:
URL:https://livemusicasheville.com/calendar/bam-a-lam-with-jason-krekel-craig-kellberg-2-2-2-2-2-2-2/2026-04-29/
LOCATION:5 Walnut Wine Bar
CATEGORIES:Asheville Area,Live Music
GEO:35.596654;-82.5525389
END:VEVENT
BEGIN:VEVENT
DTSTART;TZID=America/New_York:20260429T193000
DTEND;TZID=America/New_York:20260429T210000
DTSTAMP:20260424T194430
CREATED:20260419T144207Z
LAST-MODIFIED:20260419T144207Z
UID:10057835-1777491000-1777496400@livemusicasheville.com
SUMMARY:WWC Trad Student Concert
DESCRIPTION:Fiddles\, banjos\, and square dancing\, oh my! Join the Music Department for a night showcasing all the hard work of the traditional music classes and students at Morris Pavilion on Wednesday\, April 29th\, at 7:30 pm.
URL:https://livemusicasheville.com/calendar/wwc-trad-student-concert/
LOCATION:Warren Wilson College Swannanoa\, 701 Warren Wilson Road\, Swannanoa\, NC
CATEGORIES:Asheville Area,Black Mountain,Live Music
GEO:35.611126;-82.4422791
X-APPLE-STRUCTURED-LOCATION;VALUE=URI;X-ADDRESS=Warren Wilson College Swannanoa 701 Warren Wilson Road Swannanoa NC;X-APPLE-RADIUS=500;X-TITLE=701 Warren Wilson Road:geo:-82.4422791,35.611126
END:VEVENT
BEGIN:VEVENT
DTSTART;TZID=America/New_York:20260429T190000
DTEND;TZID=America/New_York:20260429T220000
DTSTAMP:20260424T194430
CREATED:20260422T121026Z
LAST-MODIFIED:20260422T121026Z
UID:10058418-1777489200-1777500000@livemusicasheville.com
SUMMARY:Braelyn Grooms
DESCRIPTION:
URL:https://livemusicasheville.com/calendar/braelyn-grooms-2/
LOCATION:The Joint Next Door Fairview
CATEGORIES:Asheville Area,Fairview,Live Music
GEO:35.5251372;-82.424797
END:VEVENT
BEGIN:VEVENT
DTSTART;TZID=America/New_York:20260429T190000
DTEND;TZID=America/New_York:20260429T220000
DTSTAMP:20260424T194430
CREATED:20260330T151709Z
LAST-MODIFIED:20260423T184340Z
UID:10053886-1777489200-1777500000@livemusicasheville.com
SUMMARY:After Ours
DESCRIPTION:After Ours is a two-man wrecking crew with influences ranging from modern jazz to grunge to instrumental hip hop & experimental music. Hybrid 7-string guitarist/loop aficionado Eli Kahn creates sonic layer cakes with the aid of his effects arsenal\, while drummer Joe Enright’s ever-expansive jazz beat backdrops create a sound that is all their own. Since the band’s inception in 2015\, After Ours has built a following with their dynamic live performances all over the Midwest and Southeast. The band’s most recent release\, “Music for Cats”\, is an homage to the cinematic psychedelia & jazz fusion that has shaped their musical path.  www.afterours.band \n$10 at the door (all ticket proceeds are 100% passed to the band\, backed by a living wage guarantee from Hotel Eve) \n*Reserve a table in advance\, or join us impromptu the night of the show. Reservations/advance tickets are recommended for preferred seating\, but not required. Tickets are available at the door on a first-come\, first-served basis.  Event Details and Tickets \nHotel Eve is your locally rooted\, speakeasy jazz club & cocktail bar\, hidden in the heart of Downtown Asheville. Mysteriously not a hotel…check in for spirits\, souls and jazz! We’re tucked away\, on purpose. You’ll find us behind the gate nestled between Virtue Boutique and Dane Wells Gallery at 56 N Lexington Avenue in downtown Asheville. Step through\, take a left into the courtyard\, check in for Spirits\, Souls & Jazz. We’ll be waiting on the other side. hotelevejazz.com \n 
URL:https://livemusicasheville.com/calendar/after-ours-2/2026-04-29/
LOCATION:Hotel Eve Jazz\, 56 N Lexington Avenue\, Asheville\, NC\, 28801\, United States
CATEGORIES:Asheville Area,Live Music
ATTACH;FMTTYPE=image/webp:https://livemusicasheville.com/wp-content/uploads/2026/03/Eli__Joe_-_After_Ours.jpg-sqXl-e1774883781545.webp
GEO:35.5967716;-82.5530826
X-APPLE-STRUCTURED-LOCATION;VALUE=URI;X-ADDRESS=Hotel Eve Jazz 56 N Lexington Avenue Asheville NC 28801 United States;X-APPLE-RADIUS=500;X-TITLE=56 N Lexington Avenue:geo:-82.5530826,35.5967716
END:VEVENT
BEGIN:VEVENT
DTSTART;TZID=America/New_York:20260429T190000
DTEND;TZID=America/New_York:20260429T220000
DTSTAMP:20260424T194430
CREATED:20260304T184643Z
LAST-MODIFIED:20260406T180349Z
UID:10048515-1777489200-1777500000@livemusicasheville.com
SUMMARY:Swing Asheville Live w/ Gypsy Reverie
DESCRIPTION:Special lesson at 7\, band plays at 8$15 includes the lesson/ $5 students with i.d.
URL:https://livemusicasheville.com/calendar/swing-asheville-live-w-queen-bee-and-the-honey-lovers/
LOCATION:Warren Wilson College Swannanoa\, 701 Warren Wilson Road\, Swannanoa\, NC
CATEGORIES:Asheville Area,Black Mountain,Live Music
GEO:35.611126;-82.4422791
X-APPLE-STRUCTURED-LOCATION;VALUE=URI;X-ADDRESS=Warren Wilson College Swannanoa 701 Warren Wilson Road Swannanoa NC;X-APPLE-RADIUS=500;X-TITLE=701 Warren Wilson Road:geo:-82.4422791,35.611126
END:VEVENT
BEGIN:VEVENT
DTSTART;TZID=America/New_York:20260429T190000
DTEND;TZID=America/New_York:20260429T220000
DTSTAMP:20260424T194430
CREATED:20251222T160644Z
LAST-MODIFIED:20251222T160644Z
UID:10029256-1777489200-1777500000@livemusicasheville.com
SUMMARY:The B's Trio in The Great Hall
DESCRIPTION:
URL:https://livemusicasheville.com/calendar/the-bs-trio-in-the-great-hall-2/2026-04-29/
LOCATION:The Omni Grove Park Inn
CATEGORIES:Asheville Area,Live Music
GEO:35.6206376;-82.5422977
END:VEVENT
BEGIN:VEVENT
DTSTART;TZID=America/New_York:20260429T190000
DTEND;TZID=America/New_York:20260429T220000
DTSTAMP:20260424T194430
CREATED:20250902T235040Z
LAST-MODIFIED:20260219T020732Z
UID:10037193-1777489200-1777500000@livemusicasheville.com
SUMMARY:Swing Asheville Dance and Lesson
DESCRIPTION:We have moved our Wednesday night location to Coffee Art Music type Place (CAMP) at 1 Kenilworth Knolls #1\, Asheville\, NC 28805!!!\nJoin us for our weekly dance series Wednesday night at Coffee Art Music type Place!\n\n\n\nA lesson is included with your $10 entry. ($5 for students with i.d.)
URL:https://livemusicasheville.com/calendar/swing-asheville-dance-and-lesson-2-2-3/2026-04-29/
LOCATION:Coffee Art Music type Place\, 1 Kenilworth Knolls Suite 1\, Asheville\, NC\,
CATEGORIES:Asheville Area,DJ/Electronic
GEO:35.5895785;-82.5285828
X-APPLE-STRUCTURED-LOCATION;VALUE=URI;X-ADDRESS=Coffee Art Music type Place 1 Kenilworth Knolls Suite 1 Asheville NC;X-APPLE-RADIUS=500;X-TITLE=1 Kenilworth Knolls Suite 1\, Asheville\, NC\,:geo:-82.5285828,35.5895785
END:VEVENT
BEGIN:VEVENT
DTSTART;TZID=America/New_York:20260429T190000
DTEND;TZID=America/New_York:20260429T210000
DTSTAMP:20260424T194430
CREATED:20260422T103210Z
LAST-MODIFIED:20260422T103210Z
UID:10058410-1777489200-1777496400@livemusicasheville.com
SUMMARY:UNCA Jazz and Contemporary Jam Session
DESCRIPTION:
URL:https://livemusicasheville.com/calendar/unca-jazz-and-contemporary-jam-session/
LOCATION:White Horse Black Mountain
CATEGORIES:Asheville Area,Black Mountain,Live Music
GEO:35.6178579;-82.3211924
END:VEVENT
BEGIN:VEVENT
DTSTART;TZID=America/New_York:20260429T190000
DTEND;TZID=America/New_York:20260429T210000
DTSTAMP:20260424T194430
CREATED:20250521T142237Z
LAST-MODIFIED:20260422T154259Z
UID:10013454-1777489200-1777496400@livemusicasheville.com
SUMMARY:John O'Connor
DESCRIPTION:
URL:https://livemusicasheville.com/calendar/john-oconnor-3/
LOCATION:Blue Mountain Pizza Weaverville
CATEGORIES:Asheville Area,Live Music,Weaverville
GEO:35.698228;-82.560231
END:VEVENT
BEGIN:VEVENT
DTSTART;TZID=America/New_York:20260429T183000
DTEND;TZID=America/New_York:20260429T203000
DTSTAMP:20260424T194430
CREATED:20260422T141453Z
LAST-MODIFIED:20260422T141454Z
UID:10013082-1777487400-1777494600@livemusicasheville.com
SUMMARY:Jam > Grass > Jam: The Saylor Brothers
DESCRIPTION:The Saylor Brothers are a jamgrass fusion group from Asheville\, fronted by brothers Will & Ben Saylor\, of Brushfire Stankgrass. This project is a foray further into the realm of bluegrass jam\, with more emphasis on improvisation piled on top of a structure of traditional bluegrass and innovative original songwriting. As a trio with Greg Stiglets on bass\, the band packs a large sound coming from three acoustic instruments\, and often adds a fourth player for further improvisational and bluegrass firepower.\n\nJam > Grass > Jam is not an open bluegrass jam but is a residency featuring a rotating casts of special guests from Asheville’s bluegrass/jamband scene.\n\nFrench Broad River Brewery is more than just a place to enjoy a drink—it’s a community hub where great beer\, delicious pizza\, live music\, and good times come together. Just minutes from the Biltmore Estate & Downtown\, our taproom is a gathering spot for locals and visitors alike. We regularly host live music and entertainment in our taproom\, making French Broad River Brewery a lively hub of local activity. From bluegrass to reggae\, there’s always something happening. Check out our Events Page to see what’s coming up next! \nNo brewery experience is complete without great food. That’s why we offer French Broad River Pizza\, serving up hot\, hand-tossed pizzas made to order. Whether you’re here for a quick slice or a full meal\, our pizza perfectly complements our craft beers and the lively atmosphere of our taproom. frenchbroadbrewery.com/pizza \n 
URL:https://livemusicasheville.com/calendar/jam-grass-jam-the-saylor-brothers-3-2-2-2/2026-04-29/
LOCATION:French Broad River Brewery\, 101 Fairview Rd\, Asheville\, NC\, United States
CATEGORIES:Asheville Area,Live Music
ATTACH;FMTTYPE=image/jpeg:https://livemusicasheville.com/wp-content/uploads/2023/03/IMG_7061-e1746972805618.jpeg
GEO:35.5662722;-82.5374054
X-APPLE-STRUCTURED-LOCATION;VALUE=URI;X-ADDRESS=French Broad River Brewery 101 Fairview Rd Asheville NC United States;X-APPLE-RADIUS=500;X-TITLE=101 Fairview Rd:geo:-82.5374054,35.5662722
END:VEVENT
BEGIN:VEVENT
DTSTART;TZID=America/New_York:20260429T183000
DTEND;TZID=America/New_York:20260429T203000
DTSTAMP:20260424T194430
CREATED:20260415T185413Z
LAST-MODIFIED:20260415T185413Z
UID:10057148-1777487400-1777494600@livemusicasheville.com
SUMMARY:Acoustic Evenings w/ Eric Hood
DESCRIPTION:
URL:https://livemusicasheville.com/calendar/acoustic-evenings-w-eric-hood/2026-04-29/
LOCATION:Creekside Taphouse Haw Creek
CATEGORIES:Asheville Area,Live Music
END:VEVENT
END:VCALENDAR